Workbook
Name a: {"Book1"}
Name a: {"Book1"}
Name a: {"Book1"}
Name a: {"Book1"}
Name aa: [1]XL4Poppy!$C$31
Name AAA: '[2]18.농업용기계보유 '!$A$18:$K$1275
Name B: {"Book1"}
Name B: {"Book1"}
Name B: {"Book1"}
Name B: {"Book1"}
Name Document_array: {"Book1"}
Name Document_array: {"Book1"}
Name Document_array: {"Book1"}
Name Document_array: {"Book1"}
Name Document_array: {"Book1"}
Name Document_array: {"Book1"}
Name Document_array: {"Book1"}
Name Document_array: {"Book1"}
Name Document_array: {"Book1"}
Name Document_array: {"Book1"}
Name Document_array: {"Book1"}
Name Document_array: {"Book1"}
Name qqq: '[2]18.농업용기계보유 '!$A$18:$K$1275
Name sss: {"Book1"}
Name sss: {"Book1"}
Name sss: {"Book1"}
Name sss: {"Book1"}
Name 공공: '[3]15.농업용기계보유 '!$A$19:$K$1279
Name ㅁ1: #REF!
Name ㅁ1: #REF!
Name ㅁ1: #REF!
Name ㅁ1: #REF!
Name 분류: [4]원본!$D$1:$D$445
Name 소방대상물현황: {"Book1"}
Name 소방대상물현황: {"Book1"}
Name 소방대상물현황: {"Book1"}
Name 소방대상물현황: {"Book1"}
Name 판매량: [4]원본!$F$1:$F$445
Name 합체: [4]원본!$C$1:$C$445

Sheet 0.간지
I1: 649

Sheet 0-1.이면
A15: 1. 환경오염물질 배출사업장
A16: 2. 환경오염배출사업장 단속 및 행정조치
A17: 3. 배출부과금부과 및 징수현황
A18: 4. 보건환경 검사실적
A19: 5. 대기오염
A20: 6. 소음도
A21: 7. 쓰레기수거
A22: 8. 생활폐기물 매립지
A23: 9. 폐기물 재활용률
A24: 10. 공공하수처리시설
A25: 11. 시설녹지현황

Sheet 1.환경오염물질배출사업장
G1: ⅩⅢ. Environment / 607 | H1: 608 / ⅩⅢ. 환경
A3: 1. 환경오염물질 배출사업장 | H3: 1. 환경오염물질 배출사업장(계속)
A4: 1. Environmental Pollutant Emitting Facilities | H4: 1. Environmental Pollutant Emitting Facilities(Cont'd)
A5: 단위 : 개소 | G5: Unit : number(place) | H5: 단위 : 개소 | O5: Unit : number(place)
A6: 연별 및 시군별 Year & Si, Gun | B6: 대 기(가스 · 먼지 · 매연 및 악취) Air Pollution(gas, dust, soot and Odor) | H6: 연별 및 시군별 Year & Si, Gun | I6: 수 질(폐수) Water pollution(waste water) | O6: 소음및진동 Noise and Vibration
C8: 1 종 Class 1 | D8: 2 종 Class 2 | E8: 3 종 Class 3 | F8: 4 종 Class 4 | G8: 5 종 Class 5 | J8: 1 종 Class 1 | K8: 2 종 Class 2 | L8: 3 종 Class 3 | M8: 4 종 Class 4 | N8: 5 종 Class 5
A10: 2014 | B10: 4357 | C10: 34 | D10: 39 | E10: 275 | F10: 1484 | G10: 2525 | H10: 2014 | I10: 5047 | J10: 137 | K10: 144 | L10: 160 | M10: 278 | N10: 4328 | O10: 3254
A11: 2015 | B11: 4705 | C11: 132 | D11: 143 | E11: 246 | F11: 1534 | G11: 2650 | H11: 2015 | I11: 5177 | J11: 35 | K11: 40 | L11: 189 | M11: 285 | N11: 4628 | O11: 3523
A12: 2016 | B12: 4753 | C12: 132 | D12: 145 | E12: 247 | F12: 1493 | G12: 2736 | H12: 2016 | I12: 5122 | J12: 34 | K12: 42 | L12: 179 | M12: 328 | N12: 4539 | O12: 3543
A13: 2017 | B13: 4694 | C13: 136 | D13: 145 | E13: 225 | F13: 1452 | G13: 2736 | H13: 2017 | I13: 5204 | J13: 35 | K13: 43 | L13: 191 | M13: 315 | N13: 4620 | O13: 3208
A14: 2018 | B14: =SUM(B16:B39) -> 4823 | C14: =SUM(C16:C39) -> 135 | D14: =SUM(D16:D39) -> 137 | E14: =SUM(E16:E39) -> 237 | F14: =SUM(F16:F39) -> 1489 | G14: =SUM(G16:G39) -> 2825 | H14: 2018 | I14: =SUM(I16:I39) -> 5363 | J14: =SUM(J16:J39) -> 36 | K14: =SUM(K16:K39) -> 48 | L14: =SUM(L16:L39) -> 186 | M14: =SUM(M16:M39) -> 311 | N14: =SUM(N16:N39) -> 4782 | O14: =SUM(O16:O39) -> 3616
A16: 도 province | B16: =SUM(C16:G16) -> 309 | C16: 135 | D16: 137 | E16: 6 | F16: 20 | G16: 11 | H16: 도 province | I16: =SUM(J16:N16) -> 253 | J16: 36 | K16: 48 | L16: 37 | M16: 26 | N16: 106 | O16: 0
A17: 포항시 Pohang | B17: =SUM(C17:G17) -> 360 | C17: 0 | D17: 0 | E17: 40 | F17: 143 | G17: 177 | H17: 포항시 Pohang | I17: =SUM(J17:N17) -> 673 | J17: 0 | K17: 0 | L17: 15 | M17: 11 | N17: 647 | O17: 183
A18: 경주시 Gyeongju | B18: =SUM(C18:G18) -> 627 | C18: 0 | D18: 0 | E18: 37 | F18: 243 | G18: 347 | H18: 경주시 Gyeongju | I18: =SUM(J18:N18) -> 586 | J18: 0 | K18: 0 | L18: 7 | M18: 20 | N18: 559 | O18: 433
A19: 김천시 Gimcheon | B19: =SUM(C19:G19) -> 221 | C19: 0 | D19: 0 | E19: 11 | F19: 71 | G19: 139 | H19: 김천시 Gimcheon | I19: =SUM(J19:N19) -> 228 | J19: 0 | K19: 0 | L19: 4 | M19: 14 | N19: 210 | O19: 71
A20: 안동시 Andong | B20: =SUM(C20:G20) -> 145 | C20: 0 | D20: 0 | E20: 4 | F20: 47 | G20: 94 | H20: 안동시 Andong | I20: =SUM(J20:N20) -> 233 | J20: 0 | K20: 0 | L20: 7 | M20: 14 | N20: 212 | O20: 91
A21: 구미시 Gumi | B21: =SUM(C21:G21) -> 474 | C21: 0 | D21: 0 | E21: 19 | F21: 139 | G21: 316 | H21: 구미시 Gumi | I21: =SUM(J21:N21) -> 659 | J21: 0 | K21: 0 | L21: 22 | M21: 43 | N21: 594 | O21: 152
A22: 영주시 Yeongju | B22: =SUM(C22:G22) -> 73 | C22: 0 | D22: 0 | E22: 4 | F22: 24 | G22: 45 | H22: 영주시 Yeongju | I22: =SUM(J22:N22) -> 139 | J22: 0 | K22: 0 | L22: 7 | M22: 15 | N22: 117 | O22: 30
A23: 영천시 Yeongcheon | B23: =SUM(C23:G23) -> 417 | C23: 0 | D23: 0 | E23: 13 | F23: 138 | G23: 266 | H23: 영천시 Yeongcheon | I23: =SUM(J23:N23) -> 362 | J23: 0 | K23: 0 | L23: 7 | M23: 20 | N23: 335 | O23: 449
A24: 상주시 Sangju | B24: =SUM(C24:G24) -> 88 | C24: 0 | D24: 0 | E24: 4 | F24: 39 | G24: 45 | H24: 상주시 Sangju | I24: =SUM(J24:N24) -> 121 | J24: 0 | K24: 0 | L24: 0 | M24: 2 | N24: 119 | O24: 39
A25: 문경시 Mungyeong | B25: =SUM(C25:G25) -> 101 | C25: 0 | D25: 0 | E25: 4 | F25: 38 | G25: 59 | H25: 문경시 Mungyeong | I25: =SUM(J25:N25) -> 104 | J25: 0 | K25: 0 | L25: 3 | M25: 3 | N25: 98 | O25: 40
A26: 경산시 Gyeongsan | B26: =SUM(C26:G26) -> 475 | C26: 0 | D26: 0 | E26: 17 | F26: 142 | G26: 316 | H26: 경산시 Gyeongsan | I26: =SUM(J26:N26) -> 510 | J26: 0 | K26: 0 | L26: 14 | M26: 31 | N26: 465 | O26: 978
A27: 군위군 Gunwi | B27: =SUM(C27:G27) -> 63 | C27: 0 | D27: 0 | E27: 2 | F27: 17 | G27: 44 | H27: 군위군 Gunwi | I27: =SUM(J27:N27) -> 58 | J27: 0 | K27: 0 | L27: 2 | M27: 5 | N27: 51 | O27: 56
... A39: 울릉군 Ulleung | B39: =SUM(C39:G39) -> 7 | C39: 0 | D39: 0 | E39: 0 | F39: 0 | G39: 7 | H39: 울릉군 Ulleung | I39: =SUM(J39:N39) -> 16 | J39: 0 | K39: 0 | L39: 1 | M39: 0 | N39: 15 | O39: 8
A40: 자료 : 환경안전과 | G40: Source : Environmental Safety Division | H40: 자료 : 환경안전과 | J40: Source : Environmental Safety Division
A41: 주 : 2008년 자료부터 통계표명 변경 | H41: 주 : 2008년 자료부터 통계표명 변경

Sheet 2.환경오염배출사업장단속및행정조치
G1: ⅩⅢ. Environment / 609 | H1: 610 / ⅩⅢ. 환경
A3: 2. 환경오염배출사업장 단속 및 행정조치 | H3: 2. 환경오염배출사업장 단속 및 행정조치(계속)
A4: 2. Inspection and Administrative Measures for Environmental Pollutant Emitting Facilities | H4: 2. Inspection and Administrative Measures for Environmental Pollutant Emitting Facilities(Cont'd)
A5: 단위 : 개소, 건 | G5: Unit : number(place), case | H5: 단위 : 개소, 건 | M5: Unit : number(place), case
A6: 연별 및 시군별 Year & Si, Gun | B6: 배출업소 Number of pollutant emitting facilities | C6: 단속업소 Number of establishment inspected | D6: 위반업소 Number of violations | E6: 행 정 처 분 내 역 | H6: 연별 및 시군별 Year & Si, Gun | I6: Administrative action taken | N6: 병과고발 Accusation with Administrative measures
E7: 경 고 Warnings | F7: 개선명령 Order of repair | G7: 조업정지 Temporary suspension | I7: 사용중지 Suspension of use | J7: 허가취소 License revoked | K7: 폐쇄명령 Abolish | L7: 순수고발 Accusation | M7: 기 타 Other
A10: 2014 | B10: 7700 | C10: 4766 | D10: 399 | E10: 180 | F10: 85 | G10: 35 | H10: 2014 | I10: 66 | J10: 1 | K10: 3 | L10: 7 | M10: 40 | N10: 94
A11: 2015 | B11: 7849 | C11: 3740 | D11: 342 | E11: 177 | F11: 61 | G11: 77 | H11: 2015 | I11: 5 | J11: 0 | K11: 0 | L11: 0 | M11: 22 | N11: 106
A12: 2016 | B12: 7802 | C12: 3685 | D12: 338 | E12: 144 | F12: 74 | G12: 35 | H12: 2016 | I12: 44 | J12: 2 | K12: 7 | L12: 17 | M12: 15 | N12: 77
A13: 2017 | B13: 7985 | C13: 3856 | D13: 296 | E13: 132 | F13: 51 | G13: 39 | H13: 2017 | I13: 63 | J13: 0 | K13: 4 | L13: 1 | M13: 6 | N13: 95
A14: 2018 | B14: =SUM(B16:B39) -> 7998 | C14: =SUM(C16:C39) -> 3495 | D14: =SUM(D16:D39) -> 458 | E14: =SUM(E16:E39) -> 241 | F14: =SUM(F16:F39) -> 72 | G14: =SUM(G16:G39) -> 35 | H14: 2018 | I14: =SUM(I16:I39) -> 43 | J14: =SUM(J16:J39) -> 0 | K14: =SUM(K16:K39) -> 18 | L14: =SUM(L16:L39) -> 17 | M14: =SUM(M16:M39) -> 32 | N14: =SUM(N16:N39) -> 91
A16: 도 Province | B16: 330 | C16: 224 | D16: 74 | E16: 49 | F16: 13 | G16: 7 | H16: 도 Province | I16: 4 | J16: - | K16: - | L16: - | M16: 1 | N16: 9
A17: 포항시 Pohang | B17: 1061 | C17: 280 | D17: 34 | E17: 14 | F17: 2 | G17: 5 | H17: 포항시 Pohang | I17: 2 | J17: - | K17: 1 | L17: 2 | M17: 8 | N17: 5
A18: 경주시 Gyeongju | B18: 938 | C18: 360 | D18: 51 | E18: 24 | F18: 7 | G18: 5 | H18: 경주시 Gyeongju | I18: 10 | J18: - | K18: 3 | L18: - | M18: 2 | N18: 17
A19: 김천시 Gimcheon | B19: 310 | C19: 137 | D19: 3 | E19: - | F19: - | G19: - | H19: 김천시 Gimcheon | I19: 1 | J19: - | K19: - | L19: - | M19: 2 | N19: -
A20: 안동시 Andong | B20: 336 | C20: 151 | D20: 17 | E20: 9 | F20: 4 | G20: - | H20: 안동시 Andong | I20: 2 | J20: - | K20: - | L20: - | M20: 2 | N20: 2
A21: 구미시 Gumi | B21: 852 | C21: 503 | D21: 32 | E21: 16 | F21: 7 | G21: 1 | H21: 구미시 Gumi | I21: 1 | J21: - | K21: - | L21: 5 | M21: 2 | N21: 5
A22: 영주시 Yeongju | B22: 182 | C22: 65 | D22: 13 | E22: 7 | F22: 5 | G22: 1 | H22: 영주시 Yeongju | I22: - | J22: - | K22: - | L22: - | M22: - | N22: 1
A23: 영천시 Yeongcheon | B23: 581 | C23: 333 | D23: 40 | E23: 24 | F23: 7 | G23: 2 | H23: 영천시 Yeongcheon | I23: 7 | J23: - | K23: - | L23: - | M23: - | N23: 9
A24: 상주시 Sangju | B24: 132 | C24: 63 | D24: 10 | E24: 5 | F24: 2 | G24: - | H24: 상주시 Sangju | I24: - | J24: - | K24: - | L24: - | M24: 3 | N24: -
A25: 문경시 Mungyeong | B25: 150 | C25: 81 | D25: 6 | E25: 4 | F25: 1 | G25: - | H25: 문경시 Mungyeong | I25: 1 | J25: - | K25: - | L25: - | M25: - | N25: 1
A26: 경산시 Gyeongsan | B26: 791 | C26: 237 | D26: 36 | E26: 22 | F26: 6 | G26: - | H26: 경산시 Gyeongsan | I26: 2 | J26: - | K26: 1 | L26: 5 | M26: - | N26: 2
A27: 군위군 Gunwi | B27: 100 | C27: 60 | D27: 5 | E27: 4 | F27: 1 | G27: - | H27: 군위군 Gunwi | I27: - | J27: - | K27: - | L27: - | M27: - | N27: -
A28: 의성군 Uiseong | B28: 115 | C28: 81 | D28: 12 | E28: 7 | F28: 1 | G28: - | H28: 의성군 Uiseong | I28: 1 | J28: - | K28: - | L28: - | M28: 3 | N28: 1
A29: 청송군 Cheongsong | B29: 38 | C29: 33 | D29: 3 | E29: - | F29: 1 | G29: - | H29: 청송군 Cheongsong | I29: - | J29: - | K29: - | L29: - | M29: 2 | N29: -
A30: 영양군 Yeongyang | B30: 30 | C30: 25 | D30: - | E30: - | F30: - | G30: - | H30: 영양군 Yeongyang | I30: - | J30: - | K30: - | L30: - | M30: - | N30: -
A31: 영덕군 Yeongdeok | B31: 128 | C31: 71 | D31: 5 | E31: - | F31: 2 | G31: 3 | H31: 영덕군 Yeongdeok | I31: - | J31: - | K31: - | L31: - | M31: - | N31: 2
A32: 청도군 Cheongdo | B32: 95 | C32: 44 | D32: - | E32: - | F32: - | G32: - | H32: 청도군 Cheongdo | I32: - | J32: - | K32: - | L32: - | M32: - | N32: -
A33: 고령군 Goryeong | B33: 379 | C33: 163 | D33: 40 | E33: 23 | F33: 4 | G33: 6 | H33: 고령군 Goryeong | I33: 5 | J33: - | K33: 1 | L33: 1 | M33: - | N33: 9
A34: 성주군 Seongju | B34: 411 | C34: 172 | D34: 23 | E34: 9 | F34: 1 | G34: 2 | H34: 성주군 Seongju | I34: - | J34: - | K34: 6 | L34: - | M34: 5 | N34: 15
A35: 칠곡군 Chilgok | B35: 748 | C35: 239 | D35: 42 | E35: 17 | F35: 6 | G35: 3 | H35: 칠곡군 Chilgok | I35: 5 | J35: - | K35: 6 | L35: 4 | M35: 1 | N35: 11
A36: 예천군 Yecheon | B36: 63 | C36: 71 | D36: 6 | E36: 5 | F36: 1 | G36: - | H36: 예천군 Yecheon | I36: - | J36: - | K36: - | L36: - | M36: - | N36: -
A37: 봉화군 Bonghwa | B37: 41 | C37: 31 | D37: 2 | E37: 2 | F37: - | G37: - | H37: 봉화군 Bonghwa | I37: - | J37: - | K37: - | L37: - | M37: - | N37: -
A38: 울진군 Uljin | B38: 163 | C38: 51 | D38: 3 | E38: - | F38: 1 | G38: - | H38: 울진군 Uljin | I38: 2 | J38: - | K38: - | L38: - | M38: - | N38: 2
A39: 울릉군 Ulleung | B39: 24 | C39: 20 | D39: 1 | E39: - | F39: - | G39: - | H39: 울릉군 Ulleung | I39: - | J39: - | K39: - | L39: - | M39: 1 | N39: -
A40: 자료 : 환경안전과 | G40: Source : Environmental Safety Division | H40: 자료 : 환경안전과 | N40: Source : Environmental Safety Division
A41: 주 : 2014년 자료부터 항목변경("사용금지"→"사용중지") | H41: 주 : 2014년 자료부터 항목변경("사용금지"→"사용중지")
A42: 병과고발은 행정처분과 고발이 병행된것 | H42: 병과고발은 행정처분과 고발이 병행된것

Sheet 3.배출부과금부과및징수현황
G1: ⅩⅢ. Environment / 611
A3: 3. 배출부과금 부과 및 징수현황
A4: 3. Imposition & Collection of Pollution Charges
A5: 단위 : 백만원 | G5: Unit : million won
A6: 연별 Year | B6: 총부과 Total imposition | C6: 총징수 Total collection | D6: 대기 Air | F6: 수질 Water
D8: 부과 Imposition | E8: 징수 Collection | F8: 부과 Imposition | G8: 징수 Collection
A10: 2014 | B10: 527.91 | C10: 527.89 | D10: 95.69 | E10: 95.67 | F10: 432.22 | G10: 432.22
A11: 2015 | B11: 459.51 | C11: 394.92 | D11: 108.26 | E11: 108.26 | F11: 351.25 | G11: 286.66
A12: 2016 | B12: 599.29 | C12: 529.31 | D12: 149.1 | E12: 149.1 | F12: 450.19 | G12: 380.21
A13: 2017 | B13: 688 | C13: 657 | D13: 374 | E13: 374 | F13: 314 | G13: 283
A14: 2018 | B14: 690.81 | C14: 675.86 | D14: 396.44 | E14: 396.44 | F14: 294.37 | G14: 279.42
A15: 자료 :「환경통계연감」환경부 대기관리과·기후대기정책과·수생태보전과 | G15: Source : Environmental Yearbook Statistical
A16: 주 : 2011년부터 수록

Sheet 4.보건환경검사실적
A1: 612 / ⅩⅢ. 환경 | P1: ⅩⅢ. Environment / 613
A3: 4. 보건환경 검사실적 | I3: 4. Health and Environmental Inspection
A5: 단위 : 건 | P5: Unit : case
A6: 연별 및 시군별 | B6: 계 Total | C6: 보 건 분 야 Health fields | I6: 환 경 분 야 Environment fields | P6: Year & Si, Gun
D7: 역학(질병)조사 Epidemiology research | E7: 미생물검사 Microbiology test | F7: 약품분석 Drug analysis | G7: 식품분석 Food analysis | H7: 축산물분석Livestock product analysis | J7: 환경조사Environment research | K7: 대기보전 Air quality preservation | L7: 수질보전Water quality preservation | M7: 수질검사Potable water analysis | N7: 폐기물분석Waste analysis | O7: 해양조사 Marine investigation
A10: 2014 | B10: 36305 | C10: 13572 | D10: 2523 | E10: 5162 | F10: 1003 | G10: 4884 | H10: 0 | I10: 22733 | J10: 3248 | K10: 6475 | L10: 2163 | M10: 8778 | N10: 2069 | O10: 0 | P10: 2014
A11: 2015 | B11: 39534 | C11: 16049 | D11: 2239 | E11: 7894 | F11: 1064 | G11: 4852 | H11: 0 | I11: 23485 | J11: 3185 | K11: 6520 | L11: 2008 | M11: 10129 | N11: 1643 | O11: 0 | P11: 2015
A12: 2016 | B12: 39105 | C12: 16132 | D12: 7814 | E12: 2874 | F12: 267 | G12: 5177 | H12: 0 | I12: 22973 | J12: 2773 | K12: 6421 | L12: 1825 | M12: 10023 | N12: 1931 | O12: 0 | P12: 2016
A13: 2017 | B13: 47578 | C13: 21967 | D13: 12387 | E13: 3549 | F13: 252 | G13: 5779 | H13: 0 | I13: 25611 | J13: 3259 | K13: 7470 | L13: 1997 | M13: 10580 | N13: 2305 | O13: 0 | P13: 2017
A14: 2018 | B14: =SUM(B16:B39) -> 48197 | C14: =SUM(C16:C39) -> 23512 | D14: =SUM(D16:D39) -> 10846 | E14: =SUM(E16:E39) -> 6608 | F14: =SUM(F16:F39) -> 246 | G14: =SUM(G16:G39) -> 5812 | H14: =SUM(H16:H39) -> 0 | I14: =SUM(I16:I39) -> 24685 | ... O14: =SUM(O16:O39) -> 0 | P14: 2018
A16: 보건환경연구원 | B16: 15593 | C16: 7109 | D16: 1960 | E16: 2279 | F16: 182 | G16: 2688 | H16: - | I16: 8484 | J16: 639 | K16: 6136 | L16: 304 | M16: 210 | N16: 1195 | O16: - | P16: Public Health Environment Research Institute
A17: 포항시 | B17: 5343 | C17: 2461 | D17: 1214 | E17: 657 | F17: 5 | G17: 585 | H17: - | I17: 2882 | J17: 445 | K17: 80 | L17: 111 | M17: 1966 | N17: 280 | O17: - | P17: Pohang
A18: 경주시 | B18: 3158 | C18: 1506 | D18: 1114 | E18: 168 | F18: - | G18: 224 | H18: - | I18: 1652 | J18: 268 | K18: 220 | L18: 191 | M18: 872 | N18: 101 | O18: - | P18: Gyeongju
A19: 김천시 | B19: 1649 | C19: 800 | D19: 434 | E19: 233 | F19: - | G19: 133 | H19: - | I19: 849 | J19: 34 | K19: 4 | L19: 88 | M19: 684 | N19: 39 | O19: - | P19: Gimcheon
A20: 안동시 | B20: 2875 | C20: 999 | D20: 649 | E20: 156 | F20: - | G20: 194 | H20: - | I20: 1876 | J20: 86 | K20: 71 | L20: 85 | M20: 1572 | N20: 62 | O20: - | P20: Andong
A21: 구미시 | B21: 3916 | C21: 2635 | D21: 1479 | E21: 860 | F21: 10 | G21: 286 | H21: - | I21: 1281 | J21: 120 | K21: 83 | L21: 119 | M21: 870 | N21: 89 | O21: - | P21: Gumi
A22: 영주시 | B22: 1020 | C22: 466 | D22: 188 | E22: 81 | F22: - | G22: 197 | H22: - | I22: 554 | J22: 95 | K22: 12 | L22: 121 | M22: 307 | N22: 19 | O22: - | P22: Yeongju
A23: 영천시 | B23: 1521 | C23: 545 | D23: 296 | E23: 159 | F23: 7 | G23: 83 | H23: - | I23: 976 | J23: 83 | K23: 146 | L23: 92 | M23: 556 | N23: 99 | O23: - | P23: Yeongcheon
A24: 상주시 | B24: 932 | C24: 439 | D24: 202 | E24: 182 | F24: 5 | G24: 50 | H24: - | I24: 493 | J24: 128 | K24: 23 | L24: 62 | M24: 253 | N24: 27 | O24: - | P24: Sangju
A25: 문경시 | B25: 1342 | C25: 803 | D25: 331 | E25: 286 | F25: 14 | G25: 172 | H25: - | I25: 539 | J25: 179 | K25: 58 | L25: 66 | M25: 234 | N25: 2 | O25: - | P25: Mungyeong
A26: 경산시 | B26: 3257 | C26: 2078 | D26: 1233 | E26: 656 | F26: 7 | G26: 182 | H26: - | I26: 1179 | J26: 83 | K26: 47 | L26: 121 | M26: 865 | N26: 63 | O26: - | P26: Gyeongsan
A27: 군위군 | B27: 424 | C27: 156 | D27: 49 | E27: 39 | F27: 11 | G27: 57 | H27: - | I27: 268 | J27: 0 | K27: 153 | L27: 82 | M27: 20 | N27: 13 | O27: - | P27: Gunwi
A28: 의성군 | B28: 838 | C28: 434 | D28: 244 | E28: 76 | F28: - | G28: 114 | H28: - | I28: 404 | J28: 93 | K28: 97 | L28: 41 | M28: 172 | N28: 1 | O28: - | P28: Uiseong
A29: 청송군 | B29: 640 | C29: 288 | D29: 177 | E29: 27 | F29: - | G29: 84 | H29: - | I29: 352 | J29: 33 | K29: 32 | L29: 26 | M29: 254 | N29: 7 | O29: - | P29: Cheongsong
A30: 영양군 | B30: 240 | C30: 103 | D30: 26 | E30: 17 | F30: - | G30: 60 | H30: - | I30: 137 | J30: 59 | K30: 4 | L30: 22 | M30: 51 | N30: 1 | O30: - | P30: Yeongyang
A31: 영덕군 | B31: 276 | C31: 88 | D31: 40 | E31: 19 | F31: - | G31: 29 | H31: - | I31: 188 | J31: 61 | K31: 46 | L31: 45 | M31: 22 | N31: 14 | O31: - | P31: Yeongdeok
A32: 청도군 | B32: 422 | C32: 309 | D32: 203 | E32: 33 | F32: - | G32: 73 | H32: - | I32: 113 | J32: 17 | K32: 30 | L32: 19 | M32: 45 | N32: 2 | O32: - | P32: Cheongdo
A33: 고령군 | B33: 484 | C33: 184 | D33: 82 | E33: 39 | F33: - | G33: 63 | H33: - | I33: 300 | J33: 132 | K33: 83 | L33: 26 | M33: 40 | N33: 19 | O33: - | P33: Goryeong
A34: 성주군 | B34: 350 | C34: 259 | D34: 119 | E34: 36 | F34: - | G34: 104 | H34: - | I34: 91 | J34: 7 | K34: 20 | L34: 32 | M34: 12 | N34: 20 | O34: - | P34: Seongju
A35: 칠곡군 | B35: 1549 | C35: 1125 | D35: 483 | E35: 456 | F35: 5 | G35: 181 | H35: - | I35: 424 | J35: 10 | K35: 34 | L35: 131 | M35: 208 | N35: 41 | O35: - | P35: Chilgok
A36: 예천군 | B36: 439 | C36: 266 | D36: 82 | E36: 69 | F36: - | G36: 115 | H36: - | I36: 173 | J36: 17 | K36: 61 | L36: 35 | M36: 56 | N36: 4 | O36: - | P36: Yecheon
A37: 봉화군 | B37: 790 | C37: 141 | D37: 71 | E37: 21 | F37: - | G37: 49 | H37: - | I37: 649 | J37: 205 | K37: 26 | L37: 35 | M37: 375 | N37: 8 | O37: - | P37: Bonghwa
A38: 울진군 | B38: 535 | C38: 176 | D38: 116 | E38: 17 | F38: - | G38: 43 | H38: - | I38: 359 | J38: 146 | K38: 1 | L38: 94 | M38: 105 | N38: 13 | O38: - | P38: Uljin
A39: 울릉군 | B39: 604 | C39: 142 | D39: 54 | E39: 42 | F39: - | G39: 46 | H39: - | I39: 462 | J39: 105 | K39: 16 | L39: 0 | M39: 340 | N39: 1 | O39: - | P39: Ulleung
A40: 자료 : 보건환경연구원 | P40: Source : Health and Environment Research Institute

Sheet 5.대기오염
A1: 614 / ⅩⅢ. 환경 | P1: ⅩⅢ. Environment / 615 | Q1: 616 / ⅩⅢ. 환경 | AF1: ⅩⅢ. Environment / 617 | AG1: 618 / ⅩⅢ. 환경 | AU1: ⅩⅢ. Environment / 619
A3: 5. 대기오염 | I3: 5. Air Pollutant Emissions | Q3: 5. 대기오염(계속) | Y3: 5. Air Pollutant Emissions(Cont'd) | AG3: 5. 대기오염(계속) | AO3: 5. Air Pollutant Emissions(Cont'd)
A6: 연별 및 월별 | B6: 아황산가스(SO2) ppm/year | I6: 일산화탄소(CO) ppm/8hours | P6: Year & Month | Q6: 연별 및 월별 | R6: 이산화질소(NO2) ppm/year | Y6: 미세먼지 | AF6: Year & Month | AG6: 연별 및 월별 | AH6: 초미세먼저 | AO6: 오존(O3) ppm/8hours | AV6: Year & Month
B8: 포항 pohang | C8: 경주 Gyeongju | D8: 김천 Gimcheon | E8: 구미 Gumi | F8: 안동 Andong | G8: 영주 Yeongju | H8: 경산 Gyeongsan | I8: 포항 pohang | J8: 경주 Gyeongju | K8: 김천 Gimcheon | L8: 구미 Gumi | M8: 안동 Andong | N8: 영주 Yeongju | O8: 경산 Gyeongsan | R8: 포항 pohang | S8: 경주 Gyeongju | T8: 김천 Gimcheon | U8: 구미 Gumi | V8: 안동 Andong | W8: 영주 Yeongju | X8: 경산 Gyeongsan | Y8: 포항 pohang | Z8: 경주 Gyeongju | AA8: 김천 Gimcheon | AB8: 구미 Gumi | AC8: 안동 Andong | AD8: 영주 Yeongju | AE8: 경산 Gyeongsan | AH8: 포항 pohang | AI8: 경주 Gyeongju | AJ8: 김천 Gimcheon | AK8: 구미 Gumi | AL8: 안동 Andong | AM8: 영주 Yeongju | AN8: 경산 Gyeongsan | AO8: 포항 pohang | AP8: 경주 Gyeongju | AQ8: 김천 Gimcheon | AR8: 구미 Gumi | AS8: 안동 Andong | AT8: 영주 Yeongju | AU8: 경산 Gyeongsan
A11: 2014 | B11: 0.0051666667 | C11: 0.0071666667 | D11: 0.0039166667 | E11: 0.0046666667 | F11: 0.0033333333 | G11: 0.0083333333 | H11: 0.00525 | I11: 0.61666667 | J11: 0.51666667 | K11: 0.575 | L11: 0.56666667 | M11: 0.625 | N11: 0.7 | O11: 0.45833333 | P11: 2014 | Q11: 2014 | R11: 0.015416667 | S11: 0.019833333 | T11: 0.014833333 | U11: 0.01975 | V11: 0.013166667 | W11: 0.018416667 | X11: 0.022833333 | Y11: 46.916667 | Z11: 48 | AA11: 53.583333 | AB11: 52.666667 | AC11: 47.25 | AD11: 45.916667 | AE11: 47.333333 | AF11: 2014 | AG11: 2014 | AH11: - | AI11: - | AJ11: - | AK11: - | AL11: - | AM11: - | AN11: - | AO11: 0.029083333 | AP11: 0.026833333 | AQ11: - | AR11: - | AS11: - | AT11: - | AU11: - | AV11: 2014
A12: 2015 | B12: 0.007 | C12: 0.005 | D12: 0.004 | E12: 0.007 | F12: 0.004 | G12: 0.009 | H12: 0.004 | I12: 0.64 | J12: 0.4 | K12: 0.4 | L12: 0.8 | M12: 0.5 | N12: 0.7 | O12: 0.5 | P12: 2015 | Q12: 2015 | R12: 0.017 | S12: 0.025 | T12: 0.015 | U12: 0.024 | V12: 0.014 | W12: 0.018 | X12: 0.023 | Y12: 43.6 | Z12: 41 | AA12: 50 | AB12: 47.75 | AC12: 40 | AD12: 48 | AE12: 49 | AF12: 2015 | AG12: 2015 | AH12: - | AI12: - | AJ12: - | AK12: - | AL12: - | AM12: - | AN12: - | AO12: 0.031 | AP12: 0.026 | AQ12: - | AR12: - | AS12: - | AT12: - | AU12: - | AV12: 2015
A13: 2016 | B13: 0.005 | C13: 0.005 | D13: 0.003 | E13: 0.004 | F13: 0.004 | G13: 0.006 | H13: 0.004 | I13: 0.5 | J13: 0.4 | K13: 0.5 | L13: 0.6 | M13: 0.6 | N13: 0.7 | O13: 0.5 | P13: 2016 | Q13: 2016 | R13: 0.015 | S13: 0.016 | T13: 0.012 | U13: 0.021 | V13: 0.017 | W13: 0.017 | X13: 0.018 | Y13: 43.6 | Z13: 41 | AA13: 50 | AB13: 47.75 | AC13: 40 | AD13: 48 | AE13: 49 | AF13: 2016 | AG13: 2016 | AH13: - | AI13: - | AJ13: - | AK13: - | AL13: - | AM13: - | AN13: - | AO13: 0.032 | AP13: 0.027 | AQ13: - | AR13: - | AS13: - | AT13: - | AU13: - | AV13: 2016
A14: 2017 | B14: 0.005 | C14: 0.004 | D14: 0.003 | E14: 0.004 | F14: 0.005 | G14: 0.006 | H14: 0.004 | I14: 0.5 | J14: 0.4 | K14: 0.5 | L14: 0.6 | M14: 0.6 | N14: 0.7 | O14: 0.5 | P14: 2017 | Q14: 2017 | R14: 0.014 | S14: 0.016 | T14: 0.012 | U14: 0.018 | V14: 0.016 | W14: 0.014 | X14: 0.014 | Y14: 39 | Z14: 34 | AA14: 41 | AB14: 41 | AC14: 39 | AD14: 45 | AE14: 44 | AF14: 2017 | AG14: 2017 | AH14: - | AI14: - | AJ14: - | AK14: - | AL14: - | AM14: - | AN14: - | AO14: 0.036 | AP14: 0.029 | AQ14: - | AR14: - | AS14: - | AT14: - | AU14: - | AV14: 2017
A15: 2018 | B15: 0.004 | C15: 0.004 | D15: 0.003 | E15: 0.003 | F15: 0.004 | G15: 0.006 | H15: 0.004 | I15: 0.5 | J15: 0.4 | K15: 0.5 | L15: 0.5 | M15: 0.6 | N15: 0.6 | O15: 0.5 | P15: 2018 | Q15: 2018 | R15: 0.14 | S15: 0.018 | T15: 0.01 | U15: 0.017 | V15: 0.014 | W15: 0.013 | X15: 0.011 | Y15: 42 | Z15: 39 | AA15: 53 | AB15: 49 | AC15: 37 | AD15: 49 | AE15: 43 | AF15: 2018 | AG15: 2018 | AH15: 24 | AI15: 20 | AJ15: 25 | AK15: 25 | AL15: 25 | AM15: 28 | AN15: 25 | AO15: 0.034 | AP15: 0.027 | AQ15: - | AR15: - | AS15: - | AT15: - | AU15: - | AV15: 2018
A17: 1월 | B17: 0.004 | C17: 0.005 | D17: 0.004 | E17: 0.004 | F17: 0.007 | G17: 0.008 | H17: 0.004 | I17: 0.5 | J17: 0.5 | K17: 0.8 | L17: 0.6 | M17: 0.8 | N17: 0.9 | O17: 0.6 | P17: Jan. | Q17: 1월 | R17: 0.017 | S17: 0.022 | T17: 0.01 | U17: 0.022 | V17: 0.025 | W17: 0.012 | X17: 0.015 | Y17: 47 | Z17: 43 | AA17: 51 | AB17: 52 | AC17: 48 | AD17: 56 | AE17: 44 | AF17: Jan. | AG17: 1월 | AH17: 27 | AI17: 0 | AJ17: 36 | AK17: 38 | AL17: 42 | AM17: 41 | AN17: 33 | AO17: 0.027 | AP17: 0.02 | AQ17: - | AR17: - | AS17: - | AT17: - | AU17: - | AV17: Jan.
A18: 2월 | B18: 0.005 | C18: 0.005 | D18: 0.005 | E18: 0.004 | F18: 0.007 | G18: 0.01 | H18: 0.004 | I18: 0.5 | J18: 0.4 | K18: 0.8 | L18: 0.6 | M18: 0.8 | N18: 0.9 | O18: 0.6 | P18: Feb. | Q18: 2월 | R18: 0.016 | S18: 0.023 | T18: 0.012 | U18: 0.023 | V18: 0.023 | W18: 0.016 | X18: 0.015 | Y18: 49 | Z18: 44 | AA18: 66 | AB18: 57 | AC18: 45 | AD18: 56 | AE18: 57 | AF18: Feb. | AG18: 2월 | AH18: 26 | AI18: 0 | AJ18: 32 | AK18: 36 | AL18: 36 | AM18: 36 | AN18: 34 | AO18: 0.033 | AP18: 0.025 | AQ18: - | AR18: - | AS18: - | AT18: - | AU18: - | AV18: Feb.
A19: 3월 | B19: 0.005 | C19: 0.004 | D19: 0.003 | E19: 0.004 | F19: 0.007 | G19: 0.007 | H19: 0.004 | I19: 0.5 | J19: 0.5 | K19: 0.5 | L19: 0.5 | M19: 0.7 | N19: 0.7 | O19: 0.5 | P19: Mar. | Q19: 3월 | R19: 0.016 | S19: 0.02 | T19: 0.011 | U19: 0.018 | V19: 0.018 | W19: 0.01 | X19: 0.013 | Y19: 45 | Z19: 38 | AA19: 64 | AB19: 53 | AC19: 47 | AD19: 47 | AE19: 52 | AF19: Mar. | AG19: 3월 | AH19: 27 | AI19: 0 | AJ19: 31 | AK19: 31 | AL19: 33 | AM19: 34 | AN19: 34 | AO19: 0.042 | AP19: 0.034 | AQ19: - | AR19: - | AS19: - | AT19: - | AU19: - | AV19: Mar.
A20: 4월 | B20: 0.005 | C20: 0.004 | D20: 0.003 | E20: 0.003 | F20: 0.003 | G20: 0.005 | H20: 0.004 | I20: 0.5 | J20: 0.5 | K20: 0.4 | L20: 0.5 | M20: 0.6 | N20: 0.5 | O20: 0.5 | P20: Apr. | Q20: 4월 | R20: 0.014 | S20: 0.016 | T20: 0.007 | U20: 0.014 | V20: 0.013 | W20: 0.01 | X20: 0.009 | Y20: 64 | Z20: 57 | AA20: 77 | AB20: 69 | AC20: 54 | AD20: 58 | AE20: 59 | AF20: Apr. | AG20: 4월 | AH20: 32 | AI20: 0 | AJ20: 24 | AK20: 28 | AL20: 28 | AM20: 35 | AN20: 24 | AO20: 0.049 | AP20: 0.041 | AQ20: - | AR20: - | AS20: - | AT20: - | AU20: - | AV20: Apr.
A21: 5월 | B21: 0.005 | C21: 0.005 | D21: 0.003 | E21: 0.003 | F21: 0.005 | G21: 0.004 | H21: 0.005 | I21: 0.5 | J21: 0.5 | K21: 0.7 | L21: 0.5 | M21: 0.5 | N21: 0.4 | O21: 0.4 | P21: May. | Q21: 5월 | R21: 0.014 | S21: 0.016 | T21: 0.006 | U21: 0.013 | V21: 0.011 | W21: 0.008 | X21: 0.008 | Y21: 50 | Z21: 47 | AA21: 58 | AB21: 50 | AC21: 41 | AD21: 52 | AE21: 41 | AF21: May. | AG21: 5월 | AH21: 29 | AI21: 0 | AJ21: 21 | AK21: 24 | AL21: 22 | AM21: 22 | AN21: 20 | AO21: 0.047 | AP21: 0.041 | AQ21: - | AR21: - | AS21: - | AT21: - | AU21: - | AV21: May.
A22: 6월 | B22: 0.005 | C22: 0.005 | D22: 0.003 | E22: 0.004 | F22: 0.003 | G22: 0.004 | H22: 0.004 | I22: 0.4 | J22: 0.3 | K22: 0.5 | L22: 0.5 | M22: 0.4 | N22: 0.4 | O22: 0.3 | P22: Jun. | Q22: 6월 | R22: 0.013 | S22: 0.015 | T22: 0.006 | U22: 0.012 | V22: 0.01 | W22: 0.007 | X22: 0.008 | Y22: 40 | Z22: 38 | AA22: 47 | AB22: 41 | AC22: 33 | AD22: 40 | AE22: 36 | AF22: Jun. | AG22: 6월 | AH22: 29 | AI22: 0 | AJ22: 18 | AK22: 25 | AL22: 21 | AM22: 19 | AN22: 23 | AO22: 0.048 | AP22: 0.042 | AQ22: - | AR22: - | AS22: - | AT22: - | AU22: - | AV22: Jun.
A23: 7월 | B23: 0.006 | C23: 0.004 | D23: 0.003 | E23: 0.003 | F23: 0.003 | G23: 0.004 | H23: 0.003 | I23: 0.5 | J23: 0.3 | K23: 0.3 | L23: 0.5 | M23: 0.3 | N23: 0.3 | O23: 0.3 | P23: Jul. | Q23: 7월 | R23: 0.011 | S23: 0.013 | T23: 0.004 | U23: 0.011 | V23: 0.008 | W23: 0.009 | X23: 0.008 | Y23: 36 | Z23: 31 | AA23: 31 | AB23: 32 | AC23: 26 | AD23: 30 | AE23: 32 | AF23: Jul. | AG23: 7월 | AH23: 25 | AI23: 26 | AJ23: 11 | AK23: 19 | AL23: 17 | AM23: 12 | AN23: 25 | AO23: 0.032 | AP23: 0.029 | AQ23: - | AR23: - | AS23: - | AT23: - | AU23: - | AV23: Jul.
A24: 8월 | B24: 0.004 | C24: 0.004 | D24: 0.003 | E24: 0.004 | F24: 0.004 | G24: 0.004 | H24: 0.003 | I24: 0.3 | J24: 0.3 | K24: 0.3 | L24: 0.4 | M24: 0.5 | N24: 0.2 | O24: 0.6 | P24: Aug. | Q24: 8월 | R24: 0.01 | S24: 0.012 | T24: 0 | U24: 0.012 | V24: 0.007 | W24: 0.01 | X24: 0.006 | Y24: 24 | Z24: 21 | AA24: 27 | AB24: 27 | AC24: 21 | AD24: 24 | AE24: 20 | AF24: Aug. | AG24: 8월 | AH24: 14 | AI24: 11 | AJ24: 14 | AK24: 15 | AL24: 14 | AM24: 13 | AN24: 11 | AO24: 0.026 | AP24: 0.02 | AQ24: - | AR24: - | AS24: - | AT24: - | AU24: - | AV24: Aug.
A25: 9월 | B25: 0.003 | C25: 0.003 | D25: 0.003 | E25: 0.003 | F25: 0.004 | G25: 0.003 | H25: 0.004 | I25: 0.4 | J25: 0.3 | K25: 0.2 | L25: 0.4 | M25: 0.5 | N25: 0.3 | O25: 0.5 | P25: Sep. | Q25: 9월 | R25: 0.012 | S25: 0.014 | T25: 0.006 | U25: 0.013 | V25: 0.01 | W25: 0.011 | X25: 0.008 | Y25: 27 | Z25: 25 | AA25: 33 | AB25: 30 | AC25: 27 | AD25: 32 | AE25: 24 | AF25: Sep. | AG25: 9월 | AH25: 13 | AI25: 13 | AJ25: 16 | AK25: 13 | AL25: 17 | AM25: 19 | AN25: 11 | AO25: 0.033 | AP25: 0.027 | AQ25: - | AR25: - | AS25: - | AT25: - | AU25: - | AV25: Sep.
A26: 10월 | B26: 0.004 | C26: 0.003 | D26: 0.003 | E26: 0.003 | F26: 0.003 | G26: 0.004 | H26: 0.003 | I26: 0.5 | J26: 0.3 | K26: 0.4 | L26: 0.4 | M26: 0.6 | N26: 0.4 | O26: 0.4 | P26: Oct. | Q26: 10월 | R26: 0.014 | S26: 0.017 | T26: 0.01 | U26: 0.019 | V26: 0.013 | W26: 0.015 | X26: 0.011 | Y26: 31 | Z26: 30 | AA26: 47 | AB26: 42 | AC26: 32 | AD26: 43 | AE26: 35 | AF26: Oct. | AG26: 10월 | AH26: 18 | AI26: 18 | AJ26: 24 | AK26: 19 | AL26: 21 | AM26: 28 | AN26: 18 | AO26: 0.03 | AP26: 0.022 | AQ26: - | AR26: - | AS26: - | AT26: - | AU26: - | AV26: Oct.
A27: 11월 | B27: 0.004 | C27: 0.003 | D27: 0.004 | E27: 0.004 | F27: 0.003 | G27: 0.006 | H27: 0.003 | I27: 0.4 | J27: 0.4 | K27: 0.5 | L27: 0.5 | M27: 0.7 | N27: 0.8 | O27: 0.7 | P27: Nov. | Q27: 11월 | R27: 0.019 | S27: 0.027 | T27: 0.018 | U27: 0.028 | V27: 0.008 | W27: 0.022 | X27: 0.016 | Y27: 48 | Z27: 51 | AA27: 77 | AB27: 74 | AC27: 44 | AD27: 79 | AE27: 61 | AF27: Nov. | AG27: 11월 | AH27: 29 | AI27: 33 | AJ27: 41 | AK27: 31 | AL27: 32 | AM27: 41 | AN27: 38 | AO27: 0.025 | AP27: 0.014 | AQ27: - | AR27: - | AS27: - | AT27: - | AU27: - | AV27: Nov.
A28: 12월 | B28: 0.003 | C28: 0.004 | D28: 0.004 | E28: 0.003 | F28: 0 | G28: 0.008 | H28: 0.004 | I28: 0.5 | J28: 0.3 | K28: 0.5 | L28: 0.5 | M28: 0 | N28: 0.9 | O28: 0.7 | P28: Dec. | Q28: 12월 | R28: 0.018 | S28: 0.024 | T28: 0.017 | U28: 0.024 | V28: 0 | W28: 0.023 | X28: 0.015 | Y28: 38 | Z28: 39 | AA28: 59 | AB28: 59 | AC28: 0 | AD28: 71 | AE28: 50 | AF28: Dec. | AG28: 12월 | AH28: 18 | AI28: 24 | AJ28: 29 | AK28: 26 | AL28: 0 | AM28: 30 | AN28: 32 | AO28: 0.022 | AP28: 0.016 | AQ28: - | AR28: - | AS28: - | AT28: - | AU28: - | AV28: Dec.
A29: 자료 : 환경정책과 | P29: Source : Environmental Policy Division | Q29: 자료 :환경정책과 | AF29: Source : Environmental Policy Division | AG29: 자료 :환경정책과 | AL29: Source : Environmental Policy Division
A30: 주 : 2018년 부터 표 항목 수정,표측 수정 | Q30: 주 : 2018년 부터 표 항목 수정,표측 수정 | AG30: 주 : 2018년 부터 표 항목 수정,표측 수정

Sheet 6.소음도
A1: 620 / ⅩⅢ. 환경 | O1: ⅩⅢ. Environment / 621
A3: 6. 소음도 | J3: 6. Noise Levels
A5: 단위 : Leg dB(A) | O5: Unit : leg dB(A)
A6: 연별 및 시군별 | B6: 일 반 지 역 General area | J6: 도 로 변 지 역 Roadside area
B7: 가 Area "A" | D7: 나 Area "B" | F7: 다 Area "C" | H7: 라 Area "D" | J7: 가·나 Area "A" & "B" | L7: 다 Area "C" | N7: 라 Area "D"
A10: 2018 1반기
A11: 낮(06:00~22:00)
A12: 포항시 | B12: 59 | D12: 58 | F12: 60 | H12: 62 | J12: 62 | L12: 66 | N12: 72
A13: 구미시 | B13: 44 | D13: 52 | F13: 61 | H13: 60 | J13: 62 | L13: - | N13: -
A14: 밤(22:00~06:00)
A15: 포항시 | B15: 46 | D15: 43 | F15: 52 | H15: 51 | J15: 50 | L15: 49 | N15: 66
A16: 구미시 | B16: 37 | D16: 43 | F16: 55 | H16: 39 | J16: 52 | L16: - | N16: -
A17: 2018 2반기
A18: 낮(06:00~22:00)
A19: 포항시 | B19: 59 | D19: 61 | F19: 62 | H19: 62 | J19: 63 | L19: 66 | N19: 69
A20: 구미시 | B20: 49 | D20: 54 | F20: 62 | H20: 62 | J20: 63 | L20: - | N20: -
A21: 밥(22:00~06:00)
A22: 포항시 | B22: 51 | D22: 53 | F22: 53 | H22: 58 | J22: 55 | L22: 61 | N22: 63
A23: 구미시 | B23: 39 | D23: 44 | F23: 51 | H23: 58 | J23: 54 | L23: - | N23: -
A24: 연 별 반기별 | B24: ○ 가지역 : 녹지, 주거전용, 종합병원, 학교 나지역 : 주거, 준주거지역 Area"A" : Green zone, Exclusively residential zone, General hospital, School Area"C" : Commercial, Semi-industrial zone ○ 시간대별 낮과 밤구분 : 낮(06:00 ∼22:00), 밤(22:00 ∼06:00) | J24: 다지역 : 상업, 준공업지역 라지역 : 공업,전용공업지역 Area "B" : Residential , Semi-residence zone Area"D" : Industrial, Exclusively industrial zone
A26: 자료 : 「주요도시환경소음도현황」 환경부 생활환경과 | O26: Source : Ministry of Environment

Sheet 7.쓰레기수거
A1: 622 / ⅩⅢ. 환경 | P1: ⅩⅢ. Environment / 623 | Q1: 624 / ⅩⅢ. 환경 | AE1: ⅩⅢ. Environment / 625 | AF1: 626 / ⅩⅢ. 환경 | AS1: ⅩⅢ. Environment / 627 | AT1: 628 / ⅩⅢ. 환경 | BB1: ⅩⅢ. Environment / 595
A3: 7. 쓰레기 수거 | I3: 7. Waste Collection and Disposal | Q3: 7. 쓰레기 수거(계속) | Y3: 7. Waste Collection and Disposal(Cont'd) | AF3: 7. 쓰레기 수거(계속) | AM3: 7. Waste Collection and Disposal(Cont'd) | AT3: 7. 쓰레기 수거(계속)
AT4: 7. Waste Collection and Disposal(Cont'd)
A5: 단위 : ㎢, 명, 톤/일, 대, % | P5: Unit : ㎢, person, ton/day, each, % | Q5: 단위 : ㎢, 명, 톤/일, 대, % | AE5: Unit : ㎢, person, ton/day, each, % | AF5: 단위 : ㎢, 명, 톤/일, 대, % | AS5: Unit : ㎢, person, ton/day, each, % | AT5: 단위 : ㎢, 명, 톤/일, 대, % | BA5: Unit : ㎢, person, ton/day, each, % | BB5: Unit : person, ton, each
A6: 연별 및 시군별 | B6: 행정구역 Administrative area | D6: 청소구역 Waste-collected area | F6: 수거지 인구율 (B/A) Population ratio in the waste coll-ected area | G6: 배출량 (C) Amount of discharged waste | H6: 처리량 (D) Amount of waste disposal | I6: 수거율 (D/C) Disposal ratio | J6: 수거처리 By type of waste disposal | P6: Year & Si, Gun | Q6: 연별 및 시군별 | R6: 수거처리 By type of waste disposal | Y6: 수거처리 By type of waste disposal | AE6: Year & Si, Gun | AF6: 연별 및 시군별 | AG6: 수거처리 By type of waste disposal | AM6: 지방자치단체 Local government | AQ6: 처 리 업 체 Service Company | AS6: Year & Si, Gun | AT6: 연별 및 시군별 Year & Si, Gun | AV6: 처 리 업 체 Service Company | AX6: 자가처리업소 Self-managed workplace | BB6: Year & Si, Gun
K7: 매 립 Landfill | L7: 소 각 Incineration | M7: 재활용 Recycling | N7: 해역배출 4) Dumping at sea | O7: 기타 Others | R7: 폐 기 물 Wastes | Y7: 폐 기 물 Wastes | AG7: 폐기물 Wastes | AM7: 인 원 Workers | AN7: 장비 Equipment | AQ7: 인 원 Workers | AR7: 장 비 Equipment | AV7: 장 비 Equipment | AX7: 인 원 Workers | AY7: 장 비 Equipment
R8: 생활계 폐기물 Domestic wastes | V8: 사업장 배출시설계 폐기물 | Y8: Industrial wastes | AA8: 건설 폐기물 Construction wastes | AG8: 지정 폐기물 Specified wastes
B9: 면 적 Area | C9: 인 구 (A) Population | D9: 면 적 Area | E9: 인 구 (B) Population | R9: 발생량 Generation | S9: 매립 Landfill | T9: 소각 Incineration | U9: 재활용 Recycling | V9: 발생량 Generation | W9: 매립 Landfill | X9: 소각 Incineration | Y9: 재활용 Recycling | Z9: 해역배출 4) Dumping at sea | AA9: 발생량 Generation | AB9: 매립 Landfill | AC9: 소각 Incineration | AD9: 재활용 Recycling | AG9: 전년도 이월량 Carry-over | AH9: 해당연도 발생량 Generation | AI9: 매립 Landfill | AJ9: 소각 Incineration | AK9: 재활용 Recycling | AL9: 기타보관량 Custody | AN9: 차 량 Motorcars | AO9: 손수레 Handcars | AP9: 중장비 Heavy equipment | AR9: 차 량 Motorcars | AV9: 손수레 Handcars | AW9: 중장비 Heavy equipment | AY9: 차 량 Motorcars | AZ9: 손수레 Handcars | BA9: 중장비 Heavy equipment
A12: 2014 | B12: 19029.17 | C12: 2748599 | D12: 18490.6 | E12: 2742118 | F12: 99.764207 | G12: 40401.8 | H12: 40401.8 | I12: 100 | J12: 40401.8 | K12: 3694.1 | L12: 1565.9 | M12: 34844.4 | N12: 154.7 | O12: 142.7 | P12: 2014 | Q12: 2014 | R12: 2795.3 | S12: 629.5 | T12: 719.1 | U12: 1446.7 | V12: 22940.8 | W12: 2697.5 | X12: 673.4 | Y12: 19415.2 | Z12: 154.7 | AA12: 13758.6 | AB12: 192.7 | AC12: 55 | AD12: 13510.9 | AE12: 2014 | AF12: 2014 | AG12: 3.9 | AH12: 903.2 | AI12: 174.4 | AJ12: 118.4 | AK12: 471.6 | AL12: 138.8 | AM12: 1884 | AN12: 395 | AO12: 351 | AP12: 63 | AQ12: 644 | AR12: 266 | AS12: 2014 | AT12: 2014 | AV12: 48 | AW12: 1 | AX12: 0 | AY12: 0 | AZ12: 0 | BA12: 0 | BB12: 2013
A13: 2015 | B13: 19029.81 | C13: 2752591 | D13: 18491.25 | E13: 2746220 | F13: 99.77 | G13: 41433 | H13: 41433 | I13: 100 | J13: 41433 | K13: 3835.3 | L13: 1740.2 | M13: 35802.8 | N13: 38 | O13: 16.7 | P13: 2015 | Q13: 2015 | R13: 2805 | S13: 727.9 | T13: 794.9 | U13: 1282.2 | V13: 21974.4 | W13: 2637.7 | X13: 693.3 | Y13: 18605.4 | Z13: 38 | AA13: 15072.9 | AB13: 194.8 | AC13: 58.1 | AD13: 14820 | AE13: 2015 | AF13: 2015 | AG13: 7.1 | AH13: 1573.6 | AI13: 274.9 | AJ13: 193.9 | AK13: 1095.2 | AL13: 9.6 | AM13: 1679 | AN13: 431 | AO13: 393 | AP13: 52 | AQ13: 574 | AR13: 213 | AS13: 2015 | AT13: 2015 | AV13: 36 | AW13: 4 | AX13: 0 | AY13: 0 | AZ13: 0 | BA13: 0 | BB13: 2013
A14: 2016 | B14: 19031.42 | C14: 2751749 | D14: 18492.85 | E14: 2745932 | F14: 99.788607 | G14: 40965.5 | H14: 40965.5 | I14: 100 | J14: 40965.5 | K14: 4041.8 | L14: 1863.6 | M14: 34800.5 | N14: 1.7 | O14: 257.9 | P14: 2016 | Q14: 2016 | R14: 2885.4 | S14: 720.3 | T14: 891.4 | U14: 1273.7 | V14: 22151.2 | W14: 2945 | X14: 749.8 | Y14: 18454.7 | Z14: 1.7 | AA14: 14221 | AB14: 103.9 | AC14: 49.8 | AD14: 14067.3 | AE14: 2016 | AF14: 2016 | AG14: 5.9 | AH14: 1702 | AI14: 272.6 | AJ14: 172.6 | AK14: 1004.8 | AL14: 257.9 | AM14: 1742 | AN14: 450 | AO14: 212 | AP14: 57 | AQ14: 606 | AR14: 235 | AS14: 2016 | AT14: 2016 | AV14: 51 | AW14: 3 | AX14: 0 | AY14: 0 | AZ14: 0 | BA14: 0 | BB14: 2013
A15: 2017 | B15: 18732.33 | C15: 2745070 | D15: 20772.59 | E15: 2744877 | F15: 99.992969 | G15: 40633.8 | H15: 40633.8 | I15: 100 | J15: 40633.8 | K15: 2958.1 | L15: 1865.3 | M15: 35552.2 | N15: 3.3 | O15: 254.9 | P15: 2017 | Q15: 2017 | R15: 3146.3 | S15: 748.7 | T15: 881.6 | U15: 1516 | V15: 22179.3 | W15: 1812.5 | X15: 767.4 | Y15: 19596.1 | Z15: 3.3 | AA15: 13508.7 | AB15: 94.9 | AC15: 36.2 | AD15: 13377.6 | AE15: 2017 | AF15: 2017 | AG15: 7.3 | AH15: 1799.9 | AI15: 302 | AJ15: 180.1 | AK15: 1062.5 | AL15: 254.9 | AM15: 1735 | AN15: 402 | AO15: 265 | AP15: 62 | AQ15: 692 | AR15: 294 | AS15: 2017 | AT15: 2017 | AV15: 36 | AW15: 0 | AX15: 0 | AY15: 0 | AZ15: 0 | BA15: 0 | BB15: 2013
A16: 2018 | B16: =SUM(B18:B40) -> 19032.86 | C16: =SUM(C18:C40) -> 2730658 | D16: =SUM(D18:D40) -> 18962.29 | E16: =SUM(E18:E40) -> 2730465 | F16: =E16/C16*100 -> 99.992932 | G16: 39576.82 | H16: 39576.82 | I16: =H16/G16*100 -> 100 | J16: =SUM(J18:J40) -> 39576.484 | K16: =SUM(S16,W16,AB16,AI16) -> 3078.7903 | L16: =SUM(T16,X16,AC16,AJ16) -> 1629.0217 | M16: =SUM(U16,Y16,AD16,AK16) -> 34720.634 | N16: =+Z16 -> 9.4 | O16: =AL16 -> 138.63817 | P16: 2018 | Q16: 2018 | R16: =SUM(R18:R40) -> 3246.2 | S16: =SUM(S18:S40) -> 785.8 | T16: =SUM(T18:T40) -> 863.3 | U16: =SUM(U18:U40) -> 1598.7 | V16: =SUM(V18:V40) -> 22072.7 | W16: =SUM(W18:W40) -> 1963 | X16: =SUM(X18:X40) -> 583.7 | Y16: =SUM(Y18:Y40) -> 19516.6 | ... AD16: =SUM(AD18:AD40) -> 12303.7 | AE16: 2018 | AF16: 2018 | AG16: =SUM(AG18:AG40) -> 10.030722 | AH16: =SUM(AH18:AH40) -> 1879.1033 | AI16: =SUM(AI18:AI40) -> 302.49034 | AJ16: =SUM(AJ18:AJ40) -> 146.12166 | AK16: =SUM(AK18:AK40) -> 1301.6336 | AL16: =SUM(AL18:AL40) -> 138.63817 | AM16: =SUM(AM18:AM40) -> 1735 | AN16: =SUM(AN18:AN40) -> 418 | ... AR16: =SUM(AR18:AR40) -> 289 | AS16: 2018 | AT16: 2018 | AV16: =SUM(AV18:AV40) -> 34 | AW16: =SUM(AW18:AW40) -> 0 | AX16: =SUM(AX18:AX40) -> 0 | AY16: =SUM(AY18:AY40) -> 0 | AZ16: =SUM(AZ18:AZ40) -> 0 | BA16: =SUM(BA18:BA40) -> 0 | BB16: 2013
A18: 포항시 | B18: 1130.05 | C18: 515945 | D18: 1130.05 | E18: 515945 | F18: =E18/C18*100 -> 100 | G18: 18565.536 | H18: 18565.536 | I18: =H18/G18*100 -> 100 | J18: =SUM(K18:O18) -> 18559.259 | K18: =SUM(S18,W18,AB18,AI18) -> 1047.0729 | L18: =SUM(T18,X18,AC18,AJ18) -> 155.67808 | M18: =SUM(U18,Y18,AD18,AK18) -> 17350.314 | N18: =+Z18 -> 0 | O18: =AL18 -> 6.1938135 | P18: Pohang | Q18: 포항시 | R18: 503.3 | S18: 179.7 | T18: 4.8 | U18: 318.8 | V18: 15507.8 | W18: 818.9 | X18: 106.5 | Y18: 14582.4 | Z18: 0 | AA18: 1749.2 | AB18: 8 | AC18: 6.2 | AD18: 1735 | AE18: Pohang | AF18: 포항시 | AG18: 2.01824 | AH18: 796.94071 | AI18: 40.472887 | AJ18: 38.178082 | AK18: 714.11416 | AL18: 6.1938135 | AM18: 293 | AN18: 50 | AO18: 2 | AP18: 10 | AQ18: 61 | AR18: 26 | AS18: Pohang | AT18: 포항시 | AU18: Pohang | AV18: 0 | AW18: 0 | AX18: 0 | AY18: 0 | AZ18: 0 | BA18: 0 | BB18: Pohang
A19: 경주시 | B19: 1324.84 | C19: 268160 | D19: 1324.84 | E19: 268160 | F19: =E19/C19*100 -> 100 | G19: 3158.0032 | H19: 3158.0032 | I19: =H19/G19*100 -> 100 | J19: =SUM(K19:O19) -> 3154.8058 | K19: =SUM(S19,W19,AB19,AI19) -> 501.65269 | L19: =SUM(T19,X19,AC19,AJ19) -> 201.01137 | M19: =SUM(U19,Y19,AD19,AK19) -> 2450.1226 | N19: =+Z19 -> 0.5 | O19: =AL19 -> 1.519217 | P19: Gyeongju | Q19: 경주시 | R19: 582 | S19: 133.1 | T19: 126.1 | U19: 322.8 | V19: 1330 | W19: 345.4 | X19: 53.1 | Y19: 931 | Z19: 0.5 | AA19: 1153.7 | AB19: 4.4 | AC19: 2.9 | AD19: 1146.4 | AE19: Gyeongju | AF19: 경주시 | AG19: 1.2712384 | AH19: 87.8346 | AI19: 18.752686 | AJ19: 18.91137 | AK19: 49.922566 | AL19: 1.519217 | AM19: 152 | AN19: 40 | AO19: 37 | AP19: 8 | AQ19: 78 | AR19: 40 | AS19: Gyeongju | AT19: 경주시 | AU19: Gyeongju | AV19: 0 | AW19: 0 | AX19: 0 | AY19: 0 | AZ19: 0 | BA19: 0 | BB19: Gyeongju
A20: 김천시 | B20: 1009.76 | C20: 143351 | D20: 1009.76 | E20: 143351 | F20: =E20/C20*100 -> 100 | G20: 965.65822 | H20: 965.65822 | I20: =H20/G20*100 -> 100 | J20: =SUM(K20:O20) -> 964.31541 | K20: =SUM(S20,W20,AB20,AI20) -> 56.825562 | L20: =SUM(T20,X20,AC20,AJ20) -> 149.17605 | M20: =SUM(U20,Y20,AD20,AK20) -> 757.06221 | N20: =+Z20 -> 0 | O20: =AL20 -> 1.251589 | P20: Gimcheon | Q20: 김천시 | R20: 125.2 | S20: 3.7 | T20: 38.5 | U20: 83 | V20: 303.9 | W20: 47.4 | X20: 80.5 | Y20: 176 | Z20: 0 | AA20: 485.4 | AB20: 1.4 | AC20: 3.3 | AD20: 480.7 | AE20: Gimcheon | AF20: 김천시 | AG20: 0.25935616 | AH20: 49.556058 | AI20: 4.3255616 | AJ20: 26.876055 | AK20: 17.362208 | AL20: 1.251589 | AM20: 71 | AN20: 24 | AO20: 0 | AP20: 2 | AQ20: 22 | AR20: 11 | AS20: Gimcheon | AT20: 김천시 | AU20: Gimcheon | AV20: 0 | AW20: 0 | AX20: 0 | AY20: 0 | AZ20: 0 | BA20: 0 | BB20: Gimcheon
A21: 안동시 | B21: 1522.1 | C21: 163713 | D21: 1522.1 | E21: 163713 | F21: =E21/C21*100 -> 100 | G21: 883.53654 | H21: 883.53654 | I21: =H21/G21*100 -> 100 | J21: =SUM(K21:O21) -> 879.79997 | K21: =SUM(S21,W21,AB21,AI21) -> 107.86433 | L21: =SUM(T21,X21,AC21,AJ21) -> 10.272521 | M21: =SUM(U21,Y21,AD21,AK21) -> 761.39036 | N21: =+Z21 -> 0.2 | O21: =AL21 -> 0.072767123 | P21: Andong | Q21: 안동시 | R21: 184.6 | S21: 103.4 | T21: 0 | U21: 81.2 | V21: 165.5 | W21: 0.7 | X21: 8.4 | Y21: 156.2 | Z21: 0.2 | AA21: 523.3 | AB21: 0.4 | AC21: 1.8 | AD21: 521.1 | AE21: Andong | AF21: 안동시 | AG21: 0 | AH21: 6.3999749 | AI21: 3.3643311 | AJ21: 0.072520548 | AK21: 2.8903562 | AL21: 0.072767123 | AM21: 46 | AN21: 25 | AO21: 0 | AP21: 4 | AQ21: 38 | AR21: 19 | AS21: Andong | AT21: 안동시 | AU21: Andong | AV21: 0 | AW21: 0 | AX21: 0 | AY21: 0 | AZ21: 0 | BA21: 0 | BB21: Andong
A22: 구미시 | B22: 615.3 | C22: 426684 | D22: 615.3 | E22: 426684 | F22: =E22/C22*100 -> 100 | G22: 3108.2246 | H22: 3108.2246 | I22: =H22/G22*100 -> 100 | J22: =SUM(K22:O22) -> 3104.9406 | K22: =SUM(S22,W22,AB22,AI22) -> 279.21521 | L22: =SUM(T22,X22,AC22,AJ22) -> 251.748 | M22: =SUM(U22,Y22,AD22,AK22) -> 2459.3727 | N22: =+Z22 -> 0 | O22: =AL22 -> 114.60468 | P22: Gumi | Q22: 구미시 | R22: 464.9 | S22: 60.2 | T22: 171.2 | U22: 233.5 | V22: 1025.1 | W22: 180.1 | X22: 43.8 | Y22: 801.2 | Z22: 0 | AA22: 1129.3 | AB22: 10 | AC22: 8.4 | AD22: 1110.9 | AE22: Gumi | AF22: 구미시 | AG22: 2.7687573 | AH22: 482.8718 | AI22: 28.915205 | AJ22: 28.347998 | AK22: 313.77267 | AL22: 114.60468 | AM22: 235 | AN22: 48 | AO22: 0 | AP22: 0 | AQ22: 119 | AR22: 41 | AS22: Gumi | AT22: 구미시 | AU22: Gumi | AV22: 0 | AW22: 0 | AX22: 0 | AY22: 0 | AZ22: 0 | BA22: 0 | BB22: Gumi
A23: 영주시 | B23: 670.02 | C23: 107976 | D23: 670.02 | E23: 107976 | F23: =E23/C23*100 -> 100 | G23: 1319.3279 | H23: 1319.3279 | I23: =H23/G23*100 -> 100 | J23: =SUM(K23:O23) -> 1318.3775 | K23: =SUM(S23,W23,AB23,AI23) -> 202.57833 | L23: =SUM(T23,X23,AC23,AJ23) -> 18.875562 | M23: =SUM(U23,Y23,AD23,AK23) -> 1096.9236 | N23: =+Z23 -> 0 | O23: =AL23 -> 0 | P23: Yeongju | Q23: 영주시 | R23: 177 | S23: 123.2 | T23: 0 | U23: 53.8 | V23: 607.2 | W23: 77.5 | X23: 14.7 | Y23: 515 | Z23: 0 | AA23: 511.2 | AB23: 0 | AC23: 0 | AD23: 511.2 | AE23: Yeongju | AF23: 영주시 | AG23: 0 | AH23: 22.990584 | AI23: 1.8783288 | AJ23: 4.1755616 | AK23: 16.923625 | AL23: 0 | AM23: 45 | AN23: 20 | AO23: 30 | AP23: 1 | AQ23: 44 | AR23: 18 | AS23: Yeongju | AT23: 영주시 | AU23: Yeongju | AV23: 8 | AW23: 0 | AX23: 0 | AY23: 0 | AZ23: 0 | BA23: 0 | BB23: Yeongju
A24: 영천시 | B24: 919.21 | C24: 103990 | D24: 919.21 | E24: 103990 | F24: =E24/C24*100 -> 100 | G24: 1467.6398 | H24: 1467.6398 | I24: =H24/G24*100 -> 100 | J24: =SUM(K24:O24) -> 1466.7355 | K24: =SUM(S24,W24,AB24,AI24) -> 190.21219 | L24: =SUM(T24,X24,AC24,AJ24) -> 79.306452 | M24: =SUM(U24,Y24,AD24,AK24) -> 1193.1763 | N24: =+Z24 -> 2.4 | O24: =AL24 -> 1.6405205 | P24: Yeongcheon | Q24: 영천시 | R24: 115.1 | S24: 0.1 | T24: 56.6 | U24: 58.4 | V24: 496.8 | W24: 125 | X24: 11.9 | Y24: 357.5 | Z24: 2.4 | AA24: 704.3 | AB24: 0 | AC24: 0.9 | AD24: 703.4 | AE24: Yeongcheon | AF24: 영천시 | AG24: 1.3528356 | AH24: 149.18265 | AI24: 65.112192 | AJ24: 9.9064521 | AK24: 73.876323 | AL24: 1.6405205 | AM24: 93 | AN24: 21 | AO24: 10 | AP24: 1 | AQ24: 16 | AR24: 2 | AS24: Yeongcheon | AT24: 영천시 | AU24: Yeongcheon | AV24: 0 | AW24: 0 | AX24: 0 | AY24: 0 | AZ24: 0 | BA24: 0 | BB24: Yeongcheon
A25: 상주시 | B25: 1254.68 | C25: 101237 | D25: 1254.68 | E25: 101237 | F25: =E25/C25*100 -> 100 | G25: 707.99611 | H25: 707.99611 | I25: =H25/G25*100 -> 100 | J25: =SUM(K25:O25) -> 707.25628 | K25: =SUM(S25,W25,AB25,AI25) -> 16.082274 | L25: =SUM(T25,X25,AC25,AJ25) -> 57.820055 | M25: =SUM(U25,Y25,AD25,AK25) -> 633.25705 | N25: =+Z25 -> 0 | O25: =AL25 -> 0.09690411 | P25: Sangju | Q25: 상주시 | R25: 86.3 | S25: 8.1 | T25: 51.4 | U25: 26.8 | V25: 97.7 | W25: 2.2 | X25: 4.5 | Y25: 91 | Z25: 0 | AA25: 517.1 | AB25: 0 | AC25: 1.7 | AD25: 515.4 | AE25: Sangju | AF25: 상주시 | AG25: 0.065424658 | AH25: 6.0908548 | AI25: 5.782274 | AJ25: 0.22005479 | AK25: 0.057046575 | AL25: 0.09690411 | AM25: 126 | AN25: 40 | AO25: 30 | AP25: 1 | AQ25: 0 | AR25: 0 | AS25: Sangju | AT25: 상주시 | AU25: Sangju | AV25: 0 | AW25: 0 | AX25: 0 | AY25: 0 | AZ25: 0 | BA25: 0 | BB25: Sangju
A26: 문경시 | B26: 911.86 | C26: 72547 | D26: 911.86 | E26: 72547 | F26: =E26/C26*100 -> 100 | G26: 693.43377 | H26: 693.43377 | I26: =H26/G26*100 -> 100 | J26: =SUM(K26:O26) -> 692.57256 | K26: =SUM(S26,W26,AB26,AI26) -> 35.002822 | L26: =SUM(T26,X26,AC26,AJ26) -> 62.89474 | M26: =SUM(U26,Y26,AD26,AK26) -> 594.5001 | N26: =+Z26 -> 0 | O26: =AL26 -> 0.17490411 | P26: Mungyeong | Q26: 문경시 | R26: 140.8 | S26: 26.1 | T26: 53.5 | U26: 61.2 | V26: 90.2 | W26: 4.7 | X26: 8.1 | Y26: 77.4 | Z26: 0 | AA26: 455.5 | AB26: 0.1 | AC26: 0.3 | AD26: 455.1 | AE26: Mungyeong | AF26: 문경시 | AG26: 0 | AH26: 6.035743 | AI26: 4.1028219 | AJ26: 0.99473973 | AK26: 0.80009918 | AL26: 0.17490411 | AM26: 62 | AN26: 18 | AO26: 50 | AP26: 4 | AQ26: 39 | AR26: 11 | AS26: Mungyeong | AT26: 문경시 | AU26: Mungyeong | AV26: 0 | AW26: 0 | AX26: 0 | AY26: 0 | AZ26: 0 | BA26: 0 | BB26: Mungyeong
A27: 경산시 | B27: 411.76 | C27: 272070 | D27: 411.76 | E27: 272070 | F27: =E27/C27*100 -> 100 | G27: 1742.0445 | H27: 1742.0445 | I27: =H27/G27*100 -> 100 | J27: =SUM(K27:O27) -> 1737.7211 | K27: =SUM(S27,W27,AB27,AI27) -> 100.80992 | L27: =SUM(T27,X27,AC27,AJ27) -> 187.63575 | M27: =SUM(U27,Y27,AD27,AK27) -> 1448.5963 | N27: =+Z27 -> 0 | O27: =AL27 -> 0.67918082 | P27: Gyeongsan | Q27: 경산시 | R27: 268.8 | S27: 30.6 | T27: 100.5 | U27: 137.7 | V27: 404.7 | W27: 57.9 | X27: 76.8 | Y27: 270 | Z27: 0 | AA27: 1021.4 | AB27: 1.6 | AC27: 2.4 | AD27: 1017.4 | AE27: Gyeongsan | AF27: 경산시 | AG27: 0.36507123 | AH27: 42.456044 | AI27: 10.709918 | AJ27: 7.9357534 | AK27: 23.496263 | AL27: 0.67918082 | AM27: 112 | AN27: 0 | AO27: 52 | AP27: 7 | AQ27: 90 | AR27: 47 | AS27: Gyeongsan | AT27: 경산시 | AU27: Gyeongsan | AV27: 0 | AW27: 0 | AX27: 0 | AY27: 0 | AZ27: 0 | BA27: 0 | BB27: Gyeongsan
A28: 군위군 | B28: 614.26 | C28: 24483 | D28: 614.26 | E28: 24483 | F28: =E28/C28*100 -> 100 | G28: 404.68035 | H28: 404.68035 | I28: =H28/G28*100 -> 100 | J28: =SUM(K28:O28) -> 404.63155 | K28: =SUM(S28,W28,AB28,AI28) -> 17.279288 | L28: =SUM(T28,X28,AC28,AJ28) -> 5.7634795 | M28: =SUM(U28,Y28,AD28,AK28) -> 381.5 | N28: =+Z28 -> 0 | O28: =AL28 -> 0.088780822 | P28: Gunwi | Q28: 군위군 | R28: 21.7 | S28: 14 | T28: 4.4 | U28: 3.3 | V28: 75.3 | W28: 2.2 | X28: 1.2 | Y28: 71.9 | Z28: 0 | AA28: 306.4 | AB28: 0 | AC28: 0.1 | AD28: 306.3 | AE28: Gunwi | AF28: 군위군 | AG28: 0 | AH28: 1.2650548 | AI28: 1.0792877 | AJ28: 0.063479452 | AK28: 0 | AL28: 0.088780822 | AM28: 9 | AN28: 0 | AO28: 15 | AP28: 3 | AQ28: 28 | AR28: 11 | AS28: Gunwi | AT28: 군위군 | AU28: Gunwi | AV28: 0 | AW28: 0 | AX28: 0 | AY28: 0 | AZ28: 0 | BA28: 0 | BB28: Gunwi
A29: 의성군 | B29: 1174.69 | C29: 53579 | D29: 1174.69 | E29: 53579 | F29: =E29/C29*100 -> 100 | G29: 529.60502 | H29: 529.60502 | I29: =H29/G29*100 -> 100 | J29: =SUM(K29:O29) -> 529.14915 | K29: =SUM(S29,W29,AB29,AI29) -> 14.792055 | L29: =SUM(T29,X29,AC29,AJ29) -> 17.057096 | M29: =SUM(U29,Y29,AD29,AK29) -> 497.3 | N29: =+Z29 -> 0 | O29: =AL29 -> 0 | P29: Uiseong | Q29: 의성군 | R29: 58 | S29: 10.6 | T29: 14.4 | U29: 33 | V29: 39.9 | W29: 0.8 | X29: 0.4 | Y29: 38.7 | Z29: 0 | AA29: 427.9 | AB29: 0.1 | AC29: 2.2 | AD29: 425.6 | AE29: Uiseong | AF29: 의성군 | AG29: 0 | AH29: 3.3987397 | AI29: 3.2920548 | AJ29: 0.05709589 | AK29: 0 | AL29: 0 | AM29: 25 | AN29: 7 | AO29: 9 | AP29: 3 | AQ29: 28 | AR29: 14 | AS29: Uiseong | AT29: 의성군 | AU29: Uiseong | AV29: 7 | AW29: 0 | AX29: 0 | AY29: 0 | AZ29: 0 | BA29: 0 | BB29: Uiseong
... A40: 울릉군 | B40: 72.91 | C40: 10014 | D40: 2.34 | E40: 9821 | F40: =E40/C40*100 -> 98.072698 | G40: 134.2461 | H40: 134.2461 | I40: =H40/G40*100 -> 100 | J40: =SUM(K40:O40) -> 134.17175 | K40: =SUM(S40,W40,AB40,AI40) -> 4.3 | L40: =SUM(T40,X40,AC40,AJ40) -> 9.5 | M40: =SUM(U40,Y40,AD40,AK40) -> 120.37175 | N40: =+Z40 -> 0 | O40: =AL40 -> 0 | P40: Ulleung | Q40: 울릉군 | R40: 17.2 | S40: 2 | T40: 9.2 | U40: 6 | V40: 2.5 | W40: 2.3 | X40: 0 | Y40: 0.2 | Z40: 0 | AA40: 114.4 | AB40: 0 | AC40: 0.3 | AD40: 114.1 | AE40: Ulleung | AF40: 울릉군 | AG40: 0 | AH40: 0.11494795 | AI40: 0 | AJ40: 0 | AK40: 0.071753425 | AL40: 0 | AM40: 38 | AN40: 9 | AO40: 1 | AP40: 4 | AQ40: 0 | AR40: 0 | AS40: Ulleung | AT40: 울릉군 | AU40: Ulleung | AV40: 0 | AW40: 0 | AX40: 0 | AY40: 0 | AZ40: 0 | BA40: 0 | BB40: Ulleung
A41: 자료 : 환경정책과 | P41: Source : Environmental Policy Division | Q41: 자료 : 환경정책과 | AE41: Source : Environmental Policy Division | AF41: 자료 : 환경정책과 | AS41: Source : Environmental Policy Division | AT41: 자료 : 환경정책과 | BA41: Source : Environmental Policy Division
A42: 주 : 1) 2010년 자료부터 "대행업체" → "처리업체"로 변경 | Q42: 주 : 1) 2008년 자료부터 지정폐기물 삭제 | AF42: 주 : 1) 2008년 자료부터 지정폐기물 삭제 | AT42: 주 : 1) 2008년 자료부터 지정폐기물 삭제
A43: 2) 2011년 부터 지정폐기물 자료입력 | Q43: 2) 2010년 자료부터 "대행업체" → "처리업체"로 변경 | AF43: 2) 2010년 자료부터 "대행업체" → "처리업체"로 변경 | AT43: 2) 2010년 자료부터 "대행업체" → "처리업체"로 변경
A44: 3) 2012년 부터 단위수정, 2018년 부터 항목명 수정 | Q44: 3) 2012년 부터 단위수정, 2018년 부터 항목명 수정 | AF44: 3) 2012년 부터 단위수정, 2018년 부터 항목명 수정 | AT44: 3) 2012년 부터 단위수정, 2018년 부터 항목명 수정
A45: 4) 해역배출은 해양환경관리법 시행규칙에 따라 수산물가공 잔재물, 어패류 등만 해당 | Q45: 4) 해역배출은 해양환경관리법 시행규칙에 따라 수산물가공 잔재물, 어패류 등만 해당 | AF45: 4) 해역배출은 해양환경관리법 시행규칙에 따라 수산물가공 잔재물, 어패류 등만 해당 | AT45: 4) 해역배출은 해양환경관리법 시행규칙에 따라 수산물가공 잔재물, 어패류 등만 해당

Sheet 8.생활폐기물매립지
G1: ⅩⅢ. Environment / 629
A3: 8. 생활폐기물 매립지
A4: 8. General Waste Landfills
A5: 단위 : 개소, ㎡ | G5: Unit : number, ㎡
A6: 연별 및 시군별 Year & Si, Gun | C6: 개 소 Number of landfills | D6: 면 적(㎡) Area of landfills | E6: 총매립용량(㎥) Total landfill capacity | F6: 기매립량(㎥) Current landfill amount | G6: 잔여매립 가능량(㎥) Residual landfill capacity
A10: 2014 | C10: 37 | D10: 1065752 | E10: 15891008 | F10: 6721884 | G10: 9169124
A11: 2015 | C11: 38 | D11: 1069779 | E11: 15930938 | F11: 7078161 | G11: 8852777
A12: 2016 | C12: 35 | D12: 1083071 | E12: 16104007 | F12: 7556732 | G12: 8547275
A13: 2017 | C13: 35 | D13: 1060199 | E13: 15918922 | F13: 7884220 | G13: 8034702
A14: 2018 | C14: =SUM(C16:C38) -> 34 | D14: =SUM(D16:D38) -> 1049899 | E14: =SUM(E16:E38) -> 15918922 | F14: =SUM(F16:F38) -> 8274416 | G14: =SUM(G16:G38) -> 7644506
A16: 포항시 | B16: Pohang | C16: 3 | D16: 106813 | E16: 2119160 | F16: 1849935 | G16: 269225
A17: 경주시 | B17: Gyeongju | C17: 2 | D17: 97700 | E17: 1546553 | F17: 1277161 | G17: 269392
A18: 김천시 | B18: Gimcheon | C18: 1 | D18: 25378 | E18: 173823 | F18: 62363 | G18: 111460
A19: 안동시 | B19: Andong | C19: 1 | D19: 56500 | E19: 1278000 | F19: 1253938 | G19: 24062
A20: 구미시 | B20: Gumi | C20: 1 | D20: 114692 | E20: 2514190 | F20: 148496 | G20: 2365694
A21: 영주시 | B21: Yeongju | C21: 1 | D21: 143900 | E21: 2609000 | F21: 1317755 | G21: 1291245
A22: 영천시 | B22: Yeongcheon | C22: 1 | D22: 17700 | E22: 186300 | F22: 135008 | G22: 51292
A23: 상주시 | B23: Sangju | C23: 2 | D23: 9600 | E23: 66200 | F23: 57019 | G23: 9181
A24: 문경시 | B24: Mungyeong | C24: 1 | D24: 114000 | E24: 1814000 | F24: 282675 | G24: 1531325
A25: 경산시 | B25: Gyeongsan | C25: 4 | D25: 66443 | E25: 810445 | F25: 453996 | G25: 356449
A26: 군위군 | B26: Gunwi | C26: 1 | D26: 16542 | E26: 156038 | F26: 31390 | G26: 124648
A27: 의성군 | B27: Uiseong | C27: 2 | D27: 20993 | E27: 167760 | F27: 88170 | G27: 79590
... A38: 울릉군 | B38: Ulleung | C38: 2 | D38: 16213 | E38: 137489 | F38: 106889 | G38: 30600
A39: 자료 : 환경정책과 | G39: Source : Environmental Policy Division

Sheet 9.폐기물재활용률
A1: 630 / ⅩⅢ. 환경 | O1: ⅩⅢ. Environment / 631
A3: 9. 폐기물 재활용률 | I3: 9. Waste Recycling Rate
A5: 단위 : %, 톤 | O5: Unit : %, ton
A6: 연별 및 시군별 | B6: 재활용률 Recycling rate | C6: 합 계 Total | E6: 생활계 폐기물 Domestic wastes | G6: 사업장 배출시설계 폐기물 Industrial wastes | I6: 건설 폐기물 Construction wastes | K6: 지정 폐기물 Specified wastes | O6: Year & Si, Gun
C8: 발생량 Amount generated | D8: 재활용 Amount recycled | E8: 발생량 Amount generated | F8: 재활용 Amount recycled | G8: 발생량 Amount generated | H8: 재활용 Amount recycled | I8: 발생량 Amount generated | J8: 재활용 Amount recycled | K8: 발생량 Amount generated | N8: 재활용 Amount recycled
K9: 소계 Sub-total | L9: 전년도 이월량 Amount carried from previous year | M9: 당해연도 발생량 Amount generated in current year
A11: 2014 | B11: 64.996632 | C11: 680071.72 | D11: 442023.71 | E11: 2795.3 | F11: 1446.7 | G11: 22941 | H11: 19415.2 | I11: 13758.7 | J11: 13510.9 | K11: 640576.72 | L11: 2142.4 | M11: 638434.32 | N11: 407650.92 | O11: 2014
A12: 2015 | B12: 63.649517 | C12: 682590.1 | D12: 434465.3 | E12: 2805 | F12: 1282.2 | G12: 21974.4 | H12: 18605.4 | I12: 15072.9 | J12: 14820 | K12: 642737.8 | L12: 2603.4 | M12: 640134.4 | N12: 399757.7 | O12: 2015
A13: 2016 | B13: 60.448656 | C13: 662654.6 | D13: 400565.8 | E13: 2885.4 | F13: 1273.7 | G13: 22151.2 | H13: 18454.7 | I13: 14221 | J13: 14067.3 | K13: 623397 | L13: 2144.4 | M13: 621252.6 | N13: 366770.1 | O13: 2016
A14: 2017 | B14: 60.48 | C14: 698394.7 | D14: 422367.2 | E14: 3146.3 | F14: 1516 | G14: 22179.3 | H14: 19596.1 | I14: 13508.7 | J14: 13377.6 | K14: 659560.4 | L14: 2367 | M14: 657193.4 | N14: 387877.5 | O14: 2017
A15: 2018 | B15: =(D15/C15)*100 -> 87.733458 | C15: =SUM(C17:C39) -> 39575.134 | D15: =SUM(D17:D39) -> 34720.634 | E15: 3246.2 | F15: 1598.7 | G15: 22072.7 | H15: 19516.6 | I15: 12367.1 | J15: 12303.7 | K15: =L15+M15 -> 1889.2199 | L15: 10.116594 | M15: 1879.1033 | N15: 1301.7475 | O15: 2018
K16: =L16+M16 -> 0
A17: 포항시 | B17: =(D17/C17)*100 -> 93.486029 | C17: =E17+G17+I17+K17 -> 18559.259 | D17: =F17+H17+J17+N17 -> 17350.314 | E17: 503.3 | F17: 318.8 | G17: 15507.8 | H17: 14582.4 | I17: 1749.2 | J17: 1735 | K17: =L17+M17 -> 798.95895 | L17: 2.01824 | M17: 796.94071 | N17: 714.11416 | O17: Pohang
A18: 경주시 | B18: =(D18/C18)*100 -> 77.663181 | C18: =E18+G18+I18+K18 -> 3154.8058 | D18: =F18+H18+J18+N18 -> 2450.1226 | E18: 582 | F18: 322.8 | G18: 1330 | H18: 931 | I18: 1153.7 | J18: 1146.4 | K18: =L18+M18 -> 89.105838 | L18: 1.2712384 | M18: 87.8346 | N18: 49.922566 | O18: Gyeongju
A19: 김천시 | B19: =(D19/C19)*100 -> 78.507737 | C19: =E19+G19+I19+K19 -> 964.31541 | D19: =F19+H19+J19+N19 -> 757.06221 | E19: 125.2 | F19: 83 | G19: 303.9 | H19: 176 | I19: 485.4 | J19: 480.7 | K19: =L19+M19 -> 49.815414 | L19: 0.25935616 | M19: 49.556058 | N19: 17.362208 | O19: Gimcheon
A20: 안동시 | B20: =(D20/C20)*100 -> 86.541302 | C20: =E20+G20+I20+K20 -> 879.79997 | D20: =F20+H20+J20+N20 -> 761.39036 | E20: 184.6 | F20: 81.2 | G20: 165.5 | H20: 156.2 | I20: 523.3 | J20: 521.1 | K20: =L20+M20 -> 6.3999749 | L20: 0 | M20: 6.3999749 | N20: 2.8903562 | O20: Andong
A21: 구미시 | B21: =(D21/C21)*100 -> 79.208366 | C21: =E21+G21+I21+K21 -> 3104.9406 | D21: =F21+H21+J21+N21 -> 2459.3727 | E21: 464.9 | F21: 233.5 | G21: 1025.1 | H21: 801.2 | I21: 1129.3 | J21: 1110.9 | K21: =L21+M21 -> 485.64055 | L21: 2.7687573 | M21: 482.8718 | N21: 313.77267 | O21: Gumi
A22: 영주시 | B22: =(D22/C22)*100 -> 83.201719 | C22: =E22+G22+I22+K22 -> 1318.3906 | D22: =F22+H22+J22+N22 -> 1096.9236 | E22: 177 | F22: 53.8 | G22: 607.2 | H22: 515 | I22: 511.2 | J22: 511.2 | K22: =L22+M22 -> 22.990584 | L22: 0 | M22: 22.990584 | N22: 16.923625 | O22: Yeongju
A23: 영천시 | B23: =(D23/C23)*100 -> 81.349114 | C23: =E23+G23+I23+K23 -> 1466.7355 | D23: =F23+H23+J23+N23 -> 1193.1763 | E23: 115.1 | F23: 58.4 | G23: 496.8 | H23: 357.5 | I23: 704.3 | J23: 703.4 | K23: =L23+M23 -> 150.53549 | L23: 1.3528356 | M23: 149.18265 | N23: 73.876323 | O23: Yeongcheon
A24: 상주시 | B24: =(D24/C24)*100 -> 89.53714 | C24: =E24+G24+I24+K24 -> 707.25628 | D24: =F24+H24+J24+N24 -> 633.25705 | E24: 86.3 | F24: 26.8 | G24: 97.7 | H24: 91 | I24: 517.1 | J24: 515.4 | K24: =L24+M24 -> 6.1562795 | L24: 0.065424658 | M24: 6.0908548 | N24: 0.057046575 | O24: Sangju
A25: 문경시 | B25: =(D25/C25)*100 -> 85.843959 | C25: =E25+G25+I25+K25 -> 692.53574 | D25: =F25+H25+J25+N25 -> 594.5001 | E25: 140.8 | F25: 61.2 | G25: 90.2 | H25: 77.4 | I25: 455.5 | J25: 455.1 | K25: =L25+M25 -> 6.035743 | L25: 0 | M25: 6.035743 | N25: 0.80009918 | O25: Mungyeong
A26: 경산시 | B26: =(D26/C26)*100 -> 83.361838 | C26: =E26+G26+I26+K26 -> 1737.7211 | D26: =F26+H26+J26+N26 -> 1448.5963 | E26: 268.8 | F26: 137.7 | G26: 404.7 | H26: 270 | I26: 1021.4 | J26: 1017.4 | K26: =L26+M26 -> 42.821115 | L26: 0.36507123 | M26: 42.456044 | N26: 23.496263 | O26: Gyeongsan
A27: 군위군 | B27: =(D27/C27)*100 -> 94.275499 | C27: =E27+G27+I27+K27 -> 404.66505 | D27: =F27+H27+J27+N27 -> 381.5 | E27: 21.7 | F27: 3.3 | G27: 75.3 | H27: 71.9 | I27: 306.4 | J27: 306.3 | K27: =L27+M27 -> 1.2650548 | L27: 0 | M27: 1.2650548 | N27: 0 | O27: Gunwi
A28: 의성군 | B28: =(D28/C28)*100 -> 93.972257 | C28: =E28+G28+I28+K28 -> 529.19874 | D28: =F28+H28+J28+N28 -> 497.3 | E28: 58 | F28: 33 | G28: 39.9 | H28: 38.7 | I28: 427.9 | J28: 425.6 | K28: =L28+M28 -> 3.3987397 | L28: 0 | M28: 3.3987397 | N28: 0 | O28: Uiseong
... A39: 울릉군 | B39: =(D39/C39)*100 -> 89.685803 | C39: =E39+G39+I39+K39 -> 134.21495 | D39: =F39+H39+J39+N39 -> 120.37175 | E39: 17.2 | F39: 6 | G39: 2.5 | H39: 0.2 | I39: 114.4 | J39: 114.1 | K39: =L39+M39 -> 0.11494795 | L39: 0 | M39: 0.11494795 | N39: 0.071753425 | O39: Ulleung
A40: 자료 : 환경정책과 | O40: Source : Environmental Policy Division
A41: 주 : 2008년부터 수록

Sheet 10.공공하수처리시설
A1: 632 / ⅩⅢ. 환경 | Q1: ⅩⅢ. Environment / 633 | R1: 634 / ⅩⅢ. 환경 | AC1: ⅩⅢ. Environment / 635
A3: 10. 공공하수처리시설 | H3: 10. Sewage Treatment Plants | R3: 10. 공공하수처리시설(계속) | X3: 10. Sewage Treatment Plants(Cont'd)
A6: 연별 및 처리장별 | B6: 시설명 (500㎥/일 이상/미만) facility | C6: 소재지 Location | D6: 시설용량(하수/마을) (㎥/일) Capacity of plants | H6: 처리량(하수/마을) (㎥/일) Treatment amount | L6: 처리방법 Treatment method | M6: 연계처리량(㎥ /일) (500㎥/일 이상/미만) Relative treatment plants | Q6: Year & | R6: 연별 및 처리장별 | S6: 가동개시일 Operation start | T6: 사 업 비 (백만원) Operation expense (Million won) | U6: 운영주체 (자체/공기업/민간위탁) | V6: 방류수 소독방법 disinfection | W6: 방류수역 Waters of disposal | X6: 방류수역 Waters of disposal | AC6: Year &
E7: 물리적 Mechanical | F7: 생물학적 Biological | G7: 고도 Advanced | I7: 물리적 Mechanical | J7: 생물학적 Biological | K7: 고도 Advanced | M7: 분뇨 Counted | N7: 축산 Stock Raising | O7: 침출수 Leachate | P7: 기타 Others | W7: 수계 Water System | X7: 자류 Branch stream | Y7: 세부단위 유역 | Z7: 지역구분 | AA7: 중권역
AA8: 명칭 | AB8: 목표수질 (BOD)
A10: 2014 | B10: … | C10: … | D10: 1386550 | E10: 0 | F10: 16500 | G10: 1370050 | H10: 1172481 | I10: 0 | J10: 9449 | K10: 1163032 | L10: … | M10: 1193 | N10: 1881 | O10: 1994 | P10: 545 | Q10: 2014 | R10: 2014 | S10: … | T10: 1658242 | U10: … | V10: … | W10: … | X10: … | Y10: … | Z10: … | AA10: … | AB10: … | AC10: 2014
A11: 2015 | B11: … | C11: … | D11: 1388150 | E11: 0 | F11: 16500 | G11: 1371650 | H11: 1136918.6 | I11: 792 | J11: 8687.9 | K11: 1127438.7 | L11: … | M11: 1118.12 | N11: 2700.97 | O11: 447.99 | P11: 22528.2 | Q11: 2015 | R11: 2015 | S11: … | T11: 2039430 | U11: … | V11: … | W11: … | X11: … | Y11: … | Z11: … | AA11: … | AB11: … | AC11: 2015
A12: 2016 | B12: … | C12: … | D12: 1396050 | E12: 0 | F12: 16500 | G12: 1379550 | H12: 1116776.5 | I12: 149 | J12: 9084.9 | K12: 1107542.6 | L12: … | M12: 1086.5 | N12: 3080.26 | O12: 439.65 | P12: 23296.1 | Q12: 2016 | R12: 2016 | S12: … | T12: 2146442 | U12: … | V12: … | W12: … | X12: … | Y12: … | Z12: … | AA12: … | AB12: … | AC12: 2016
A13: 2017 | B13: … | C13: … | D13: 1413400 | E13: 0 | F13: 41500 | G13: 1371900 | H13: 1081444 | I13: 237624.7 | J13: 27996.7 | K13: 819445 | L13: … | M13: 1052.2 | N13: 2714.3 | O13: 767.7 | P13: 122.5 | Q13: 2017 | R13: 2017 | S13: … | T13: 2767163.1 | U13: … | V13: … | W13: … | X13: … | Y13: … | Z13: … | AA13: … | AB13: … | AC13: 2017
