Workbook
Name D_불명: OFFSET(#REF!,0,0,COUNTA(#REF!),6)
Name D_불명: OFFSET(#REF!,0,0,COUNTA(#REF!),6)
Name D_불명: OFFSET(#REF!,0,0,COUNTA(#REF!),6)
Name D_불명: OFFSET(#REF!,0,0,COUNTA(#REF!),6)
Name D_불명: OFFSET(#REF!,0,0,COUNTA(#REF!),6)
Name D_불명: OFFSET(#REF!,0,0,COUNTA(#REF!),6)
Name D_세대수: OFFSET(#REF!,0,0,COUNTA(#REF!),6)
Name D_세대수: OFFSET(#REF!,0,0,COUNTA(#REF!),6)
Name D_세대수: OFFSET(#REF!,0,0,COUNTA(#REF!),6)
Name D_세대수: OFFSET(#REF!,0,0,COUNTA(#REF!),6)
Name D_세대수: OFFSET(#REF!,0,0,COUNTA(#REF!),6)
Name D_세대수: OFFSET(#REF!,0,0,COUNTA(#REF!),6)
Name D_연령: OFFSET(#REF!,0,0,COUNTA(#REF!),9)
Name D_연령: OFFSET(#REF!,0,0,COUNTA(#REF!),9)
Name D_연령: OFFSET(#REF!,0,0,COUNTA(#REF!),9)
Name D_연령: OFFSET(#REF!,0,0,COUNTA(#REF!),9)
Name D_연령: OFFSET(#REF!,0,0,COUNTA(#REF!),9)
Name D_연령: OFFSET(#REF!,0,0,COUNTA(#REF!),9)
Name D_외국인: OFFSET(#REF!,0,0,COUNTA(#REF!),6)
Name D_외국인: OFFSET(#REF!,0,0,COUNTA(#REF!),6)
Name D_외국인: OFFSET(#REF!,0,0,COUNTA(#REF!),6)
Name D_외국인: OFFSET(#REF!,0,0,COUNTA(#REF!),6)
Name D_외국인: OFFSET(#REF!,0,0,COUNTA(#REF!),6)
Name D_외국인: OFFSET(#REF!,0,0,COUNTA(#REF!),6)
Name D_외국인_상세: OFFSET(#REF!,0,0,COUNTA(#REF!),8)
Name D_외국인_상세: OFFSET(#REF!,0,0,COUNTA(#REF!),8)
Name D_외국인_상세: OFFSET(#REF!,0,0,COUNTA(#REF!),8)
Name D_외국인_상세: OFFSET(#REF!,0,0,COUNTA(#REF!),8)
Name D_외국인_상세: OFFSET(#REF!,0,0,COUNTA(#REF!),8)
Name D_외국인_상세: OFFSET(#REF!,0,0,COUNTA(#REF!),8)
Name DATA_국적별외국인: #REF!
Name DATA_국적별외국인: #REF!
Name DATA_국적별외국인: #REF!
Name DATA_국적별외국인: #REF!
Name DATA_국적별외국인: '3. 국적별 외국인 현황'!$B$7:$BW$65
Name DATA_국적별외국인: #REF!
Name DATA_세대인구총괄: '1-2. 읍면동별 인구 및 세대현황'!$B$7:$M$194
Name DATA_세대인구총괄: '1-2. 읍면동별 인구 및 세대현황'!$B$7:$M$194
Name DATA_세대인구총괄: '1-2. 읍면동별 인구 및 세대현황'!$B$7:$M$194
Name DATA_세대인구총괄: '1-2. 읍면동별 인구 및 세대현황'!$B$7:$M$194
Name DATA_세대인구총괄: #REF!
Name DATA_체류자격: #REF!
Name DATA_체류자격: #REF!
Name DATA_체류자격: #REF!
Name DATA_체류자격: #REF!
Name DATA_체류자격: #REF!
Name DATA_체류자격: #REF!
Name DATA1: OFFSET([1]D1!$A$1,0,0,COUNTA([1]D1!$A:$A),9)
Name DATA1: OFFSET([1]D1!$A$1,0,0,COUNTA([1]D1!$A:$A),9)
Name DATA1: OFFSET([1]D1!$A$1,0,0,COUNTA([1]D1!$A:$A),9)
Name DATA1: OFFSET([1]D1!$A$1,0,0,COUNTA([1]D1!$A:$A),9)
Name DATA1: OFFSET([1]D1!$A$1,0,0,COUNTA([1]D1!$A:$A),9)
Name DATA1: OFFSET([1]D1!$A$1,0,0,COUNTA([1]D1!$A:$A),9)
Name DATA2: OFFSET([1]D2!$A$1,0,0,COUNTA([1]D2!$A:$A),13)
Name DATA2: OFFSET([1]D2!$A$1,0,0,COUNTA([1]D2!$A:$A),13)
Name DATA2: OFFSET([1]D2!$A$1,0,0,COUNTA([1]D2!$A:$A),13)
Name DATA2: OFFSET([1]D2!$A$1,0,0,COUNTA([1]D2!$A:$A),13)
Name DATA2: OFFSET([1]D2!$A$1,0,0,COUNTA([1]D2!$A:$A),13)
Name DATA2: OFFSET([1]D2!$A$1,0,0,COUNTA([1]D2!$A:$A),13)
Name DATA3: OFFSET([1]D3!$A$1,0,0,COUNTA([1]D3!$A:$A),9)

Sheet 1-1. 시군별 인구 및 세대현황
B2: 1-1. 시군별 인구 및 세대현황
L4: (단위 : 세대, 명)
C5: 연도(분기) | E5: 세 대 수 | F5: 총 계 | I5: 한 국 인 | L5: 외 국 인
F6: 총 계 | G6: 남 | H6: 여 | I6: 소 계 | J6: 남 | K6: 여 | L6: 소 계 | M6: 남 | N6: 여
C8: 1995 | E8: 862912 | F8: 2775922 | G8: 1392540 | H8: 1383382 | I8: 2770378 | J8: 1389878 | K8: 1380500 | L8: 5544 | M8: 2662 | N8: 2882
C9: 1996 | E9: 890719 | F9: 2799171 | G9: 1403863 | H9: 1395308 | I9: 2790451 | J9: 1399442 | K9: 1391009 | L9: 8720 | M9: 4421 | N9: 4299
C10: 1997 | E10: 914824 | F10: 2811586 | G10: 1409973 | H10: 1401613 | I10: 2799084 | J10: 1403153 | K10: 1395931 | L10: 12502 | M10: 6820 | N10: 5682
C11: 1998 | E11: 921203 | F11: 2820111 | G11: 1413857 | H11: 1406254 | I11: 2809595 | J11: 1408418 | K11: 1401177 | L11: 10516 | M11: 5439 | N11: 5077
C12: 1999 | E12: 931140 | F12: 2820319 | G12: 1413928 | H12: 1406391 | I12: 2808567 | J12: 1407843 | K12: 1400724 | L12: 11752 | M12: 6085 | N12: 5667
C13: 2000 | E13: 943498 | F13: 2813551 | G13: 1410152 | H13: 1403399 | I13: 2797178 | J13: 1401512 | K13: 1395666 | L13: 16373 | M13: 8640 | N13: 7733
C14: 2001 | E14: 954933 | F14: 2802597 | G14: 1403689 | H14: 1398908 | I14: 2784704 | J14: 1394244 | K14: 1390460 | L14: 17893 | M14: 9445 | N14: 8448
C15: 2002 | E15: 964032 | F15: 2775890 | G15: 1390433 | H15: 1385457 | I15: 2756744 | J15: 1380211 | K15: 1376533 | L15: 19146 | M15: 10222 | N15: 8924
C16: 2003 | E16: 974099 | F16: 2742123 | G16: 1375503 | H16: 1366620 | I16: 2720832 | J16: 1363201 | K16: 1357631 | L16: 21291 | M16: 12302 | N16: 8989
C17: 2004 | E17: 985475 | F17: 2718613 | G17: 1366188 | H17: 1352425 | I17: 2695917 | J17: 1352420 | K17: 1343497 | L17: 22696 | M17: 13768 | N17: 8928
C18: 2005 | E18: 1006080 | F18: 2711900 | G18: 1363745 | H18: 1348155 | I18: 2688491 | J18: 1349437 | K18: 1339054 | L18: 23409 | M18: 14308 | N18: 9101
C19: 2006 | E19: 1030265 | F19: 2718298 | G19: 1368074 | H19: 1350224 | I19: 2688577 | J19: 1349830 | K19: 1338747 | L19: 29721 | M19: 18244 | N19: 11477
C20: 2007 | E20: 1045213 | F20: 2715085 | G20: 1366900 | H20: 1348185 | I20: 2681364 | J20: 1346756 | K20: 1334608 | L20: 33721 | M20: 20144 | N20: 13577
C21: 2008 | E21: 1058099 | F21: 2709662 | G21: 1364216 | H21: 1345446 | I21: 2673931 | J21: 1343199 | K21: 1330732 | L21: 35731 | M21: 21017 | N21: 14714
C22: 2009 | E22: 1073367 | F22: 2705226 | G22: 1361969 | H22: 1343257 | I22: 2669876 | J22: 1340977 | K22: 1328899 | L22: 35350 | M22: 20992 | N22: 14358
C23: 2010 | E23: 1101486 | F23: 2726815 | G23: 1373272 | H23: 1353543 | I23: 2689920 | J23: 1351202 | K23: 1338718 | L23: 36895 | M23: 22070 | N23: 14825
C24: 2011 | E24: 1114901 | F24: 2739179 | G24: 1380367 | H24: 1358812 | I24: 2699195 | J24: 1355727 | K24: 1343468 | L24: =SUM(M24:N24) -> 39984 | M24: 24640 | N24: 15344
C25: 2012 | E25: 1125195 | F25: 2738420 | G25: 1379825 | H25: 1358595 | I25: 2698353 | J25: 1355294 | K25: 1343059 | L25: 40067 | M25: 24531 | N25: 15536
C26: 2013 | E26: 1139387 | F26: 2742939 | G26: 1382922 | H26: 1360017 | I26: 2699440 | J26: 1355951 | K26: 1343489 | L26: 43499 | M26: 26971 | N26: 16528
C28: 2014 1/4 | E28: 1142501 | F28: 2741506 | G28: 1382450 | H28: 1359056 | I28: 2697169 | J28: 1354872 | K28: 1342297 | L28: 44337 | M28: 27578 | N28: 16759
C29: 2014 2/4 | E29: 1145091 | F29: 2743058 | G29: 1383581 | H29: 1359477 | I29: 2697248 | J29: 1354925 | K29: 1342323 | L29: 45810 | M29: 28656 | N29: 17154
C30: 2014 3/4 | E30: 1151129 | F30: 2751132 | G30: 1387333 | H30: 1363799 | I30: 2703929 | J30: 1357549 | K30: 1346380 | L30: 47203 | M30: 29784 | N30: 17419
C31: 2014 4/4 | E31: 1153559 | F31: 2748599 | G31: 1386564 | H31: 1362035 | I31: 2700794 | J31: 1356182 | K31: 1344612 | L31: 47805 | M31: 30382 | N31: 17423
C32: 2015 1/4 | E32: 1156132 | F32: 2745310 | G32: 1385233 | H32: 1360077 | I32: 2697302 | J32: 1354636 | K32: 1342666 | L32: 48008 | M32: 30597 | N32: 17411
C33: 2015 2/4 | E33: 1160150 | F33: 2746099 | G33: 1385471 | H33: 1360628 | I33: 2697791 | J33: 1354618 | K33: 1343173 | L33: 48308 | M33: 30853 | N33: 17455
C35: 2015 3/4 경 상 북 도 | E35: =SUM(E36:E58) -> 1164683 | F35: =SUM(F36:F58) -> 2750048 | G35: =SUM(G36:G58) -> 1387406 | H35: =SUM(H36:H58) -> 1362642 | I35: =SUM(I36:I58) -> 2700461 | J35: =SUM(J36:J58) -> 1355977 | K35: =SUM(K36:K58) -> 1344484 | L35: =SUM(L36:L58) -> 49587 | ... N35: =SUM(N36:N58) -> 18158
C36: 포항시 | E36: ='1-2. 읍면동별 인구 및 세대현황'!C8 -> 209234 | F36: =I36+L36 -> 523211 | G36: =J36+M36 -> 265301 | H36: =K36+N36 -> 257910 | I36: =J36+K36 -> 518077 | J36: ='1-2. 읍면동별 인구 및 세대현황'!H8 -> 262240 | K36: ='1-2. 읍면동별 인구 및 세대현황'!I8 -> 255837 | L36: =M36+N36 -> 5134 | M36: ='1-2. 읍면동별 인구 및 세대현황'!K8 -> 3061 | N36: ='1-2. 읍면동별 인구 및 세대현황'!L8 -> 2073
C37: 경주시 | E37: ='1-2. 읍면동별 인구 및 세대현황'!C40 -> 112528 | F37: =I37+L37 -> 269526 | G37: =J37+M37 -> 136653 | H37: =K37+N37 -> 132873 | I37: =J37+K37 -> 260454 | J37: ='1-2. 읍면동별 인구 및 세대현황'!H40 -> 130366 | K37: ='1-2. 읍면동별 인구 및 세대현황'!I40 -> 130088 | L37: =M37+N37 -> 9072 | M37: ='1-2. 읍면동별 인구 및 세대현황'!K40 -> 6287 | N37: ='1-2. 읍면동별 인구 및 세대현황'!L40 -> 2785
C38: 김천시 | E38: ='1-2. 읍면동별 인구 및 세대현황'!C64 -> 60562 | F38: =I38+L38 -> 141941 | G38: =J38+M38 -> 71103 | H38: =K38+N38 -> 70838 | I38: =J38+K38 -> 140078 | J38: ='1-2. 읍면동별 인구 및 세대현황'!H64 -> 70039 | K38: ='1-2. 읍면동별 인구 및 세대현황'!I64 -> 70039 | L38: =M38+N38 -> 1863 | M38: ='1-2. 읍면동별 인구 및 세대현황'!K64 -> 1064 | N38: ='1-2. 읍면동별 인구 및 세대현황'!L64 -> 799
C39: 안동시 | E39: ='1-2. 읍면동별 인구 및 세대현황'!C87 -> 72147 | F39: =I39+L39 -> 169615 | G39: =J39+M39 -> 83485 | H39: =K39+N39 -> 86130 | I39: =J39+K39 -> 168240 | J39: ='1-2. 읍면동별 인구 및 세대현황'!H87 -> 82923 | K39: ='1-2. 읍면동별 인구 및 세대현황'!I87 -> 85317 | L39: =M39+N39 -> 1375 | M39: ='1-2. 읍면동별 인구 및 세대현황'!K87 -> 562 | N39: ='1-2. 읍면동별 인구 및 세대현황'!L87 -> 813
C40: 구미시 | E40: ='1-2. 읍면동별 인구 및 세대현황'!C112 -> 167460 | F40: =I40+L40 -> 425795 | G40: =J40+M40 -> 217817 | H40: =K40+N40 -> 207978 | I40: =J40+K40 -> 419743 | J40: ='1-2. 읍면동별 인구 및 세대현황'!H112 -> 214267 | K40: ='1-2. 읍면동별 인구 및 세대현황'!I112 -> 205476 | L40: =M40+N40 -> 6052 | M40: ='1-2. 읍면동별 인구 및 세대현황'!K112 -> 3550 | N40: ='1-2. 읍면동별 인구 및 세대현황'!L112 -> 2502
C41: 영주시 | E41: ='1-2. 읍면동별 인구 및 세대현황'!C140 -> 48093 | F41: =I41+L41 -> 110881 | G41: =J41+M41 -> 55017 | H41: =K41+N41 -> 55864 | I41: =J41+K41 -> 110040 | J41: ='1-2. 읍면동별 인구 및 세대현황'!H140 -> 54687 | K41: ='1-2. 읍면동별 인구 및 세대현황'!I140 -> 55353 | L41: =M41+N41 -> 841 | M41: ='1-2. 읍면동별 인구 및 세대현황'!K140 -> 330 | N41: ='1-2. 읍면동별 인구 및 세대현황'!L140 -> 511
C42: 영천시 | E42: ='1-2. 읍면동별 인구 및 세대현황'!C160 -> 46762 | F42: =I42+L42 -> 103381 | G42: =J42+M42 -> 52737 | H42: =K42+N42 -> 50644 | I42: =J42+K42 -> 100409 | J42: ='1-2. 읍면동별 인구 및 세대현황'!H160 -> 50503 | K42: ='1-2. 읍면동별 인구 및 세대현황'!I160 -> 49906 | L42: =M42+N42 -> 2972 | M42: ='1-2. 읍면동별 인구 및 세대현황'!K160 -> 2234 | N42: ='1-2. 읍면동별 인구 및 세대현황'!L160 -> 738
C43: 상주시 | E43: ='1-2. 읍면동별 인구 및 세대현황'!C177 -> 46094 | F43: =I43+L43 -> 103327 | G43: =J43+M43 -> 50535 | H43: =K43+N43 -> 52792 | I43: =J43+K43 -> 102426 | J43: ='1-2. 읍면동별 인구 및 세대현황'!H177 -> 50156 | K43: ='1-2. 읍면동별 인구 및 세대현황'!I177 -> 52270 | L43: =M43+N43 -> 901 | M43: ='1-2. 읍면동별 인구 및 세대현황'!K177 -> 379 | N43: ='1-2. 읍면동별 인구 및 세대현황'!L177 -> 522
C44: 문경시 | E44: ='1-2. 읍면동별 인구 및 세대현황'!C202 -> 34269 | F44: =I44+L44 -> 76045 | G44: =J44+M44 -> 37204 | H44: =K44+N44 -> 38841 | I44: =J44+K44 -> 75432 | J44: ='1-2. 읍면동별 인구 및 세대현황'!H202 -> 36943 | K44: ='1-2. 읍면동별 인구 및 세대현황'!I202 -> 38489 | L44: =M44+N44 -> 613 | M44: ='1-2. 읍면동별 인구 및 세대현황'!K202 -> 261 | N44: ='1-2. 읍면동별 인구 및 세대현황'!L202 -> 352
C45: 경산시 | E45: ='1-2. 읍면동별 인구 및 세대현황'!C217 -> 106200 | F45: =I45+L45 -> 264473 | G45: =J45+M45 -> 133820 | H45: =K45+N45 -> 130653 | I45: =J45+K45 -> 256821 | J45: ='1-2. 읍면동별 인구 및 세대현황'!H217 -> 129152 | K45: ='1-2. 읍면동별 인구 및 세대현황'!I217 -> 127669 | L45: =M45+N45 -> 7652 | M45: ='1-2. 읍면동별 인구 및 세대현황'!K217 -> 4668 | N45: ='1-2. 읍면동별 인구 및 세대현황'!L217 -> 2984
...

Sheet 1-2. 읍면동별 인구 및 세대현황
B2: 1-2. 읍면동별 인구 및 세대현황
B4: * 행정동 기준 | L4: (단위 : 세대, 명)
C5: 세대수 | D5: 총 계 | G5: 한 국 인 | J5: 외 국 인
A6: 그룹 | B6: 구분 | D6: 총 계 | E6: 남 | F6: 여 | G6: 소 계 | H6: 남 | I6: 여 | J6: 소 계 | K6: 남 | L6: 여
B7: 경상북도 | C7: =C8+C40+C64+C87+C112+C140+C160+C177+C202+C217+C233+C242+C261+C270+C287+C297+C306+C317+C326+C339+C350+C361+C277 -> 1164683 | D7: =D8+D40+D64+D87+D112+D140+D160+D177+D202+D217+D233+D242+D261+D270+D287+D297+D306+D317+D326+D339+D350+D361+D277 -> 2750048 | E7: =E8+E40+E64+E87+E112+E140+E160+E177+E202+E217+E233+E242+E261+E270+E287+E297+E306+E317+E326+E339+E350+E361+E277 -> 1387406 | F7: =F8+F40+F64+F87+F112+F140+F160+F177+F202+F217+F233+F242+F261+F270+F287+F297+F306+F317+F326+F339+F350+F361+F277 -> 1362642 | G7: =G8+G40+G64+G87+G112+G140+G160+G177+G202+G217+G233+G242+G261+G270+G287+G297+G306+G317+G326+G339+G350+G361+G277 -> 2700461 | H7: =H8+H40+H64+H87+H112+H140+H160+H177+H202+H217+H233+H242+H261+H270+H287+H297+H306+H317+H326+H339+H350+H361+H277 -> 1355977 | I7: =I8+I40+I64+I87+I112+I140+I160+I177+I202+I217+I233+I242+I261+I270+I287+I297+I306+I317+I326+I339+I350+I361+I277 -> 1344484 | J7: =J8+J40+J64+J87+J112+J140+J160+J177+J202+J217+J233+J242+J261+J270+J287+J297+J306+J317+J326+J339+J350+J361+J277 -> 49587 | ... L7: =L8+L40+L64+L87+L112+L140+L160+L177+L202+L217+L233+L242+L261+L270+L287+L297+L306+L317+L326+L339+L350+L361+L277 -> 18158
B8: 포항시 | C8: =C9+C24 -> 209234 | D8: =D9+D24 -> 523211 | E8: =E9+E24 -> 265301 | F8: =F9+F24 -> 257910 | G8: =G9+G24 -> 518077 | H8: =H9+H24 -> 262240 | I8: =I9+I24 -> 255837 | J8: =J9+J24 -> 5134 | ... L8: =L9+L24 -> 2073
B9: 남구(계) | C9: =SUM(C10:C23) -> 101853 | D9: =G9+J9 -> 249795 | E9: =H9+K9 -> 128947 | F9: =I9+L9 -> 120848 | G9: =SUM(G10:G23) -> 246637 | H9: =SUM(H10:H23) -> 126906 | I9: =SUM(I10:I23) -> 119731 | J9: =SUM(J10:J23) -> 3158 | K9: =SUM(K10:K23) -> 2041 | L9: =SUM(L10:L23) -> 1117
B10: 구룡포읍 | C10: 4800 | D10: =G10+J10 -> 9638 | E10: =H10+K10 -> 5162 | F10: =I10+L10 -> 4476 | G10: =SUM(H10:I10) -> 8969 | H10: 4545 | I10: 4424 | J10: =SUM(K10:L10) -> 669 | K10: 617 | L10: 52
B11: 연일읍 | C11: 12151 | D11: =G11+J11 -> 34517 | E11: =H11+K11 -> 17576 | F11: =I11+L11 -> 16941 | G11: =SUM(H11:I11) -> 34289 | H11: 17477 | I11: 16812 | J11: =SUM(K11:L11) -> 228 | K11: 99 | L11: 129
B12: 오천읍 | C12: 21669 | D12: =G12+J12 -> 54048 | E12: =H12+K12 -> 28436 | F12: =I12+L12 -> 25612 | G12: =SUM(H12:I12) -> 53524 | H12: 28196 | I12: 25328 | J12: =SUM(K12:L12) -> 524 | K12: 240 | L12: 284
B13: 대송면 | C13: 2144 | D13: =G13+J13 -> 4750 | E13: =H13+K13 -> 2587 | F13: =I13+L13 -> 2163 | G13: =SUM(H13:I13) -> 4505 | H13: 2378 | I13: 2127 | J13: =SUM(K13:L13) -> 245 | K13: 209 | L13: 36
B14: 동해면 | C14: 4365 | D14: =G14+J14 -> 10343 | E14: =H14+K14 -> 5252 | F14: =I14+L14 -> 5091 | G14: =SUM(H14:I14) -> 10238 | H14: 5190 | I14: 5048 | J14: =SUM(K14:L14) -> 105 | K14: 62 | L14: 43
B15: 장기면 | C15: 2565 | D15: =G15+J15 -> 4958 | E15: =H15+K15 -> 2461 | F15: =I15+L15 -> 2497 | G15: =SUM(H15:I15) -> 4776 | H15: 2306 | I15: 2470 | J15: =SUM(K15:L15) -> 182 | K15: 155 | L15: 27
B16: 호미곶면 | C16: 1205 | D16: =G16+J16 -> 2301 | E16: =H16+K16 -> 1154 | F16: =I16+L16 -> 1147 | G16: =SUM(H16:I16) -> 2207 | H16: 1067 | I16: 1140 | J16: =SUM(K16:L16) -> 94 | K16: 87 | L16: 7
B17: 상대동 | C17: 13256 | D17: =G17+J17 -> 28773 | E17: =H17+K17 -> 14845 | F17: =I17+L17 -> 13928 | G17: =SUM(H17:I17) -> 28595 | H17: 14789 | I17: 13806 | J17: =SUM(K17:L17) -> 178 | K17: 56 | L17: 122
B18: 해도동 | C18: 10084 | D18: =G18+J18 -> 20480 | E18: =H18+K18 -> 10410 | F18: =I18+L18 -> 10070 | G18: =SUM(H18:I18) -> 20362 | H18: 10373 | I18: 9989 | J18: =SUM(K18:L18) -> 118 | K18: 37 | L18: 81
B19: 송도동 | C19: 7199 | D19: =G19+J19 -> 15794 | E19: =H19+K19 -> 8060 | F19: =I19+L19 -> 7734 | G19: =SUM(H19:I19) -> 15709 | H19: 8014 | I19: 7695 | J19: =SUM(K19:L19) -> 85 | K19: 46 | L19: 39
B20: 청림동 | C20: 2900 | D20: =G20+J20 -> 6439 | E20: =H20+K20 -> 3389 | F20: =I20+L20 -> 3050 | G20: =SUM(H20:I20) -> 6384 | H20: 3365 | I20: 3019 | J20: =SUM(K20:L20) -> 55 | K20: 24 | L20: 31
B21: 제철동 | C21: 1557 | D21: =G21+J21 -> 3427 | E21: =H21+K21 -> 1968 | F21: =I21+L21 -> 1459 | G21: =SUM(H21:I21) -> 3346 | H21: 1901 | I21: 1445 | J21: =SUM(K21:L21) -> 81 | K21: 67 | L21: 14
... B23: 대이동 | C23: 7619 | D23: =G23+J23 -> 22116 | E23: =H23+K23 -> 11093 | F23: =I23+L23 -> 11023 | G23: =SUM(H23:I23) -> 21951 | H23: 11013 | I23: 10938 | J23: =SUM(K23:L23) -> 165 | K23: 80 | L23: 85
B24: 북구(계) | C24: =SUM(C25:C39) -> 107381 | D24: =G24+J24 -> 273416 | E24: =H24+K24 -> 136354 | F24: =I24+L24 -> 137062 | G24: =SUM(G25:G39) -> 271440 | H24: =SUM(H25:H39) -> 135334 | I24: =SUM(I25:I39) -> 136106 | J24: =SUM(J25:J39) -> 1976 | K24: =SUM(K25:K39) -> 1020 | L24: =SUM(L25:L39) -> 956
B25: 흥해읍 | C25: 14007 | D25: =G25+J25 -> 34658 | E25: =H25+K25 -> 17375 | F25: =I25+L25 -> 17283 | G25: =SUM(H25:I25) -> 34102 | H25: 17100 | I25: 17002 | J25: =SUM(K25:L25) -> 556 | K25: 275 | L25: 281
B26: 신광면 | C26: 1561 | D26: =G26+J26 -> 3025 | E26: =H26+K26 -> 1511 | F26: =I26+L26 -> 1514 | G26: =SUM(H26:I26) -> 3009 | H26: 1503 | I26: 1506 | J26: =SUM(K26:L26) -> 16 | K26: 8 | L26: 8
B27: 청하면 | C27: 2709 | D27: =G27+J27 -> 5392 | E27: =H27+K27 -> 2688 | F27: =I27+L27 -> 2704 | G27: =SUM(H27:I27) -> 5274 | H27: 2601 | I27: 2673 | J27: =SUM(K27:L27) -> 118 | K27: 87 | L27: 31
B28: 송라면 | C28: 1545 | D28: =G28+J28 -> 2914 | E28: =H28+K28 -> 1428 | F28: =I28+L28 -> 1486 | G28: =SUM(H28:I28) -> 2863 | H28: 1387 | I28: 1476 | J28: =SUM(K28:L28) -> 51 | K28: 41 | L28: 10
B29: 기계면 | C29: 2620 | D29: =G29+J29 -> 5420 | E29: =H29+K29 -> 2612 | F29: =I29+L29 -> 2808 | G29: =SUM(H29:I29) -> 5367 | H29: 2583 | I29: 2784 | J29: =SUM(K29:L29) -> 53 | K29: 29 | L29: 24
B30: 죽장면 | C30: 1595 | D30: =G30+J30 -> 2929 | E30: =H30+K30 -> 1433 | F30: =I30+L30 -> 1496 | G30: =SUM(H30:I30) -> 2907 | H30: 1429 | I30: 1478 | J30: =SUM(K30:L30) -> 22 | K30: 4 | L30: 18
B31: 기북면 | C31: 697 | D31: =G31+J31 -> 1336 | E31: =H31+K31 -> 636 | F31: =I31+L31 -> 700 | G31: =SUM(H31:I31) -> 1324 | H31: 634 | I31: 690 | J31: =SUM(K31:L31) -> 12 | K31: 2 | L31: 10
B32: 중앙동 | C32: 8687 | D32: =G32+J32 -> 17661 | E32: =H32+K32 -> 8697 | F32: =I32+L32 -> 8964 | G32: =SUM(H32:I32) -> 17468 | H32: 8563 | I32: 8905 | J32: =SUM(K32:L32) -> 193 | K32: 134 | L32: 59
B33: 양학동 | C33: 7097 | D33: =G33+J33 -> 19950 | E33: =H33+K33 -> 10035 | F33: =I33+L33 -> 9915 | G33: =SUM(H33:I33) -> 19884 | H33: 10009 | I33: 9875 | J33: =SUM(K33:L33) -> 66 | K33: 26 | L33: 40
B34: 죽도동 | C34: 10594 | D34: =G34+J34 -> 21971 | E34: =H34+K34 -> 10922 | F34: =I34+L34 -> 11049 | G34: =SUM(H34:I34) -> 21818 | H34: 10877 | I34: 10941 | J34: =SUM(K34:L34) -> 153 | K34: 45 | L34: 108
B35: 용흥동 | C35: 9250 | D35: =G35+J35 -> 24494 | E35: =H35+K35 -> 12198 | F35: =I35+L35 -> 12296 | G35: =SUM(H35:I35) -> 24395 | H35: 12158 | I35: 12237 | J35: =SUM(K35:L35) -> 99 | K35: 40 | L35: 59
B36: 우창동 | C36: 10599 | D36: =G36+J36 -> 28562 | E36: =H36+K36 -> 14050 | F36: =I36+L36 -> 14512 | G36: =SUM(H36:I36) -> 28466 | H36: 14014 | I36: 14452 | J36: =SUM(K36:L36) -> 96 | K36: 36 | L36: 60
... B39: 환여동 | C39: 4050 | D39: =G39+J39 -> 11482 | E39: =H39+K39 -> 5730 | F39: =I39+L39 -> 5752 | G39: =SUM(H39:I39) -> 11431 | H39: 5705 | I39: 5726 | J39: =SUM(K39:L39) -> 51 | K39: 25 | L39: 26
B40: 경주시 | C40: =SUM(C41:C63) -> 112528 | D40: =G40+J40 -> 269526 | E40: =H40+K40 -> 136653 | F40: =I40+L40 -> 132873 | G40: =SUM(G41:G63) -> 260454 | H40: =SUM(H41:H63) -> 130366 | I40: =SUM(I41:I63) -> 130088 | J40: =SUM(J41:J63) -> 9072 | K40: =SUM(K41:K63) -> 6287 | L40: =SUM(L41:L63) -> 2785
B41: 감포읍 | C41: 3130 | D41: =G41+J41 -> 6527 | E41: =H41+K41 -> 3471 | F41: =I41+L41 -> 3056 | G41: =SUM(H41:I41) -> 6055 | H41: 3024 | I41: 3031 | J41: =SUM(K41:L41) -> 472 | K41: 447 | L41: 25
B42: 안강읍 | C42: 12602 | D42: =G42+J42 -> 29534 | E42: =H42+K42 -> 14825 | F42: =I42+L42 -> 14709 | G42: =SUM(H42:I42) -> 29202 | H42: 14648 | I42: 14554 | J42: =SUM(K42:L42) -> 332 | K42: 177 | L42: 155
B43: 건천읍 | C43: 5143 | D43: =G43+J43 -> 10875 | E43: =H43+K43 -> 5524 | F43: =I43+L43 -> 5351 | G43: =SUM(H43:I43) -> 10701 | H43: 5407 | I43: 5294 | J43: =SUM(K43:L43) -> 174 | K43: 117 | L43: 57
B44: 외동읍 | C44: 8151 | D44: =G44+J44 -> 19974 | E44: =H44+K44 -> 11367 | F44: =I44+L44 -> 8607 | G44: =SUM(H44:I44) -> 16723 | H44: 8676 | I44: 8047 | J44: =SUM(K44:L44) -> 3251 | K44: 2691 | L44: 560
B45: 양북면 | C45: 2136 | D45: =G45+J45 -> 4567 | E45: =H45+K45 -> 2389 | F45: =I45+L45 -> 2178 | G45: =SUM(H45:I45) -> 4448 | H45: 2289 | I45: 2159 | J45: =SUM(K45:L45) -> 119 | K45: 100 | L45: 19
...

Sheet 2-1.시군 연령별총괄(5세)
B2: 2. 연령별 인구 총괄
B4: (단위 : 세, 명)
C5: 경 상 북 도 | F5: 포항시 | I5: 경주시 | L5: 김천시 | O5: 안동시 | R5: 구미시 | U5: 영주시 | X5: 영천시 | AA5: 상주시 | AD5: 문경시 | AG5: 경산시 | AJ5: 군위군 | AM5: 의성군 | AP5: 청송군 | AS5: 영양군 | AV5: 영덕군 | AY5: 청도군 | BB5: 고령군 | BE5: 성주군 | BH5: 칠곡군 | BK5: 예천군 | BN5: 봉화군 | BQ5: 울진군 | BT5: 울릉군
C6: 총 계 | D6: 남 | E6: 여 | F6: 소 계 | G6: 남 | H6: 여 | I6: 소 계 | J6: 남 | K6: 여 | L6: 소 계 | M6: 남 | N6: 여 | O6: 소 계 | P6: 남 | Q6: 여 | R6: 소 계 | S6: 남 | T6: 여 | U6: 소 계 | V6: 남 | W6: 여 | X6: 소 계 | Y6: 남 | Z6: 여 | AA6: 소 계 | AB6: 남 | AC6: 여 | AD6: 소 계 | AE6: 남 | AF6: 여 | AG6: 소 계 | AH6: 남 | AI6: 여 | AJ6: 소 계 | AK6: 남 | AL6: 여 | AM6: 소 계 | AN6: 남 | AO6: 여 | AP6: 소 계 | AQ6: 남 | AR6: 여 | AS6: 소 계 | AT6: 남 | AU6: 여 | AV6: 소 계 | AW6: 남 | AX6: 여 | AY6: 소 계 | AZ6: 남 | BA6: 여 | BB6: 소 계 | BC6: 남 | BD6: 여 | BE6: 소 계 | BF6: 남 | BG6: 여 | BH6: 소 계 | BI6: 남 | BJ6: 여 | BK6: 소 계 | BL6: 남 | BM6: 여 | BN6: 소 계 | BO6: 남 | BP6: 여 | BQ6: 소 계 | BR6: 남 | BS6: 여 | BT6: 소 계 | BU6: 남 | BV6: 여
B7: 총 계 | C7: =D7+E7 -> 2750048 | D7: =SUM(D8:D28) -> 1387406 | E7: =SUM(E8:E28) -> 1362642 | F7: =G7+H7 -> 523211 | G7: =SUM(G8:G28) -> 265301 | H7: =SUM(H8:H28) -> 257910 | I7: =J7+K7 -> 269526 | J7: =SUM(J8:J28) -> 136653 | K7: =SUM(K8:K28) -> 132873 | L7: =M7+N7 -> 141941 | M7: =SUM(M8:M28) -> 71103 | N7: =SUM(N8:N28) -> 70838 | O7: =P7+Q7 -> 169615 | P7: =SUM(P8:P28) -> 83485 | Q7: =SUM(Q8:Q28) -> 86130 | R7: =S7+T7 -> 425795 | S7: =SUM(S8:S28) -> 217817 | T7: =SUM(T8:T28) -> 207978 | U7: =V7+W7 -> 110881 | V7: =SUM(V8:V28) -> 55017 | W7: =SUM(W8:W28) -> 55864 | X7: =Y7+Z7 -> 103381 | Y7: =SUM(Y8:Y28) -> 52737 | Z7: =SUM(Z8:Z28) -> 50644 | AA7: =AB7+AC7 -> 103327 | AB7: =SUM(AB8:AB28) -> 50535 | AC7: =SUM(AC8:AC28) -> 52792 | AD7: =AE7+AF7 -> 76045 | AE7: =SUM(AE8:AE28) -> 37204 | AF7: =SUM(AF8:AF28) -> 38841 | AG7: =AH7+AI7 -> 264473 | AH7: =SUM(AH8:AH28) -> 133820 | AI7: =SUM(AI8:AI28) -> 130653 | AJ7: =AK7+AL7 -> 24661 | AK7: =SUM(AK8:AK28) -> 12511 | AL7: =SUM(AL8:AL28) -> 12150 | AM7: =AN7+AO7 -> 55330 | AN7: =SUM(AN8:AN28) -> 27074 | AO7: =SUM(AO8:AO28) -> 28256 | AP7: =AQ7+AR7 -> 26609 | AQ7: =SUM(AQ8:AQ28) -> 13165 | AR7: =SUM(AR8:AR28) -> 13444 | AS7: =AT7+AU7 -> 18179 | AT7: =SUM(AT8:AT28) -> 8893 | AU7: =SUM(AU8:AU28) -> 9286 | AV7: =AW7+AX7 -> 40035 | AW7: =SUM(AW8:AW28) -> 19193 | AX7: =SUM(AX8:AX28) -> 20842 | AY7: =AZ7+BA7 -> 44604 | AZ7: =SUM(AZ8:AZ28) -> 21803 | BA7: =SUM(BA8:BA28) -> 22801 | BB7: =BC7+BD7 -> 36399 | BC7: =SUM(BC8:BC28) -> 19057 | BD7: =SUM(BD8:BD28) -> 17342 | BE7: =BF7+BG7 -> 46640 | BF7: =SUM(BF8:BF28) -> 24249 | BG7: =SUM(BG8:BG28) -> 22391 | BH7: =BI7+BJ7 -> 126371 | BI7: =SUM(BI8:BI28) -> 66229 | BJ7: =SUM(BJ8:BJ28) -> 60142 | BK7: =BL7+BM7 -> 45322 | BL7: =SUM(BL8:BL28) -> 22183 | BM7: =SUM(BM8:BM28) -> 23139 | BN7: =BO7+BP7 -> 34085 | BO7: =SUM(BO8:BO28) -> 16890 | BP7: =SUM(BP8:BP28) -> 17195 | BQ7: =BR7+BS7 -> 53227 | BR7: =SUM(BR8:BR28) -> 26903 | BS7: =SUM(BS8:BS28) -> 26324 | BT7: =BU7+BV7 -> 10391 | BU7: =SUM(BU8:BU28) -> 5584 | BV7: =SUM(BV8:BV28) -> 4807
B8: 0-4 | C8: =D8+E8 -> 113874 | D8: =SUM(G8,J8,M8,P8,S8,V8,Y8,AB8,AE8,AH8,AK8,AN8,AQ8,AT8,AW8,AZ8,BC8,BF8,BI8,BL8,BO8,BR8,BU8) -> 58819 | E8: =SUM(H8,K8,N8,Q8,T8,W8,Z8,AC8,AF8,AI8,AL8,AO8,AR8,AU8,AX8,BA8,BD8,BG8,BJ8,BM8,BP8,BS8,BV8) -> 55055 | F8: =G8+H8 -> 23570 | G8: =G32+G55 -> 12289 | H8: =H32+H55 -> 11281 | I8: =J8+K8 -> 9387 | J8: =J32+J55 -> 4809 | K8: =K32+K55 -> 4578 | L8: =M8+N8 -> 5730 | M8: =M32+M55 -> 2953 | N8: =N32+N55 -> 2777 | O8: =P8+Q8 -> 7189 | P8: =P32+P55 -> 3740 | Q8: =Q32+Q55 -> 3449 | R8: =S8+T8 -> 24431 | S8: =S32+S55 -> 12695 | T8: =T32+T55 -> 11736 | U8: =V8+W8 -> 3638 | V8: =V32+V55 -> 1890 | W8: =W32+W55 -> 1748 | X8: =Y8+Z8 -> 3384 | Y8: =Y32+Y55 -> 1733 | Z8: =Z32+Z55 -> 1651 | AA8: =AB8+AC8 -> 2945 | AB8: =AB32+AB55 -> 1537 | AC8: =AC32+AC55 -> 1408 | AD8: =AE8+AF8 -> 2639 | AE8: =AE32+AE55 -> 1383 | AF8: =AF32+AF55 -> 1256 | AG8: =AH8+AI8 -> 12322 | AH8: =AH32+AH55 -> 6237 | AI8: =AI32+AI55 -> 6085 | AJ8: =AK8+AL8 -> 491 | AK8: =AK32+AK55 -> 248 | AL8: =AL32+AL55 -> 243 | AM8: =AN8+AO8 -> 1125 | AN8: =AN32+AN55 -> 573 | AO8: =AO32+AO55 -> 552 | AP8: =AQ8+AR8 -> 654 | AQ8: =AQ32+AQ55 -> 328 | AR8: =AR32+AR55 -> 326 | AS8: =AT8+AU8 -> 489 | AT8: =AT32+AT55 -> 270 | AU8: =AU32+AU55 -> 219 | AV8: =AW8+AX8 -> 1034 | AW8: =AW32+AW55 -> 533 | AX8: =AX32+AX55 -> 501 | AY8: =AZ8+BA8 -> 893 | AZ8: =AZ32+AZ55 -> 441 | BA8: =BA32+BA55 -> 452 | BB8: =BC8+BD8 -> 1206 | BC8: =BC32+BC55 -> 604 | BD8: =BD32+BD55 -> 602 | BE8: =BF8+BG8 -> 1367 | BF8: =BF32+BF55 -> 689 | BG8: =BG32+BG55 -> 678 | BH8: =BI8+BJ8 -> 6798 | BI8: =BI32+BI55 -> 3515 | BJ8: =BJ32+BJ55 -> 3283 | BK8: =BL8+BM8 -> 1324 | BL8: =BL32+BL55 -> 675 | BM8: =BM32+BM55 -> 649 | BN8: =BO8+BP8 -> 1060 | BO8: =BO32+BO55 -> 538 | BP8: =BP32+BP55 -> 522 | BQ8: =BR8+BS8 -> 1931 | BR8: =BR32+BR55 -> 1004 | BS8: =BS32+BS55 -> 927 | BT8: =BU8+BV8 -> 267 | BU8: =BU32+BU55 -> 135 | BV8: =BV32+BV55 -> 132
B9: 5-9 | C9: =D9+E9 -> 110018 | D9: =SUM(G9,J9,M9,P9,S9,V9,Y9,AB9,AE9,AH9,AK9,AN9,AQ9,AT9,AW9,AZ9,BC9,BF9,BI9,BL9,BO9,BR9,BU9) -> 57221 | E9: =SUM(H9,K9,N9,Q9,T9,W9,Z9,AC9,AF9,AI9,AL9,AO9,AR9,AU9,AX9,BA9,BD9,BG9,BJ9,BM9,BP9,BS9,BV9) -> 52797 | F9: =G9+H9 -> 22828 | G9: =G33+G56 -> 11845 | H9: =H33+H56 -> 10983 | I9: =J9+K9 -> 10192 | J9: =J33+J56 -> 5261 | K9: =K33+K56 -> 4931 | L9: =M9+N9 -> 5374 | M9: =M33+M56 -> 2847 | N9: =N33+N56 -> 2527 | O9: =P9+Q9 -> 6860 | P9: =P33+P56 -> 3548 | Q9: =Q33+Q56 -> 3312 | R9: =S9+T9 -> 22785 | S9: =S33+S56 -> 11788 | T9: =T33+T56 -> 10997 | U9: =V9+W9 -> 4148 | V9: =V33+V56 -> 2125 | W9: =W33+W56 -> 2023 | X9: =Y9+Z9 -> 3074 | Y9: =Y33+Y56 -> 1620 | Z9: =Z33+Z56 -> 1454 | AA9: =AB9+AC9 -> 3484 | AB9: =AB33+AB56 -> 1818 | AC9: =AC33+AC56 -> 1666 | AD9: =AE9+AF9 -> 2496 | AE9: =AE33+AE56 -> 1352 | AF9: =AF33+AF56 -> 1144 | AG9: =AH9+AI9 -> 11109 | AH9: =AH33+AH56 -> 5737 | AI9: =AI33+AI56 -> 5372 | AJ9: =AK9+AL9 -> 443 | AK9: =AK33+AK56 -> 245 | AL9: =AL33+AL56 -> 198 | AM9: =AN9+AO9 -> 1100 | AN9: =AN33+AN56 -> 580 | AO9: =AO33+AO56 -> 520 | AP9: =AQ9+AR9 -> 592 | AQ9: =AQ33+AQ56 -> 300 | AR9: =AR33+AR56 -> 292 | AS9: =AT9+AU9 -> 480 | AT9: =AT33+AT56 -> 250 | AU9: =AU33+AU56 -> 230 | AV9: =AW9+AX9 -> 1022 | AW9: =AW33+AW56 -> 524 | AX9: =AX33+AX56 -> 498 | AY9: =AZ9+BA9 -> 987 | AZ9: =AZ33+AZ56 -> 496 | BA9: =BA33+BA56 -> 491 | BB9: =BC9+BD9 -> 1163 | BC9: =BC33+BC56 -> 604 | BD9: =BD33+BD56 -> 559 | BE9: =BF9+BG9 -> 1111 | BF9: =BF33+BF56 -> 596 | BG9: =BG33+BG56 -> 515 | BH9: =BI9+BJ9 -> 6341 | BI9: =BI33+BI56 -> 3303 | BJ9: =BJ33+BJ56 -> 3038 | BK9: =BL9+BM9 -> 1316 | BL9: =BL33+BL56 -> 728 | BM9: =BM33+BM56 -> 588 | BN9: =BO9+BP9 -> 940 | BO9: =BO33+BO56 -> 489 | BP9: =BP33+BP56 -> 451 | BQ9: =BR9+BS9 -> 1891 | BR9: =BR33+BR56 -> 1019 | BS9: =BS33+BS56 -> 872 | BT9: =BU9+BV9 -> 282 | BU9: =BU33+BU56 -> 146 | BV9: =BV33+BV56 -> 136
B10: 10-14 | C10: =D10+E10 -> 119408 | D10: =SUM(G10,J10,M10,P10,S10,V10,Y10,AB10,AE10,AH10,AK10,AN10,AQ10,AT10,AW10,AZ10,BC10,BF10,BI10,BL10,BO10,BR10,BU10) -> 62875 | E10: =SUM(H10,K10,N10,Q10,T10,W10,Z10,AC10,AF10,AI10,AL10,AO10,AR10,AU10,AX10,BA10,BD10,BG10,BJ10,BM10,BP10,BS10,BV10) -> 56533 | F10: =G10+H10 -> 24934 | G10: =G34+G57 -> 13216 | H10: =H34+H57 -> 11718 | I10: =J10+K10 -> 11357 | J10: =J34+J57 -> 5975 | K10: =K34+K57 -> 5382 | L10: =M10+N10 -> 5724 | M10: =M34+M57 -> 2985 | N10: =N34+N57 -> 2739 | O10: =P10+Q10 -> 7665 | P10: =P34+P57 -> 3992 | Q10: =Q34+Q57 -> 3673 | R10: =S10+T10 -> 24096 | S10: =S34+S57 -> 12580 | T10: =T34+T57 -> 11516 | U10: =V10+W10 -> 4952 | V10: =V34+V57 -> 2624 | W10: =W34+W57 -> 2328 | X10: =Y10+Z10 -> 3412 | Y10: =Y34+Y57 -> 1837 | Z10: =Z34+Z57 -> 1575 | AA10: =AB10+AC10 -> 3966 | AB10: =AB34+AB57 -> 2120 | AC10: =AC34+AC57 -> 1846 | AD10: =AE10+AF10 -> 3076 | AE10: =AE34+AE57 -> 1646 | AF10: =AF34+AF57 -> 1430 | AG10: =AH10+AI10 -> 11567 | AH10: =AH34+AH57 -> 6068 | AI10: =AI34+AI57 -> 5499 | AJ10: =AK10+AL10 -> 483 | AK10: =AK34+AK57 -> 270 | AL10: =AL34+AL57 -> 213 | AM10: =AN10+AO10 -> 1285 | AN10: =AN34+AN57 -> 666 | AO10: =AO34+AO57 -> 619 | AP10: =AQ10+AR10 -> 707 | AQ10: =AQ34+AQ57 -> 372 | AR10: =AR34+AR57 -> 335 | AS10: =AT10+AU10 -> 520 | AT10: =AT34+AT57 -> 257 | AU10: =AU34+AU57 -> 263 | AV10: =AW10+AX10 -> 1188 | AW10: =AW34+AW57 -> 621 | AX10: =AX34+AX57 -> 567 | AY10: =AZ10+BA10 -> 1161 | AZ10: =AZ34+AZ57 -> 607 | BA10: =BA34+BA57 -> 554 | BB10: =BC10+BD10 -> 1117 | BC10: =BC34+BC57 -> 588 | BD10: =BD34+BD57 -> 529 | BE10: =BF10+BG10 -> 1210 | BF10: =BF34+BF57 -> 674 | BG10: =BG34+BG57 -> 536 | BH10: =BI10+BJ10 -> 6258 | BI10: =BI34+BI57 -> 3299 | BJ10: =BJ34+BJ57 -> 2959 | BK10: =BL10+BM10 -> 1399 | BL10: =BL34+BL57 -> 748 | BM10: =BM34+BM57 -> 651 | BN10: =BO10+BP10 -> 1012 | BO10: =BO34+BO57 -> 548 | BP10: =BP34+BP57 -> 464 | BQ10: =BR10+BS10 -> 2031 | BR10: =BR34+BR57 -> 1033 | BS10: =BS34+BS57 -> 998 | BT10: =BU10+BV10 -> 288 | BU10: =BU34+BU57 -> 149 | BV10: =BV34+BV57 -> 139
B11: 15-19 | C11: =D11+E11 -> 161653 | D11: =SUM(G11,J11,M11,P11,S11,V11,Y11,AB11,AE11,AH11,AK11,AN11,AQ11,AT11,AW11,AZ11,BC11,BF11,BI11,BL11,BO11,BR11,BU11) -> 85992 | E11: =SUM(H11,K11,N11,Q11,T11,W11,Z11,AC11,AF11,AI11,AL11,AO11,AR11,AU11,AX11,BA11,BD11,BG11,BJ11,BM11,BP11,BS11,BV11) -> 75661 | F11: =G11+H11 -> 34149 | G11: =G35+G58 -> 18094 | H11: =H35+H58 -> 16055 | I11: =J11+K11 -> 16219 | J11: =J35+J58 -> 8569 | K11: =K35+K58 -> 7650 | L11: =M11+N11 -> 8413 | M11: =M35+M58 -> 4479 | N11: =N35+N58 -> 3934 | O11: =P11+Q11 -> 9529 | P11: =P35+P58 -> 4987 | Q11: =Q35+Q58 -> 4542 | R11: =S11+T11 -> 30580 | S11: =S35+S58 -> 16357 | T11: =T35+T58 -> 14223 | U11: =V11+W11 -> 6726 | V11: =V35+V58 -> 3618 | W11: =W35+W58 -> 3108 | X11: =Y11+Z11 -> 5071 | Y11: =Y35+Y58 -> 2664 | Z11: =Z35+Z58 -> 2407 | AA11: =AB11+AC11 -> 5532 | AB11: =AB35+AB58 -> 2974 | AC11: =AC35+AC58 -> 2558 | AD11: =AE11+AF11 -> 4255 | AE11: =AE35+AE58 -> 2308 | AF11: =AF35+AF58 -> 1947 | AG11: =AH11+AI11 -> 15567 | AH11: =AH35+AH58 -> 8188 | AI11: =AI35+AI58 -> 7379 | AJ11: =AK11+AL11 -> 901 | AK11: =AK35+AK58 -> 486 | AL11: =AL35+AL58 -> 415 | AM11: =AN11+AO11 -> 1905 | AN11: =AN35+AN58 -> 999 | AO11: =AO35+AO58 -> 906 | AP11: =AQ11+AR11 -> 1029 | AQ11: =AQ35+AQ58 -> 549 | AR11: =AR35+AR58 -> 480 | AS11: =AT11+AU11 -> 750 | AT11: =AT35+AT58 -> 418 | AU11: =AU35+AU58 -> 332 | AV11: =AW11+AX11 -> 1653 | AW11: =AW35+AW58 -> 869 | AX11: =AX35+AX58 -> 784 | AY11: =AZ11+BA11 -> 1825 | AZ11: =AZ35+AZ58 -> 967 | BA11: =BA35+BA58 -> 858 | BB11: =BC11+BD11 -> 1599 | BC11: =BC35+BC58 -> 852 | BD11: =BD35+BD58 -> 747 | BE11: =BF11+BG11 -> 2012 | BF11: =BF35+BF58 -> 1086 | BG11: =BG35+BG58 -> 926 | BH11: =BI11+BJ11 -> 7326 | BI11: =BI35+BI58 -> 3990 | BJ11: =BJ35+BJ58 -> 3336 | BK11: =BL11+BM11 -> 1838 | BL11: =BL35+BL58 -> 945 | BM11: =BM35+BM58 -> 893 | BN11: =BO11+BP11 -> 1431 | BO11: =BO35+BO58 -> 735 | BP11: =BP35+BP58 -> 696 | BQ11: =BR11+BS11 -> 2942 | BR11: =BR35+BR58 -> 1651 | BS11: =BS35+BS58 -> 1291 | BT11: =BU11+BV11 -> 401 | BU11: =BU35+BU58 -> 207 | BV11: =BV35+BV58 -> 194
B12: 20-24 | C12: =D12+E12 -> 175813 | D12: =SUM(G12,J12,M12,P12,S12,V12,Y12,AB12,AE12,AH12,AK12,AN12,AQ12,AT12,AW12,AZ12,BC12,BF12,BI12,BL12,BO12,BR12,BU12) -> 97722 | E12: =SUM(H12,K12,N12,Q12,T12,W12,Z12,AC12,AF12,AI12,AL12,AO12,AR12,AU12,AX12,BA12,BD12,BG12,BJ12,BM12,BP12,BS12,BV12) -> 78091 | F12: =G12+H12 -> 34583 | G12: =G36+G59 -> 19795 | H12: =H36+H59 -> 14788 | I12: =J12+K12 -> 17840 | J12: =J36+J59 -> 10173 | K12: =K36+K59 -> 7667 | L12: =M12+N12 -> 9174 | M12: =M36+M59 -> 5104 | N12: =N36+N59 -> 4070 | O12: =P12+Q12 -> 10133 | P12: =P36+P59 -> 5641 | Q12: =Q36+Q59 -> 4492 | R12: =S12+T12 -> 33516 | S12: =S36+S59 -> 17485 | T12: =T36+T59 -> 16031 | U12: =V12+W12 -> 6458 | V12: =V36+V59 -> 3741 | W12: =W36+W59 -> 2717 | X12: =Y12+Z12 -> 5791 | Y12: =Y36+Y59 -> 3423 | Z12: =Z36+Z59 -> 2368 | AA12: =AB12+AC12 -> 5394 | AB12: =AB36+AB59 -> 3077 | AC12: =AC36+AC59 -> 2317 | AD12: =AE12+AF12 -> 3959 | AE12: =AE36+AE59 -> 2194 | AF12: =AF36+AF59 -> 1765 | AG12: =AH12+AI12 -> 20112 | AH12: =AH36+AH59 -> 10993 | AI12: =AI36+AI59 -> 9119 | AJ12: =AK12+AL12 -> 1128 | AK12: =AK36+AK59 -> 674 | AL12: =AL36+AL59 -> 454 | AM12: =AN12+AO12 -> 2342 | AN12: =AN36+AN59 -> 1349 | AO12: =AO36+AO59 -> 993 | AP12: =AQ12+AR12 -> 1194 | AQ12: =AQ36+AQ59 -> 690 | AR12: =AR36+AR59 -> 504 | AS12: =AT12+AU12 -> 813 | AT12: =AT36+AT59 -> 459 | AU12: =AU36+AU59 -> 354 | AV12: =AW12+AX12 -> 1855 | AW12: =AW36+AW59 -> 1096 | AX12: =AX36+AX59 -> 759 | AY12: =AZ12+BA12 -> 2044 | AZ12: =AZ36+AZ59 -> 1154 | BA12: =BA36+BA59 -> 890 | BB12: =BC12+BD12 -> 1858 | BC12: =BC36+BC59 -> 1140 | BD12: =BD36+BD59 -> 718 | BE12: =BF12+BG12 -> 2592 | BF12: =BF36+BF59 -> 1537 | BG12: =BG36+BG59 -> 1055 | BH12: =BI12+BJ12 -> 8241 | BI12: =BI36+BI59 -> 4099 | BJ12: =BJ36+BJ59 -> 4142 | BK12: =BL12+BM12 -> 2020 | BL12: =BL36+BL59 -> 1151 | BM12: =BM36+BM59 -> 869 | BN12: =BO12+BP12 -> 1388 | BO12: =BO36+BO59 -> 771 | BP12: =BP36+BP59 -> 617 | BQ12: =BR12+BS12 -> 2782 | BR12: =BR36+BR59 -> 1617 | BS12: =BS36+BS59 -> 1165 | BT12: =BU12+BV12 -> 596 | BU12: =BU36+BU59 -> 359 | BV12: =BV36+BV59 -> 237
B13: 25-29 | C13: =D13+E13 -> 155641 | D13: =SUM(G13,J13,M13,P13,S13,V13,Y13,AB13,AE13,AH13,AK13,AN13,AQ13,AT13,AW13,AZ13,BC13,BF13,BI13,BL13,BO13,BR13,BU13) -> 87841 | E13: =SUM(H13,K13,N13,Q13,T13,W13,Z13,AC13,AF13,AI13,AL13,AO13,AR13,AU13,AX13,BA13,BD13,BG13,BJ13,BM13,BP13,BS13,BV13) -> 67800 | F13: =G13+H13 -> 29126 | G13: =G37+G60 -> 16325 | H13: =H37+H60 -> 12801 | I13: =J13+K13 -> 14893 | J13: =J37+J60 -> 8687 | K13: =K37+K60 -> 6206 | L13: =M13+N13 -> 7551 | M13: =M37+M60 -> 4214 | N13: =N37+N60 -> 3337 | O13: =P13+Q13 -> 8200 | P13: =P37+P60 -> 4463 | Q13: =Q37+Q60 -> 3737 | R13: =S13+T13 -> 32278 | S13: =S37+S60 -> 17516 | T13: =T37+T60 -> 14762 | U13: =V13+W13 -> 4642 | V13: =V37+V60 -> 2641 | W13: =W37+W60 -> 2001 | X13: =Y13+Z13 -> 5517 | Y13: =Y37+Y60 -> 3365 | Z13: =Z37+Z60 -> 2152 | AA13: =AB13+AC13 -> 4400 | AB13: =AB37+AB60 -> 2496 | AC13: =AC37+AC60 -> 1904 | AD13: =AE13+AF13 -> 3244 | AE13: =AE37+AE60 -> 1790 | AF13: =AF37+AF60 -> 1454 | AG13: =AH13+AI13 -> 17931 | AH13: =AH37+AH60 -> 10067 | AI13: =AI37+AI60 -> 7864 | AJ13: =AK13+AL13 -> 1073 | AK13: =AK37+AK60 -> 663 | AL13: =AL37+AL60 -> 410 | AM13: =AN13+AO13 -> 2115 | AN13: =AN37+AN60 -> 1243 | AO13: =AO37+AO60 -> 872 | AP13: =AQ13+AR13 -> 1039 | AQ13: =AQ37+AQ60 -> 613 | AR13: =AR37+AR60 -> 426 | AS13: =AT13+AU13 -> 679 | AT13: =AT37+AT60 -> 360 | AU13: =AU37+AU60 -> 319 | AV13: =AW13+AX13 -> 1438 | AW13: =AW37+AW60 -> 797 | AX13: =AX37+AX60 -> 641 | AY13: =AZ13+BA13 -> 1946 | AZ13: =AZ37+AZ60 -> 1131 | BA13: =BA37+BA60 -> 815 | BB13: =BC13+BD13 -> 1874 | BC13: =BC37+BC60 -> 1176 | BD13: =BD37+BD60 -> 698 | BE13: =BF13+BG13 -> 2463 | BF13: =BF37+BF60 -> 1479 | BG13: =BG37+BG60 -> 984 | BH13: =BI13+BJ13 -> 9298 | BI13: =BI37+BI60 -> 5311 | BJ13: =BJ37+BJ60 -> 3987 | BK13: =BL13+BM13 -> 1796 | BL13: =BL37+BL60 -> 1020 | BM13: =BM37+BM60 -> 776 | BN13: =BO13+BP13 -> 1240 | BO13: =BO37+BO60 -> 693 | BP13: =BP37+BP60 -> 547 | BQ13: =BR13+BS13 -> 2337 | BR13: =BR37+BR60 -> 1457 | BS13: =BS37+BS60 -> 880 | BT13: =BU13+BV13 -> 561 | BU13: =BU37+BU60 -> 334 | BV13: =BV37+BV60 -> 227
B14: 30-34 | C14: =D14+E14 -> 179848 | D14: =SUM(G14,J14,M14,P14,S14,V14,Y14,AB14,AE14,AH14,AK14,AN14,AQ14,AT14,AW14,AZ14,BC14,BF14,BI14,BL14,BO14,BR14,BU14) -> 96502 | E14: =SUM(H14,K14,N14,Q14,T14,W14,Z14,AC14,AF14,AI14,AL14,AO14,AR14,AU14,AX14,BA14,BD14,BG14,BJ14,BM14,BP14,BS14,BV14) -> 83346 | F14: =G14+H14 -> 36254 | G14: =G38+G61 -> 19032 | H14: =H38+H61 -> 17222 | I14: =J14+K14 -> 16527 | J14: =J38+J61 -> 9287 | K14: =K38+K61 -> 7240 | L14: =M14+N14 -> 8630 | M14: =M38+M61 -> 4599 | N14: =N38+N61 -> 4031 | O14: =P14+Q14 -> 9723 | P14: =P38+P61 -> 4800 | Q14: =Q38+Q61 -> 4923 | R14: =S14+T14 -> 38306 | S14: =S38+S61 -> 20139 | T14: =T38+T61 -> 18167 | U14: =V14+W14 -> 5336 | V14: =V38+V61 -> 2820 | W14: =W38+W61 -> 2516 | X14: =Y14+Z14 -> 5916 | Y14: =Y38+Y61 -> 3364 | Z14: =Z38+Z61 -> 2552 | AA14: =AB14+AC14 -> 4538 | AB14: =AB38+AB61 -> 2442 | AC14: =AC38+AC61 -> 2096 | AD14: =AE14+AF14 -> 3800 | AE14: =AE38+AE61 -> 1967 | AF14: =AF38+AF61 -> 1833 | AG14: =AH14+AI14 -> 20165 | AH14: =AH38+AH61 -> 10800 | AI14: =AI38+AI61 -> 9365 | AJ14: =AK14+AL14 -> 987 | AK14: =AK38+AK61 -> 574 | AL14: =AL38+AL61 -> 413 | AM14: =AN14+AO14 -> 2039 | AN14: =AN38+AN61 -> 1165 | AO14: =AO38+AO61 -> 874 | AP14: =AQ14+AR14 -> 1038 | AQ14: =AQ38+AQ61 -> 571 | AR14: =AR38+AR61 -> 467 | AS14: =AT14+AU14 -> 672 | AT14: =AT38+AT61 -> 347 | AU14: =AU38+AU61 -> 325 | AV14: =AW14+AX14 -> 1666 | AW14: =AW38+AW61 -> 919 | AX14: =AX38+AX61 -> 747 | AY14: =AZ14+BA14 -> 1968 | AZ14: =AZ38+AZ61 -> 1036 | BA14: =BA38+BA61 -> 932 | BB14: =BC14+BD14 -> 2109 | BC14: =BC38+BC61 -> 1275 | BD14: =BD38+BD61 -> 834 | BE14: =BF14+BG14 -> 2388 | BF14: =BF38+BF61 -> 1346 | BG14: =BG38+BG61 -> 1042 | BH14: =BI14+BJ14 -> 11214 | BI14: =BI38+BI61 -> 6414 | BJ14: =BJ38+BJ61 -> 4800 | BK14: =BL14+BM14 -> 1866 | BL14: =BL38+BL61 -> 968 | BM14: =BM38+BM61 -> 898 | BN14: =BO14+BP14 -> 1320 | BO14: =BO38+BO61 -> 689 | BP14: =BP38+BP61 -> 631 | BQ14: =BR14+BS14 -> 2803 | BR14: =BR38+BR61 -> 1614 | BS14: =BS38+BS61 -> 1189 | BT14: =BU14+BV14 -> 583 | BU14: =BU38+BU61 -> 334 | BV14: =BV38+BV61 -> 249
B15: 35-39 | C15: =D15+E15 -> 184785 | D15: =SUM(G15,J15,M15,P15,S15,V15,Y15,AB15,AE15,AH15,AK15,AN15,AQ15,AT15,AW15,AZ15,BC15,BF15,BI15,BL15,BO15,BR15,BU15) -> 97850 | E15: =SUM(H15,K15,N15,Q15,T15,W15,Z15,AC15,AF15,AI15,AL15,AO15,AR15,AU15,AX15,BA15,BD15,BG15,BJ15,BM15,BP15,BS15,BV15) -> 86935 | F15: =G15+H15 -> 36601 | G15: =G39+G62 -> 18781 | H15: =H39+H62 -> 17820 | I15: =J15+K15 -> 17465 | J15: =J39+J62 -> 9466 | K15: =K39+K62 -> 7999 | L15: =M15+N15 -> 8860 | M15: =M39+M62 -> 4763 | N15: =N39+N62 -> 4097 | O15: =P15+Q15 -> 10933 | P15: =P39+P62 -> 5542 | Q15: =Q39+Q62 -> 5391 | R15: =S15+T15 -> 38039 | S15: =S39+S62 -> 19576 | T15: =T39+T62 -> 18463 | U15: =V15+W15 -> 6265 | V15: =V39+V62 -> 3203 | W15: =W39+W62 -> 3062 | X15: =Y15+Z15 -> 5679 | Y15: =Y39+Y62 -> 3212 | Z15: =Z39+Z62 -> 2467 | AA15: =AB15+AC15 -> 4898 | AB15: =AB39+AB62 -> 2574 | AC15: =AC39+AC62 -> 2324 | AD15: =AE15+AF15 -> 4075 | AE15: =AE39+AE62 -> 2169 | AF15: =AF39+AF62 -> 1906 | AG15: =AH15+AI15 -> 20332 | AH15: =AH39+AH62 -> 10638 | AI15: =AI39+AI62 -> 9694 | AJ15: =AK15+AL15 -> 980 | AK15: =AK39+AK62 -> 580 | AL15: =AL39+AL62 -> 400 | AM15: =AN15+AO15 -> 2028 | AN15: =AN39+AN62 -> 1210 | AO15: =AO39+AO62 -> 818 | AP15: =AQ15+AR15 -> 1092 | AQ15: =AQ39+AQ62 -> 598 | AR15: =AR39+AR62 -> 494 | AS15: =AT15+AU15 -> 741 | AT15: =AT39+AT62 -> 417 | AU15: =AU39+AU62 -> 324 | AV15: =AW15+AX15 -> 1861 | AW15: =AW39+AW62 -> 1045 | AX15: =AX39+AX62 -> 816 | AY15: =AZ15+BA15 -> 1930 | AZ15: =AZ39+AZ62 -> 1089 | BA15: =BA39+BA62 -> 841 | BB15: =BC15+BD15 -> 2109 | BC15: =BC39+BC62 -> 1251 | BD15: =BD39+BD62 -> 858 | BE15: =BF15+BG15 -> 2311 | BF15: =BF39+BF62 -> 1398 | BG15: =BG39+BG62 -> 913 | BH15: =BI15+BJ15 -> 11242 | BI15: =BI39+BI62 -> 6227 | BJ15: =BJ39+BJ62 -> 5015 | BK15: =BL15+BM15 -> 2040 | BL15: =BL39+BL62 -> 1153 | BM15: =BM39+BM62 -> 887 | BN15: =BO15+BP15 -> 1480 | BO15: =BO39+BO62 -> 833 | BP15: =BP39+BP62 -> 647 | BQ15: =BR15+BS15 -> 3210 | BR15: =BR39+BR62 -> 1776 | BS15: =BS39+BS62 -> 1434 | BT15: =BU15+BV15 -> 614 | BU15: =BU39+BU62 -> 349 | BV15: =BV39+BV62 -> 265
B16: 40-44 | C16: =D16+E16 -> 211640 | D16: =SUM(G16,J16,M16,P16,S16,V16,Y16,AB16,AE16,AH16,AK16,AN16,AQ16,AT16,AW16,AZ16,BC16,BF16,BI16,BL16,BO16,BR16,BU16) -> 111449 | E16: =SUM(H16,K16,N16,Q16,T16,W16,Z16,AC16,AF16,AI16,AL16,AO16,AR16,AU16,AX16,BA16,BD16,BG16,BJ16,BM16,BP16,BS16,BV16) -> 100191 | F16: =G16+H16 -> 42733 | G16: =G40+G63 -> 21506 | H16: =H40+H63 -> 21227 | I16: =J16+K16 -> 21612 | J16: =J40+J63 -> 11425 | K16: =K40+K63 -> 10187 | L16: =M16+N16 -> 10062 | M16: =M40+M63 -> 5347 | N16: =N40+N63 -> 4715 | O16: =P16+Q16 -> 12701 | P16: =P40+P63 -> 6654 | Q16: =Q40+Q63 -> 6047 | R16: =S16+T16 -> 38837 | S16: =S40+S63 -> 19497 | T16: =T40+T63 -> 19340 | U16: =V16+W16 -> 7909 | V16: =V40+V63 -> 4152 | W16: =W40+W63 -> 3757 | X16: =Y16+Z16 -> 7142 | Y16: =Y40+Y63 -> 3939 | Z16: =Z40+Z63 -> 3203 | AA16: =AB16+AC16 -> 6651 | AB16: =AB40+AB63 -> 3542 | AC16: =AC40+AC63 -> 3109 | AD16: =AE16+AF16 -> 4912 | AE16: =AE40+AE63 -> 2633 | AF16: =AF40+AF63 -> 2279 | AG16: =AH16+AI16 -> 22548 | AH16: =AH40+AH63 -> 11725 | AI16: =AI40+AI63 -> 10823 | AJ16: =AK16+AL16 -> 1204 | AK16: =AK40+AK63 -> 726 | AL16: =AL40+AL63 -> 478 | AM16: =AN16+AO16 -> 2666 | AN16: =AN40+AN63 -> 1558 | AO16: =AO40+AO63 -> 1108 | AP16: =AQ16+AR16 -> 1364 | AQ16: =AQ40+AQ63 -> 811 | AR16: =AR40+AR63 -> 553 | AS16: =AT16+AU16 -> 1068 | AT16: =AT40+AT63 -> 646 | AU16: =AU40+AU63 -> 422 | AV16: =AW16+AX16 -> 2323 | AW16: =AW40+AW63 -> 1352 | AX16: =AX40+AX63 -> 971 | AY16: =AZ16+BA16 -> 2411 | AZ16: =AZ40+AZ63 -> 1400 | BA16: =BA40+BA63 -> 1011 | BB16: =BC16+BD16 -> 2587 | BC16: =BC40+BC63 -> 1508 | BD16: =BD40+BD63 -> 1079 | BE16: =BF16+BG16 -> 2664 | BF16: =BF40+BF63 -> 1603 | BG16: =BG40+BG63 -> 1061 | BH16: =BI16+BJ16 -> 11516 | BI16: =BI40+BI63 -> 6285 | BJ16: =BJ40+BJ63 -> 5231 | BK16: =BL16+BM16 -> 2297 | BL16: =BL40+BL63 -> 1387 | BM16: =BM40+BM63 -> 910 | BN16: =BO16+BP16 -> 1903 | BO16: =BO40+BO63 -> 1104 | BP16: =BP40+BP63 -> 799 | BQ16: =BR16+BS16 -> 3786 | BR16: =BR40+BR63 -> 2185 | BS16: =BS40+BS63 -> 1601 | BT16: =BU16+BV16 -> 744 | BU16: =BU40+BU63 -> 464 | BV16: =BV40+BV63 -> 280
B17: 45-49 | C17: =D17+E17 -> 225589 | D17: =SUM(G17,J17,M17,P17,S17,V17,Y17,AB17,AE17,AH17,AK17,AN17,AQ17,AT17,AW17,AZ17,BC17,BF17,BI17,BL17,BO17,BR17,BU17) -> 117859 | E17: =SUM(H17,K17,N17,Q17,T17,W17,Z17,AC17,AF17,AI17,AL17,AO17,AR17,AU17,AX17,BA17,BD17,BG17,BJ17,BM17,BP17,BS17,BV17) -> 107730 | F17: =G17+H17 -> 45985 | G17: =G41+G64 -> 23290 | H17: =H41+H64 -> 22695 | I17: =J17+K17 -> 23051 | J17: =J41+J64 -> 12102 | K17: =K41+K64 -> 10949 | L17: =M17+N17 -> 11408 | M17: =M41+M64 -> 6011 | N17: =N41+N64 -> 5397 | O17: =P17+Q17 -> 13435 | P17: =P41+P64 -> 6956 | Q17: =Q41+Q64 -> 6479 | R17: =S17+T17 -> 38740 | S17: =S41+S64 -> 19400 | T17: =T41+T64 -> 19340 | U17: =V17+W17 -> 8907 | V17: =V41+V64 -> 4629 | W17: =W41+W64 -> 4278 | X17: =Y17+Z17 -> 8104 | Y17: =Y41+Y64 -> 4423 | Z17: =Z41+Z64 -> 3681 | AA17: =AB17+AC17 -> 7552 | AB17: =AB41+AB64 -> 4073 | AC17: =AC41+AC64 -> 3479 | AD17: =AE17+AF17 -> 5426 | AE17: =AE41+AE64 -> 2848 | AF17: =AF41+AF64 -> 2578 | AG17: =AH17+AI17 -> 22167 | AH17: =AH41+AH64 -> 11326 | AI17: =AI41+AI64 -> 10841 | AJ17: =AK17+AL17 -> 1611 | AK17: =AK41+AK64 -> 947 | AL17: =AL41+AL64 -> 664 | AM17: =AN17+AO17 -> 3457 | AN17: =AN41+AN64 -> 2011 | AO17: =AO41+AO64 -> 1446 | AP17: =AQ17+AR17 -> 1914 | AQ17: =AQ41+AQ64 -> 1048 | AR17: =AR41+AR64 -> 866 | AS17: =AT17+AU17 -> 1294 | AT17: =AT41+AT64 -> 729 | AU17: =AU41+AU64 -> 565 | AV17: =AW17+AX17 -> 2825 | AW17: =AW41+AW64 -> 1588 | AX17: =AX41+AX64 -> 1237 | AY17: =AZ17+BA17 -> 3004 | AZ17: =AZ41+AZ64 -> 1642 | BA17: =BA41+BA64 -> 1362 | BB17: =BC17+BD17 -> 2781 | BC17: =BC41+BC64 -> 1592 | BD17: =BD41+BD64 -> 1189 | BE17: =BF17+BG17 -> 3524 | BF17: =BF41+BF64 -> 2003 | BG17: =BG41+BG64 -> 1521 | BH17: =BI17+BJ17 -> 10354 | BI17: =BI41+BI64 -> 5654 | BJ17: =BJ41+BJ64 -> 4700 | BK17: =BL17+BM17 -> 2762 | BL17: =BL41+BL64 -> 1508 | BM17: =BM41+BM64 -> 1254 | BN17: =BO17+BP17 -> 2364 | BO17: =BO41+BO64 -> 1322 | BP17: =BP41+BP64 -> 1042 | BQ17: =BR17+BS17 -> 4053 | BR17: =BR41+BR64 -> 2234 | BS17: =BS41+BS64 -> 1819 | BT17: =BU17+BV17 -> 871 | BU17: =BU41+BU64 -> 523 | BV17: =BV41+BV64 -> 348
B18: 50-54 | C18: =D18+E18 -> 231959 | D18: =SUM(G18,J18,M18,P18,S18,V18,Y18,AB18,AE18,AH18,AK18,AN18,AQ18,AT18,AW18,AZ18,BC18,BF18,BI18,BL18,BO18,BR18,BU18) -> 119614 | E18: =SUM(H18,K18,N18,Q18,T18,W18,Z18,AC18,AF18,AI18,AL18,AO18,AR18,AU18,AX18,BA18,BD18,BG18,BJ18,BM18,BP18,BS18,BV18) -> 112345 | F18: =G18+H18 -> 47265 | G18: =G42+G65 -> 23533 | H18: =H42+H65 -> 23732 | I18: =J18+K18 -> 23515 | J18: =J42+J65 -> 12144 | K18: =K42+K65 -> 11371 | L18: =M18+N18 -> 11863 | M18: =M42+M65 -> 6211 | N18: =N42+N65 -> 5652 | O18: =P18+Q18 -> 13663 | P18: =P42+P65 -> 6818 | Q18: =Q42+Q65 -> 6845 | R18: =S18+T18 -> 33726 | S18: =S42+S65 -> 17784 | T18: =T42+T65 -> 15942 | U18: =V18+W18 -> 9436 | V18: =V42+V65 -> 4772 | W18: =W42+W65 -> 4664 | X18: =Y18+Z18 -> 8713 | Y18: =Y42+Y65 -> 4602 | Z18: =Z42+Z65 -> 4111 | AA18: =AB18+AC18 -> 8789 | AB18: =AB42+AB65 -> 4500 | AC18: =AC42+AC65 -> 4289 | AD18: =AE18+AF18 -> 6260 | AE18: =AE42+AE65 -> 3161 | AF18: =AF42+AF65 -> 3099 | AG18: =AH18+AI18 -> 21710 | AH18: =AH42+AH65 -> 10941 | AI18: =AI42+AI65 -> 10769 | AJ18: =AK18+AL18 -> 2152 | AK18: =AK42+AK65 -> 1179 | AL18: =AL42+AL65 -> 973 | AM18: =AN18+AO18 -> 4609 | AN18: =AN42+AN65 -> 2367 | AO18: =AO42+AO65 -> 2242 | AP18: =AQ18+AR18 -> 2420 | AQ18: =AQ42+AQ65 -> 1261 | AR18: =AR42+AR65 -> 1159 | AS18: =AT18+AU18 -> 1573 | AT18: =AT42+AT65 -> 804 | AU18: =AU42+AU65 -> 769 | AV18: =AW18+AX18 -> 3242 | AW18: =AW42+AW65 -> 1673 | AX18: =AX42+AX65 -> 1569 | AY18: =AZ18+BA18 -> 3787 | AZ18: =AZ42+AZ65 -> 2025 | BA18: =BA42+BA65 -> 1762 | BB18: =BC18+BD18 -> 3203 | BC18: =BC42+BC65 -> 1787 | BD18: =BD42+BD65 -> 1416 | BE18: =BF18+BG18 -> 4468 | BF18: =BF42+BF65 -> 2479 | BG18: =BG42+BG65 -> 1989 | BH18: =BI18+BJ18 -> 9222 | BI18: =BI42+BI65 -> 5079 | BJ18: =BJ42+BJ65 -> 4143 | BK18: =BL18+BM18 -> 3602 | BL18: =BL42+BL65 -> 1837 | BM18: =BM42+BM65 -> 1765 | BN18: =BO18+BP18 -> 3050 | BO18: =BO42+BO65 -> 1615 | BP18: =BP42+BP65 -> 1435 | BQ18: =BR18+BS18 -> 4614 | BR18: =BR42+BR65 -> 2446 | BS18: =BS42+BS65 -> 2168 | BT18: =BU18+BV18 -> 1077 | BU18: =BU42+BU65 -> 596 | BV18: =BV42+BV65 -> 481
B19: 55-59 | C19: =D19+E19 -> 226402 | D19: =SUM(G19,J19,M19,P19,S19,V19,Y19,AB19,AE19,AH19,AK19,AN19,AQ19,AT19,AW19,AZ19,BC19,BF19,BI19,BL19,BO19,BR19,BU19) -> 114187 | E19: =SUM(H19,K19,N19,Q19,T19,W19,Z19,AC19,AF19,AI19,AL19,AO19,AR19,AU19,AX19,BA19,BD19,BG19,BJ19,BM19,BP19,BS19,BV19) -> 112215 | F19: =G19+H19 -> 46478 | G19: =G43+G66 -> 22814 | H19: =H43+H66 -> 23664 | I19: =J19+K19 -> 22695 | J19: =J43+J66 -> 11514 | K19: =K43+K66 -> 11181 | L19: =M19+N19 -> 11876 | M19: =M43+M66 -> 5982 | N19: =N43+N66 -> 5894 | O19: =P19+Q19 -> 14200 | P19: =P43+P66 -> 7064 | Q19: =Q43+Q66 -> 7136 | R19: =S19+T19 -> 25244 | S19: =S43+S66 -> 13343 | T19: =T43+T66 -> 11901 | U19: =V19+W19 -> 10018 | V19: =V43+V66 -> 4910 | W19: =W43+W66 -> 5108 | X19: =Y19+Z19 -> 9260 | Y19: =Y43+Y66 -> 4699 | Z19: =Z43+Z66 -> 4561 | AA19: =AB19+AC19 -> 9694 | AB19: =AB43+AB66 -> 4818 | AC19: =AC43+AC66 -> 4876 | AD19: =AE19+AF19 -> 7153 | AE19: =AE43+AE66 -> 3503 | AF19: =AF43+AF66 -> 3650 | AG19: =AH19+AI19 -> 19606 | AH19: =AH43+AH66 -> 9768 | AI19: =AI43+AI66 -> 9838 | AJ19: =AK19+AL19 -> 2480 | AK19: =AK43+AK66 -> 1304 | AL19: =AL43+AL66 -> 1176 | AM19: =AN19+AO19 -> 5742 | AN19: =AN43+AN66 -> 2937 | AO19: =AO43+AO66 -> 2805 | AP19: =AQ19+AR19 -> 2670 | AQ19: =AQ43+AQ66 -> 1294 | AR19: =AR43+AR66 -> 1376 | AS19: =AT19+AU19 -> 1696 | AT19: =AT43+AT66 -> 815 | AU19: =AU43+AU66 -> 881 | AV19: =AW19+AX19 -> 3745 | AW19: =AW43+AW66 -> 1814 | AX19: =AX43+AX66 -> 1931 | AY19: =AZ19+BA19 -> 4514 | AZ19: =AZ43+AZ66 -> 2294 | BA19: =BA43+BA66 -> 2220 | BB19: =BC19+BD19 -> 3352 | BC19: =BC43+BC66 -> 1781 | BD19: =BD43+BD66 -> 1571 | BE19: =BF19+BG19 -> 4649 | BF19: =BF43+BF66 -> 2491 | BG19: =BG43+BG66 -> 2158 | BH19: =BI19+BJ19 -> 7877 | BI19: =BI43+BI66 -> 4200 | BJ19: =BJ43+BJ66 -> 3677 | BK19: =BL19+BM19 -> 4281 | BL19: =BL43+BL66 -> 2171 | BM19: =BM43+BM66 -> 2110 | BN19: =BO19+BP19 -> 3425 | BO19: =BO43+BO66 -> 1741 | BP19: =BP43+BP66 -> 1684 | BQ19: =BR19+BS19 -> 4630 | BR19: =BR43+BR66 -> 2333 | BS19: =BS43+BS66 -> 2297 | BT19: =BU19+BV19 -> 1117 | BU19: =BU43+BU66 -> 597 | BV19: =BV43+BV66 -> 520
... B27: 95-99 | C27: =D27+E27 -> 2248 | D27: =SUM(G27,J27,M27,P27,S27,V27,Y27,AB27,AE27,AH27,AK27,AN27,AQ27,AT27,AW27,AZ27,BC27,BF27,BI27,BL27,BO27,BR27,BU27) -> 409 | E27: =SUM(H27,K27,N27,Q27,T27,W27,Z27,AC27,AF27,AI27,AL27,AO27,AR27,AU27,AX27,BA27,BD27,BG27,BJ27,BM27,BP27,BS27,BV27) -> 1839 | F27: =G27+H27 -> 262 | G27: =G51+G74 -> 55 | H27: =H51+H74 -> 207 | I27: =J27+K27 -> 207 | J27: =J51+J74 -> 35 | K27: =K51+K74 -> 172 | L27: =M27+N27 -> 140 | M27: =M51+M74 -> 26 | N27: =N51+N74 -> 114 | O27: =P27+Q27 -> 169 | P27: =P51+P74 -> 32 | Q27: =Q51+Q74 -> 137 | R27: =S27+T27 -> 159 | S27: =S51+S74 -> 25 | T27: =T51+T74 -> 134 | U27: =V27+W27 -> 167 | V27: =V51+V74 -> 26 | W27: =W51+W74 -> 141 | X27: =Y27+Z27 -> 82 | Y27: =Y51+Y74 -> 18 | Z27: =Z51+Z74 -> 64 | AA27: =AB27+AC27 -> 131 | AB27: =AB51+AB74 -> 24 | AC27: =AC51+AC74 -> 107 | AD27: =AE27+AF27 -> 105 | AE27: =AE51+AE74 -> 15 | AF27: =AF51+AF74 -> 90 | AG27: =AH27+AI27 -> 117 | AH27: =AH51+AH74 -> 24 | AI27: =AI51+AI74 -> 93 | AJ27: =AK27+AL27 -> 40 | AK27: =AK51+AK74 -> 8 | AL27: =AL51+AL74 -> 32 | AM27: =AN27+AO27 -> 89 | AN27: =AN51+AN74 -> 17 | AO27: =AO51+AO74 -> 72 | AP27: =AQ27+AR27 -> 45 | AQ27: =AQ51+AQ74 -> 9 | AR27: =AR51+AR74 -> 36 | AS27: =AT27+AU27 -> 26 | AT27: =AT51+AT74 -> 5 | AU27: =AU51+AU74 -> 21 | AV27: =AW27+AX27 -> 53 | AW27: =AW51+AW74 -> 12 | AX27: =AX51+AX74 -> 41 | AY27: =AZ27+BA27 -> 69 | AZ27: =AZ51+AZ74 -> 13 | BA27: =BA51+BA74 -> 56 | BB27: =BC27+BD27 -> 33 | BC27: =BC51+BC74 -> 12 | BD27: =BD51+BD74 -> 21 | BE27: =BF27+BG27 -> 48 | BF27: =BF51+BF74 -> 8 | BG27: =BG51+BG74 -> 40 | BH27: =BI27+BJ27 -> 69 | BI27: =BI51+BI74 -> 10 | BJ27: =BJ51+BJ74 -> 59 | BK27: =BL27+BM27 -> 95 | BL27: =BL51+BL74 -> 9 | BM27: =BM51+BM74 -> 86 | BN27: =BO27+BP27 -> 58 | BO27: =BO51+BO74 -> 14 | BP27: =BP51+BP74 -> 44 | BQ27: =BR27+BS27 -> 68 | BR27: =BR51+BR74 -> 8 | BS27: =BS51+BS74 -> 60 | BT27: =BU27+BV27 -> 16 | BU27: =BU51+BU74 -> 4 | BV27: =BV51+BV74 -> 12
A28: 100+ | B28: 100+ | C28: =D28+E28 -> 725 | D28: =SUM(G28,J28,M28,P28,S28,V28,Y28,AB28,AE28,AH28,AK28,AN28,AQ28,AT28,AW28,AZ28,BC28,BF28,BI28,BL28,BO28,BR28,BU28) -> 149 | E28: =SUM(H28,K28,N28,Q28,T28,W28,Z28,AC28,AF28,AI28,AL28,AO28,AR28,AU28,AX28,BA28,BD28,BG28,BJ28,BM28,BP28,BS28,BV28) -> 576 | F28: =G28+H28 -> 78 | G28: =G52+G75 -> 19 | H28: =H52+H75 -> 59 | I28: =J28+K28 -> 69 | J28: =J52+J75 -> 13 | K28: =K52+K75 -> 56 | L28: =M28+N28 -> 41 | M28: =M52+M75 -> 6 | N28: =N52+N75 -> 35 | O28: =P28+Q28 -> 54 | P28: =P52+P75 -> 10 | Q28: =Q52+Q75 -> 44 | R28: =S28+T28 -> 39 | S28: =S52+S75 -> 4 | T28: =T52+T75 -> 35 | U28: =V28+W28 -> 45 | V28: =V52+V75 -> 9 | W28: =W52+W75 -> 36 | X28: =Y28+Z28 -> 30 | Y28: =Y52+Y75 -> 10 | Z28: =Z52+Z75 -> 20 | AA28: =AB28+AC28 -> 48 | AB28: =AB52+AB75 -> 6 | AC28: =AC52+AC75 -> 42 | AD28: =AE28+AF28 -> 40 | AE28: =AE52+AE75 -> 12 | AF28: =AF52+AF75 -> 28 | AG28: =AH28+AI28 -> 44 | AH28: =AH52+AH75 -> 5 | AI28: =AI52+AI75 -> 39 | AJ28: =AK28+AL28 -> 11 | AK28: =AK52+AK75 -> 1 | AL28: =AL52+AL75 -> 10 | AM28: =AN28+AO28 -> 31 | AN28: =AN52+AN75 -> 6 | AO28: =AO52+AO75 -> 25 | AP28: =AQ28+AR28 -> 8 | AQ28: =AQ52+AQ75 -> 4 | AR28: =AR52+AR75 -> 4 | AS28: =AT28+AU28 -> 20 | AT28: =AT52+AT75 -> 5 | AU28: =AU52+AU75 -> 15 | AV28: =AW28+AX28 -> 21 | AW28: =AW52+AW75 -> 6 | AX28: =AX52+AX75 -> 15 | AY28: =AZ28+BA28 -> 18 | AZ28: =AZ52+AZ75 -> 2 | BA28: =BA52+BA75 -> 16 | BB28: =BC28+BD28 -> 9 | BC28: =BC52+BC75 -> 3 | BD28: =BD52+BD75 -> 6 | BE28: =BF28+BG28 -> 24 | BF28: =BF52+BF75 -> 5 | BG28: =BG52+BG75 -> 19 | BH28: =BI28+BJ28 -> 34 | BI28: =BI52+BI75 -> 9 | BJ28: =BJ52+BJ75 -> 25 | BK28: =BL28+BM28 -> 20 | BL28: =BL52+BL75 -> 3 | BM28: =BM52+BM75 -> 17 | BN28: =BO28+BP28 -> 25 | BO28: =BO52+BO75 -> 6 | BP28: =BP52+BP75 -> 19 | BQ28: =BR28+BS28 -> 10 | BR28: =BR52+BR75 -> 2 | BS28: =BS52+BS75 -> 8 | BT28: =BU28+BV28 -> 6 | BU28: =BU52+BU75 -> 3 | BV28: =BV52+BV75 -> 3
B30: ◎ 한국인
B31: 총 계 | C31: =D31+E31 -> 2700461 | D31: =SUM(D32:D52) -> 1355977 | E31: =SUM(E32:E52) -> 1344484 | F31: =G31+H31 -> 518077 | G31: =SUM(G32:G52) -> 262240 | H31: =SUM(H32:H52) -> 255837 | I31: =J31+K31 -> 260454 | J31: =SUM(J32:J52) -> 130366 | K31: =SUM(K32:K52) -> 130088 | L31: =M31+N31 -> 140078 | M31: =SUM(M32:M52) -> 70039 | N31: =SUM(N32:N52) -> 70039 | O31: =P31+Q31 -> 168240 | P31: =SUM(P32:P52) -> 82923 | Q31: =SUM(Q32:Q52) -> 85317 | R31: =S31+T31 -> 419743 | S31: =SUM(S32:S52) -> 214267 | T31: =SUM(T32:T52) -> 205476 | U31: =V31+W31 -> 110040 | V31: =SUM(V32:V52) -> 54687 | W31: =SUM(W32:W52) -> 55353 | X31: =Y31+Z31 -> 100409 | Y31: =SUM(Y32:Y52) -> 50503 | Z31: =SUM(Z32:Z52) -> 49906 | AA31: =AB31+AC31 -> 102426 | AB31: =SUM(AB32:AB52) -> 50156 | AC31: =SUM(AC32:AC52) -> 52270 | AD31: =AE31+AF31 -> 75432 | AE31: =SUM(AE32:AE52) -> 36943 | AF31: =SUM(AF32:AF52) -> 38489 | AG31: =AH31+AI31 -> 256821 | AH31: =SUM(AH32:AH52) -> 129152 | AI31: =SUM(AI32:AI52) -> 127669 | AJ31: =AK31+AL31 -> 24081 | AK31: =SUM(AK32:AK52) -> 12070 | AL31: =SUM(AL32:AL52) -> 12011 | AM31: =AN31+AO31 -> 54577 | AN31: =SUM(AN32:AN52) -> 26608 | AO31: =SUM(AO32:AO52) -> 27969 | AP31: =AQ31+AR31 -> 26362 | AQ31: =SUM(AQ32:AQ52) -> 13057 | AR31: =SUM(AR32:AR52) -> 13305 | AS31: =AT31+AU31 -> 17944 | AT31: =SUM(AT32:AT52) -> 8819 | AU31: =SUM(AU32:AU52) -> 9125 | AV31: =AW31+AX31 -> 39262 | AW31: =SUM(AW32:AW52) -> 18636 | AX31: =SUM(AX32:AX52) -> 20626 | AY31: =AZ31+BA31 -> 43650 | AZ31: =SUM(AZ32:AZ52) -> 21324 | BA31: =SUM(BA32:BA52) -> 22326 | BB31: =BC31+BD31 -> 34564 | BC31: =SUM(BC32:BC52) -> 17592 | BD31: =SUM(BD32:BD52) -> 16972 | BE31: =BF31+BG31 -> 45024 | BF31: =SUM(BF32:BF52) -> 23068 | BG31: =SUM(BG32:BG52) -> 21956 | BH31: =BI31+BJ31 -> 122359 | BI31: =SUM(BI32:BI52) -> 63381 | BJ31: =SUM(BJ32:BJ52) -> 58978 | BK31: =BL31+BM31 -> 44847 | BL31: =SUM(BL32:BL52) -> 22001 | BM31: =SUM(BM32:BM52) -> 22846 | BN31: =BO31+BP31 -> 33814 | BO31: =SUM(BO32:BO52) -> 16799 | BP31: =SUM(BP32:BP52) -> 17015 | BQ31: =BR31+BS31 -> 51995 | BR31: =SUM(BR32:BR52) -> 25859 | BS31: =SUM(BS32:BS52) -> 26136 | BT31: =BU31+BV31 -> 10262 | BU31: =SUM(BU32:BU52) -> 5487 | BV31: =SUM(BV32:BV52) -> 4775
B32: 0-4 | C32: =D32+E32 -> 113417 | D32: =SUM(G32,J32,M32,P32,S32,V32,Y32,AB32,AE32,AH32,AK32,AN32,AQ32,AT32,AW32,AZ32,BC32,BF32,BI32,BL32,BO32,BR32,BU32) -> 58606 | E32: =SUM(H32,K32,N32,Q32,T32,W32,Z32,AC32,AF32,AI32,AL32,AO32,AR32,AU32,AX32,BA32,BD32,BG32,BJ32,BM32,BP32,BS32,BV32) -> 54811 | F32: =G32+H32 -> 23495 | G32: ='2-2.시군 연령별 한국인(각세)'!G8 -> 12253 | H32: ='2-2.시군 연령별 한국인(각세)'!H8 -> 11242 | I32: =J32+K32 -> 9299 | J32: ='2-2.시군 연령별 한국인(각세)'!J8 -> 4762 | K32: ='2-2.시군 연령별 한국인(각세)'!K8 -> 4537 | L32: =M32+N32 -> 5721 | M32: ='2-2.시군 연령별 한국인(각세)'!M8 -> 2947 | N32: ='2-2.시군 연령별 한국인(각세)'!N8 -> 2774 | O32: =P32+Q32 -> 7183 | P32: ='2-2.시군 연령별 한국인(각세)'!P8 -> 3738 | Q32: ='2-2.시군 연령별 한국인(각세)'!Q8 -> 3445 | R32: =S32+T32 -> 24340 | S32: ='2-2.시군 연령별 한국인(각세)'!S8 -> 12657 | T32: ='2-2.시군 연령별 한국인(각세)'!T8 -> 11683 | U32: =V32+W32 -> 3636 | V32: ='2-2.시군 연령별 한국인(각세)'!V8 -> 1889 | W32: ='2-2.시군 연령별 한국인(각세)'!W8 -> 1747 | X32: =Y32+Z32 -> 3373 | Y32: ='2-2.시군 연령별 한국인(각세)'!Y8 -> 1727 | Z32: ='2-2.시군 연령별 한국인(각세)'!Z8 -> 1646 | AA32: =AB32+AC32 -> 2942 | AB32: ='2-2.시군 연령별 한국인(각세)'!AB8 -> 1535 | AC32: ='2-2.시군 연령별 한국인(각세)'!AC8 -> 1407 | AD32: =AE32+AF32 -> 2632 | AE32: ='2-2.시군 연령별 한국인(각세)'!AE8 -> 1379 | AF32: ='2-2.시군 연령별 한국인(각세)'!AF8 -> 1253 | AG32: =AH32+AI32 -> 12199 | AH32: ='2-2.시군 연령별 한국인(각세)'!AH8 -> 6187 | AI32: ='2-2.시군 연령별 한국인(각세)'!AI8 -> 6012 | AJ32: =AK32+AL32 -> 489 | AK32: ='2-2.시군 연령별 한국인(각세)'!AK8 -> 247 | AL32: ='2-2.시군 연령별 한국인(각세)'!AL8 -> 242 | AM32: =AN32+AO32 -> 1121 | AN32: ='2-2.시군 연령별 한국인(각세)'!AN8 -> 570 | AO32: ='2-2.시군 연령별 한국인(각세)'!AO8 -> 551 | AP32: =AQ32+AR32 -> 653 | AQ32: ='2-2.시군 연령별 한국인(각세)'!AQ8 -> 327 | AR32: ='2-2.시군 연령별 한국인(각세)'!AR8 -> 326 | AS32: =AT32+AU32 -> 489 | AT32: ='2-2.시군 연령별 한국인(각세)'!AT8 -> 270 | AU32: ='2-2.시군 연령별 한국인(각세)'!AU8 -> 219 | AV32: =AW32+AX32 -> 1034 | AW32: ='2-2.시군 연령별 한국인(각세)'!AW8 -> 533 | AX32: ='2-2.시군 연령별 한국인(각세)'!AX8 -> 501 | AY32: =AZ32+BA32 -> 892 | AZ32: ='2-2.시군 연령별 한국인(각세)'!AZ8 -> 441 | BA32: ='2-2.시군 연령별 한국인(각세)'!BA8 -> 451 | BB32: =BC32+BD32 -> 1204 | BC32: ='2-2.시군 연령별 한국인(각세)'!BC8 -> 603 | BD32: ='2-2.시군 연령별 한국인(각세)'!BD8 -> 601 | BE32: =BF32+BG32 -> 1359 | BF32: ='2-2.시군 연령별 한국인(각세)'!BF8 -> 687 | BG32: ='2-2.시군 연령별 한국인(각세)'!BG8 -> 672 | BH32: =BI32+BJ32 -> 6780 | BI32: ='2-2.시군 연령별 한국인(각세)'!BI8 -> 3505 | BJ32: ='2-2.시군 연령별 한국인(각세)'!BJ8 -> 3275 | BK32: =BL32+BM32 -> 1321 | BL32: ='2-2.시군 연령별 한국인(각세)'!BL8 -> 674 | BM32: ='2-2.시군 연령별 한국인(각세)'!BM8 -> 647 | BN32: =BO32+BP32 -> 1059 | BO32: ='2-2.시군 연령별 한국인(각세)'!BO8 -> 537 | BP32: ='2-2.시군 연령별 한국인(각세)'!BP8 -> 522 | BQ32: =BR32+BS32 -> 1930 | BR32: ='2-2.시군 연령별 한국인(각세)'!BR8 -> 1003 | BS32: ='2-2.시군 연령별 한국인(각세)'!BS8 -> 927 | BT32: =BU32+BV32 -> 266 | BU32: ='2-2.시군 연령별 한국인(각세)'!BU8 -> 135 | BV32: ='2-2.시군 연령별 한국인(각세)'!BV8 -> 131
A33: 5-9 | B33: 5-9 | C33: =D33+E33 -> 109775 | D33: =SUM(G33,J33,M33,P33,S33,V33,Y33,AB33,AE33,AH33,AK33,AN33,AQ33,AT33,AW33,AZ33,BC33,BF33,BI33,BL33,BO33,BR33,BU33) -> 57108 | E33: =SUM(H33,K33,N33,Q33,T33,W33,Z33,AC33,AF33,AI33,AL33,AO33,AR33,AU33,AX33,BA33,BD33,BG33,BJ33,BM33,BP33,BS33,BV33) -> 52667 | F33: =G33+H33 -> 22794 | G33: ='2-2.시군 연령별 한국인(각세)'!G14 -> 11826 | H33: ='2-2.시군 연령별 한국인(각세)'!H14 -> 10968 | I33: =J33+K33 -> 10118 | J33: ='2-2.시군 연령별 한국인(각세)'!J14 -> 5225 | K33: ='2-2.시군 연령별 한국인(각세)'!K14 -> 4893 | L33: =M33+N33 -> 5370 | M33: ='2-2.시군 연령별 한국인(각세)'!M14 -> 2847 | N33: ='2-2.시군 연령별 한국인(각세)'!N14 -> 2523 | O33: =P33+Q33 -> 6859 | P33: ='2-2.시군 연령별 한국인(각세)'!P14 -> 3548 | Q33: ='2-2.시군 연령별 한국인(각세)'!Q14 -> 3311 | R33: =S33+T33 -> 22746 | S33: ='2-2.시군 연령별 한국인(각세)'!S14 -> 11772 | T33: ='2-2.시군 연령별 한국인(각세)'!T14 -> 10974 | U33: =V33+W33 -> 4146 | V33: ='2-2.시군 연령별 한국인(각세)'!V14 -> 2124 | W33: ='2-2.시군 연령별 한국인(각세)'!W14 -> 2022 | X33: =Y33+Z33 -> 3066 | Y33: ='2-2.시군 연령별 한국인(각세)'!Y14 -> 1617 | Z33: ='2-2.시군 연령별 한국인(각세)'!Z14 -> 1449 | AA33: =AB33+AC33 -> 3480 | AB33: ='2-2.시군 연령별 한국인(각세)'!AB14 -> 1817 | AC33: ='2-2.시군 연령별 한국인(각세)'!AC14 -> 1663 | AD33: =AE33+AF33 -> 2493 | AE33: ='2-2.시군 연령별 한국인(각세)'!AE14 -> 1352 | AF33: ='2-2.시군 연령별 한국인(각세)'!AF14 -> 1141 | AG33: =AH33+AI33 -> 11071 | AH33: ='2-2.시군 연령별 한국인(각세)'!AH14 -> 5717 | AI33: ='2-2.시군 연령별 한국인(각세)'!AI14 -> 5354 | AJ33: =AK33+AL33 -> 443 | AK33: ='2-2.시군 연령별 한국인(각세)'!AK14 -> 245 | AL33: ='2-2.시군 연령별 한국인(각세)'!AL14 -> 198 | AM33: =AN33+AO33 -> 1096 | AN33: ='2-2.시군 연령별 한국인(각세)'!AN14 -> 579 | AO33: ='2-2.시군 연령별 한국인(각세)'!AO14 -> 517 | AP33: =AQ33+AR33 -> 592 | AQ33: ='2-2.시군 연령별 한국인(각세)'!AQ14 -> 300 | AR33: ='2-2.시군 연령별 한국인(각세)'!AR14 -> 292 | AS33: =AT33+AU33 -> 479 | AT33: ='2-2.시군 연령별 한국인(각세)'!AT14 -> 250 | AU33: ='2-2.시군 연령별 한국인(각세)'!AU14 -> 229 | AV33: =AW33+AX33 -> 1021 | AW33: ='2-2.시군 연령별 한국인(각세)'!AW14 -> 524 | AX33: ='2-2.시군 연령별 한국인(각세)'!AX14 -> 497 | AY33: =AZ33+BA33 -> 986 | AZ33: ='2-2.시군 연령별 한국인(각세)'!AZ14 -> 496 | BA33: ='2-2.시군 연령별 한국인(각세)'!BA14 -> 490 | BB33: =BC33+BD33 -> 1157 | BC33: ='2-2.시군 연령별 한국인(각세)'!BC14 -> 603 | BD33: ='2-2.시군 연령별 한국인(각세)'!BD14 -> 554 | BE33: =BF33+BG33 -> 1110 | BF33: ='2-2.시군 연령별 한국인(각세)'!BF14 -> 595 | BG33: ='2-2.시군 연령별 한국인(각세)'!BG14 -> 515 | BH33: =BI33+BJ33 -> 6324 | BI33: ='2-2.시군 연령별 한국인(각세)'!BI14 -> 3293 | BJ33: ='2-2.시군 연령별 한국인(각세)'!BJ14 -> 3031 | BK33: =BL33+BM33 -> 1311 | BL33: ='2-2.시군 연령별 한국인(각세)'!BL14 -> 724 | BM33: ='2-2.시군 연령별 한국인(각세)'!BM14 -> 587 | BN33: =BO33+BP33 -> 940 | BO33: ='2-2.시군 연령별 한국인(각세)'!BO14 -> 489 | BP33: ='2-2.시군 연령별 한국인(각세)'!BP14 -> 451 | BQ33: =BR33+BS33 -> 1891 | BR33: ='2-2.시군 연령별 한국인(각세)'!BR14 -> 1019 | BS33: ='2-2.시군 연령별 한국인(각세)'!BS14 -> 872 | BT33: =BU33+BV33 -> 282 | BU33: ='2-2.시군 연령별 한국인(각세)'!BU14 -> 146 | BV33: ='2-2.시군 연령별 한국인(각세)'!BV14 -> 136
