Workbook
Name D_불명: OFFSET(#REF!,0,0,COUNTA(#REF!),6)
Name D_불명: OFFSET(#REF!,0,0,COUNTA(#REF!),6)
Name D_불명: OFFSET(#REF!,0,0,COUNTA(#REF!),6)
Name D_불명: OFFSET(#REF!,0,0,COUNTA(#REF!),6)
Name D_불명: OFFSET(#REF!,0,0,COUNTA(#REF!),6)
Name D_불명: OFFSET(#REF!,0,0,COUNTA(#REF!),6)
Name D_세대수: OFFSET(#REF!,0,0,COUNTA(#REF!),6)
Name D_세대수: OFFSET(#REF!,0,0,COUNTA(#REF!),6)
Name D_세대수: OFFSET(#REF!,0,0,COUNTA(#REF!),6)
Name D_세대수: OFFSET(#REF!,0,0,COUNTA(#REF!),6)
Name D_세대수: OFFSET(#REF!,0,0,COUNTA(#REF!),6)
Name D_세대수: OFFSET(#REF!,0,0,COUNTA(#REF!),6)
Name D_연령: OFFSET(#REF!,0,0,COUNTA(#REF!),9)
Name D_연령: OFFSET(#REF!,0,0,COUNTA(#REF!),9)
Name D_연령: OFFSET(#REF!,0,0,COUNTA(#REF!),9)
Name D_연령: OFFSET(#REF!,0,0,COUNTA(#REF!),9)
Name D_연령: OFFSET(#REF!,0,0,COUNTA(#REF!),9)
Name D_연령: OFFSET(#REF!,0,0,COUNTA(#REF!),9)
Name D_외국인: OFFSET(#REF!,0,0,COUNTA(#REF!),6)
Name D_외국인: OFFSET(#REF!,0,0,COUNTA(#REF!),6)
Name D_외국인: OFFSET(#REF!,0,0,COUNTA(#REF!),6)
Name D_외국인: OFFSET(#REF!,0,0,COUNTA(#REF!),6)
Name D_외국인: OFFSET(#REF!,0,0,COUNTA(#REF!),6)
Name D_외국인: OFFSET(#REF!,0,0,COUNTA(#REF!),6)
Name D_외국인_상세: OFFSET(#REF!,0,0,COUNTA(#REF!),8)
Name D_외국인_상세: OFFSET(#REF!,0,0,COUNTA(#REF!),8)
Name D_외국인_상세: OFFSET(#REF!,0,0,COUNTA(#REF!),8)
Name D_외국인_상세: OFFSET(#REF!,0,0,COUNTA(#REF!),8)
Name D_외국인_상세: OFFSET(#REF!,0,0,COUNTA(#REF!),8)
Name D_외국인_상세: OFFSET(#REF!,0,0,COUNTA(#REF!),8)
Name DATA_국적별외국인: #REF!
Name DATA_국적별외국인: #REF!
Name DATA_국적별외국인: #REF!
Name DATA_국적별외국인: #REF!
Name DATA_국적별외국인: '3. 국적별 외국인 현황'!$B$7:$BW$65
Name DATA_국적별외국인: #REF!
Name DATA_세대인구총괄: '1-2. 읍면동별 인구 및 세대현황'!$B$7:$M$194
Name DATA_세대인구총괄: '1-2. 읍면동별 인구 및 세대현황'!$B$7:$M$194
Name DATA_세대인구총괄: '1-2. 읍면동별 인구 및 세대현황'!$B$7:$M$194
Name DATA_세대인구총괄: '1-2. 읍면동별 인구 및 세대현황'!$B$7:$M$194
Name DATA_세대인구총괄: #REF!
Name DATA_체류자격: #REF!
Name DATA_체류자격: #REF!
Name DATA_체류자격: #REF!
Name DATA_체류자격: #REF!
Name DATA_체류자격: #REF!
Name DATA_체류자격: #REF!
Name DATA1: OFFSET([1]D1!$A$1,0,0,COUNTA([1]D1!$A:$A),9)
Name DATA1: OFFSET([1]D1!$A$1,0,0,COUNTA([1]D1!$A:$A),9)
Name DATA1: OFFSET([1]D1!$A$1,0,0,COUNTA([1]D1!$A:$A),9)
Name DATA1: OFFSET([1]D1!$A$1,0,0,COUNTA([1]D1!$A:$A),9)
Name DATA1: OFFSET([1]D1!$A$1,0,0,COUNTA([1]D1!$A:$A),9)
Name DATA1: OFFSET([1]D1!$A$1,0,0,COUNTA([1]D1!$A:$A),9)
Name DATA2: OFFSET([1]D2!$A$1,0,0,COUNTA([1]D2!$A:$A),13)
Name DATA2: OFFSET([1]D2!$A$1,0,0,COUNTA([1]D2!$A:$A),13)
Name DATA2: OFFSET([1]D2!$A$1,0,0,COUNTA([1]D2!$A:$A),13)
Name DATA2: OFFSET([1]D2!$A$1,0,0,COUNTA([1]D2!$A:$A),13)
Name DATA2: OFFSET([1]D2!$A$1,0,0,COUNTA([1]D2!$A:$A),13)
Name DATA2: OFFSET([1]D2!$A$1,0,0,COUNTA([1]D2!$A:$A),13)
Name DATA3: OFFSET([1]D3!$A$1,0,0,COUNTA([1]D3!$A:$A),9)

Sheet 1-1. 시군별 인구 및 세대현황
B2: 1-1. 시군별 인구 및 세대현황
L4: (단위 : 세대, 명)
C5: 연도(분기) | E5: 세 대 수 | F5: 총 계 | I5: 한 국 인 | L5: 외 국 인
F6: 총 계 | G6: 남 | H6: 여 | I6: 소 계 | J6: 남 | K6: 여 | L6: 소 계 | M6: 남 | N6: 여
C8: 1995 | E8: 862912 | F8: 2775922 | G8: 1392540 | H8: 1383382 | I8: 2770378 | J8: 1389878 | K8: 1380500 | L8: 5544 | M8: 2662 | N8: 2882
C9: 1996 | E9: 890719 | F9: 2799171 | G9: 1403863 | H9: 1395308 | I9: 2790451 | J9: 1399442 | K9: 1391009 | L9: 8720 | M9: 4421 | N9: 4299
C10: 1997 | E10: 914824 | F10: 2811586 | G10: 1409973 | H10: 1401613 | I10: 2799084 | J10: 1403153 | K10: 1395931 | L10: 12502 | M10: 6820 | N10: 5682
C11: 1998 | E11: 921203 | F11: 2820111 | G11: 1413857 | H11: 1406254 | I11: 2809595 | J11: 1408418 | K11: 1401177 | L11: 10516 | M11: 5439 | N11: 5077
C12: 1999 | E12: 931140 | F12: 2820319 | G12: 1413928 | H12: 1406391 | I12: 2808567 | J12: 1407843 | K12: 1400724 | L12: 11752 | M12: 6085 | N12: 5667
C13: 2000 | E13: 943498 | F13: 2813551 | G13: 1410152 | H13: 1403399 | I13: 2797178 | J13: 1401512 | K13: 1395666 | L13: 16373 | M13: 8640 | N13: 7733
C14: 2001 | E14: 954933 | F14: 2802597 | G14: 1403689 | H14: 1398908 | I14: 2784704 | J14: 1394244 | K14: 1390460 | L14: 17893 | M14: 9445 | N14: 8448
C15: 2002 | E15: 964032 | F15: 2775890 | G15: 1390433 | H15: 1385457 | I15: 2756744 | J15: 1380211 | K15: 1376533 | L15: 19146 | M15: 10222 | N15: 8924
C16: 2003 | E16: 974099 | F16: 2742123 | G16: 1375503 | H16: 1366620 | I16: 2720832 | J16: 1363201 | K16: 1357631 | L16: 21291 | M16: 12302 | N16: 8989
C17: 2004 | E17: 985475 | F17: 2718613 | G17: 1366188 | H17: 1352425 | I17: 2695917 | J17: 1352420 | K17: 1343497 | L17: 22696 | M17: 13768 | N17: 8928
C18: 2005 | E18: 1006080 | F18: 2711900 | G18: 1363745 | H18: 1348155 | I18: 2688491 | J18: 1349437 | K18: 1339054 | L18: 23409 | M18: 14308 | N18: 9101
C19: 2006 | E19: 1030265 | F19: 2718298 | G19: 1368074 | H19: 1350224 | I19: 2688577 | J19: 1349830 | K19: 1338747 | L19: 29721 | M19: 18244 | N19: 11477
C20: 2007 | E20: 1045213 | F20: 2715085 | G20: 1366900 | H20: 1348185 | I20: 2681364 | J20: 1346756 | K20: 1334608 | L20: 33721 | M20: 20144 | N20: 13577
C21: 2008 | E21: 1058099 | F21: 2709662 | G21: 1364216 | H21: 1345446 | I21: 2673931 | J21: 1343199 | K21: 1330732 | L21: 35731 | M21: 21017 | N21: 14714
C22: 2009 | E22: 1073367 | F22: 2705226 | G22: 1361969 | H22: 1343257 | I22: 2669876 | J22: 1340977 | K22: 1328899 | L22: 35350 | M22: 20992 | N22: 14358
C23: 2010 | E23: 1101486 | F23: 2726815 | G23: 1373272 | H23: 1353543 | I23: 2689920 | J23: 1351202 | K23: 1338718 | L23: 36895 | M23: 22070 | N23: 14825
C24: 2011 | E24: 1114901 | F24: 2739179 | G24: 1380367 | H24: 1358812 | I24: 2699195 | J24: 1355727 | K24: 1343468 | L24: =SUM(M24:N24) -> 39984 | M24: 24640 | N24: 15344
C25: 2012 | E25: 1125195 | F25: 2738420 | G25: 1379825 | H25: 1358595 | I25: 2698353 | J25: 1355294 | K25: 1343059 | L25: 40067 | M25: 24531 | N25: 15536
C26: 2013 | E26: 1139387 | F26: 2742939 | G26: 1382922 | H26: 1360017 | I26: 2699440 | J26: 1355951 | K26: 1343489 | L26: 43499 | M26: 26971 | N26: 16528
C28: 2014 1/4 | E28: 1142501 | F28: 2741506 | G28: 1382450 | H28: 1359056 | I28: 2697169 | J28: 1354872 | K28: 1342297 | L28: 44337 | M28: 27578 | N28: 16759
C29: 2014 2/4 | E29: 1145091 | F29: 2743058 | G29: 1383581 | H29: 1359477 | I29: 2697248 | J29: 1354925 | K29: 1342323 | L29: 45810 | M29: 28656 | N29: 17154
C30: 2014 3/4 | E30: 1151129 | F30: 2751132 | G30: 1387333 | H30: 1363799 | I30: 2703929 | J30: 1357549 | K30: 1346380 | L30: 47203 | M30: 29784 | N30: 17419
C31: 2014 4/4 | E31: 1153559 | F31: 2748599 | G31: 1386564 | H31: 1362035 | I31: 2700794 | J31: 1356182 | K31: 1344612 | L31: 47805 | M31: 30382 | N31: 17423
C32: 2015 1/4 | E32: 1156132 | F32: 2745310 | G32: 1385233 | H32: 1360077 | I32: 2697302 | J32: 1354636 | K32: 1342666 | L32: 48008 | M32: 30597 | N32: 17411
C33: 2015 2/4 | E33: 1160150 | F33: 2746099 | G33: 1385471 | H33: 1360628 | I33: 2697791 | J33: 1354618 | K33: 1343173 | L33: 48308 | M33: 30853 | N33: 17455
C35: 2015 3/4 경 상 북 도 | E35: =SUM(E36:E58) -> 1164683 | F35: =SUM(F36:F58) -> 2750048 | G35: =SUM(G36:G58) -> 1387406 | H35: =SUM(H36:H58) -> 1362642 | I35: =SUM(I36:I58) -> 2700461 | J35: =SUM(J36:J58) -> 1355977 | K35: =SUM(K36:K58) -> 1344484 | L35: =SUM(L36:L58) -> 49587 | ... N35: =SUM(N36:N58) -> 18158
C36: 포항시 | E36: ='1-2. 읍면동별 인구 및 세대현황'!C8 -> 209234 | F36: =I36+L36 -> 523211 | G36: =J36+M36 -> 265301 | H36: =K36+N36 -> 257910 | I36: =J36+K36 -> 518077 | J36: ='1-2. 읍면동별 인구 및 세대현황'!H8 -> 262240 | K36: ='1-2. 읍면동별 인구 및 세대현황'!I8 -> 255837 | L36: =M36+N36 -> 5134 | M36: ='1-2. 읍면동별 인구 및 세대현황'!K8 -> 3061 | N36: ='1-2. 읍면동별 인구 및 세대현황'!L8 -> 2073
C37: 경주시 | E37: ='1-2. 읍면동별 인구 및 세대현황'!C40 -> 112528 | F37: =I37+L37 -> 269526 | G37: =J37+M37 -> 136653 | H37: =K37+N37 -> 132873 | I37: =J37+K37 -> 260454 | J37: ='1-2. 읍면동별 인구 및 세대현황'!H40 -> 130366 | K37: ='1-2. 읍면동별 인구 및 세대현황'!I40 -> 130088 | L37: =M37+N37 -> 9072 | M37: ='1-2. 읍면동별 인구 및 세대현황'!K40 -> 6287 | N37: ='1-2. 읍면동별 인구 및 세대현황'!L40 -> 2785
C38: 김천시 | E38: ='1-2. 읍면동별 인구 및 세대현황'!C64 -> 60562 | F38: =I38+L38 -> 141941 | G38: =J38+M38 -> 71103 | H38: =K38+N38 -> 70838 | I38: =J38+K38 -> 140078 | J38: ='1-2. 읍면동별 인구 및 세대현황'!H64 -> 70039 | K38: ='1-2. 읍면동별 인구 및 세대현황'!I64 -> 70039 | L38: =M38+N38 -> 1863 | M38: ='1-2. 읍면동별 인구 및 세대현황'!K64 -> 1064 | N38: ='1-2. 읍면동별 인구 및 세대현황'!L64 -> 799
C39: 안동시 | E39: ='1-2. 읍면동별 인구 및 세대현황'!C87 -> 72147 | F39: =I39+L39 -> 169615 | G39: =J39+M39 -> 83485 | H39: =K39+N39 -> 86130 | I39: =J39+K39 -> 168240 | J39: ='1-2. 읍면동별 인구 및 세대현황'!H87 -> 82923 | K39: ='1-2. 읍면동별 인구 및 세대현황'!I87 -> 85317 | L39: =M39+N39 -> 1375 | M39: ='1-2. 읍면동별 인구 및 세대현황'!K87 -> 562 | N39: ='1-2. 읍면동별 인구 및 세대현황'!L87 -> 813
C40: 구미시 | E40: ='1-2. 읍면동별 인구 및 세대현황'!C112 -> 167460 | F40: =I40+L40 -> 425795 | G40: =J40+M40 -> 217817 | H40: =K40+N40 -> 207978 | I40: =J40+K40 -> 419743 | J40: ='1-2. 읍면동별 인구 및 세대현황'!H112 -> 214267 | K40: ='1-2. 읍면동별 인구 및 세대현황'!I112 -> 205476 | L40: =M40+N40 -> 6052 | M40: ='1-2. 읍면동별 인구 및 세대현황'!K112 -> 3550 | N40: ='1-2. 읍면동별 인구 및 세대현황'!L112 -> 2502
C41: 영주시 | E41: ='1-2. 읍면동별 인구 및 세대현황'!C140 -> 48093 | F41: =I41+L41 -> 110881 | G41: =J41+M41 -> 55017 | H41: =K41+N41 -> 55864 | I41: =J41+K41 -> 110040 | J41: ='1-2. 읍면동별 인구 및 세대현황'!H140 -> 54687 | K41: ='1-2. 읍면동별 인구 및 세대현황'!I140 -> 55353 | L41: =M41+N41 -> 841 | M41: ='1-2. 읍면동별 인구 및 세대현황'!K140 -> 330 | N41: ='1-2. 읍면동별 인구 및 세대현황'!L140 -> 511
C42: 영천시 | E42: ='1-2. 읍면동별 인구 및 세대현황'!C160 -> 46762 | F42: =I42+L42 -> 103381 | G42: =J42+M42 -> 52737 | H42: =K42+N42 -> 50644 | I42: =J42+K42 -> 100409 | J42: ='1-2. 읍면동별 인구 및 세대현황'!H160 -> 50503 | K42: ='1-2. 읍면동별 인구 및 세대현황'!I160 -> 49906 | L42: =M42+N42 -> 2972 | M42: ='1-2. 읍면동별 인구 및 세대현황'!K160 -> 2234 | N42: ='1-2. 읍면동별 인구 및 세대현황'!L160 -> 738
C43: 상주시 | E43: ='1-2. 읍면동별 인구 및 세대현황'!C177 -> 46094 | F43: =I43+L43 -> 103327 | G43: =J43+M43 -> 50535 | H43: =K43+N43 -> 52792 | I43: =J43+K43 -> 102426 | J43: ='1-2. 읍면동별 인구 및 세대현황'!H177 -> 50156 | K43: ='1-2. 읍면동별 인구 및 세대현황'!I177 -> 52270 | L43: =M43+N43 -> 901 | M43: ='1-2. 읍면동별 인구 및 세대현황'!K177 -> 379 | N43: ='1-2. 읍면동별 인구 및 세대현황'!L177 -> 522
C44: 문경시 | E44: ='1-2. 읍면동별 인구 및 세대현황'!C202 -> 34269 | F44: =I44+L44 -> 76045 | G44: =J44+M44 -> 37204 | H44: =K44+N44 -> 38841 | I44: =J44+K44 -> 75432 | J44: ='1-2. 읍면동별 인구 및 세대현황'!H202 -> 36943 | K44: ='1-2. 읍면동별 인구 및 세대현황'!I202 -> 38489 | L44: =M44+N44 -> 613 | M44: ='1-2. 읍면동별 인구 및 세대현황'!K202 -> 261 | N44: ='1-2. 읍면동별 인구 및 세대현황'!L202 -> 352
C45: 경산시 | E45: ='1-2. 읍면동별 인구 및 세대현황'!C217 -> 106200 | F45: =I45+L45 -> 264473 | G45: =J45+M45 -> 133820 | H45: =K45+N45 -> 130653 | I45: =J45+K45 -> 256821 | J45: ='1-2. 읍면동별 인구 및 세대현황'!H217 -> 129152 | K45: ='1-2. 읍면동별 인구 및 세대현황'!I217 -> 127669 | L45: =M45+N45 -> 7652 | M45: ='1-2. 읍면동별 인구 및 세대현황'!K217 -> 4668 | N45: ='1-2. 읍면동별 인구 및 세대현황'!L217 -> 2984
C46: 군위군 | E46: ='1-2. 읍면동별 인구 및 세대현황'!C233 -> 12130 | F46: =I46+L46 -> 24661 | G46: =J46+M46 -> 12511 | H46: =K46+N46 -> 12150 | I46: =J46+K46 -> 24081 | J46: ='1-2. 읍면동별 인구 및 세대현황'!H233 -> 12070 | K46: ='1-2. 읍면동별 인구 및 세대현황'!I233 -> 12011 | L46: =M46+N46 -> 580 | M46: ='1-2. 읍면동별 인구 및 세대현황'!K233 -> 441 | N46: ='1-2. 읍면동별 인구 및 세대현황'!L233 -> 139
C47: 의성군 | E47: ='1-2. 읍면동별 인구 및 세대현황'!C242 -> 27346 | F47: =I47+L47 -> 55330 | G47: =J47+M47 -> 27074 | H47: =K47+N47 -> 28256 | I47: =J47+K47 -> 54577 | J47: ='1-2. 읍면동별 인구 및 세대현황'!H242 -> 26608 | K47: ='1-2. 읍면동별 인구 및 세대현황'!I242 -> 27969 | L47: =M47+N47 -> 753 | M47: ='1-2. 읍면동별 인구 및 세대현황'!K242 -> 466 | N47: ='1-2. 읍면동별 인구 및 세대현황'!L242 -> 287
C48: 청송군 | E48: ='1-2. 읍면동별 인구 및 세대현황'!C261 -> 13256 | F48: =I48+L48 -> 26609 | G48: =J48+M48 -> 13165 | H48: =K48+N48 -> 13444 | I48: =J48+K48 -> 26362 | J48: ='1-2. 읍면동별 인구 및 세대현황'!H261 -> 13057 | K48: ='1-2. 읍면동별 인구 및 세대현황'!I261 -> 13305 | L48: =M48+N48 -> 247 | M48: ='1-2. 읍면동별 인구 및 세대현황'!K261 -> 108 | N48: ='1-2. 읍면동별 인구 및 세대현황'!L261 -> 139
C49: 영양군 | E49: ='1-2. 읍면동별 인구 및 세대현황'!C270 -> 8749 | F49: =I49+L49 -> 18179 | G49: =J49+M49 -> 8893 | H49: =K49+N49 -> 9286 | I49: =J49+K49 -> 17944 | J49: ='1-2. 읍면동별 인구 및 세대현황'!H270 -> 8819 | K49: ='1-2. 읍면동별 인구 및 세대현황'!I270 -> 9125 | L49: =M49+N49 -> 235 | M49: ='1-2. 읍면동별 인구 및 세대현황'!K270 -> 74 | N49: ='1-2. 읍면동별 인구 및 세대현황'!L270 -> 161
C50: 영덕군 | E50: ='1-2. 읍면동별 인구 및 세대현황'!C277 -> 20018 | F50: =I50+L50 -> 40035 | G50: =J50+M50 -> 19193 | H50: =K50+N50 -> 20842 | I50: =J50+K50 -> 39262 | J50: ='1-2. 읍면동별 인구 및 세대현황'!H277 -> 18636 | K50: ='1-2. 읍면동별 인구 및 세대현황'!I277 -> 20626 | L50: =M50+N50 -> 773 | M50: ='1-2. 읍면동별 인구 및 세대현황'!K277 -> 557 | N50: ='1-2. 읍면동별 인구 및 세대현황'!L277 -> 216
C51: 청도군 | E51: ='1-2. 읍면동별 인구 및 세대현황'!C287 -> 21406 | F51: =I51+L51 -> 44604 | G51: =J51+M51 -> 21803 | H51: =K51+N51 -> 22801 | I51: =J51+K51 -> 43650 | J51: ='1-2. 읍면동별 인구 및 세대현황'!H287 -> 21324 | K51: ='1-2. 읍면동별 인구 및 세대현황'!I287 -> 22326 | L51: =M51+N51 -> 954 | M51: ='1-2. 읍면동별 인구 및 세대현황'!K287 -> 479 | N51: ='1-2. 읍면동별 인구 및 세대현황'!L287 -> 475
C52: 고령군 | E52: ='1-2. 읍면동별 인구 및 세대현황'!C297 -> 16166 | F52: =I52+L52 -> 36399 | G52: =J52+M52 -> 19057 | H52: =K52+N52 -> 17342 | I52: =J52+K52 -> 34564 | J52: ='1-2. 읍면동별 인구 및 세대현황'!H297 -> 17592 | K52: ='1-2. 읍면동별 인구 및 세대현황'!I297 -> 16972 | L52: =M52+N52 -> 1835 | M52: ='1-2. 읍면동별 인구 및 세대현황'!K297 -> 1465 | N52: ='1-2. 읍면동별 인구 및 세대현황'!L297 -> 370
C53: 성주군 | E53: ='1-2. 읍면동별 인구 및 세대현황'!C306 -> 21331 | F53: =I53+L53 -> 46640 | G53: =J53+M53 -> 24249 | H53: =K53+N53 -> 22391 | I53: =J53+K53 -> 45024 | J53: ='1-2. 읍면동별 인구 및 세대현황'!H306 -> 23068 | K53: ='1-2. 읍면동별 인구 및 세대현황'!I306 -> 21956 | L53: =M53+N53 -> 1616 | M53: ='1-2. 읍면동별 인구 및 세대현황'!K306 -> 1181 | N53: ='1-2. 읍면동별 인구 및 세대현황'!L306 -> 435
C54: 칠곡군 | E54: ='1-2. 읍면동별 인구 및 세대현황'!C317 -> 52926 | F54: =I54+L54 -> 126371 | G54: =J54+M54 -> 66229 | H54: =K54+N54 -> 60142 | I54: =J54+K54 -> 122359 | J54: ='1-2. 읍면동별 인구 및 세대현황'!H317 -> 63381 | K54: ='1-2. 읍면동별 인구 및 세대현황'!I317 -> 58978 | L54: =M54+N54 -> 4012 | M54: ='1-2. 읍면동별 인구 및 세대현황'!K317 -> 2848 | N54: ='1-2. 읍면동별 인구 및 세대현황'!L317 -> 1164
C55: 예천군 | E55: ='1-2. 읍면동별 인구 및 세대현황'!C326 -> 21442 | F55: =I55+L55 -> 45322 | G55: =J55+M55 -> 22183 | H55: =K55+N55 -> 23139 | I55: =J55+K55 -> 44847 | J55: ='1-2. 읍면동별 인구 및 세대현황'!H326 -> 22001 | K55: ='1-2. 읍면동별 인구 및 세대현황'!I326 -> 22846 | L55: =M55+N55 -> 475 | M55: ='1-2. 읍면동별 인구 및 세대현황'!K326 -> 182 | N55: ='1-2. 읍면동별 인구 및 세대현황'!L326 -> 293
C56: 봉화군 | E56: ='1-2. 읍면동별 인구 및 세대현황'!C339 -> 16324 | F56: =I56+L56 -> 34085 | G56: =J56+M56 -> 16890 | H56: =K56+N56 -> 17195 | I56: =J56+K56 -> 33814 | J56: ='1-2. 읍면동별 인구 및 세대현황'!H339 -> 16799 | K56: ='1-2. 읍면동별 인구 및 세대현황'!I339 -> 17015 | L56: =M56+N56 -> 271 | M56: ='1-2. 읍면동별 인구 및 세대현황'!K339 -> 91 | N56: ='1-2. 읍면동별 인구 및 세대현황'!L339 -> 180
C57: 울진군 | E57: ='1-2. 읍면동별 인구 및 세대현황'!C350 -> 24884 | F57: =I57+L57 -> 53227 | G57: =J57+M57 -> 26903 | H57: =K57+N57 -> 26324 | I57: =J57+K57 -> 51995 | J57: ='1-2. 읍면동별 인구 및 세대현황'!H350 -> 25859 | K57: ='1-2. 읍면동별 인구 및 세대현황'!I350 -> 26136 | L57: =M57+N57 -> 1232 | M57: ='1-2. 읍면동별 인구 및 세대현황'!K350 -> 1044 | N57: ='1-2. 읍면동별 인구 및 세대현황'!L350 -> 188
C58: 울릉군 | E58: ='1-2. 읍면동별 인구 및 세대현황'!C361 -> 5356 | F58: =I58+L58 -> 10391 | G58: =J58+M58 -> 5584 | H58: =K58+N58 -> 4807 | I58: =J58+K58 -> 10262 | J58: ='1-2. 읍면동별 인구 및 세대현황'!H361 -> 5487 | K58: ='1-2. 읍면동별 인구 및 세대현황'!I361 -> 4775 | L58: =M58+N58 -> 129 | M58: ='1-2. 읍면동별 인구 및 세대현황'!K361 -> 97 | N58: ='1-2. 읍면동별 인구 및 세대현황'!L361 -> 32

Sheet 1-2. 읍면동별 인구 및 세대현황
B2: 1-2. 읍면동별 인구 및 세대현황
B4: * 행정동 기준 | L4: (단위 : 세대, 명)
C5: 세대수 | D5: 총 계 | G5: 한 국 인 | J5: 외 국 인
A6: 그룹 | B6: 구분 | D6: 총 계 | E6: 남 | F6: 여 | G6: 소 계 | H6: 남 | I6: 여 | J6: 소 계 | K6: 남 | L6: 여
B7: 경상북도 | C7: =C8+C40+C64+C87+C112+C140+C160+C177+C202+C217+C233+C242+C261+C270+C287+C297+C306+C317+C326+C339+C350+C361+C277 -> 1164683 | D7: =D8+D40+D64+D87+D112+D140+D160+D177+D202+D217+D233+D242+D261+D270+D287+D297+D306+D317+D326+D339+D350+D361+D277 -> 2750048 | E7: =E8+E40+E64+E87+E112+E140+E160+E177+E202+E217+E233+E242+E261+E270+E287+E297+E306+E317+E326+E339+E350+E361+E277 -> 1387406 | F7: =F8+F40+F64+F87+F112+F140+F160+F177+F202+F217+F233+F242+F261+F270+F287+F297+F306+F317+F326+F339+F350+F361+F277 -> 1362642 | G7: =G8+G40+G64+G87+G112+G140+G160+G177+G202+G217+G233+G242+G261+G270+G287+G297+G306+G317+G326+G339+G350+G361+G277 -> 2700461 | H7: =H8+H40+H64+H87+H112+H140+H160+H177+H202+H217+H233+H242+H261+H270+H287+H297+H306+H317+H326+H339+H350+H361+H277 -> 1355977 | I7: =I8+I40+I64+I87+I112+I140+I160+I177+I202+I217+I233+I242+I261+I270+I287+I297+I306+I317+I326+I339+I350+I361+I277 -> 1344484 | J7: =J8+J40+J64+J87+J112+J140+J160+J177+J202+J217+J233+J242+J261+J270+J287+J297+J306+J317+J326+J339+J350+J361+J277 -> 49587 | ... L7: =L8+L40+L64+L87+L112+L140+L160+L177+L202+L217+L233+L242+L261+L270+L287+L297+L306+L317+L326+L339+L350+L361+L277 -> 18158
B8: 포항시 | C8: =C9+C24 -> 209234 | D8: =D9+D24 -> 523211 | E8: =E9+E24 -> 265301 | F8: =F9+F24 -> 257910 | G8: =G9+G24 -> 518077 | H8: =H9+H24 -> 262240 | I8: =I9+I24 -> 255837 | J8: =J9+J24 -> 5134 | ... L8: =L9+L24 -> 2073
B9: 남구(계) | C9: =SUM(C10:C23) -> 101853 | D9: =G9+J9 -> 249795 | E9: =H9+K9 -> 128947 | F9: =I9+L9 -> 120848 | G9: =SUM(G10:G23) -> 246637 | H9: =SUM(H10:H23) -> 126906 | I9: =SUM(I10:I23) -> 119731 | J9: =SUM(J10:J23) -> 3158 | K9: =SUM(K10:K23) -> 2041 | L9: =SUM(L10:L23) -> 1117
B10: 구룡포읍 | C10: 4800 | D10: =G10+J10 -> 9638 | E10: =H10+K10 -> 5162 | F10: =I10+L10 -> 4476 | G10: =SUM(H10:I10) -> 8969 | H10: 4545 | I10: 4424 | J10: =SUM(K10:L10) -> 669 | K10: 617 | L10: 52
B11: 연일읍 | C11: 12151 | D11: =G11+J11 -> 34517 | E11: =H11+K11 -> 17576 | F11: =I11+L11 -> 16941 | G11: =SUM(H11:I11) -> 34289 | H11: 17477 | I11: 16812 | J11: =SUM(K11:L11) -> 228 | K11: 99 | L11: 129
B12: 오천읍 | C12: 21669 | D12: =G12+J12 -> 54048 | E12: =H12+K12 -> 28436 | F12: =I12+L12 -> 25612 | G12: =SUM(H12:I12) -> 53524 | H12: 28196 | I12: 25328 | J12: =SUM(K12:L12) -> 524 | K12: 240 | L12: 284
B13: 대송면 | C13: 2144 | D13: =G13+J13 -> 4750 | E13: =H13+K13 -> 2587 | F13: =I13+L13 -> 2163 | G13: =SUM(H13:I13) -> 4505 | H13: 2378 | I13: 2127 | J13: =SUM(K13:L13) -> 245 | K13: 209 | L13: 36
B14: 동해면 | C14: 4365 | D14: =G14+J14 -> 10343 | E14: =H14+K14 -> 5252 | F14: =I14+L14 -> 5091 | G14: =SUM(H14:I14) -> 10238 | H14: 5190 | I14: 5048 | J14: =SUM(K14:L14) -> 105 | K14: 62 | L14: 43
B15: 장기면 | C15: 2565 | D15: =G15+J15 -> 4958 | E15: =H15+K15 -> 2461 | F15: =I15+L15 -> 2497 | G15: =SUM(H15:I15) -> 4776 | H15: 2306 | I15: 2470 | J15: =SUM(K15:L15) -> 182 | K15: 155 | L15: 27
B16: 호미곶면 | C16: 1205 | D16: =G16+J16 -> 2301 | E16: =H16+K16 -> 1154 | F16: =I16+L16 -> 1147 | G16: =SUM(H16:I16) -> 2207 | H16: 1067 | I16: 1140 | J16: =SUM(K16:L16) -> 94 | K16: 87 | L16: 7
B17: 상대동 | C17: 13256 | D17: =G17+J17 -> 28773 | E17: =H17+K17 -> 14845 | F17: =I17+L17 -> 13928 | G17: =SUM(H17:I17) -> 28595 | H17: 14789 | I17: 13806 | J17: =SUM(K17:L17) -> 178 | K17: 56 | L17: 122
B18: 해도동 | C18: 10084 | D18: =G18+J18 -> 20480 | E18: =H18+K18 -> 10410 | F18: =I18+L18 -> 10070 | G18: =SUM(H18:I18) -> 20362 | H18: 10373 | I18: 9989 | J18: =SUM(K18:L18) -> 118 | K18: 37 | L18: 81
B19: 송도동 | C19: 7199 | D19: =G19+J19 -> 15794 | E19: =H19+K19 -> 8060 | F19: =I19+L19 -> 7734 | G19: =SUM(H19:I19) -> 15709 | H19: 8014 | I19: 7695 | J19: =SUM(K19:L19) -> 85 | K19: 46 | L19: 39
B20: 청림동 | C20: 2900 | D20: =G20+J20 -> 6439 | E20: =H20+K20 -> 3389 | F20: =I20+L20 -> 3050 | G20: =SUM(H20:I20) -> 6384 | H20: 3365 | I20: 3019 | J20: =SUM(K20:L20) -> 55 | K20: 24 | L20: 31
B21: 제철동 | C21: 1557 | D21: =G21+J21 -> 3427 | E21: =H21+K21 -> 1968 | F21: =I21+L21 -> 1459 | G21: =SUM(H21:I21) -> 3346 | H21: 1901 | I21: 1445 | J21: =SUM(K21:L21) -> 81 | K21: 67 | L21: 14
... B23: 대이동 | C23: 7619 | D23: =G23+J23 -> 22116 | E23: =H23+K23 -> 11093 | F23: =I23+L23 -> 11023 | G23: =SUM(H23:I23) -> 21951 | H23: 11013 | I23: 10938 | J23: =SUM(K23:L23) -> 165 | K23: 80 | L23: 85
B24: 북구(계) | C24: =SUM(C25:C39) -> 107381 | D24: =G24+J24 -> 273416 | E24: =H24+K24 -> 136354 | F24: =I24+L24 -> 137062 | G24: =SUM(G25:G39) -> 271440 | H24: =SUM(H25:H39) -> 135334 | I24: =SUM(I25:I39) -> 136106 | J24: =SUM(J25:J39) -> 1976 | K24: =SUM(K25:K39) -> 1020 | L24: =SUM(L25:L39) -> 956
B25: 흥해읍 | C25: 14007 | D25: =G25+J25 -> 34658 | E25: =H25+K25 -> 17375 | F25: =I25+L25 -> 17283 | G25: =SUM(H25:I25) -> 34102 | H25: 17100 | I25: 17002 | J25: =SUM(K25:L25) -> 556 | K25: 275 | L25: 281
B26: 신광면 | C26: 1561 | D26: =G26+J26 -> 3025 | E26: =H26+K26 -> 1511 | F26: =I26+L26 -> 1514 | G26: =SUM(H26:I26) -> 3009 | H26: 1503 | I26: 1506 | J26: =SUM(K26:L26) -> 16 | K26: 8 | L26: 8
B27: 청하면 | C27: 2709 | D27: =G27+J27 -> 5392 | E27: =H27+K27 -> 2688 | F27: =I27+L27 -> 2704 | G27: =SUM(H27:I27) -> 5274 | H27: 2601 | I27: 2673 | J27: =SUM(K27:L27) -> 118 | K27: 87 | L27: 31
B28: 송라면 | C28: 1545 | D28: =G28+J28 -> 2914 | E28: =H28+K28 -> 1428 | F28: =I28+L28 -> 1486 | G28: =SUM(H28:I28) -> 2863 | H28: 1387 | I28: 1476 | J28: =SUM(K28:L28) -> 51 | K28: 41 | L28: 10
B29: 기계면 | C29: 2620 | D29: =G29+J29 -> 5420 | E29: =H29+K29 -> 2612 | F29: =I29+L29 -> 2808 | G29: =SUM(H29:I29) -> 5367 | H29: 2583 | I29: 2784 | J29: =SUM(K29:L29) -> 53 | K29: 29 | L29: 24
B30: 죽장면 | C30: 1595 | D30: =G30+J30 -> 2929 | E30: =H30+K30 -> 1433 | F30: =I30+L30 -> 1496 | G30: =SUM(H30:I30) -> 2907 | H30: 1429 | I30: 1478 | J30: =SUM(K30:L30) -> 22 | K30: 4 | L30: 18
B31: 기북면 | C31: 697 | D31: =G31+J31 -> 1336 | E31: =H31+K31 -> 636 | F31: =I31+L31 -> 700 | G31: =SUM(H31:I31) -> 1324 | H31: 634 | I31: 690 | J31: =SUM(K31:L31) -> 12 | K31: 2 | L31: 10
B32: 중앙동 | C32: 8687 | D32: =G32+J32 -> 17661 | E32: =H32+K32 -> 8697 | F32: =I32+L32 -> 8964 | G32: =SUM(H32:I32) -> 17468 | H32: 8563 | I32: 8905 | J32: =SUM(K32:L32) -> 193 | K32: 134 | L32: 59
B33: 양학동 | C33: 7097 | D33: =G33+J33 -> 19950 | E33: =H33+K33 -> 10035 | F33: =I33+L33 -> 9915 | G33: =SUM(H33:I33) -> 19884 | H33: 10009 | I33: 9875 | J33: =SUM(K33:L33) -> 66 | K33: 26 | L33: 40
B34: 죽도동 | C34: 10594 | D34: =G34+J34 -> 21971 | E34: =H34+K34 -> 10922 | F34: =I34+L34 -> 11049 | G34: =SUM(H34:I34) -> 21818 | H34: 10877 | I34: 10941 | J34: =SUM(K34:L34) -> 153 | K34: 45 | L34: 108
B35: 용흥동 | C35: 9250 | D35: =G35+J35 -> 24494 | E35: =H35+K35 -> 12198 | F35: =I35+L35 -> 12296 | G35: =SUM(H35:I35) -> 24395 | H35: 12158 | I35: 12237 | J35: =SUM(K35:L35) -> 99 | K35: 40 | L35: 59
B36: 우창동 | C36: 10599 | D36: =G36+J36 -> 28562 | E36: =H36+K36 -> 14050 | F36: =I36+L36 -> 14512 | G36: =SUM(H36:I36) -> 28466 | H36: 14014 | I36: 14452 | J36: =SUM(K36:L36) -> 96 | K36: 36 | L36: 60
... B39: 환여동 | C39: 4050 | D39: =G39+J39 -> 11482 | E39: =H39+K39 -> 5730 | F39: =I39+L39 -> 5752 | G39: =SUM(H39:I39) -> 11431 | H39: 5705 | I39: 5726 | J39: =SUM(K39:L39) -> 51 | K39: 25 | L39: 26
B40: 경주시 | C40: =SUM(C41:C63) -> 112528 | D40: =G40+J40 -> 269526 | E40: =H40+K40 -> 136653 | F40: =I40+L40 -> 132873 | G40: =SUM(G41:G63) -> 260454 | H40: =SUM(H41:H63) -> 130366 | I40: =SUM(I41:I63) -> 130088 | J40: =SUM(J41:J63) -> 9072 | K40: =SUM(K41:K63) -> 6287 | L40: =SUM(L41:L63) -> 2785
B41: 감포읍 | C41: 3130 | D41: =G41+J41 -> 6527 | E41: =H41+K41 -> 3471 | F41: =I41+L41 -> 3056 | G41: =SUM(H41:I41) -> 6055 | H41: 3024 | I41: 3031 | J41: =SUM(K41:L41) -> 472 | K41: 447 | L41: 25
B42: 안강읍 | C42: 12602 | D42: =G42+J42 -> 29534 | E42: =H42+K42 -> 14825 | F42: =I42+L42 -> 14709 | G42: =SUM(H42:I42) -> 29202 | H42: 14648 | I42: 14554 | J42: =SUM(K42:L42) -> 332 | K42: 177 | L42: 155
B43: 건천읍 | C43: 5143 | D43: =G43+J43 -> 10875 | E43: =H43+K43 -> 5524 | F43: =I43+L43 -> 5351 | G43: =SUM(H43:I43) -> 10701 | H43: 5407 | I43: 5294 | J43: =SUM(K43:L43) -> 174 | K43: 117 | L43: 57
B44: 외동읍 | C44: 8151 | D44: =G44+J44 -> 19974 | E44: =H44+K44 -> 11367 | F44: =I44+L44 -> 8607 | G44: =SUM(H44:I44) -> 16723 | H44: 8676 | I44: 8047 | J44: =SUM(K44:L44) -> 3251 | K44: 2691 | L44: 560
B45: 양북면 | C45: 2136 | D45: =G45+J45 -> 4567 | E45: =H45+K45 -> 2389 | F45: =I45+L45 -> 2178 | G45: =SUM(H45:I45) -> 4448 | H45: 2289 | I45: 2159 | J45: =SUM(K45:L45) -> 119 | K45: 100 | L45: 19
B46: 양남면 | C46: 3179 | D46: =G46+J46 -> 6663 | E46: =H46+K46 -> 3464 | F46: =I46+L46 -> 3199 | G46: =SUM(H46:I46) -> 6600 | H46: 3437 | I46: 3163 | J46: =SUM(K46:L46) -> 63 | K46: 27 | L46: 36
B47: 내남면 | C47: 2541 | D47: =G47+J47 -> 5523 | E47: =H47+K47 -> 2829 | F47: =I47+L47 -> 2694 | G47: =SUM(H47:I47) -> 5209 | H47: 2577 | I47: 2632 | J47: =SUM(K47:L47) -> 314 | K47: 252 | L47: 62
B48: 산내면 | C48: 1907 | D48: =G48+J48 -> 3356 | E48: =H48+K48 -> 1662 | F48: =I48+L48 -> 1694 | G48: =SUM(H48:I48) -> 3318 | H48: 1636 | I48: 1682 | J48: =SUM(K48:L48) -> 38 | K48: 26 | L48: 12
B49: 서면 | C49: 1888 | D49: =G49+J49 -> 3766 | E49: =H49+K49 -> 1929 | F49: =I49+L49 -> 1837 | G49: =SUM(H49:I49) -> 3660 | H49: 1848 | I49: 1812 | J49: =SUM(K49:L49) -> 106 | K49: 81 | L49: 25
B50: 현곡면 | C50: 5804 | D50: =G50+J50 -> 16370 | E50: =H50+K50 -> 8030 | F50: =I50+L50 -> 8340 | G50: =SUM(H50:I50) -> 16176 | H50: 7882 | I50: 8294 | J50: =SUM(K50:L50) -> 194 | K50: 148 | L50: 46
B51: 강동면 | C51: 3560 | D51: =G51+J51 -> 7473 | E51: =H51+K51 -> 3863 | F51: =I51+L51 -> 3610 | G51: =SUM(H51:I51) -> 7206 | H51: 3665 | I51: 3541 | J51: =SUM(K51:L51) -> 267 | K51: 198 | L51: 69
B52: 천북면 | C52: 2377 | D52: =G52+J52 -> 5617 | E52: =H52+K52 -> 3010 | F52: =I52+L52 -> 2607 | G52: =SUM(H52:I52) -> 5327 | H52: 2762 | I52: 2565 | J52: =SUM(K52:L52) -> 290 | K52: 248 | L52: 42
... B63: 보덕동 | C63: 1050 | D63: =G63+J63 -> 2147 | E63: =H63+K63 -> 1097 | F63: =I63+L63 -> 1050 | G63: =SUM(H63:I63) -> 2095 | H63: 1071 | I63: 1024 | J63: =SUM(K63:L63) -> 52 | K63: 26 | L63: 26
B64: 김천시 | C64: =SUM(C65:C86) -> 60562 | D64: =G64+J64 -> 141941 | E64: =H64+K64 -> 71103 | F64: =I64+L64 -> 70838 | G64: =SUM(G65:G86) -> 140078 | H64: =SUM(H65:H86) -> 70039 | I64: =SUM(I65:I86) -> 70039 | J64: =SUM(J65:J86) -> 1863 | K64: =SUM(K65:K86) -> 1064 | L64: =SUM(L65:L86) -> 799
B65: 아포읍 | C65: 3758 | D65: =G65+J65 -> 8656 | E65: =H65+K65 -> 4363 | F65: =I65+L65 -> 4293 | G65: =SUM(H65:I65) -> 8517 | H65: 4275 | I65: 4242 | J65: =SUM(K65:L65) -> 139 | K65: 88 | L65: 51
B66: 농소면 | C66: 1469 | D66: =G66+J66 -> 3388 | E66: =H66+K66 -> 1733 | F66: =I66+L66 -> 1655 | G66: =SUM(H66:I66) -> 3351 | H66: 1711 | I66: 1640 | J66: =SUM(K66:L66) -> 37 | K66: 22 | L66: 15
B67: 남면 | C67: 1740 | D67: =G67+J67 -> 3713 | E67: =H67+K67 -> 1881 | F67: =I67+L67 -> 1832 | G67: =SUM(H67:I67) -> 3637 | H67: 1826 | I67: 1811 | J67: =SUM(K67:L67) -> 76 | K67: 55 | L67: 21
B68: 개령면 | C68: 1264 | D68: =G68+J68 -> 2995 | E68: =H68+K68 -> 1550 | F68: =I68+L68 -> 1445 | G68: =SUM(H68:I68) -> 2912 | H68: 1478 | I68: 1434 | J68: =SUM(K68:L68) -> 83 | K68: 72 | L68: 11
B69: 감문면 | C69: 1872 | D69: =G69+J69 -> 3928 | E69: =H69+K69 -> 1952 | F69: =I69+L69 -> 1976 | G69: =SUM(H69:I69) -> 3834 | H69: 1880 | I69: 1954 | J69: =SUM(K69:L69) -> 94 | K69: 72 | L69: 22
B70: 어모면 | C70: 2267 | D70: =G70+J70 -> 4977 | E70: =H70+K70 -> 2508 | F70: =I70+L70 -> 2469 | G70: =SUM(H70:I70) -> 4908 | H70: 2460 | I70: 2448 | J70: =SUM(K70:L70) -> 69 | K70: 48 | L70: 21
B71: 봉산면 | C71: 1676 | D71: =G71+J71 -> 3745 | E71: =H71+K71 -> 1900 | F71: =I71+L71 -> 1845 | G71: =SUM(H71:I71) -> 3679 | H71: 1861 | I71: 1818 | J71: =SUM(K71:L71) -> 66 | K71: 39 | L71: 27
B72: 대항면 | C72: 1800 | D72: =G72+J72 -> 4180 | E72: =H72+K72 -> 2090 | F72: =I72+L72 -> 2090 | G72: =SUM(H72:I72) -> 4159 | H72: 2088 | I72: 2071 | J72: =SUM(K72:L72) -> 21 | K72: 2 | L72: 19
B73: 감천면 | C73: 971 | D73: =G73+J73 -> 2293 | E73: =H73+K73 -> 1168 | F73: =I73+L73 -> 1125 | G73: =SUM(H73:I73) -> 2254 | H73: 1144 | I73: 1110 | J73: =SUM(K73:L73) -> 39 | K73: 24 | L73: 15
B74: 조마면 | C74: 1174 | D74: =G74+J74 -> 2685 | E74: =H74+K74 -> 1359 | F74: =I74+L74 -> 1326 | G74: =SUM(H74:I74) -> 2597 | H74: 1298 | I74: 1299 | J74: =SUM(K74:L74) -> 88 | K74: 61 | L74: 27
B75: 구성면 | C75: 1696 | D75: =G75+J75 -> 3278 | E75: =H75+K75 -> 1625 | F75: =I75+L75 -> 1653 | G75: =SUM(H75:I75) -> 3253 | H75: 1616 | I75: 1637 | J75: =SUM(K75:L75) -> 25 | K75: 9 | L75: 16
B76: 지례면 | C76: 1021 | D76: =G76+J76 -> 1942 | E76: =H76+K76 -> 991 | F76: =I76+L76 -> 951 | G76: =SUM(H76:I76) -> 1882 | H76: 946 | I76: 936 | J76: =SUM(K76:L76) -> 60 | K76: 45 | L76: 15
... B86: 율곡동 | C86: 3329 | D86: =G86+J86 -> 8274 | E86: =H86+K86 -> 4442 | F86: =I86+L86 -> 3832 | G86: =SUM(H86:I86) -> 8254 | H86: 4436 | I86: 3818 | J86: =SUM(K86:L86) -> 20 | K86: 6 | L86: 14
B87: 안동시 | C87: =SUM(C88:C111) -> 72147 | D87: =G87+J87 -> 169615 | E87: =H87+K87 -> 83485 | F87: =I87+L87 -> 86130 | G87: =SUM(G88:G111) -> 168240 | H87: =SUM(H88:H111) -> 82923 | I87: =SUM(I88:I111) -> 85317 | J87: =SUM(J88:J111) -> 1375 | K87: =SUM(K88:K111) -> 562 | L87: =SUM(L88:L111) -> 813
B88: 풍산읍 | C88: 3576 | D88: =G88+J88 -> 7336 | E88: =H88+K88 -> 3650 | F88: =I88+L88 -> 3686 | G88: =SUM(H88:I88) -> 7247 | H88: 3598 | I88: 3649 | J88: =SUM(K88:L88) -> 89 | K88: 52 | L88: 37
B89: 와룡면 | C89: 2094 | D89: =G89+J89 -> 4518 | E89: =H89+K89 -> 2304 | F89: =I89+L89 -> 2214 | G89: =SUM(H89:I89) -> 4473 | H89: 2285 | I89: 2188 | J89: =SUM(K89:L89) -> 45 | K89: 19 | L89: 26
B90: 북후면 | C90: 1576 | D90: =G90+J90 -> 3536 | E90: =H90+K90 -> 1806 | F90: =I90+L90 -> 1730 | G90: =SUM(H90:I90) -> 3500 | H90: 1796 | I90: 1704 | J90: =SUM(K90:L90) -> 36 | K90: 10 | L90: 26
B91: 서후면 | C91: 1874 | D91: =G91+J91 -> 3902 | E91: =H91+K91 -> 2009 | F91: =I91+L91 -> 1893 | G91: =SUM(H91:I91) -> 3866 | H91: 2000 | I91: 1866 | J91: =SUM(K91:L91) -> 36 | K91: 9 | L91: 27
B92: 풍천면 | C92: 2061 | D92: =G92+J92 -> 4177 | E92: =H92+K92 -> 2066 | F92: =I92+L92 -> 2111 | G92: =SUM(H92:I92) -> 4124 | H92: 2047 | I92: 2077 | J92: =SUM(K92:L92) -> 53 | K92: 19 | L92: 34
B93: 일직면 | C93: 1584 | D93: =G93+J93 -> 3261 | E93: =H93+K93 -> 1534 | F93: =I93+L93 -> 1727 | G93: =SUM(H93:I93) -> 3200 | H93: 1505 | I93: 1695 | J93: =SUM(K93:L93) -> 61 | K93: 29 | L93: 32
B94: 남후면 | C94: 1035 | D94: =G94+J94 -> 2083 | E94: =H94+K94 -> 1066 | F94: =I94+L94 -> 1017 | G94: =SUM(H94:I94) -> 2032 | H94: 1018 | I94: 1014 | J94: =SUM(K94:L94) -> 51 | K94: 48 | L94: 3
B95: 남선면 | C95: 1119 | D95: =G95+J95 -> 2390 | E95: =H95+K95 -> 1186 | F95: =I95+L95 -> 1204 | G95: =SUM(H95:I95) -> 2368 | H95: 1177 | I95: 1191 | J95: =SUM(K95:L95) -> 22 | K95: 9 | L95: 13
B96: 임하면 | C96: 1471 | D96: =G96+J96 -> 3393 | E96: =H96+K96 -> 1780 | F96: =I96+L96 -> 1613 | G96: =SUM(H96:I96) -> 3337 | H96: 1754 | I96: 1583 | J96: =SUM(K96:L96) -> 56 | K96: 26 | L96: 30
B97: 길안면 | C97: 1651 | D97: =G97+J97 -> 3119 | E97: =H97+K97 -> 1559 | F97: =I97+L97 -> 1560 | G97: =SUM(H97:I97) -> 3092 | H97: 1548 | I97: 1544 | J97: =SUM(K97:L97) -> 27 | K97: 11 | L97: 16
B98: 임동면 | C98: 1080 | D98: =G98+J98 -> 2062 | E98: =H98+K98 -> 1038 | F98: =I98+L98 -> 1024 | G98: =SUM(H98:I98) -> 2034 | H98: 1031 | I98: 1003 | J98: =SUM(K98:L98) -> 28 | K98: 7 | L98: 21
B99: 예안면 | C99: 1063 | D99: =G99+J99 -> 2094 | E99: =H99+K99 -> 1065 | F99: =I99+L99 -> 1029 | G99: =SUM(H99:I99) -> 2078 | H99: 1061 | I99: 1017 | J99: =SUM(K99:L99) -> 16 | K99: 4 | L99: 12
... B111: 강남동 | C111: 3660 | D111: =G111+J111 -> 10402 | E111: =H111+K111 -> 5129 | F111: =I111+L111 -> 5273 | G111: =SUM(H111:I111) -> 10354 | H111: 5098 | I111: 5256 | J111: =SUM(K111:L111) -> 48 | K111: 31 | L111: 17
B112: 구미시 | C112: =SUM(C113:C139) -> 167460 | D112: =G112+J112 -> 425795 | E112: =H112+K112 -> 217817 | F112: =I112+L112 -> 207978 | G112: =SUM(G113:G139) -> 419743 | H112: =SUM(H113:H139) -> 214267 | I112: =SUM(I113:I139) -> 205476 | J112: =SUM(J113:J139) -> 6052 | K112: =SUM(K113:K139) -> 3550 | L112: =SUM(L113:L139) -> 2502
B113: 선산읍 | C113: 5986 | D113: =G113+J113 -> 14882 | E113: =H113+K113 -> 7467 | F113: =I113+L113 -> 7415 | G113: =SUM(H113:I113) -> 14749 | H113: 7416 | I113: 7333 | J113: =SUM(K113:L113) -> 133 | K113: 51 | L113: 82
B114: 고아읍 | C114: 11296 | D114: =G114+J114 -> 33537 | E114: =H114+K114 -> 17108 | F114: =I114+L114 -> 16429 | G114: =SUM(H114:I114) -> 33238 | H114: 16886 | I114: 16352 | J114: =SUM(K114:L114) -> 299 | K114: 222 | L114: 77
B115: 무을면 | C115: 1021 | D115: =G115+J115 -> 2123 | E115: =H115+K115 -> 1043 | F115: =I115+L115 -> 1080 | G115: =SUM(H115:I115) -> 2092 | H115: 1033 | I115: 1059 | J115: =SUM(K115:L115) -> 31 | K115: 10 | L115: 21
B116: 옥성면 | C116: 939 | D116: =G116+J116 -> 1996 | E116: =H116+K116 -> 1034 | F116: =I116+L116 -> 962 | G116: =SUM(H116:I116) -> 1948 | H116: 994 | I116: 954 | J116: =SUM(K116:L116) -> 48 | K116: 40 | L116: 8
B117: 도개면 | C117: 1162 | D117: =G117+J117 -> 2496 | E117: =H117+K117 -> 1264 | F117: =I117+L117 -> 1232 | G117: =SUM(H117:I117) -> 2422 | H117: 1202 | I117: 1220 | J117: =SUM(K117:L117) -> 74 | K117: 62 | L117: 12
B118: 해평면 | C118: 2366 | D118: =G118+J118 -> 5290 | E118: =H118+K118 -> 2751 | F118: =I118+L118 -> 2539 | G118: =SUM(H118:I118) -> 5199 | H118: 2683 | I118: 2516 | J118: =SUM(K118:L118) -> 91 | K118: 68 | L118: 23
B119: 산동면 | C119: 2004 | D119: =G119+J119 -> 4288 | E119: =H119+K119 -> 2600 | F119: =I119+L119 -> 1688 | G119: =SUM(H119:I119) -> 3693 | H119: 2091 | I119: 1602 | J119: =SUM(K119:L119) -> 595 | K119: 509 | L119: 86
B120: 장천면 | C120: 1628 | D120: =G120+J120 -> 3749 | E120: =H120+K120 -> 1957 | F120: =I120+L120 -> 1792 | G120: =SUM(H120:I120) -> 3612 | H120: 1842 | I120: 1770 | J120: =SUM(K120:L120) -> 137 | K120: 115 | L120: 22
B121: 송정동 | C121: 7574 | D121: =G121+J121 -> 19105 | E121: =H121+K121 -> 9417 | F121: =I121+L121 -> 9688 | G121: =SUM(H121:I121) -> 19011 | H121: 9386 | I121: 9625 | J121: =SUM(K121:L121) -> 94 | K121: 31 | L121: 63
B122: 원평1동 | C122: 3152 | D122: =G122+J122 -> 5154 | E122: =H122+K122 -> 2687 | F122: =I122+L122 -> 2467 | G122: =SUM(H122:I122) -> 5086 | H122: 2668 | I122: 2418 | J122: =SUM(K122:L122) -> 68 | K122: 19 | L122: 49
B123: 원평2동 | C123: 2371 | D123: =G123+J123 -> 4486 | E123: =H123+K123 -> 2330 | F123: =I123+L123 -> 2156 | G123: =SUM(H123:I123) -> 4461 | H123: 2324 | I123: 2137 | J123: =SUM(K123:L123) -> 25 | K123: 6 | L123: 19
B124: 도량동 | C124: 11089 | D124: =G124+J124 -> 31766 | E124: =H124+K124 -> 15720 | F124: =I124+L124 -> 16046 | G124: =SUM(H124:I124) -> 31647 | H124: 15680 | I124: 15967 | J124: =SUM(K124:L124) -> 119 | K124: 40 | L124: 79
... B139: 양포동 | C139: 16727 | D139: =G139+J139 -> 47054 | E139: =H139+K139 -> 24432 | F139: =I139+L139 -> 22622 | G139: =SUM(H139:I139) -> 46322 | H139: 23985 | I139: 22337 | J139: =SUM(K139:L139) -> 732 | K139: 447 | L139: 285
B140: 영주시 | C140: =SUM(C141:C159) -> 48093 | D140: =G140+J140 -> 110881 | E140: =H140+K140 -> 55017 | F140: =I140+L140 -> 55864 | G140: =SUM(G141:G159) -> 110040 | H140: =SUM(H141:H159) -> 54687 | I140: =SUM(I141:I159) -> 55353 | J140: =SUM(J141:J159) -> 841 | K140: =SUM(K141:K159) -> 330 | L140: =SUM(L141:L159) -> 511
B141: 풍기읍 | C141: 5512 | D141: =G141+J141 -> 12145 | E141: =H141+K141 -> 6080 | F141: =I141+L141 -> 6065 | G141: =SUM(H141:I141) -> 11889 | H141: 5958 | I141: 5931 | J141: =SUM(K141:L141) -> 256 | K141: 122 | L141: 134
B142: 이산면 | C142: 1248 | D142: =G142+J142 -> 2846 | E142: =H142+K142 -> 1427 | F142: =I142+L142 -> 1419 | G142: =SUM(H142:I142) -> 2820 | H142: 1423 | I142: 1397 | J142: =SUM(K142:L142) -> 26 | K142: 4 | L142: 22
B143: 평은면 | C143: 802 | D143: =G143+J143 -> 1633 | E143: =H143+K143 -> 825 | F143: =I143+L143 -> 808 | G143: =SUM(H143:I143) -> 1621 | H143: 818 | I143: 803 | J143: =SUM(K143:L143) -> 12 | K143: 7 | L143: 5
B144: 문수면 | C144: 1062 | D144: =G144+J144 -> 2191 | E144: =H144+K144 -> 1115 | F144: =I144+L144 -> 1076 | G144: =SUM(H144:I144) -> 2160 | H144: 1101 | I144: 1059 | J144: =SUM(K144:L144) -> 31 | K144: 14 | L144: 17
B145: 장수면 | C145: 1188 | D145: =G145+J145 -> 2585 | E145: =H145+K145 -> 1333 | F145: =I145+L145 -> 1252 | G145: =SUM(H145:I145) -> 2525 | H145: 1292 | I145: 1233 | J145: =SUM(K145:L145) -> 60 | K145: 41 | L145: 19
B146: 안정면 | C146: 1587 | D146: =G146+J146 -> 3331 | E146: =H146+K146 -> 1684 | F146: =I146+L146 -> 1647 | G146: =SUM(H146:I146) -> 3305 | H146: 1675 | I146: 1630 | J146: =SUM(K146:L146) -> 26 | K146: 9 | L146: 17
B147: 봉현면 | C147: 1462 | D147: =G147+J147 -> 3153 | E147: =H147+K147 -> 1603 | F147: =I147+L147 -> 1550 | G147: =SUM(H147:I147) -> 3135 | H147: 1600 | I147: 1535 | J147: =SUM(K147:L147) -> 18 | K147: 3 | L147: 15
B148: 순흥면 | C148: 1101 | D148: =G148+J148 -> 2362 | E148: =H148+K148 -> 1180 | F148: =I148+L148 -> 1182 | G148: =SUM(H148:I148) -> 2349 | H148: 1176 | I148: 1173 | J148: =SUM(K148:L148) -> 13 | K148: 4 | L148: 9
B149: 단산면 | C149: 1109 | D149: =G149+J149 -> 2171 | E149: =H149+K149 -> 1076 | F149: =I149+L149 -> 1095 | G149: =SUM(H149:I149) -> 2168 | H149: 1075 | I149: 1093 | J149: =SUM(K149:L149) -> 3 | K149: 1 | L149: 2
...

Sheet 2-1.시군 연령별총괄(5세)
B2: 2. 연령별 인구 총괄
B4: (단위 : 세, 명)
C5: 경 상 북 도 | F5: 포항시 | I5: 경주시 | L5: 김천시 | O5: 안동시 | R5: 구미시 | U5: 영주시 | X5: 영천시 | AA5: 상주시 | AD5: 문경시 | AG5: 경산시 | AJ5: 군위군 | AM5: 의성군 | AP5: 청송군 | AS5: 영양군 | AV5: 영덕군 | AY5: 청도군 | BB5: 고령군 | BE5: 성주군 | BH5: 칠곡군 | BK5: 예천군 | BN5: 봉화군 | BQ5: 울진군 | BT5: 울릉군
C6: 총 계 | D6: 남 | E6: 여 | F6: 소 계 | G6: 남 | H6: 여 | I6: 소 계 | J6: 남 | K6: 여 | L6: 소 계 | M6: 남 | N6: 여 | O6: 소 계 | P6: 남 | Q6: 여 | R6: 소 계 | S6: 남 | T6: 여 | U6: 소 계 | V6: 남 | W6: 여 | X6: 소 계 | Y6: 남 | Z6: 여 | AA6: 소 계 | AB6: 남 | AC6: 여 | AD6: 소 계 | AE6: 남 | AF6: 여 | AG6: 소 계 | AH6: 남 | AI6: 여 | AJ6: 소 계 | AK6: 남 | AL6: 여 | AM6: 소 계 | AN6: 남 | AO6: 여 | AP6: 소 계 | AQ6: 남 | AR6: 여 | AS6: 소 계 | AT6: 남 | AU6: 여 | AV6: 소 계 | AW6: 남 | AX6: 여 | AY6: 소 계 | AZ6: 남 | BA6: 여 | BB6: 소 계 | BC6: 남 | BD6: 여 | BE6: 소 계 | BF6: 남 | BG6: 여 | BH6: 소 계 | BI6: 남 | BJ6: 여 | BK6: 소 계 | BL6: 남 | BM6: 여 | BN6: 소 계 | BO6: 남 | BP6: 여 | BQ6: 소 계 | BR6: 남 | BS6: 여 | BT6: 소 계 | BU6: 남 | BV6: 여
B7: 총 계 | C7: =D7+E7 -> 2750048 | D7: =SUM(D8:D28) -> 1387406 | E7: =SUM(E8:E28) -> 1362642 | F7: =G7+H7 -> 523211 | G7: =SUM(G8:G28) -> 265301 | H7: =SUM(H8:H28) -> 257910 | I7: =J7+K7 -> 269526 | J7: =SUM(J8:J28) -> 136653 | K7: =SUM(K8:K28) -> 132873 | L7: =M7+N7 -> 141941 | M7: =SUM(M8:M28) -> 71103 | N7: =SUM(N8:N28) -> 70838 | O7: =P7+Q7 -> 169615 | P7: =SUM(P8:P28) -> 83485 | Q7: =SUM(Q8:Q28) -> 86130 | R7: =S7+T7 -> 425795 | S7: =SUM(S8:S28) -> 217817 | T7: =SUM(T8:T28) -> 207978 | U7: =V7+W7 -> 110881 | V7: =SUM(V8:V28) -> 55017 | W7: =SUM(W8:W28) -> 55864 | X7: =Y7+Z7 -> 103381 | Y7: =SUM(Y8:Y28) -> 52737 | Z7: =SUM(Z8:Z28) -> 50644 | AA7: =AB7+AC7 -> 103327 | AB7: =SUM(AB8:AB28) -> 50535 | AC7: =SUM(AC8:AC28) -> 52792 | AD7: =AE7+AF7 -> 76045 | AE7: =SUM(AE8:AE28) -> 37204 | AF7: =SUM(AF8:AF28) -> 38841 | AG7: =AH7+AI7 -> 264473 | AH7: =SUM(AH8:AH28) -> 133820 | AI7: =SUM(AI8:AI28) -> 130653 | AJ7: =AK7+AL7 -> 24661 | AK7: =SUM(AK8:AK28) -> 12511 | AL7: =SUM(AL8:AL28) -> 12150 | AM7: =AN7+AO7 -> 55330 | AN7: =SUM(AN8:AN28) -> 27074 | AO7: =SUM(AO8:AO28) -> 28256 | AP7: =AQ7+AR7 -> 26609 | AQ7: =SUM(AQ8:AQ28) -> 13165 | AR7: =SUM(AR8:AR28) -> 13444 | AS7: =AT7+AU7 -> 18179 | AT7: =SUM(AT8:AT28) -> 8893 | AU7: =SUM(AU8:AU28) -> 9286 | AV7: =AW7+AX7 -> 40035 | AW7: =SUM(AW8:AW28) -> 19193 | AX7: =SUM(AX8:AX28) -> 20842 | AY7: =AZ7+BA7 -> 44604 | AZ7: =SUM(AZ8:AZ28) -> 21803 | BA7: =SUM(BA8:BA28) -> 22801 | BB7: =BC7+BD7 -> 36399 | BC7: =SUM(BC8:BC28) -> 19057 | BD7: =SUM(BD8:BD28) -> 17342 | BE7: =BF7+BG7 -> 46640 | BF7: =SUM(BF8:BF28) -> 24249 | BG7: =SUM(BG8:BG28) -> 22391 | BH7: =BI7+BJ7 -> 126371 | BI7: =SUM(BI8:BI28) -> 66229 | BJ7: =SUM(BJ8:BJ28) -> 60142 | BK7: =BL7+BM7 -> 45322 | BL7: =SUM(BL8:BL28) -> 22183 | BM7: =SUM(BM8:BM28) -> 23139 | BN7: =BO7+BP7 -> 34085 | BO7: =SUM(BO8:BO28) -> 16890 | BP7: =SUM(BP8:BP28) -> 17195 | BQ7: =BR7+BS7 -> 53227 | BR7: =SUM(BR8:BR28) -> 26903 | BS7: =SUM(BS8:BS28) -> 26324 | BT7: =BU7+BV7 -> 10391 | BU7: =SUM(BU8:BU28) -> 5584 | BV7: =SUM(BV8:BV28) -> 4807
B8: 0-4 | C8: =D8+E8 -> 113874 | D8: =SUM(G8,J8,M8,P8,S8,V8,Y8,AB8,AE8,AH8,AK8,AN8,AQ8,AT8,AW8,AZ8,BC8,BF8,BI8,BL8,BO8,BR8,BU8) -> 58819 | E8: =SUM(H8,K8,N8,Q8,T8,W8,Z8,AC8,AF8,AI8,AL8,AO8,AR8,AU8,AX8,BA8,BD8,BG8,BJ8,BM8,BP8,BS8,BV8) -> 55055 | F8: =G8+H8 -> 23570 | G8: =G32+G55 -> 12289 | H8: =H32+H55 -> 11281 | I8: =J8+K8 -> 9387 | J8: =J32+J55 -> 4809 | K8: =K32+K55 -> 4578 | L8: =M8+N8 -> 5730 | M8: =M32+M55 -> 2953 | N8: =N32+N55 -> 2777 | O8: =P8+Q8 -> 7189 | P8: =P32+P55 -> 3740 | Q8: =Q32+Q55 -> 3449 | R8: =S8+T8 -> 24431 | S8: =S32+S55 -> 12695 | T8: =T32+T55 -> 11736 | U8: =V8+W8 -> 3638 | V8: =V32+V55 -> 1890 | W8: =W32+W55 -> 1748 | X8: =Y8+Z8 -> 3384 | Y8: =Y32+Y55 -> 1733 | Z8: =Z32+Z55 -> 1651 | AA8: =AB8+AC8 -> 2945 | AB8: =AB32+AB55 -> 1537 | AC8: =AC32+AC55 -> 1408 | AD8: =AE8+AF8 -> 2639 | AE8: =AE32+AE55 -> 1383 | AF8: =AF32+AF55 -> 1256 | AG8: =AH8+AI8 -> 12322 | AH8: =AH32+AH55 -> 6237 | AI8: =AI32+AI55 -> 6085 | AJ8: =AK8+AL8 -> 491 | AK8: =AK32+AK55 -> 248 | AL8: =AL32+AL55 -> 243 | AM8: =AN8+AO8 -> 1125 | AN8: =AN32+AN55 -> 573 | AO8: =AO32+AO55 -> 552 | AP8: =AQ8+AR8 -> 654 | AQ8: =AQ32+AQ55 -> 328 | AR8: =AR32+AR55 -> 326 | AS8: =AT8+AU8 -> 489 | AT8: =AT32+AT55 -> 270 | AU8: =AU32+AU55 -> 219 | AV8: =AW8+AX8 -> 1034 | AW8: =AW32+AW55 -> 533 | AX8: =AX32+AX55 -> 501 | AY8: =AZ8+BA8 -> 893 | AZ8: =AZ32+AZ55 -> 441 | BA8: =BA32+BA55 -> 452 | BB8: =BC8+BD8 -> 1206 | BC8: =BC32+BC55 -> 604 | BD8: =BD32+BD55 -> 602 | BE8: =BF8+BG8 -> 1367 | BF8: =BF32+BF55 -> 689 | BG8: =BG32+BG55 -> 678 | BH8: =BI8+BJ8 -> 6798 | BI8: =BI32+BI55 -> 3515 | BJ8: =BJ32+BJ55 -> 3283 | BK8: =BL8+BM8 -> 1324 | BL8: =BL32+BL55 -> 675 | BM8: =BM32+BM55 -> 649 | BN8: =BO8+BP8 -> 1060 | BO8: =BO32+BO55 -> 538 | BP8: =BP32+BP55 -> 522 | BQ8: =BR8+BS8 -> 1931 | BR8: =BR32+BR55 -> 1004 | BS8: =BS32+BS55 -> 927 | BT8: =BU8+BV8 -> 267 | BU8: =BU32+BU55 -> 135 | BV8: =BV32+BV55 -> 132
B9: 5-9 | C9: =D9+E9 -> 110018 | D9: =SUM(G9,J9,M9,P9,S9,V9,Y9,AB9,AE9,AH9,AK9,AN9,AQ9,AT9,AW9,AZ9,BC9,BF9,BI9,BL9,BO9,BR9,BU9) -> 57221 | E9: =SUM(H9,K9,N9,Q9,T9,W9,Z9,AC9,AF9,AI9,AL9,AO9,AR9,AU9,AX9,BA9,BD9,BG9,BJ9,BM9,BP9,BS9,BV9) -> 52797 | F9: =G9+H9 -> 22828 | G9: =G33+G56 -> 11845 | H9: =H33+H56 -> 10983 | I9: =J9+K9 -> 10192 | J9: =J33+J56 -> 5261 | K9: =K33+K56 -> 4931 | L9: =M9+N9 -> 5374 | M9: =M33+M56 -> 2847 | N9: =N33+N56 -> 2527 | O9: =P9+Q9 -> 6860 | P9: =P33+P56 -> 3548 | Q9: =Q33+Q56 -> 3312 | R9: =S9+T9 -> 22785 | S9: =S33+S56 -> 11788 | T9: =T33+T56 -> 10997 | U9: =V9+W9 -> 4148 | V9: =V33+V56 -> 2125 | W9: =W33+W56 -> 2023 | X9: =Y9+Z9 -> 3074 | Y9: =Y33+Y56 -> 1620 | Z9: =Z33+Z56 -> 1454 | AA9: =AB9+AC9 -> 3484 | AB9: =AB33+AB56 -> 1818 | AC9: =AC33+AC56 -> 1666 | AD9: =AE9+AF9 -> 2496 | AE9: =AE33+AE56 -> 1352 | AF9: =AF33+AF56 -> 1144 | AG9: =AH9+AI9 -> 11109 | AH9: =AH33+AH56 -> 5737 | AI9: =AI33+AI56 -> 5372 | AJ9: =AK9+AL9 -> 443 | AK9: =AK33+AK56 -> 245 | AL9: =AL33+AL56 -> 198 | AM9: =AN9+AO9 -> 1100 | AN9: =AN33+AN56 -> 580 | AO9: =AO33+AO56 -> 520 | AP9: =AQ9+AR9 -> 592 | AQ9: =AQ33+AQ56 -> 300 | AR9: =AR33+AR56 -> 292 | AS9: =AT9+AU9 -> 480 | AT9: =AT33+AT56 -> 250 | AU9: =AU33+AU56 -> 230 | AV9: =AW9+AX9 -> 1022 | AW9: =AW33+AW56 -> 524 | AX9: =AX33+AX56 -> 498 | AY9: =AZ9+BA9 -> 987 | AZ9: =AZ33+AZ56 -> 496 | BA9: =BA33+BA56 -> 491 | BB9: =BC9+BD9 -> 1163 | BC9: =BC33+BC56 -> 604 | BD9: =BD33+BD56 -> 559 | BE9: =BF9+BG9 -> 1111 | BF9: =BF33+BF56 -> 596 | BG9: =BG33+BG56 -> 515 | BH9: =BI9+BJ9 -> 6341 | BI9: =BI33+BI56 -> 3303 | BJ9: =BJ33+BJ56 -> 3038 | BK9: =BL9+BM9 -> 1316 | BL9: =BL33+BL56 -> 728 | BM9: =BM33+BM56 -> 588 | BN9: =BO9+BP9 -> 940 | BO9: =BO33+BO56 -> 489 | BP9: =BP33+BP56 -> 451 | BQ9: =BR9+BS9 -> 1891 | BR9: =BR33+BR56 -> 1019 | BS9: =BS33+BS56 -> 872 | BT9: =BU9+BV9 -> 282 | BU9: =BU33+BU56 -> 146 | BV9: =BV33+BV56 -> 136
B10: 10-14 | C10: =D10+E10 -> 119408 | D10: =SUM(G10,J10,M10,P10,S10,V10,Y10,AB10,AE10,AH10,AK10,AN10,AQ10,AT10,AW10,AZ10,BC10,BF10,BI10,BL10,BO10,BR10,BU10) -> 62875 | E10: =SUM(H10,K10,N10,Q10,T10,W10,Z10,AC10,AF10,AI10,AL10,AO10,AR10,AU10,AX10,BA10,BD10,BG10,BJ10,BM10,BP10,BS10,BV10) -> 56533 | F10: =G10+H10 -> 24934 | G10: =G34+G57 -> 13216 | H10: =H34+H57 -> 11718 | I10: =J10+K10 -> 11357 | J10: =J34+J57 -> 5975 | K10: =K34+K57 -> 5382 | L10: =M10+N10 -> 5724 | M10: =M34+M57 -> 2985 | N10: =N34+N57 -> 2739 | O10: =P10+Q10 -> 7665 | P10: =P34+P57 -> 3992 | Q10: =Q34+Q57 -> 3673 | R10: =S10+T10 -> 24096 | S10: =S34+S57 -> 12580 | T10: =T34+T57 -> 11516 | U10: =V10+W10 -> 4952 | V10: =V34+V57 -> 2624 | W10: =W34+W57 -> 2328 | X10: =Y10+Z10 -> 3412 | Y10: =Y34+Y57 -> 1837 | Z10: =Z34+Z57 -> 1575 | AA10: =AB10+AC10 -> 3966 | AB10: =AB34+AB57 -> 2120 | AC10: =AC34+AC57 -> 1846 | AD10: =AE10+AF10 -> 3076 | AE10: =AE34+AE57 -> 1646 | AF10: =AF34+AF57 -> 1430 | AG10: =AH10+AI10 -> 11567 | AH10: =AH34+AH57 -> 6068 | AI10: =AI34+AI57 -> 5499 | AJ10: =AK10+AL10 -> 483 | AK10: =AK34+AK57 -> 270 | AL10: =AL34+AL57 -> 213 | AM10: =AN10+AO10 -> 1285 | AN10: =AN34+AN57 -> 666 | AO10: =AO34+AO57 -> 619 | AP10: =AQ10+AR10 -> 707 | AQ10: =AQ34+AQ57 -> 372 | AR10: =AR34+AR57 -> 335 | AS10: =AT10+AU10 -> 520 | AT10: =AT34+AT57 -> 257 | AU10: =AU34+AU57 -> 263 | AV10: =AW10+AX10 -> 1188 | AW10: =AW34+AW57 -> 621 | AX10: =AX34+AX57 -> 567 | AY10: =AZ10+BA10 -> 1161 | AZ10: =AZ34+AZ57 -> 607 | BA10: =BA34+BA57 -> 554 | BB10: =BC10+BD10 -> 1117 | BC10: =BC34+BC57 -> 588 | BD10: =BD34+BD57 -> 529 | BE10: =BF10+BG10 -> 1210 | BF10: =BF34+BF57 -> 674 | BG10: =BG34+BG57 -> 536 | BH10: =BI10+BJ10 -> 6258 | BI10: =BI34+BI57 -> 3299 | BJ10: =BJ34+BJ57 -> 2959 | BK10: =BL10+BM10 -> 1399 | BL10: =BL34+BL57 -> 748 | BM10: =BM34+BM57 -> 651 | BN10: =BO10+BP10 -> 1012 | BO10: =BO34+BO57 -> 548 | BP10: =BP34+BP57 -> 464 | BQ10: =BR10+BS10 -> 2031 | BR10: =BR34+BR57 -> 1033 | BS10: =BS34+BS57 -> 998 | BT10: =BU10+BV10 -> 288 | BU10: =BU34+BU57 -> 149 | BV10: =BV34+BV57 -> 139
B11: 15-19 | C11: =D11+E11 -> 161653 | D11: =SUM(G11,J11,M11,P11,S11,V11,Y11,AB11,AE11,AH11,AK11,AN11,AQ11,AT11,AW11,AZ11,BC11,BF11,BI11,BL11,BO11,BR11,BU11) -> 85992 | E11: =SUM(H11,K11,N11,Q11,T11,W11,Z11,AC11,AF11,AI11,AL11,AO11,AR11,AU11,AX11,BA11,BD11,BG11,BJ11,BM11,BP11,BS11,BV11) -> 75661 | F11: =G11+H11 -> 34149 | G11: =G35+G58 -> 18094 | H11: =H35+H58 -> 16055 | I11: =J11+K11 -> 16219 | J11: =J35+J58 -> 8569 | K11: =K35+K58 -> 7650 | L11: =M11+N11 -> 8413 | M11: =M35+M58 -> 4479 | N11: =N35+N58 -> 3934 | O11: =P11+Q11 -> 9529 | P11: =P35+P58 -> 4987 | Q11: =Q35+Q58 -> 4542 | R11: =S11+T11 -> 30580 | S11: =S35+S58 -> 16357 | T11: =T35+T58 -> 14223 | U11: =V11+W11 -> 6726 | V11: =V35+V58 -> 3618 | W11: =W35+W58 -> 3108 | X11: =Y11+Z11 -> 5071 | Y11: =Y35+Y58 -> 2664 | Z11: =Z35+Z58 -> 2407 | AA11: =AB11+AC11 -> 5532 | AB11: =AB35+AB58 -> 2974 | AC11: =AC35+AC58 -> 2558 | AD11: =AE11+AF11 -> 4255 | AE11: =AE35+AE58 -> 2308 | AF11: =AF35+AF58 -> 1947 | AG11: =AH11+AI11 -> 15567 | AH11: =AH35+AH58 -> 8188 | AI11: =AI35+AI58 -> 7379 | AJ11: =AK11+AL11 -> 901 | AK11: =AK35+AK58 -> 486 | AL11: =AL35+AL58 -> 415 | AM11: =AN11+AO11 -> 1905 | AN11: =AN35+AN58 -> 999 | AO11: =AO35+AO58 -> 906 | AP11: =AQ11+AR11 -> 1029 | AQ11: =AQ35+AQ58 -> 549 | AR11: =AR35+AR58 -> 480 | AS11: =AT11+AU11 -> 750 | AT11: =AT35+AT58 -> 418 | AU11: =AU35+AU58 -> 332 | AV11: =AW11+AX11 -> 1653 | AW11: =AW35+AW58 -> 869 | AX11: =AX35+AX58 -> 784 | AY11: =AZ11+BA11 -> 1825 | AZ11: =AZ35+AZ58 -> 967 | BA11: =BA35+BA58 -> 858 | BB11: =BC11+BD11 -> 1599 | BC11: =BC35+BC58 -> 852 | BD11: =BD35+BD58 -> 747 | BE11: =BF11+BG11 -> 2012 | BF11: =BF35+BF58 -> 1086 | BG11: =BG35+BG58 -> 926 | BH11: =BI11+BJ11 -> 7326 | BI11: =BI35+BI58 -> 3990 | BJ11: =BJ35+BJ58 -> 3336 | BK11: =BL11+BM11 -> 1838 | BL11: =BL35+BL58 -> 945 | BM11: =BM35+BM58 -> 893 | BN11: =BO11+BP11 -> 1431 | BO11: =BO35+BO58 -> 735 | BP11: =BP35+BP58 -> 696 | BQ11: =BR11+BS11 -> 2942 | BR11: =BR35+BR58 -> 1651 | BS11: =BS35+BS58 -> 1291 | BT11: =BU11+BV11 -> 401 | BU11: =BU35+BU58 -> 207 | BV11: =BV35+BV58 -> 194
B12: 20-24 | C12: =D12+E12 -> 175813 | D12: =SUM(G12,J12,M12,P12,S12,V12,Y12,AB12,AE12,AH12,AK12,AN12,AQ12,AT12,AW12,AZ12,BC12,BF12,BI12,BL12,BO12,BR12,BU12) -> 97722 | E12: =SUM(H12,K12,N12,Q12,T12,W12,Z12,AC12,AF12,AI12,AL12,AO12,AR12,AU12,AX12,BA12,BD12,BG12,BJ12,BM12,BP12,BS12,BV12) -> 78091 | F12: =G12+H12 -> 34583 | G12: =G36+G59 -> 19795 | H12: =H36+H59 -> 14788 | I12: =J12+K12 -> 17840 | J12: =J36+J59 -> 10173 | K12: =K36+K59 -> 7667 | L12: =M12+N12 -> 9174 | M12: =M36+M59 -> 5104 | N12: =N36+N59 -> 4070 | O12: =P12+Q12 -> 10133 | P12: =P36+P59 -> 5641 | Q12: =Q36+Q59 -> 4492 | R12: =S12+T12 -> 33516 | S12: =S36+S59 -> 17485 | T12: =T36+T59 -> 16031 | U12: =V12+W12 -> 6458 | V12: =V36+V59 -> 3741 | W12: =W36+W59 -> 2717 | X12: =Y12+Z12 -> 5791 | Y12: =Y36+Y59 -> 3423 | Z12: =Z36+Z59 -> 2368 | AA12: =AB12+AC12 -> 5394 | AB12: =AB36+AB59 -> 3077 | AC12: =AC36+AC59 -> 2317 | AD12: =AE12+AF12 -> 3959 | AE12: =AE36+AE59 -> 2194 | AF12: =AF36+AF59 -> 1765 | AG12: =AH12+AI12 -> 20112 | AH12: =AH36+AH59 -> 10993 | AI12: =AI36+AI59 -> 9119 | AJ12: =AK12+AL12 -> 1128 | AK12: =AK36+AK59 -> 674 | AL12: =AL36+AL59 -> 454 | AM12: =AN12+AO12 -> 2342 | AN12: =AN36+AN59 -> 1349 | AO12: =AO36+AO59 -> 993 | AP12: =AQ12+AR12 -> 1194 | AQ12: =AQ36+AQ59 -> 690 | AR12: =AR36+AR59 -> 504 | AS12: =AT12+AU12 -> 813 | AT12: =AT36+AT59 -> 459 | AU12: =AU36+AU59 -> 354 | AV12: =AW12+AX12 -> 1855 | AW12: =AW36+AW59 -> 1096 | AX12: =AX36+AX59 -> 759 | AY12: =AZ12+BA12 -> 2044 | AZ12: =AZ36+AZ59 -> 1154 | BA12: =BA36+BA59 -> 890 | BB12: =BC12+BD12 -> 1858 | BC12: =BC36+BC59 -> 1140 | BD12: =BD36+BD59 -> 718 | BE12: =BF12+BG12 -> 2592 | BF12: =BF36+BF59 -> 1537 | BG12: =BG36+BG59 -> 1055 | BH12: =BI12+BJ12 -> 8241 | BI12: =BI36+BI59 -> 4099 | BJ12: =BJ36+BJ59 -> 4142 | BK12: =BL12+BM12 -> 2020 | BL12: =BL36+BL59 -> 1151 | BM12: =BM36+BM59 -> 869 | BN12: =BO12+BP12 -> 1388 | BO12: =BO36+BO59 -> 771 | BP12: =BP36+BP59 -> 617 | BQ12: =BR12+BS12 -> 2782 | BR12: =BR36+BR59 -> 1617 | BS12: =BS36+BS59 -> 1165 | BT12: =BU12+BV12 -> 596 | BU12: =BU36+BU59 -> 359 | BV12: =BV36+BV59 -> 237
B13: 25-29 | C13: =D13+E13 -> 155641 | D13: =SUM(G13,J13,M13,P13,S13,V13,Y13,AB13,AE13,AH13,AK13,AN13,AQ13,AT13,AW13,AZ13,BC13,BF13,BI13,BL13,BO13,BR13,BU13) -> 87841 | E13: =SUM(H13,K13,N13,Q13,T13,W13,Z13,AC13,AF13,AI13,AL13,AO13,AR13,AU13,AX13,BA13,BD13,BG13,BJ13,BM13,BP13,BS13,BV13) -> 67800 | F13: =G13+H13 -> 29126 | G13: =G37+G60 -> 16325 | H13: =H37+H60 -> 12801 | I13: =J13+K13 -> 14893 | J13: =J37+J60 -> 8687 | K13: =K37+K60 -> 6206 | L13: =M13+N13 -> 7551 | M13: =M37+M60 -> 4214 | N13: =N37+N60 -> 3337 | O13: =P13+Q13 -> 8200 | P13: =P37+P60 -> 4463 | Q13: =Q37+Q60 -> 3737 | R13: =S13+T13 -> 32278 | S13: =S37+S60 -> 17516 | T13: =T37+T60 -> 14762 | U13: =V13+W13 -> 4642 | V13: =V37+V60 -> 2641 | W13: =W37+W60 -> 2001 | X13: =Y13+Z13 -> 5517 | Y13: =Y37+Y60 -> 3365 | Z13: =Z37+Z60 -> 2152 | AA13: =AB13+AC13 -> 4400 | AB13: =AB37+AB60 -> 2496 | AC13: =AC37+AC60 -> 1904 | AD13: =AE13+AF13 -> 3244 | AE13: =AE37+AE60 -> 1790 | AF13: =AF37+AF60 -> 1454 | AG13: =AH13+AI13 -> 17931 | AH13: =AH37+AH60 -> 10067 | AI13: =AI37+AI60 -> 7864 | AJ13: =AK13+AL13 -> 1073 | AK13: =AK37+AK60 -> 663 | AL13: =AL37+AL60 -> 410 | AM13: =AN13+AO13 -> 2115 | AN13: =AN37+AN60 -> 1243 | AO13: =AO37+AO60 -> 872 | AP13: =AQ13+AR13 -> 1039 | AQ13: =AQ37+AQ60 -> 613 | AR13: =AR37+AR60 -> 426 | AS13: =AT13+AU13 -> 679 | AT13: =AT37+AT60 -> 360 | AU13: =AU37+AU60 -> 319 | AV13: =AW13+AX13 -> 1438 | AW13: =AW37+AW60 -> 797 | AX13: =AX37+AX60 -> 641 | AY13: =AZ13+BA13 -> 1946 | AZ13: =AZ37+AZ60 -> 1131 | BA13: =BA37+BA60 -> 815 | BB13: =BC13+BD13 -> 1874 | BC13: =BC37+BC60 -> 1176 | BD13: =BD37+BD60 -> 698 | BE13: =BF13+BG13 -> 2463 | BF13: =BF37+BF60 -> 1479 | BG13: =BG37+BG60 -> 984 | BH13: =BI13+BJ13 -> 9298 | BI13: =BI37+BI60 -> 5311 | BJ13: =BJ37+BJ60 -> 3987 | BK13: =BL13+BM13 -> 1796 | BL13: =BL37+BL60 -> 1020 | BM13: =BM37+BM60 -> 776 | BN13: =BO13+BP13 -> 1240 | BO13: =BO37+BO60 -> 693 | BP13: =BP37+BP60 -> 547 | BQ13: =BR13+BS13 -> 2337 | BR13: =BR37+BR60 -> 1457 | BS13: =BS37+BS60 -> 880 | BT13: =BU13+BV13 -> 561 | BU13: =BU37+BU60 -> 334 | BV13: =BV37+BV60 -> 227
B14: 30-34 | C14: =D14+E14 -> 179848 | D14: =SUM(G14,J14,M14,P14,S14,V14,Y14,AB14,AE14,AH14,AK14,AN14,AQ14,AT14,AW14,AZ14,BC14,BF14,BI14,BL14,BO14,BR14,BU14) -> 96502 | E14: =SUM(H14,K14,N14,Q14,T14,W14,Z14,AC14,AF14,AI14,AL14,AO14,AR14,AU14,AX14,BA14,BD14,BG14,BJ14,BM14,BP14,BS14,BV14) -> 83346 | F14: =G14+H14 -> 36254 | G14: =G38+G61 -> 19032 | H14: =H38+H61 -> 17222 | I14: =J14+K14 -> 16527 | J14: =J38+J61 -> 9287 | K14: =K38+K61 -> 7240 | L14: =M14+N14 -> 8630 | M14: =M38+M61 -> 4599 | N14: =N38+N61 -> 4031 | O14: =P14+Q14 -> 9723 | P14: =P38+P61 -> 4800 | Q14: =Q38+Q61 -> 4923 | R14: =S14+T14 -> 38306 | S14: =S38+S61 -> 20139 | T14: =T38+T61 -> 18167 | U14: =V14+W14 -> 5336 | V14: =V38+V61 -> 2820 | W14: =W38+W61 -> 2516 | X14: =Y14+Z14 -> 5916 | Y14: =Y38+Y61 -> 3364 | Z14: =Z38+Z61 -> 2552 | AA14: =AB14+AC14 -> 4538 | AB14: =AB38+AB61 -> 2442 | AC14: =AC38+AC61 -> 2096 | AD14: =AE14+AF14 -> 3800 | AE14: =AE38+AE61 -> 1967 | AF14: =AF38+AF61 -> 1833 | AG14: =AH14+AI14 -> 20165 | AH14: =AH38+AH61 -> 10800 | AI14: =AI38+AI61 -> 9365 | AJ14: =AK14+AL14 -> 987 | AK14: =AK38+AK61 -> 574 | AL14: =AL38+AL61 -> 413 | AM14: =AN14+AO14 -> 2039 | AN14: =AN38+AN61 -> 1165 | AO14: =AO38+AO61 -> 874 | AP14: =AQ14+AR14 -> 1038 | AQ14: =AQ38+AQ61 -> 571 | AR14: =AR38+AR61 -> 467 | AS14: =AT14+AU14 -> 672 | AT14: =AT38+AT61 -> 347 | AU14: =AU38+AU61 -> 325 | AV14: =AW14+AX14 -> 1666 | AW14: =AW38+AW61 -> 919 | AX14: =AX38+AX61 -> 747 | AY14: =AZ14+BA14 -> 1968 | AZ14: =AZ38+AZ61 -> 1036 | BA14: =BA38+BA61 -> 932 | BB14: =BC14+BD14 -> 2109 | BC14: =BC38+BC61 -> 1275 | BD14: =BD38+BD61 -> 834 | BE14: =BF14+BG14 -> 2388 | BF14: =BF38+BF61 -> 1346 | BG14: =BG38+BG61 -> 1042 | BH14: =BI14+BJ14 -> 11214 | BI14: =BI38+BI61 -> 6414 | BJ14: =BJ38+BJ61 -> 4800 | BK14: =BL14+BM14 -> 1866 | BL14: =BL38+BL61 -> 968 | BM14: =BM38+BM61 -> 898 | BN14: =BO14+BP14 -> 1320 | BO14: =BO38+BO61 -> 689 | BP14: =BP38+BP61 -> 631 | BQ14: =BR14+BS14 -> 2803 | BR14: =BR38+BR61 -> 1614 | BS14: =BS38+BS61 -> 1189 | BT14: =BU14+BV14 -> 583 | BU14: =BU38+BU61 -> 334 | BV14: =BV38+BV61 -> 249
B15: 35-39 | C15: =D15+E15 -> 184785 | D15: =SUM(G15,J15,M15,P15,S15,V15,Y15,AB15,AE15,AH15,AK15,AN15,AQ15,AT15,AW15,AZ15,BC15,BF15,BI15,BL15,BO15,BR15,BU15) -> 97850 | E15: =SUM(H15,K15,N15,Q15,T15,W15,Z15,AC15,AF15,AI15,AL15,AO15,AR15,AU15,AX15,BA15,BD15,BG15,BJ15,BM15,BP15,BS15,BV15) -> 86935 | F15: =G15+H15 -> 36601 | G15: =G39+G62 -> 18781 | H15: =H39+H62 -> 17820 | I15: =J15+K15 -> 17465 | J15: =J39+J62 -> 9466 | K15: =K39+K62 -> 7999 | L15: =M15+N15 -> 8860 | M15: =M39+M62 -> 4763 | N15: =N39+N62 -> 4097 | O15: =P15+Q15 -> 10933 | P15: =P39+P62 -> 5542 | Q15: =Q39+Q62 -> 5391 | R15: =S15+T15 -> 38039 | S15: =S39+S62 -> 19576 | T15: =T39+T62 -> 18463 | U15: =V15+W15 -> 6265 | V15: =V39+V62 -> 3203 | W15: =W39+W62 -> 3062 | X15: =Y15+Z15 -> 5679 | Y15: =Y39+Y62 -> 3212 | Z15: =Z39+Z62 -> 2467 | AA15: =AB15+AC15 -> 4898 | AB15: =AB39+AB62 -> 2574 | AC15: =AC39+AC62 -> 2324 | AD15: =AE15+AF15 -> 4075 | AE15: =AE39+AE62 -> 2169 | AF15: =AF39+AF62 -> 1906 | AG15: =AH15+AI15 -> 20332 | AH15: =AH39+AH62 -> 10638 | AI15: =AI39+AI62 -> 9694 | AJ15: =AK15+AL15 -> 980 | AK15: =AK39+AK62 -> 580 | AL15: =AL39+AL62 -> 400 | AM15: =AN15+AO15 -> 2028 | AN15: =AN39+AN62 -> 1210 | AO15: =AO39+AO62 -> 818 | AP15: =AQ15+AR15 -> 1092 | AQ15: =AQ39+AQ62 -> 598 | AR15: =AR39+AR62 -> 494 | AS15: =AT15+AU15 -> 741 | AT15: =AT39+AT62 -> 417 | AU15: =AU39+AU62 -> 324 | AV15: =AW15+AX15 -> 1861 | AW15: =AW39+AW62 -> 1045 | AX15: =AX39+AX62 -> 816 | AY15: =AZ15+BA15 -> 1930 | AZ15: =AZ39+AZ62 -> 1089 | BA15: =BA39+BA62 -> 841 | BB15: =BC15+BD15 -> 2109 | BC15: =BC39+BC62 -> 1251 | BD15: =BD39+BD62 -> 858 | BE15: =BF15+BG15 -> 2311 | BF15: =BF39+BF62 -> 1398 | BG15: =BG39+BG62 -> 913 | BH15: =BI15+BJ15 -> 11242 | BI15: =BI39+BI62 -> 6227 | BJ15: =BJ39+BJ62 -> 5015 | BK15: =BL15+BM15 -> 2040 | BL15: =BL39+BL62 -> 1153 | BM15: =BM39+BM62 -> 887 | BN15: =BO15+BP15 -> 1480 | BO15: =BO39+BO62 -> 833 | BP15: =BP39+BP62 -> 647 | BQ15: =BR15+BS15 -> 3210 | BR15: =BR39+BR62 -> 1776 | BS15: =BS39+BS62 -> 1434 | BT15: =BU15+BV15 -> 614 | BU15: =BU39+BU62 -> 349 | BV15: =BV39+BV62 -> 265
B16: 40-44 | C16: =D16+E16 -> 211640 | D16: =SUM(G16,J16,M16,P16,S16,V16,Y16,AB16,AE16,AH16,AK16,AN16,AQ16,AT16,AW16,AZ16,BC16,BF16,BI16,BL16,BO16,BR16,BU16) -> 111449 | E16: =SUM(H16,K16,N16,Q16,T16,W16,Z16,AC16,AF16,AI16,AL16,AO16,AR16,AU16,AX16,BA16,BD16,BG16,BJ16,BM16,BP16,BS16,BV16) -> 100191 | F16: =G16+H16 -> 42733 | G16: =G40+G63 -> 21506 | H16: =H40+H63 -> 21227 | I16: =J16+K16 -> 21612 | J16: =J40+J63 -> 11425 | K16: =K40+K63 -> 10187 | L16: =M16+N16 -> 10062 | M16: =M40+M63 -> 5347 | N16: =N40+N63 -> 4715 | O16: =P16+Q16 -> 12701 | P16: =P40+P63 -> 6654 | Q16: =Q40+Q63 -> 6047 | R16: =S16+T16 -> 38837 | S16: =S40+S63 -> 19497 | T16: =T40+T63 -> 19340 | U16: =V16+W16 -> 7909 | V16: =V40+V63 -> 4152 | W16: =W40+W63 -> 3757 | X16: =Y16+Z16 -> 7142 | Y16: =Y40+Y63 -> 3939 | Z16: =Z40+Z63 -> 3203 | AA16: =AB16+AC16 -> 6651 | AB16: =AB40+AB63 -> 3542 | AC16: =AC40+AC63 -> 3109 | AD16: =AE16+AF16 -> 4912 | AE16: =AE40+AE63 -> 2633 | AF16: =AF40+AF63 -> 2279 | AG16: =AH16+AI16 -> 22548 | AH16: =AH40+AH63 -> 11725 | AI16: =AI40+AI63 -> 10823 | AJ16: =AK16+AL16 -> 1204 | AK16: =AK40+AK63 -> 726 | AL16: =AL40+AL63 -> 478 | AM16: =AN16+AO16 -> 2666 | AN16: =AN40+AN63 -> 1558 | AO16: =AO40+AO63 -> 1108 | AP16: =AQ16+AR16 -> 1364 | AQ16: =AQ40+AQ63 -> 811 | AR16: =AR40+AR63 -> 553 | AS16: =AT16+AU16 -> 1068 | AT16: =AT40+AT63 -> 646 | AU16: =AU40+AU63 -> 422 | AV16: =AW16+AX16 -> 2323 | AW16: =AW40+AW63 -> 1352 | AX16: =AX40+AX63 -> 971 | AY16: =AZ16+BA16 -> 2411 | AZ16: =AZ40+AZ63 -> 1400 | BA16: =BA40+BA63 -> 1011 | BB16: =BC16+BD16 -> 2587 | BC16: =BC40+BC63 -> 1508 | BD16: =BD40+BD63 -> 1079 | BE16: =BF16+BG16 -> 2664 | BF16: =BF40+BF63 -> 1603 | BG16: =BG40+BG63 -> 1061 | BH16: =BI16+BJ16 -> 11516 | BI16: =BI40+BI63 -> 6285 | BJ16: =BJ40+BJ63 -> 5231 | BK16: =BL16+BM16 -> 2297 | BL16: =BL40+BL63 -> 1387 | BM16: =BM40+BM63 -> 910 | BN16: =BO16+BP16 -> 1903 | BO16: =BO40+BO63 -> 1104 | BP16: =BP40+BP63 -> 799 | BQ16: =BR16+BS16 -> 3786 | BR16: =BR40+BR63 -> 2185 | BS16: =BS40+BS63 -> 1601 | BT16: =BU16+BV16 -> 744 | BU16: =BU40+BU63 -> 464 | BV16: =BV40+BV63 -> 280
B17: 45-49 | C17: =D17+E17 -> 225589 | D17: =SUM(G17,J17,M17,P17,S17,V17,Y17,AB17,AE17,AH17,AK17,AN17,AQ17,AT17,AW17,AZ17,BC17,BF17,BI17,BL17,BO17,BR17,BU17) -> 117859 | E17: =SUM(H17,K17,N17,Q17,T17,W17,Z17,AC17,AF17,AI17,AL17,AO17,AR17,AU17,AX17,BA17,BD17,BG17,BJ17,BM17,BP17,BS17,BV17) -> 107730 | F17: =G17+H17 -> 45985 | G17: =G41+G64 -> 23290 | H17: =H41+H64 -> 22695 | I17: =J17+K17 -> 23051 | J17: =J41+J64 -> 12102 | K17: =K41+K64 -> 10949 | L17: =M17+N17 -> 11408 | M17: =M41+M64 -> 6011 | N17: =N41+N64 -> 5397 | O17: =P17+Q17 -> 13435 | P17: =P41+P64 -> 6956 | Q17: =Q41+Q64 -> 6479 | R17: =S17+T17 -> 38740 | S17: =S41+S64 -> 19400 | T17: =T41+T64 -> 19340 | U17: =V17+W17 -> 8907 | V17: =V41+V64 -> 4629 | W17: =W41+W64 -> 4278 | X17: =Y17+Z17 -> 8104 | Y17: =Y41+Y64 -> 4423 | Z17: =Z41+Z64 -> 3681 | AA17: =AB17+AC17 -> 7552 | AB17: =AB41+AB64 -> 4073 | AC17: =AC41+AC64 -> 3479 | AD17: =AE17+AF17 -> 5426 | AE17: =AE41+AE64 -> 2848 | AF17: =AF41+AF64 -> 2578 | AG17: =AH17+AI17 -> 22167 | AH17: =AH41+AH64 -> 11326 | AI17: =AI41+AI64 -> 10841 | AJ17: =AK17+AL17 -> 1611 | AK17: =AK41+AK64 -> 947 | AL17: =AL41+AL64 -> 664 | AM17: =AN17+AO17 -> 3457 | AN17: =AN41+AN64 -> 2011 | AO17: =AO41+AO64 -> 1446 | AP17: =AQ17+AR17 -> 1914 | AQ17: =AQ41+AQ64 -> 1048 | AR17: =AR41+AR64 -> 866 | AS17: =AT17+AU17 -> 1294 | AT17: =AT41+AT64 -> 729 | AU17: =AU41+AU64 -> 565 | AV17: =AW17+AX17 -> 2825 | AW17: =AW41+AW64 -> 1588 | AX17: =AX41+AX64 -> 1237 | AY17: =AZ17+BA17 -> 3004 | AZ17: =AZ41+AZ64 -> 1642 | BA17: =BA41+BA64 -> 1362 | BB17: =BC17+BD17 -> 2781 | BC17: =BC41+BC64 -> 1592 | BD17: =BD41+BD64 -> 1189 | BE17: =BF17+BG17 -> 3524 | BF17: =BF41+BF64 -> 2003 | BG17: =BG41+BG64 -> 1521 | BH17: =BI17+BJ17 -> 10354 | BI17: =BI41+BI64 -> 5654 | BJ17: =BJ41+BJ64 -> 4700 | BK17: =BL17+BM17 -> 2762 | BL17: =BL41+BL64 -> 1508 | BM17: =BM41+BM64 -> 1254 | BN17: =BO17+BP17 -> 2364 | BO17: =BO41+BO64 -> 1322 | BP17: =BP41+BP64 -> 1042 | BQ17: =BR17+BS17 -> 4053 | BR17: =BR41+BR64 -> 2234 | BS17: =BS41+BS64 -> 1819 | BT17: =BU17+BV17 -> 871 | BU17: =BU41+BU64 -> 523 | BV17: =BV41+BV64 -> 348
B18: 50-54 | C18: =D18+E18 -> 231959 | D18: =SUM(G18,J18,M18,P18,S18,V18,Y18,AB18,AE18,AH18,AK18,AN18,AQ18,AT18,AW18,AZ18,BC18,BF18,BI18,BL18,BO18,BR18,BU18) -> 119614 | E18: =SUM(H18,K18,N18,Q18,T18,W18,Z18,AC18,AF18,AI18,AL18,AO18,AR18,AU18,AX18,BA18,BD18,BG18,BJ18,BM18,BP18,BS18,BV18) -> 112345 | F18: =G18+H18 -> 47265 | G18: =G42+G65 -> 23533 | H18: =H42+H65 -> 23732 | I18: =J18+K18 -> 23515 | J18: =J42+J65 -> 12144 | K18: =K42+K65 -> 11371 | L18: =M18+N18 -> 11863 | M18: =M42+M65 -> 6211 | N18: =N42+N65 -> 5652 | O18: =P18+Q18 -> 13663 | P18: =P42+P65 -> 6818 | Q18: =Q42+Q65 -> 6845 | R18: =S18+T18 -> 33726 | S18: =S42+S65 -> 17784 | T18: =T42+T65 -> 15942 | U18: =V18+W18 -> 9436 | V18: =V42+V65 -> 4772 | W18: =W42+W65 -> 4664 | X18: =Y18+Z18 -> 8713 | Y18: =Y42+Y65 -> 4602 | Z18: =Z42+Z65 -> 4111 | AA18: =AB18+AC18 -> 8789 | AB18: =AB42+AB65 -> 4500 | AC18: =AC42+AC65 -> 4289 | AD18: =AE18+AF18 -> 6260 | AE18: =AE42+AE65 -> 3161 | AF18: =AF42+AF65 -> 3099 | AG18: =AH18+AI18 -> 21710 | AH18: =AH42+AH65 -> 10941 | AI18: =AI42+AI65 -> 10769 | AJ18: =AK18+AL18 -> 2152 | AK18: =AK42+AK65 -> 1179 | AL18: =AL42+AL65 -> 973 | AM18: =AN18+AO18 -> 4609 | AN18: =AN42+AN65 -> 2367 | AO18: =AO42+AO65 -> 2242 | AP18: =AQ18+AR18 -> 2420 | AQ18: =AQ42+AQ65 -> 1261 | AR18: =AR42+AR65 -> 1159 | AS18: =AT18+AU18 -> 1573 | AT18: =AT42+AT65 -> 804 | AU18: =AU42+AU65 -> 769 | AV18: =AW18+AX18 -> 3242 | AW18: =AW42+AW65 -> 1673 | AX18: =AX42+AX65 -> 1569 | AY18: =AZ18+BA18 -> 3787 | AZ18: =AZ42+AZ65 -> 2025 | BA18: =BA42+BA65 -> 1762 | BB18: =BC18+BD18 -> 3203 | BC18: =BC42+BC65 -> 1787 | BD18: =BD42+BD65 -> 1416 | BE18: =BF18+BG18 -> 4468 | BF18: =BF42+BF65 -> 2479 | BG18: =BG42+BG65 -> 1989 | BH18: =BI18+BJ18 -> 9222 | BI18: =BI42+BI65 -> 5079 | BJ18: =BJ42+BJ65 -> 4143 | BK18: =BL18+BM18 -> 3602 | BL18: =BL42+BL65 -> 1837 | BM18: =BM42+BM65 -> 1765 | BN18: =BO18+BP18 -> 3050 | BO18: =BO42+BO65 -> 1615 | BP18: =BP42+BP65 -> 1435 | BQ18: =BR18+BS18 -> 4614 | BR18: =BR42+BR65 -> 2446 | BS18: =BS42+BS65 -> 2168 | BT18: =BU18+BV18 -> 1077 | BU18: =BU42+BU65 -> 596 | BV18: =BV42+BV65 -> 481
B19: 55-59 | C19: =D19+E19 -> 226402 | D19: =SUM(G19,J19,M19,P19,S19,V19,Y19,AB19,AE19,AH19,AK19,AN19,AQ19,AT19,AW19,AZ19,BC19,BF19,BI19,BL19,BO19,BR19,BU19) -> 114187 | E19: =SUM(H19,K19,N19,Q19,T19,W19,Z19,AC19,AF19,AI19,AL19,AO19,AR19,AU19,AX19,BA19,BD19,BG19,BJ19,BM19,BP19,BS19,BV19) -> 112215 | F19: =G19+H19 -> 46478 | G19: =G43+G66 -> 22814 | H19: =H43+H66 -> 23664 | I19: =J19+K19 -> 22695 | J19: =J43+J66 -> 11514 | K19: =K43+K66 -> 11181 | L19: =M19+N19 -> 11876 | M19: =M43+M66 -> 5982 | N19: =N43+N66 -> 5894 | O19: =P19+Q19 -> 14200 | P19: =P43+P66 -> 7064 | Q19: =Q43+Q66 -> 7136 | R19: =S19+T19 -> 25244 | S19: =S43+S66 -> 13343 | T19: =T43+T66 -> 11901 | U19: =V19+W19 -> 10018 | V19: =V43+V66 -> 4910 | W19: =W43+W66 -> 5108 | X19: =Y19+Z19 -> 9260 | Y19: =Y43+Y66 -> 4699 | Z19: =Z43+Z66 -> 4561 | AA19: =AB19+AC19 -> 9694 | AB19: =AB43+AB66 -> 4818 | AC19: =AC43+AC66 -> 4876 | AD19: =AE19+AF19 -> 7153 | AE19: =AE43+AE66 -> 3503 | AF19: =AF43+AF66 -> 3650 | AG19: =AH19+AI19 -> 19606 | AH19: =AH43+AH66 -> 9768 | AI19: =AI43+AI66 -> 9838 | AJ19: =AK19+AL19 -> 2480 | AK19: =AK43+AK66 -> 1304 | AL19: =AL43+AL66 -> 1176 | AM19: =AN19+AO19 -> 5742 | AN19: =AN43+AN66 -> 2937 | AO19: =AO43+AO66 -> 2805 | AP19: =AQ19+AR19 -> 2670 | AQ19: =AQ43+AQ66 -> 1294 | AR19: =AR43+AR66 -> 1376 | AS19: =AT19+AU19 -> 1696 | AT19: =AT43+AT66 -> 815 | AU19: =AU43+AU66 -> 881 | AV19: =AW19+AX19 -> 3745 | AW19: =AW43+AW66 -> 1814 | AX19: =AX43+AX66 -> 1931 | AY19: =AZ19+BA19 -> 4514 | AZ19: =AZ43+AZ66 -> 2294 | BA19: =BA43+BA66 -> 2220 | BB19: =BC19+BD19 -> 3352 | BC19: =BC43+BC66 -> 1781 | BD19: =BD43+BD66 -> 1571 | BE19: =BF19+BG19 -> 4649 | BF19: =BF43+BF66 -> 2491 | BG19: =BG43+BG66 -> 2158 | BH19: =BI19+BJ19 -> 7877 | BI19: =BI43+BI66 -> 4200 | BJ19: =BJ43+BJ66 -> 3677 | BK19: =BL19+BM19 -> 4281 | BL19: =BL43+BL66 -> 2171 | BM19: =BM43+BM66 -> 2110 | BN19: =BO19+BP19 -> 3425 | BO19: =BO43+BO66 -> 1741 | BP19: =BP43+BP66 -> 1684 | BQ19: =BR19+BS19 -> 4630 | BR19: =BR43+BR66 -> 2333 | BS19: =BS43+BS66 -> 2297 | BT19: =BU19+BV19 -> 1117 | BU19: =BU43+BU66 -> 597 | BV19: =BV43+BV66 -> 520
... B27: 95-99 | C27: =D27+E27 -> 2248 | D27: =SUM(G27,J27,M27,P27,S27,V27,Y27,AB27,AE27,AH27,AK27,AN27,AQ27,AT27,AW27,AZ27,BC27,BF27,BI27,BL27,BO27,BR27,BU27) -> 409 | E27: =SUM(H27,K27,N27,Q27,T27,W27,Z27,AC27,AF27,AI27,AL27,AO27,AR27,AU27,AX27,BA27,BD27,BG27,BJ27,BM27,BP27,BS27,BV27) -> 1839 | F27: =G27+H27 -> 262 | G27: =G51+G74 -> 55 | H27: =H51+H74 -> 207 | I27: =J27+K27 -> 207 | J27: =J51+J74 -> 35 | K27: =K51+K74 -> 172 | L27: =M27+N27 -> 140 | M27: =M51+M74 -> 26 | N27: =N51+N74 -> 114 | O27: =P27+Q27 -> 169 | P27: =P51+P74 -> 32 | Q27: =Q51+Q74 -> 137 | R27: =S27+T27 -> 159 | S27: =S51+S74 -> 25 | T27: =T51+T74 -> 134 | U27: =V27+W27 -> 167 | V27: =V51+V74 -> 26 | W27: =W51+W74 -> 141 | X27: =Y27+Z27 -> 82 | Y27: =Y51+Y74 -> 18 | Z27: =Z51+Z74 -> 64 | AA27: =AB27+AC27 -> 131 | AB27: =AB51+AB74 -> 24 | AC27: =AC51+AC74 -> 107 | AD27: =AE27+AF27 -> 105 | AE27: =AE51+AE74 -> 15 | AF27: =AF51+AF74 -> 90 | AG27: =AH27+AI27 -> 117 | AH27: =AH51+AH74 -> 24 | AI27: =AI51+AI74 -> 93 | AJ27: =AK27+AL27 -> 40 | AK27: =AK51+AK74 -> 8 | AL27: =AL51+AL74 -> 32 | AM27: =AN27+AO27 -> 89 | AN27: =AN51+AN74 -> 17 | AO27: =AO51+AO74 -> 72 | AP27: =AQ27+AR27 -> 45 | AQ27: =AQ51+AQ74 -> 9 | AR27: =AR51+AR74 -> 36 | AS27: =AT27+AU27 -> 26 | AT27: =AT51+AT74 -> 5 | AU27: =AU51+AU74 -> 21 | AV27: =AW27+AX27 -> 53 | AW27: =AW51+AW74 -> 12 | AX27: =AX51+AX74 -> 41 | AY27: =AZ27+BA27 -> 69 | AZ27: =AZ51+AZ74 -> 13 | BA27: =BA51+BA74 -> 56 | BB27: =BC27+BD27 -> 33 | BC27: =BC51+BC74 -> 12 | BD27: =BD51+BD74 -> 21 | BE27: =BF27+BG27 -> 48 | BF27: =BF51+BF74 -> 8 | BG27: =BG51+BG74 -> 40 | BH27: =BI27+BJ27 -> 69 | BI27: =BI51+BI74 -> 10 | BJ27: =BJ51+BJ74 -> 59 | BK27: =BL27+BM27 -> 95 | BL27: =BL51+BL74 -> 9 | BM27: =BM51+BM74 -> 86 | BN27: =BO27+BP27 -> 58 | BO27: =BO51+BO74 -> 14 | BP27: =BP51+BP74 -> 44 | BQ27: =BR27+BS27 -> 68 | BR27: =BR51+BR74 -> 8 | BS27: =BS51+BS74 -> 60 | BT27: =BU27+BV27 -> 16 | BU27: =BU51+BU74 -> 4 | BV27: =BV51+BV74 -> 12
A28: 100+ | B28: 100+ | C28: =D28+E28 -> 725 | D28: =SUM(G28,J28,M28,P28,S28,V28,Y28,AB28,AE28,AH28,AK28,AN28,AQ28,AT28,AW28,AZ28,BC28,BF28,BI28,BL28,BO28,BR28,BU28) -> 149 | E28: =SUM(H28,K28,N28,Q28,T28,W28,Z28,AC28,AF28,AI28,AL28,AO28,AR28,AU28,AX28,BA28,BD28,BG28,BJ28,BM28,BP28,BS28,BV28) -> 576 | F28: =G28+H28 -> 78 | G28: =G52+G75 -> 19 | H28: =H52+H75 -> 59 | I28: =J28+K28 -> 69 | J28: =J52+J75 -> 13 | K28: =K52+K75 -> 56 | L28: =M28+N28 -> 41 | M28: =M52+M75 -> 6 | N28: =N52+N75 -> 35 | O28: =P28+Q28 -> 54 | P28: =P52+P75 -> 10 | Q28: =Q52+Q75 -> 44 | R28: =S28+T28 -> 39 | S28: =S52+S75 -> 4 | T28: =T52+T75 -> 35 | U28: =V28+W28 -> 45 | V28: =V52+V75 -> 9 | W28: =W52+W75 -> 36 | X28: =Y28+Z28 -> 30 | Y28: =Y52+Y75 -> 10 | Z28: =Z52+Z75 -> 20 | AA28: =AB28+AC28 -> 48 | AB28: =AB52+AB75 -> 6 | AC28: =AC52+AC75 -> 42 | AD28: =AE28+AF28 -> 40 | AE28: =AE52+AE75 -> 12 | AF28: =AF52+AF75 -> 28 | AG28: =AH28+AI28 -> 44 | AH28: =AH52+AH75 -> 5 | AI28: =AI52+AI75 -> 39 | AJ28: =AK28+AL28 -> 11 | AK28: =AK52+AK75 -> 1 | AL28: =AL52+AL75 -> 10 | AM28: =AN28+AO28 -> 31 | AN28: =AN52+AN75 -> 6 | AO28: =AO52+AO75 -> 25 | AP28: =AQ28+AR28 -> 8 | AQ28: =AQ52+AQ75 -> 4 | AR28: =AR52+AR75 -> 4 | AS28: =AT28+AU28 -> 20 | AT28: =AT52+AT75 -> 5 | AU28: =AU52+AU75 -> 15 | AV28: =AW28+AX28 -> 21 | AW28: =AW52+AW75 -> 6 | AX28: =AX52+AX75 -> 15 | AY28: =AZ28+BA28 -> 18 | AZ28: =AZ52+AZ75 -> 2 | BA28: =BA52+BA75 -> 16 | BB28: =BC28+BD28 -> 9 | BC28: =BC52+BC75 -> 3 | BD28: =BD52+BD75 -> 6 | BE28: =BF28+BG28 -> 24 | BF28: =BF52+BF75 -> 5 | BG28: =BG52+BG75 -> 19 | BH28: =BI28+BJ28 -> 34 | BI28: =BI52+BI75 -> 9 | BJ28: =BJ52+BJ75 -> 25 | BK28: =BL28+BM28 -> 20 | BL28: =BL52+BL75 -> 3 | BM28: =BM52+BM75 -> 17 | BN28: =BO28+BP28 -> 25 | BO28: =BO52+BO75 -> 6 | BP28: =BP52+BP75 -> 19 | BQ28: =BR28+BS28 -> 10 | BR28: =BR52+BR75 -> 2 | BS28: =BS52+BS75 -> 8 | BT28: =BU28+BV28 -> 6 | BU28: =BU52+BU75 -> 3 | BV28: =BV52+BV75 -> 3
B30: ◎ 한국인
B31: 총 계 | C31: =D31+E31 -> 2700461 | D31: =SUM(D32:D52) -> 1355977 | E31: =SUM(E32:E52) -> 1344484 | F31: =G31+H31 -> 518077 | G31: =SUM(G32:G52) -> 262240 | H31: =SUM(H32:H52) -> 255837 | I31: =J31+K31 -> 260454 | J31: =SUM(J32:J52) -> 130366 | K31: =SUM(K32:K52) -> 130088 | L31: =M31+N31 -> 140078 | M31: =SUM(M32:M52) -> 70039 | N31: =SUM(N32:N52) -> 70039 | O31: =P31+Q31 -> 168240 | P31: =SUM(P32:P52) -> 82923 | Q31: =SUM(Q32:Q52) -> 85317 | R31: =S31+T31 -> 419743 | S31: =SUM(S32:S52) -> 214267 | T31: =SUM(T32:T52) -> 205476 | U31: =V31+W31 -> 110040 | V31: =SUM(V32:V52) -> 54687 | W31: =SUM(W32:W52) -> 55353 | X31: =Y31+Z31 -> 100409 | Y31: =SUM(Y32:Y52) -> 50503 | Z31: =SUM(Z32:Z52) -> 49906 | AA31: =AB31+AC31 -> 102426 | AB31: =SUM(AB32:AB52) -> 50156 | AC31: =SUM(AC32:AC52) -> 52270 | AD31: =AE31+AF31 -> 75432 | AE31: =SUM(AE32:AE52) -> 36943 | AF31: =SUM(AF32:AF52) -> 38489 | AG31: =AH31+AI31 -> 256821 | AH31: =SUM(AH32:AH52) -> 129152 | AI31: =SUM(AI32:AI52) -> 127669 | AJ31: =AK31+AL31 -> 24081 | AK31: =SUM(AK32:AK52) -> 12070 | AL31: =SUM(AL32:AL52) -> 12011 | AM31: =AN31+AO31 -> 54577 | AN31: =SUM(AN32:AN52) -> 26608 | AO31: =SUM(AO32:AO52) -> 27969 | AP31: =AQ31+AR31 -> 26362 | AQ31: =SUM(AQ32:AQ52) -> 13057 | AR31: =SUM(AR32:AR52) -> 13305 | AS31: =AT31+AU31 -> 17944 | AT31: =SUM(AT32:AT52) -> 8819 | AU31: =SUM(AU32:AU52) -> 9125 | AV31: =AW31+AX31 -> 39262 | AW31: =SUM(AW32:AW52) -> 18636 | AX31: =SUM(AX32:AX52) -> 20626 | AY31: =AZ31+BA31 -> 43650 | AZ31: =SUM(AZ32:AZ52) -> 21324 | BA31: =SUM(BA32:BA52) -> 22326 | BB31: =BC31+BD31 -> 34564 | BC31: =SUM(BC32:BC52) -> 17592 | BD31: =SUM(BD32:BD52) -> 16972 | BE31: =BF31+BG31 -> 45024 | BF31: =SUM(BF32:BF52) -> 23068 | BG31: =SUM(BG32:BG52) -> 21956 | BH31: =BI31+BJ31 -> 122359 | BI31: =SUM(BI32:BI52) -> 63381 | BJ31: =SUM(BJ32:BJ52) -> 58978 | BK31: =BL31+BM31 -> 44847 | BL31: =SUM(BL32:BL52) -> 22001 | BM31: =SUM(BM32:BM52) -> 22846 | BN31: =BO31+BP31 -> 33814 | BO31: =SUM(BO32:BO52) -> 16799 | BP31: =SUM(BP32:BP52) -> 17015 | BQ31: =BR31+BS31 -> 51995 | BR31: =SUM(BR32:BR52) -> 25859 | BS31: =SUM(BS32:BS52) -> 26136 | BT31: =BU31+BV31 -> 10262 | BU31: =SUM(BU32:BU52) -> 5487 | BV31: =SUM(BV32:BV52) -> 4775
B32: 0-4 | C32: =D32+E32 -> 113417 | D32: =SUM(G32,J32,M32,P32,S32,V32,Y32,AB32,AE32,AH32,AK32,AN32,AQ32,AT32,AW32,AZ32,BC32,BF32,BI32,BL32,BO32,BR32,BU32) -> 58606 | E32: =SUM(H32,K32,N32,Q32,T32,W32,Z32,AC32,AF32,AI32,AL32,AO32,AR32,AU32,AX32,BA32,BD32,BG32,BJ32,BM32,BP32,BS32,BV32) -> 54811 | F32: =G32+H32 -> 23495 | G32: ='2-2.시군 연령별 한국인(각세)'!G8 -> 12253 | H32: ='2-2.시군 연령별 한국인(각세)'!H8 -> 11242 | I32: =J32+K32 -> 9299 | J32: ='2-2.시군 연령별 한국인(각세)'!J8 -> 4762 | K32: ='2-2.시군 연령별 한국인(각세)'!K8 -> 4537 | L32: =M32+N32 -> 5721 | M32: ='2-2.시군 연령별 한국인(각세)'!M8 -> 2947 | N32: ='2-2.시군 연령별 한국인(각세)'!N8 -> 2774 | O32: =P32+Q32 -> 7183 | P32: ='2-2.시군 연령별 한국인(각세)'!P8 -> 3738 | Q32: ='2-2.시군 연령별 한국인(각세)'!Q8 -> 3445 | R32: =S32+T32 -> 24340 | S32: ='2-2.시군 연령별 한국인(각세)'!S8 -> 12657 | T32: ='2-2.시군 연령별 한국인(각세)'!T8 -> 11683 | U32: =V32+W32 -> 3636 | V32: ='2-2.시군 연령별 한국인(각세)'!V8 -> 1889 | W32: ='2-2.시군 연령별 한국인(각세)'!W8 -> 1747 | X32: =Y32+Z32 -> 3373 | Y32: ='2-2.시군 연령별 한국인(각세)'!Y8 -> 1727 | Z32: ='2-2.시군 연령별 한국인(각세)'!Z8 -> 1646 | AA32: =AB32+AC32 -> 2942 | AB32: ='2-2.시군 연령별 한국인(각세)'!AB8 -> 1535 | AC32: ='2-2.시군 연령별 한국인(각세)'!AC8 -> 1407 | AD32: =AE32+AF32 -> 2632 | AE32: ='2-2.시군 연령별 한국인(각세)'!AE8 -> 1379 | AF32: ='2-2.시군 연령별 한국인(각세)'!AF8 -> 1253 | AG32: =AH32+AI32 -> 12199 | AH32: ='2-2.시군 연령별 한국인(각세)'!AH8 -> 6187 | AI32: ='2-2.시군 연령별 한국인(각세)'!AI8 -> 6012 | AJ32: =AK32+AL32 -> 489 | AK32: ='2-2.시군 연령별 한국인(각세)'!AK8 -> 247 | AL32: ='2-2.시군 연령별 한국인(각세)'!AL8 -> 242 | AM32: =AN32+AO32 -> 1121 | AN32: ='2-2.시군 연령별 한국인(각세)'!AN8 -> 570 | AO32: ='2-2.시군 연령별 한국인(각세)'!AO8 -> 551 | AP32: =AQ32+AR32 -> 653 | AQ32: ='2-2.시군 연령별 한국인(각세)'!AQ8 -> 327 | AR32: ='2-2.시군 연령별 한국인(각세)'!AR8 -> 326 | AS32: =AT32+AU32 -> 489 | AT32: ='2-2.시군 연령별 한국인(각세)'!AT8 -> 270 | AU32: ='2-2.시군 연령별 한국인(각세)'!AU8 -> 219 | AV32: =AW32+AX32 -> 1034 | AW32: ='2-2.시군 연령별 한국인(각세)'!AW8 -> 533 | AX32: ='2-2.시군 연령별 한국인(각세)'!AX8 -> 501 | AY32: =AZ32+BA32 -> 892 | AZ32: ='2-2.시군 연령별 한국인(각세)'!AZ8 -> 441 | BA32: ='2-2.시군 연령별 한국인(각세)'!BA8 -> 451 | BB32: =BC32+BD32 -> 1204 | BC32: ='2-2.시군 연령별 한국인(각세)'!BC8 -> 603 | BD32: ='2-2.시군 연령별 한국인(각세)'!BD8 -> 601 | BE32: =BF32+BG32 -> 1359 | BF32: ='2-2.시군 연령별 한국인(각세)'!BF8 -> 687 | BG32: ='2-2.시군 연령별 한국인(각세)'!BG8 -> 672 | BH32: =BI32+BJ32 -> 6780 | BI32: ='2-2.시군 연령별 한국인(각세)'!BI8 -> 3505 | BJ32: ='2-2.시군 연령별 한국인(각세)'!BJ8 -> 3275 | BK32: =BL32+BM32 -> 1321 | BL32: ='2-2.시군 연령별 한국인(각세)'!BL8 -> 674 | BM32: ='2-2.시군 연령별 한국인(각세)'!BM8 -> 647 | BN32: =BO32+BP32 -> 1059 | BO32: ='2-2.시군 연령별 한국인(각세)'!BO8 -> 537 | BP32: ='2-2.시군 연령별 한국인(각세)'!BP8 -> 522 | BQ32: =BR32+BS32 -> 1930 | BR32: ='2-2.시군 연령별 한국인(각세)'!BR8 -> 1003 | BS32: ='2-2.시군 연령별 한국인(각세)'!BS8 -> 927 | BT32: =BU32+BV32 -> 266 | BU32: ='2-2.시군 연령별 한국인(각세)'!BU8 -> 135 | BV32: ='2-2.시군 연령별 한국인(각세)'!BV8 -> 131
A33: 5-9 | B33: 5-9 | C33: =D33+E33 -> 109775 | D33: =SUM(G33,J33,M33,P33,S33,V33,Y33,AB33,AE33,AH33,AK33,AN33,AQ33,AT33,AW33,AZ33,BC33,BF33,BI33,BL33,BO33,BR33,BU33) -> 57108 | E33: =SUM(H33,K33,N33,Q33,T33,W33,Z33,AC33,AF33,AI33,AL33,AO33,AR33,AU33,AX33,BA33,BD33,BG33,BJ33,BM33,BP33,BS33,BV33) -> 52667 | F33: =G33+H33 -> 22794 | G33: ='2-2.시군 연령별 한국인(각세)'!G14 -> 11826 | H33: ='2-2.시군 연령별 한국인(각세)'!H14 -> 10968 | I33: =J33+K33 -> 10118 | J33: ='2-2.시군 연령별 한국인(각세)'!J14 -> 5225 | K33: ='2-2.시군 연령별 한국인(각세)'!K14 -> 4893 | L33: =M33+N33 -> 5370 | M33: ='2-2.시군 연령별 한국인(각세)'!M14 -> 2847 | N33: ='2-2.시군 연령별 한국인(각세)'!N14 -> 2523 | O33: =P33+Q33 -> 6859 | P33: ='2-2.시군 연령별 한국인(각세)'!P14 -> 3548 | Q33: ='2-2.시군 연령별 한국인(각세)'!Q14 -> 3311 | R33: =S33+T33 -> 22746 | S33: ='2-2.시군 연령별 한국인(각세)'!S14 -> 11772 | T33: ='2-2.시군 연령별 한국인(각세)'!T14 -> 10974 | U33: =V33+W33 -> 4146 | V33: ='2-2.시군 연령별 한국인(각세)'!V14 -> 2124 | W33: ='2-2.시군 연령별 한국인(각세)'!W14 -> 2022 | X33: =Y33+Z33 -> 3066 | Y33: ='2-2.시군 연령별 한국인(각세)'!Y14 -> 1617 | Z33: ='2-2.시군 연령별 한국인(각세)'!Z14 -> 1449 | AA33: =AB33+AC33 -> 3480 | AB33: ='2-2.시군 연령별 한국인(각세)'!AB14 -> 1817 | AC33: ='2-2.시군 연령별 한국인(각세)'!AC14 -> 1663 | AD33: =AE33+AF33 -> 2493 | AE33: ='2-2.시군 연령별 한국인(각세)'!AE14 -> 1352 | AF33: ='2-2.시군 연령별 한국인(각세)'!AF14 -> 1141 | AG33: =AH33+AI33 -> 11071 | AH33: ='2-2.시군 연령별 한국인(각세)'!AH14 -> 5717 | AI33: ='2-2.시군 연령별 한국인(각세)'!AI14 -> 5354 | AJ33: =AK33+AL33 -> 443 | AK33: ='2-2.시군 연령별 한국인(각세)'!AK14 -> 245 | AL33: ='2-2.시군 연령별 한국인(각세)'!AL14 -> 198 | AM33: =AN33+AO33 -> 1096 | AN33: ='2-2.시군 연령별 한국인(각세)'!AN14 -> 579 | AO33: ='2-2.시군 연령별 한국인(각세)'!AO14 -> 517 | AP33: =AQ33+AR33 -> 592 | AQ33: ='2-2.시군 연령별 한국인(각세)'!AQ14 -> 300 | AR33: ='2-2.시군 연령별 한국인(각세)'!AR14 -> 292 | AS33: =AT33+AU33 -> 479 | AT33: ='2-2.시군 연령별 한국인(각세)'!AT14 -> 250 | AU33: ='2-2.시군 연령별 한국인(각세)'!AU14 -> 229 | AV33: =AW33+AX33 -> 1021 | AW33: ='2-2.시군 연령별 한국인(각세)'!AW14 -> 524 | AX33: ='2-2.시군 연령별 한국인(각세)'!AX14 -> 497 | AY33: =AZ33+BA33 -> 986 | AZ33: ='2-2.시군 연령별 한국인(각세)'!AZ14 -> 496 | BA33: ='2-2.시군 연령별 한국인(각세)'!BA14 -> 490 | BB33: =BC33+BD33 -> 1157 | BC33: ='2-2.시군 연령별 한국인(각세)'!BC14 -> 603 | BD33: ='2-2.시군 연령별 한국인(각세)'!BD14 -> 554 | BE33: =BF33+BG33 -> 1110 | BF33: ='2-2.시군 연령별 한국인(각세)'!BF14 -> 595 | BG33: ='2-2.시군 연령별 한국인(각세)'!BG14 -> 515 | BH33: =BI33+BJ33 -> 6324 | BI33: ='2-2.시군 연령별 한국인(각세)'!BI14 -> 3293 | BJ33: ='2-2.시군 연령별 한국인(각세)'!BJ14 -> 3031 | BK33: =BL33+BM33 -> 1311 | BL33: ='2-2.시군 연령별 한국인(각세)'!BL14 -> 724 | BM33: ='2-2.시군 연령별 한국인(각세)'!BM14 -> 587 | BN33: =BO33+BP33 -> 940 | BO33: ='2-2.시군 연령별 한국인(각세)'!BO14 -> 489 | BP33: ='2-2.시군 연령별 한국인(각세)'!BP14 -> 451 | BQ33: =BR33+BS33 -> 1891 | BR33: ='2-2.시군 연령별 한국인(각세)'!BR14 -> 1019 | BS33: ='2-2.시군 연령별 한국인(각세)'!BS14 -> 872 | BT33: =BU33+BV33 -> 282 | BU33: ='2-2.시군 연령별 한국인(각세)'!BU14 -> 146 | BV33: ='2-2.시군 연령별 한국인(각세)'!BV14 -> 136
A34: 10-14 | B34: 10-14 | C34: =D34+E34 -> 119309 | D34: =SUM(G34,J34,M34,P34,S34,V34,Y34,AB34,AE34,AH34,AK34,AN34,AQ34,AT34,AW34,AZ34,BC34,BF34,BI34,BL34,BO34,BR34,BU34) -> 62820 | E34: =SUM(H34,K34,N34,Q34,T34,W34,Z34,AC34,AF34,AI34,AL34,AO34,AR34,AU34,AX34,BA34,BD34,BG34,BJ34,BM34,BP34,BS34,BV34) -> 56489 | F34: =G34+H34 -> 24918 | G34: ='2-2.시군 연령별 한국인(각세)'!G20 -> 13205 | H34: ='2-2.시군 연령별 한국인(각세)'!H20 -> 11713 | I34: =J34+K34 -> 11339 | J34: ='2-2.시군 연령별 한국인(각세)'!J20 -> 5967 | K34: ='2-2.시군 연령별 한국인(각세)'!K20 -> 5372 | L34: =M34+N34 -> 5721 | M34: ='2-2.시군 연령별 한국인(각세)'!M20 -> 2984 | N34: ='2-2.시군 연령별 한국인(각세)'!N20 -> 2737 | O34: =P34+Q34 -> 7661 | P34: ='2-2.시군 연령별 한국인(각세)'!P20 -> 3991 | Q34: ='2-2.시군 연령별 한국인(각세)'!Q20 -> 3670 | R34: =S34+T34 -> 24083 | S34: ='2-2.시군 연령별 한국인(각세)'!S20 -> 12572 | T34: ='2-2.시군 연령별 한국인(각세)'!T20 -> 11511 | U34: =V34+W34 -> 4950 | V34: ='2-2.시군 연령별 한국인(각세)'!V20 -> 2623 | W34: ='2-2.시군 연령별 한국인(각세)'!W20 -> 2327 | X34: =Y34+Z34 -> 3408 | Y34: ='2-2.시군 연령별 한국인(각세)'!Y20 -> 1837 | Z34: ='2-2.시군 연령별 한국인(각세)'!Z20 -> 1571 | AA34: =AB34+AC34 -> 3965 | AB34: ='2-2.시군 연령별 한국인(각세)'!AB20 -> 2119 | AC34: ='2-2.시군 연령별 한국인(각세)'!AC20 -> 1846 | AD34: =AE34+AF34 -> 3073 | AE34: ='2-2.시군 연령별 한국인(각세)'!AE20 -> 1643 | AF34: ='2-2.시군 연령별 한국인(각세)'!AF20 -> 1430 | AG34: =AH34+AI34 -> 11548 | AH34: ='2-2.시군 연령별 한국인(각세)'!AH20 -> 6056 | AI34: ='2-2.시군 연령별 한국인(각세)'!AI20 -> 5492 | AJ34: =AK34+AL34 -> 482 | AK34: ='2-2.시군 연령별 한국인(각세)'!AK20 -> 269 | AL34: ='2-2.시군 연령별 한국인(각세)'!AL20 -> 213 | AM34: =AN34+AO34 -> 1284 | AN34: ='2-2.시군 연령별 한국인(각세)'!AN20 -> 665 | AO34: ='2-2.시군 연령별 한국인(각세)'!AO20 -> 619 | AP34: =AQ34+AR34 -> 707 | AQ34: ='2-2.시군 연령별 한국인(각세)'!AQ20 -> 372 | AR34: ='2-2.시군 연령별 한국인(각세)'!AR20 -> 335 | AS34: =AT34+AU34 -> 520 | AT34: ='2-2.시군 연령별 한국인(각세)'!AT20 -> 257 | AU34: ='2-2.시군 연령별 한국인(각세)'!AU20 -> 263 | AV34: =AW34+AX34 -> 1186 | AW34: ='2-2.시군 연령별 한국인(각세)'!AW20 -> 620 | AX34: ='2-2.시군 연령별 한국인(각세)'!AX20 -> 566 | AY34: =AZ34+BA34 -> 1160 | AZ34: ='2-2.시군 연령별 한국인(각세)'!AZ20 -> 607 | BA34: ='2-2.시군 연령별 한국인(각세)'!BA20 -> 553 | BB34: =BC34+BD34 -> 1113 | BC34: ='2-2.시군 연령별 한국인(각세)'!BC20 -> 586 | BD34: ='2-2.시군 연령별 한국인(각세)'!BD20 -> 527 | BE34: =BF34+BG34 -> 1210 | BF34: ='2-2.시군 연령별 한국인(각세)'!BF20 -> 674 | BG34: ='2-2.시군 연령별 한국인(각세)'!BG20 -> 536 | BH34: =BI34+BJ34 -> 6254 | BI34: ='2-2.시군 연령별 한국인(각세)'!BI20 -> 3296 | BJ34: ='2-2.시군 연령별 한국인(각세)'!BJ20 -> 2958 | BK34: =BL34+BM34 -> 1398 | BL34: ='2-2.시군 연령별 한국인(각세)'!BL20 -> 748 | BM34: ='2-2.시군 연령별 한국인(각세)'!BM20 -> 650 | BN34: =BO34+BP34 -> 1012 | BO34: ='2-2.시군 연령별 한국인(각세)'!BO20 -> 548 | BP34: ='2-2.시군 연령별 한국인(각세)'!BP20 -> 464 | BQ34: =BR34+BS34 -> 2029 | BR34: ='2-2.시군 연령별 한국인(각세)'!BR20 -> 1032 | BS34: ='2-2.시군 연령별 한국인(각세)'!BS20 -> 997 | BT34: =BU34+BV34 -> 288 | BU34: ='2-2.시군 연령별 한국인(각세)'!BU20 -> 149 | BV34: ='2-2.시군 연령별 한국인(각세)'!BV20 -> 139
A35: 15-19 | B35: 15-19 | C35: =D35+E35 -> 160957 | D35: =SUM(G35,J35,M35,P35,S35,V35,Y35,AB35,AE35,AH35,AK35,AN35,AQ35,AT35,AW35,AZ35,BC35,BF35,BI35,BL35,BO35,BR35,BU35) -> 85676 | E35: =SUM(H35,K35,N35,Q35,T35,W35,Z35,AC35,AF35,AI35,AL35,AO35,AR35,AU35,AX35,BA35,BD35,BG35,BJ35,BM35,BP35,BS35,BV35) -> 75281 | F35: =G35+H35 -> 34088 | G35: ='2-2.시군 연령별 한국인(각세)'!G26 -> 18069 | H35: ='2-2.시군 연령별 한국인(각세)'!H26 -> 16019 | I35: =J35+K35 -> 16014 | J35: ='2-2.시군 연령별 한국인(각세)'!J26 -> 8478 | K35: ='2-2.시군 연령별 한국인(각세)'!K26 -> 7536 | L35: =M35+N35 -> 8366 | M35: ='2-2.시군 연령별 한국인(각세)'!M26 -> 4463 | N35: ='2-2.시군 연령별 한국인(각세)'!N26 -> 3903 | O35: =P35+Q35 -> 9510 | P35: ='2-2.시군 연령별 한국인(각세)'!P26 -> 4976 | Q35: ='2-2.시군 연령별 한국인(각세)'!Q26 -> 4534 | R35: =S35+T35 -> 30539 | S35: ='2-2.시군 연령별 한국인(각세)'!S26 -> 16337 | T35: ='2-2.시군 연령별 한국인(각세)'!T26 -> 14202 | U35: =V35+W35 -> 6692 | V35: ='2-2.시군 연령별 한국인(각세)'!V26 -> 3598 | W35: ='2-2.시군 연령별 한국인(각세)'!W26 -> 3094 | X35: =Y35+Z35 -> 5058 | Y35: ='2-2.시군 연령별 한국인(각세)'!Y26 -> 2661 | Z35: ='2-2.시군 연령별 한국인(각세)'!Z26 -> 2397 | AA35: =AB35+AC35 -> 5527 | AB35: ='2-2.시군 연령별 한국인(각세)'!AB26 -> 2971 | AC35: ='2-2.시군 연령별 한국인(각세)'!AC26 -> 2556 | AD35: =AE35+AF35 -> 4251 | AE35: ='2-2.시군 연령별 한국인(각세)'!AE26 -> 2307 | AF35: ='2-2.시군 연령별 한국인(각세)'!AF26 -> 1944 | AG35: =AH35+AI35 -> 15340 | AH35: ='2-2.시군 연령별 한국인(각세)'!AH26 -> 8081 | AI35: ='2-2.시군 연령별 한국인(각세)'!AI26 -> 7259 | AJ35: =AK35+AL35 -> 897 | AK35: ='2-2.시군 연령별 한국인(각세)'!AK26 -> 483 | AL35: ='2-2.시군 연령별 한국인(각세)'!AL26 -> 414 | AM35: =AN35+AO35 -> 1905 | AN35: ='2-2.시군 연령별 한국인(각세)'!AN26 -> 999 | AO35: ='2-2.시군 연령별 한국인(각세)'!AO26 -> 906 | AP35: =AQ35+AR35 -> 1027 | AQ35: ='2-2.시군 연령별 한국인(각세)'!AQ26 -> 548 | AR35: ='2-2.시군 연령별 한국인(각세)'!AR26 -> 479 | AS35: =AT35+AU35 -> 749 | AT35: ='2-2.시군 연령별 한국인(각세)'!AT26 -> 418 | AU35: ='2-2.시군 연령별 한국인(각세)'!AU26 -> 331 | AV35: =AW35+AX35 -> 1653 | AW35: ='2-2.시군 연령별 한국인(각세)'!AW26 -> 869 | AX35: ='2-2.시군 연령별 한국인(각세)'!AX26 -> 784 | AY35: =AZ35+BA35 -> 1824 | AZ35: ='2-2.시군 연령별 한국인(각세)'!AZ26 -> 967 | BA35: ='2-2.시군 연령별 한국인(각세)'!BA26 -> 857 | BB35: =BC35+BD35 -> 1592 | BC35: ='2-2.시군 연령별 한국인(각세)'!BC26 -> 850 | BD35: ='2-2.시군 연령별 한국인(각세)'!BD26 -> 742 | BE35: =BF35+BG35 -> 2006 | BF35: ='2-2.시군 연령별 한국인(각세)'!BF26 -> 1085 | BG35: ='2-2.시군 연령별 한국인(각세)'!BG26 -> 921 | BH35: =BI35+BJ35 -> 7318 | BI35: ='2-2.시군 연령별 한국인(각세)'!BI26 -> 3985 | BJ35: ='2-2.시군 연령별 한국인(각세)'!BJ26 -> 3333 | BK35: =BL35+BM35 -> 1834 | BL35: ='2-2.시군 연령별 한국인(각세)'!BL26 -> 943 | BM35: ='2-2.시군 연령별 한국인(각세)'!BM26 -> 891 | BN35: =BO35+BP35 -> 1426 | BO35: ='2-2.시군 연령별 한국인(각세)'!BO26 -> 732 | BP35: ='2-2.시군 연령별 한국인(각세)'!BP26 -> 694 | BQ35: =BR35+BS35 -> 2940 | BR35: ='2-2.시군 연령별 한국인(각세)'!BR26 -> 1649 | BS35: ='2-2.시군 연령별 한국인(각세)'!BS26 -> 1291 | BT35: =BU35+BV35 -> 401 | BU35: ='2-2.시군 연령별 한국인(각세)'!BU26 -> 207 | BV35: ='2-2.시군 연령별 한국인(각세)'!BV26 -> 194
A36: 20-24 | B36: 20-24 | C36: =D36+E36 -> 168046 | D36: =SUM(G36,J36,M36,P36,S36,V36,Y36,AB36,AE36,AH36,AK36,AN36,AQ36,AT36,AW36,AZ36,BC36,BF36,BI36,BL36,BO36,BR36,BU36) -> 93171 | E36: =SUM(H36,K36,N36,Q36,T36,W36,Z36,AC36,AF36,AI36,AL36,AO36,AR36,AU36,AX36,BA36,BD36,BG36,BJ36,BM36,BP36,BS36,BV36) -> 74875 | F36: =G36+H36 -> 33851 | G36: ='2-2.시군 연령별 한국인(각세)'!G32 -> 19422 | H36: ='2-2.시군 연령별 한국인(각세)'!H32 -> 14429 | I36: =J36+K36 -> 16588 | J36: ='2-2.시군 연령별 한국인(각세)'!J32 -> 9400 | K36: ='2-2.시군 연령별 한국인(각세)'!K32 -> 7188 | L36: =M36+N36 -> 8800 | M36: ='2-2.시군 연령별 한국인(각세)'!M32 -> 4917 | N36: ='2-2.시군 연령별 한국인(각세)'!N32 -> 3883 | O36: =P36+Q36 -> 9914 | P36: ='2-2.시군 연령별 한국인(각세)'!P32 -> 5555 | Q36: ='2-2.시군 연령별 한국인(각세)'!Q32 -> 4359 | R36: =S36+T36 -> 32868 | S36: ='2-2.시군 연령별 한국인(각세)'!S32 -> 17103 | T36: ='2-2.시군 연령별 한국인(각세)'!T32 -> 15765 | U36: =V36+W36 -> 6290 | V36: ='2-2.시군 연령별 한국인(각세)'!V32 -> 3682 | W36: ='2-2.시군 연령별 한국인(각세)'!W32 -> 2608 | X36: =Y36+Z36 -> 5377 | Y36: ='2-2.시군 연령별 한국인(각세)'!Y32 -> 3113 | Z36: ='2-2.시군 연령별 한국인(각세)'!Z32 -> 2264 | AA36: =AB36+AC36 -> 5242 | AB36: ='2-2.시군 연령별 한국인(각세)'!AB32 -> 3001 | AC36: ='2-2.시군 연령별 한국인(각세)'!AC32 -> 2241 | AD36: =AE36+AF36 -> 3867 | AE36: ='2-2.시군 연령별 한국인(각세)'!AE32 -> 2146 | AF36: ='2-2.시군 연령별 한국인(각세)'!AF32 -> 1721 | AG36: =AH36+AI36 -> 18180 | AH36: ='2-2.시군 연령별 한국인(각세)'!AH32 -> 9974 | AI36: ='2-2.시군 연령별 한국인(각세)'!AI32 -> 8206 | AJ36: =AK36+AL36 -> 1042 | AK36: ='2-2.시군 연령별 한국인(각세)'!AK32 -> 606 | AL36: ='2-2.시군 연령별 한국인(각세)'!AL32 -> 436 | AM36: =AN36+AO36 -> 2218 | AN36: ='2-2.시군 연령별 한국인(각세)'!AN32 -> 1261 | AO36: ='2-2.시군 연령별 한국인(각세)'!AO32 -> 957 | AP36: =AQ36+AR36 -> 1163 | AQ36: ='2-2.시군 연령별 한국인(각세)'!AQ32 -> 678 | AR36: ='2-2.시군 연령별 한국인(각세)'!AR32 -> 485 | AS36: =AT36+AU36 -> 777 | AT36: ='2-2.시군 연령별 한국인(각세)'!AT32 -> 440 | AU36: ='2-2.시군 연령별 한국인(각세)'!AU32 -> 337 | AV36: =AW36+AX36 -> 1741 | AW36: ='2-2.시군 연령별 한국인(각세)'!AW32 -> 1005 | AX36: ='2-2.시군 연령별 한국인(각세)'!AX32 -> 736 | AY36: =AZ36+BA36 -> 1851 | AZ36: ='2-2.시군 연령별 한국인(각세)'!AZ32 -> 1076 | BA36: ='2-2.시군 연령별 한국인(각세)'!BA32 -> 775 | BB36: =BC36+BD36 -> 1622 | BC36: ='2-2.시군 연령별 한국인(각세)'!BC32 -> 946 | BD36: ='2-2.시군 연령별 한국인(각세)'!BD32 -> 676 | BE36: =BF36+BG36 -> 2358 | BF36: ='2-2.시군 연령별 한국인(각세)'!BF32 -> 1368 | BG36: ='2-2.시군 연령별 한국인(각세)'!BG32 -> 990 | BH36: =BI36+BJ36 -> 7761 | BI36: ='2-2.시군 연령별 한국인(각세)'!BI32 -> 3743 | BJ36: ='2-2.시군 연령별 한국인(각세)'!BJ32 -> 4018 | BK36: =BL36+BM36 -> 1971 | BL36: ='2-2.시군 연령별 한국인(각세)'!BL32 -> 1136 | BM36: ='2-2.시군 연령별 한국인(각세)'!BM32 -> 835 | BN36: =BO36+BP36 -> 1364 | BO36: ='2-2.시군 연령별 한국인(각세)'!BO32 -> 768 | BP36: ='2-2.시군 연령별 한국인(각세)'!BP32 -> 596 | BQ36: =BR36+BS36 -> 2618 | BR36: ='2-2.시군 연령별 한국인(각세)'!BR32 -> 1484 | BS36: ='2-2.시군 연령별 한국인(각세)'!BS32 -> 1134 | BT36: =BU36+BV36 -> 583 | BU36: ='2-2.시군 연령별 한국인(각세)'!BU32 -> 347 | BV36: ='2-2.시군 연령별 한국인(각세)'!BV32 -> 236
A37: 25-29 | B37: 25-29 | C37: =D37+E37 -> 143072 | D37: =SUM(G37,J37,M37,P37,S37,V37,Y37,AB37,AE37,AH37,AK37,AN37,AQ37,AT37,AW37,AZ37,BC37,BF37,BI37,BL37,BO37,BR37,BU37) -> 79584 | E37: =SUM(H37,K37,N37,Q37,T37,W37,Z37,AC37,AF37,AI37,AL37,AO37,AR37,AU37,AX37,BA37,BD37,BG37,BJ37,BM37,BP37,BS37,BV37) -> 63488 | F37: =G37+H37 -> 27957 | G37: ='2-2.시군 연령별 한국인(각세)'!G38 -> 15617 | H37: ='2-2.시군 연령별 한국인(각세)'!H38 -> 12340 | I37: =J37+K37 -> 12885 | J37: ='2-2.시군 연령별 한국인(각세)'!J38 -> 7232 | K37: ='2-2.시군 연령별 한국인(각세)'!K38 -> 5653 | L37: =M37+N37 -> 7041 | M37: ='2-2.시군 연령별 한국인(각세)'!M38 -> 3907 | N37: ='2-2.시군 연령별 한국인(각세)'!N38 -> 3134 | O37: =P37+Q37 -> 7863 | P37: ='2-2.시군 연령별 한국인(각세)'!P38 -> 4330 | Q37: ='2-2.시군 연령별 한국인(각세)'!Q38 -> 3533 | R37: =S37+T37 -> 30688 | S37: ='2-2.시군 연령별 한국인(각세)'!S38 -> 16527 | T37: ='2-2.시군 연령별 한국인(각세)'!T38 -> 14161 | U37: =V37+W37 -> 4467 | V37: ='2-2.시군 연령별 한국인(각세)'!V38 -> 2588 | W37: ='2-2.시군 연령별 한국인(각세)'!W38 -> 1879 | X37: =Y37+Z37 -> 4677 | Y37: ='2-2.시군 연령별 한국인(각세)'!Y38 -> 2692 | Z37: ='2-2.시군 연령별 한국인(각세)'!Z38 -> 1985 | AA37: =AB37+AC37 -> 4190 | AB37: ='2-2.시군 연령별 한국인(각세)'!AB38 -> 2413 | AC37: ='2-2.시군 연령별 한국인(각세)'!AC38 -> 1777 | AD37: =AE37+AF37 -> 3107 | AE37: ='2-2.시군 연령별 한국인(각세)'!AE38 -> 1727 | AF37: ='2-2.시군 연령별 한국인(각세)'!AF38 -> 1380 | AG37: =AH37+AI37 -> 15833 | AH37: ='2-2.시군 연령별 한국인(각세)'!AH38 -> 8741 | AI37: ='2-2.시군 연령별 한국인(각세)'!AI38 -> 7092 | AJ37: =AK37+AL37 -> 866 | AK37: ='2-2.시군 연령별 한국인(각세)'!AK38 -> 497 | AL37: ='2-2.시군 연령별 한국인(각세)'!AL38 -> 369 | AM37: =AN37+AO37 -> 1923 | AN37: ='2-2.시군 연령별 한국인(각세)'!AN38 -> 1107 | AO37: ='2-2.시군 연령별 한국인(각세)'!AO38 -> 816 | AP37: =AQ37+AR37 -> 980 | AQ37: ='2-2.시군 연령별 한국인(각세)'!AQ38 -> 585 | AR37: ='2-2.시군 연령별 한국인(각세)'!AR38 -> 395 | AS37: =AT37+AU37 -> 630 | AT37: ='2-2.시군 연령별 한국인(각세)'!AT38 -> 349 | AU37: ='2-2.시군 연령별 한국인(각세)'!AU38 -> 281 | AV37: =AW37+AX37 -> 1253 | AW37: ='2-2.시군 연령별 한국인(각세)'!AW38 -> 676 | AX37: ='2-2.시군 연령별 한국인(각세)'!AX38 -> 577 | AY37: =AZ37+BA37 -> 1630 | AZ37: ='2-2.시군 연령별 한국인(각세)'!AZ38 -> 955 | BA37: ='2-2.시군 연령별 한국인(각세)'!BA38 -> 675 | BB37: =BC37+BD37 -> 1395 | BC37: ='2-2.시군 연령별 한국인(각세)'!BC38 -> 784 | BD37: ='2-2.시군 연령별 한국인(각세)'!BD38 -> 611 | BE37: =BF37+BG37 -> 2011 | BF37: ='2-2.시군 연령별 한국인(각세)'!BF38 -> 1137 | BG37: ='2-2.시군 연령별 한국인(각세)'!BG38 -> 874 | BH37: =BI37+BJ37 -> 8238 | BI37: ='2-2.시군 연령별 한국인(각세)'!BI38 -> 4557 | BJ37: ='2-2.시군 연령별 한국인(각세)'!BJ38 -> 3681 | BK37: =BL37+BM37 -> 1710 | BL37: ='2-2.시군 연령별 한국인(각세)'!BL38 -> 988 | BM37: ='2-2.시군 연령별 한국인(각세)'!BM38 -> 722 | BN37: =BO37+BP37 -> 1178 | BO37: ='2-2.시군 연령별 한국인(각세)'!BO38 -> 679 | BP37: ='2-2.시군 연령별 한국인(각세)'!BP38 -> 499 | BQ37: =BR37+BS37 -> 2031 | BR37: ='2-2.시군 연령별 한국인(각세)'!BR38 -> 1193 | BS37: ='2-2.시군 연령별 한국인(각세)'!BS38 -> 838 | BT37: =BU37+BV37 -> 519 | BU37: ='2-2.시군 연령별 한국인(각세)'!BU38 -> 303 | BV37: ='2-2.시군 연령별 한국인(각세)'!BV38 -> 216
A38: 30-34 | B38: 30-34 | C38: =D38+E38 -> 169962 | D38: =SUM(G38,J38,M38,P38,S38,V38,Y38,AB38,AE38,AH38,AK38,AN38,AQ38,AT38,AW38,AZ38,BC38,BF38,BI38,BL38,BO38,BR38,BU38) -> 89426 | E38: =SUM(H38,K38,N38,Q38,T38,W38,Z38,AC38,AF38,AI38,AL38,AO38,AR38,AU38,AX38,BA38,BD38,BG38,BJ38,BM38,BP38,BS38,BV38) -> 80536 | F38: =G38+H38 -> 35278 | G38: ='2-2.시군 연령별 한국인(각세)'!G44 -> 18403 | H38: ='2-2.시군 연령별 한국인(각세)'!H44 -> 16875 | I38: =J38+K38 -> 14641 | J38: ='2-2.시군 연령별 한국인(각세)'!J44 -> 7792 | K38: ='2-2.시군 연령별 한국인(각세)'!K44 -> 6849 | L38: =M38+N38 -> 8310 | M38: ='2-2.시군 연령별 한국인(각세)'!M44 -> 4383 | N38: ='2-2.시군 연령별 한국인(각세)'!N44 -> 3927 | O38: =P38+Q38 -> 9542 | P38: ='2-2.시군 연령별 한국인(각세)'!P44 -> 4725 | Q38: ='2-2.시군 연령별 한국인(각세)'!Q44 -> 4817 | R38: =S38+T38 -> 37004 | S38: ='2-2.시군 연령별 한국인(각세)'!S44 -> 19334 | T38: ='2-2.시군 연령별 한국인(각세)'!T44 -> 17670 | U38: =V38+W38 -> 5221 | V38: ='2-2.시군 연령별 한국인(각세)'!V44 -> 2769 | W38: ='2-2.시군 연령별 한국인(각세)'!W44 -> 2452 | X38: =Y38+Z38 -> 5271 | Y38: ='2-2.시군 연령별 한국인(각세)'!Y44 -> 2833 | Z38: ='2-2.시군 연령별 한국인(각세)'!Z44 -> 2438 | AA38: =AB38+AC38 -> 4396 | AB38: ='2-2.시군 연령별 한국인(각세)'!AB44 -> 2382 | AC38: ='2-2.시군 연령별 한국인(각세)'!AC44 -> 2014 | AD38: =AE38+AF38 -> 3693 | AE38: ='2-2.시군 연령별 한국인(각세)'!AE44 -> 1921 | AF38: ='2-2.시군 연령별 한국인(각세)'!AF44 -> 1772 | AG38: =AH38+AI38 -> 18826 | AH38: ='2-2.시군 연령별 한국인(각세)'!AH44 -> 9835 | AI38: ='2-2.시군 연령별 한국인(각세)'!AI44 -> 8991 | AJ38: =AK38+AL38 -> 864 | AK38: ='2-2.시군 연령별 한국인(각세)'!AK44 -> 470 | AL38: ='2-2.시군 연령별 한국인(각세)'!AL44 -> 394 | AM38: =AN38+AO38 -> 1905 | AN38: ='2-2.시군 연령별 한국인(각세)'!AN44 -> 1081 | AO38: ='2-2.시군 연령별 한국인(각세)'!AO44 -> 824 | AP38: =AQ38+AR38 -> 988 | AQ38: ='2-2.시군 연령별 한국인(각세)'!AQ44 -> 550 | AR38: ='2-2.시군 연령별 한국인(각세)'!AR44 -> 438 | AS38: =AT38+AU38 -> 645 | AT38: ='2-2.시군 연령별 한국인(각세)'!AT44 -> 343 | AU38: ='2-2.시군 연령별 한국인(각세)'!AU44 -> 302 | AV38: =AW38+AX38 -> 1512 | AW38: ='2-2.시군 연령별 한국인(각세)'!AW44 -> 800 | AX38: ='2-2.시군 연령별 한국인(각세)'!AX44 -> 712 | AY38: =AZ38+BA38 -> 1795 | AZ38: ='2-2.시군 연령별 한국인(각세)'!AZ44 -> 938 | BA38: ='2-2.시군 연령별 한국인(각세)'!BA44 -> 857 | BB38: =BC38+BD38 -> 1651 | BC38: ='2-2.시군 연령별 한국인(각세)'!BC44 -> 878 | BD38: ='2-2.시군 연령별 한국인(각세)'!BD44 -> 773 | BE38: =BF38+BG38 -> 2042 | BF38: ='2-2.시군 연령별 한국인(각세)'!BF44 -> 1056 | BG38: ='2-2.시군 연령별 한국인(각세)'!BG44 -> 986 | BH38: =BI38+BJ38 -> 10225 | BI38: ='2-2.시군 연령별 한국인(각세)'!BI44 -> 5659 | BJ38: ='2-2.시군 연령별 한국인(각세)'!BJ44 -> 4566 | BK38: =BL38+BM38 -> 1803 | BL38: ='2-2.시군 연령별 한국인(각세)'!BL44 -> 936 | BM38: ='2-2.시군 연령별 한국인(각세)'!BM44 -> 867 | BN38: =BO38+BP38 -> 1277 | BO38: ='2-2.시군 연령별 한국인(각세)'!BO44 -> 678 | BP38: ='2-2.시군 연령별 한국인(각세)'!BP44 -> 599 | BQ38: =BR38+BS38 -> 2513 | BR38: ='2-2.시군 연령별 한국인(각세)'!BR44 -> 1347 | BS38: ='2-2.시군 연령별 한국인(각세)'!BS44 -> 1166 | BT38: =BU38+BV38 -> 560 | BU38: ='2-2.시군 연령별 한국인(각세)'!BU44 -> 313 | BV38: ='2-2.시군 연령별 한국인(각세)'!BV44 -> 247
A39: 35-39 | B39: 35-39 | C39: =D39+E39 -> 178714 | D39: =SUM(G39,J39,M39,P39,S39,V39,Y39,AB39,AE39,AH39,AK39,AN39,AQ39,AT39,AW39,AZ39,BC39,BF39,BI39,BL39,BO39,BR39,BU39) -> 93383 | E39: =SUM(H39,K39,N39,Q39,T39,W39,Z39,AC39,AF39,AI39,AL39,AO39,AR39,AU39,AX39,BA39,BD39,BG39,BJ39,BM39,BP39,BS39,BV39) -> 85331 | F39: =G39+H39 -> 35974 | G39: ='2-2.시군 연령별 한국인(각세)'!G50 -> 18331 | H39: ='2-2.시군 연령별 한국인(각세)'!H50 -> 17643 | I39: =J39+K39 -> 16218 | J39: ='2-2.시군 연령별 한국인(각세)'!J50 -> 8473 | K39: ='2-2.시군 연령별 한국인(각세)'!K50 -> 7745 | L39: =M39+N39 -> 8692 | M39: ='2-2.시군 연령별 한국인(각세)'!M50 -> 4652 | N39: ='2-2.시군 연령별 한국인(각세)'!N50 -> 4040 | O39: =P39+Q39 -> 10814 | P39: ='2-2.시군 연령별 한국인(각세)'!P50 -> 5486 | Q39: ='2-2.시군 연령별 한국인(각세)'!Q50 -> 5328 | R39: =S39+T39 -> 37197 | S39: ='2-2.시군 연령별 한국인(각세)'!S50 -> 19044 | T39: ='2-2.시군 연령별 한국인(각세)'!T50 -> 18153 | U39: =V39+W39 -> 6198 | V39: ='2-2.시군 연령별 한국인(각세)'!V50 -> 3171 | W39: ='2-2.시군 연령별 한국인(각세)'!W50 -> 3027 | X39: =Y39+Z39 -> 5292 | Y39: ='2-2.시군 연령별 한국인(각세)'!Y50 -> 2890 | Z39: ='2-2.시군 연령별 한국인(각세)'!Z50 -> 2402 | AA39: =AB39+AC39 -> 4817 | AB39: ='2-2.시군 연령별 한국인(각세)'!AB50 -> 2543 | AC39: ='2-2.시군 연령별 한국인(각세)'!AC50 -> 2274 | AD39: =AE39+AF39 -> 4027 | AE39: ='2-2.시군 연령별 한국인(각세)'!AE50 -> 2147 | AF39: ='2-2.시군 연령별 한국인(각세)'!AF50 -> 1880 | AG39: =AH39+AI39 -> 19615 | AH39: ='2-2.시군 연령별 한국인(각세)'!AH50 -> 10103 | AI39: ='2-2.시군 연령별 한국인(각세)'!AI50 -> 9512 | AJ39: =AK39+AL39 -> 932 | AK39: ='2-2.시군 연령별 한국인(각세)'!AK50 -> 540 | AL39: ='2-2.시군 연령별 한국인(각세)'!AL50 -> 392 | AM39: =AN39+AO39 -> 1957 | AN39: ='2-2.시군 연령별 한국인(각세)'!AN50 -> 1163 | AO39: ='2-2.시군 연령별 한국인(각세)'!AO50 -> 794 | AP39: =AQ39+AR39 -> 1076 | AQ39: ='2-2.시군 연령별 한국인(각세)'!AQ50 -> 590 | AR39: ='2-2.시군 연령별 한국인(각세)'!AR50 -> 486 | AS39: =AT39+AU39 -> 728 | AT39: ='2-2.시군 연령별 한국인(각세)'!AT50 -> 414 | AU39: ='2-2.시군 연령별 한국인(각세)'!AU50 -> 314 | AV39: =AW39+AX39 -> 1733 | AW39: ='2-2.시군 연령별 한국인(각세)'!AW50 -> 937 | AX39: ='2-2.시군 연령별 한국인(각세)'!AX50 -> 796 | AY39: =AZ39+BA39 -> 1855 | AZ39: ='2-2.시군 연령별 한국인(각세)'!AZ50 -> 1050 | BA39: ='2-2.시군 연령별 한국인(각세)'!BA50 -> 805 | BB39: =BC39+BD39 -> 1845 | BC39: ='2-2.시군 연령별 한국인(각세)'!BC50 -> 1014 | BD39: ='2-2.시군 연령별 한국인(각세)'!BD50 -> 831 | BE39: =BF39+BG39 -> 2089 | BF39: ='2-2.시군 연령별 한국인(각세)'!BF50 -> 1221 | BG39: ='2-2.시군 연령별 한국인(각세)'!BG50 -> 868 | BH39: =BI39+BJ39 -> 10604 | BI39: ='2-2.시군 연령별 한국인(각세)'!BI50 -> 5736 | BJ39: ='2-2.시군 연령별 한국인(각세)'!BJ50 -> 4868 | BK39: =BL39+BM39 -> 1991 | BL39: ='2-2.시군 연령별 한국인(각세)'!BL50 -> 1133 | BM39: ='2-2.시군 연령별 한국인(각세)'!BM50 -> 858 | BN39: =BO39+BP39 -> 1452 | BO39: ='2-2.시군 연령별 한국인(각세)'!BO50 -> 818 | BP39: ='2-2.시군 연령별 한국인(각세)'!BP50 -> 634 | BQ39: =BR39+BS39 -> 3013 | BR39: ='2-2.시군 연령별 한국인(각세)'!BR50 -> 1593 | BS39: ='2-2.시군 연령별 한국인(각세)'!BS50 -> 1420 | BT39: =BU39+BV39 -> 595 | BU39: ='2-2.시군 연령별 한국인(각세)'!BU50 -> 334 | BV39: ='2-2.시군 연령별 한국인(각세)'!BV50 -> 261
A40: 40-44 | B40: 40-44 | C40: =D40+E40 -> 207856 | D40: =SUM(G40,J40,M40,P40,S40,V40,Y40,AB40,AE40,AH40,AK40,AN40,AQ40,AT40,AW40,AZ40,BC40,BF40,BI40,BL40,BO40,BR40,BU40) -> 108889 | E40: =SUM(H40,K40,N40,Q40,T40,W40,Z40,AC40,AF40,AI40,AL40,AO40,AR40,AU40,AX40,BA40,BD40,BG40,BJ40,BM40,BP40,BS40,BV40) -> 98967 | F40: =G40+H40 -> 42277 | G40: ='2-2.시군 연령별 한국인(각세)'!G56 -> 21187 | H40: ='2-2.시군 연령별 한국인(각세)'!H56 -> 21090 | I40: =J40+K40 -> 20817 | J40: ='2-2.시군 연령별 한국인(각세)'!J56 -> 10858 | K40: ='2-2.시군 연령별 한국인(각세)'!K56 -> 9959 | L40: =M40+N40 -> 9959 | M40: ='2-2.시군 연령별 한국인(각세)'!M56 -> 5275 | N40: ='2-2.시군 연령별 한국인(각세)'!N56 -> 4684 | O40: =P40+Q40 -> 12597 | P40: ='2-2.시군 연령별 한국인(각세)'!P56 -> 6602 | Q40: ='2-2.시군 연령별 한국인(각세)'!Q56 -> 5995 | R40: =S40+T40 -> 38353 | S40: ='2-2.시군 연령별 한국인(각세)'!S56 -> 19224 | T40: ='2-2.시군 연령별 한국인(각세)'!T56 -> 19129 | U40: =V40+W40 -> 7864 | V40: ='2-2.시군 연령별 한국인(각세)'!V56 -> 4134 | W40: ='2-2.시군 연령별 한국인(각세)'!W56 -> 3730 | X40: =Y40+Z40 -> 6882 | Y40: ='2-2.시군 연령별 한국인(각세)'!Y56 -> 3740 | Z40: ='2-2.시군 연령별 한국인(각세)'!Z56 -> 3142 | AA40: =AB40+AC40 -> 6604 | AB40: ='2-2.시군 연령별 한국인(각세)'!AB56 -> 3519 | AC40: ='2-2.시군 연령별 한국인(각세)'!AC56 -> 3085 | AD40: =AE40+AF40 -> 4858 | AE40: ='2-2.시군 연령별 한국인(각세)'!AE56 -> 2611 | AF40: ='2-2.시군 연령별 한국인(각세)'!AF56 -> 2247 | AG40: =AH40+AI40 -> 22160 | AH40: ='2-2.시군 연령별 한국인(각세)'!AH56 -> 11465 | AI40: ='2-2.시군 연령별 한국인(각세)'!AI56 -> 10695 | AJ40: =AK40+AL40 -> 1158 | AK40: ='2-2.시군 연령별 한국인(각세)'!AK56 -> 693 | AL40: ='2-2.시군 연령별 한국인(각세)'!AL56 -> 465 | AM40: =AN40+AO40 -> 2613 | AN40: ='2-2.시군 연령별 한국인(각세)'!AN56 -> 1526 | AO40: ='2-2.시군 연령별 한국인(각세)'!AO56 -> 1087 | AP40: =AQ40+AR40 -> 1348 | AQ40: ='2-2.시군 연령별 한국인(각세)'!AQ56 -> 800 | AR40: ='2-2.시군 연령별 한국인(각세)'!AR56 -> 548 | AS40: =AT40+AU40 -> 1053 | AT40: ='2-2.시군 연령별 한국인(각세)'!AT56 -> 641 | AU40: ='2-2.시군 연령별 한국인(각세)'!AU56 -> 412 | AV40: =AW40+AX40 -> 2244 | AW40: ='2-2.시군 연령별 한국인(각세)'!AW56 -> 1288 | AX40: ='2-2.시군 연령별 한국인(각세)'!AX56 -> 956 | AY40: =AZ40+BA40 -> 2361 | AZ40: ='2-2.시군 연령별 한국인(각세)'!AZ56 -> 1372 | BA40: ='2-2.시군 연령별 한국인(각세)'!BA56 -> 989 | BB40: =BC40+BD40 -> 2439 | BC40: ='2-2.시군 연령별 한국인(각세)'!BC56 -> 1389 | BD40: ='2-2.시군 연령별 한국인(각세)'!BD56 -> 1050 | BE40: =BF40+BG40 -> 2529 | BF40: ='2-2.시군 연령별 한국인(각세)'!BF56 -> 1504 | BG40: ='2-2.시군 연령별 한국인(각세)'!BG56 -> 1025 | BH40: =BI40+BJ40 -> 11212 | BI40: ='2-2.시군 연령별 한국인(각세)'!BI56 -> 6083 | BJ40: ='2-2.시군 연령별 한국인(각세)'!BJ56 -> 5129 | BK40: =BL40+BM40 -> 2265 | BL40: ='2-2.시군 연령별 한국인(각세)'!BL56 -> 1371 | BM40: ='2-2.시군 연령별 한국인(각세)'!BM56 -> 894 | BN40: =BO40+BP40 -> 1878 | BO40: ='2-2.시군 연령별 한국인(각세)'!BO56 -> 1088 | BP40: ='2-2.시군 연령별 한국인(각세)'!BP56 -> 790 | BQ40: =BR40+BS40 -> 3650 | BR40: ='2-2.시군 연령별 한국인(각세)'!BR56 -> 2063 | BS40: ='2-2.시군 연령별 한국인(각세)'!BS56 -> 1587 | BT40: =BU40+BV40 -> 735 | BU40: ='2-2.시군 연령별 한국인(각세)'!BU56 -> 456 | BV40: ='2-2.시군 연령별 한국인(각세)'!BV56 -> 279
A41: 45-49 | B41: 45-49 | C41: =D41+E41 -> 222868 | D41: =SUM(G41,J41,M41,P41,S41,V41,Y41,AB41,AE41,AH41,AK41,AN41,AQ41,AT41,AW41,AZ41,BC41,BF41,BI41,BL41,BO41,BR41,BU41) -> 116445 | E41: =SUM(H41,K41,N41,Q41,T41,W41,Z41,AC41,AF41,AI41,AL41,AO41,AR41,AU41,AX41,BA41,BD41,BG41,BJ41,BM41,BP41,BS41,BV41) -> 106423 | F41: =G41+H41 -> 45666 | G41: ='2-2.시군 연령별 한국인(각세)'!G62 -> 23106 | H41: ='2-2.시군 연령별 한국인(각세)'!H62 -> 22560 | I41: =J41+K41 -> 22460 | J41: ='2-2.시군 연령별 한국인(각세)'!J62 -> 11761 | K41: ='2-2.시군 연령별 한국인(각세)'!K62 -> 10699 | L41: =M41+N41 -> 11322 | M41: ='2-2.시군 연령별 한국인(각세)'!M62 -> 5966 | N41: ='2-2.시군 연령별 한국인(각세)'!N62 -> 5356 | O41: =P41+Q41 -> 13336 | P41: ='2-2.시군 연령별 한국인(각세)'!P62 -> 6920 | Q41: ='2-2.시군 연령별 한국인(각세)'!Q62 -> 6416 | R41: =S41+T41 -> 38371 | S41: ='2-2.시군 연령별 한국인(각세)'!S62 -> 19202 | T41: ='2-2.시군 연령별 한국인(각세)'!T62 -> 19169 | U41: =V41+W41 -> 8858 | V41: ='2-2.시군 연령별 한국인(각세)'!V62 -> 4614 | W41: ='2-2.시군 연령별 한국인(각세)'!W62 -> 4244 | X41: =Y41+Z41 -> 7967 | Y41: ='2-2.시군 연령별 한국인(각세)'!Y62 -> 4354 | Z41: ='2-2.시군 연령별 한국인(각세)'!Z62 -> 3613 | AA41: =AB41+AC41 -> 7489 | AB41: ='2-2.시군 연령별 한국인(각세)'!AB62 -> 4055 | AC41: ='2-2.시군 연령별 한국인(각세)'!AC62 -> 3434 | AD41: =AE41+AF41 -> 5399 | AE41: ='2-2.시군 연령별 한국인(각세)'!AE62 -> 2838 | AF41: ='2-2.시군 연령별 한국인(각세)'!AF62 -> 2561 | AG41: =AH41+AI41 -> 21888 | AH41: ='2-2.시군 연령별 한국인(각세)'!AH62 -> 11183 | AI41: ='2-2.시군 연령별 한국인(각세)'!AI62 -> 10705 | AJ41: =AK41+AL41 -> 1591 | AK41: ='2-2.시군 연령별 한국인(각세)'!AK62 -> 937 | AL41: ='2-2.시군 연령별 한국인(각세)'!AL62 -> 654 | AM41: =AN41+AO41 -> 3413 | AN41: ='2-2.시군 연령별 한국인(각세)'!AN62 -> 1994 | AO41: ='2-2.시군 연령별 한국인(각세)'!AO62 -> 1419 | AP41: =AQ41+AR41 -> 1892 | AQ41: ='2-2.시군 연령별 한국인(각세)'!AQ62 -> 1043 | AR41: ='2-2.시군 연령별 한국인(각세)'!AR62 -> 849 | AS41: =AT41+AU41 -> 1262 | AT41: ='2-2.시군 연령별 한국인(각세)'!AT62 -> 720 | AU41: ='2-2.시군 연령별 한국인(각세)'!AU62 -> 542 | AV41: =AW41+AX41 -> 2780 | AW41: ='2-2.시군 연령별 한국인(각세)'!AW62 -> 1558 | AX41: ='2-2.시군 연령별 한국인(각세)'!AX62 -> 1222 | AY41: =AZ41+BA41 -> 2956 | AZ41: ='2-2.시군 연령별 한국인(각세)'!AZ62 -> 1615 | BA41: ='2-2.시군 연령별 한국인(각세)'!BA62 -> 1341 | BB41: =BC41+BD41 -> 2698 | BC41: ='2-2.시군 연령별 한국인(각세)'!BC62 -> 1541 | BD41: ='2-2.시군 연령별 한국인(각세)'!BD62 -> 1157 | BE41: =BF41+BG41 -> 3437 | BF41: ='2-2.시군 연령별 한국인(각세)'!BF62 -> 1957 | BG41: ='2-2.시군 연령별 한국인(각세)'!BG62 -> 1480 | BH41: =BI41+BJ41 -> 10174 | BI41: ='2-2.시군 연령별 한국인(각세)'!BI62 -> 5554 | BJ41: ='2-2.시군 연령별 한국인(각세)'!BJ62 -> 4620 | BK41: =BL41+BM41 -> 2715 | BL41: ='2-2.시군 연령별 한국인(각세)'!BL62 -> 1499 | BM41: ='2-2.시군 연령별 한국인(각세)'!BM62 -> 1216 | BN41: =BO41+BP41 -> 2338 | BO41: ='2-2.시군 연령별 한국인(각세)'!BO62 -> 1317 | BP41: ='2-2.시군 연령별 한국인(각세)'!BP62 -> 1021 | BQ41: =BR41+BS41 -> 3991 | BR41: ='2-2.시군 연령별 한국인(각세)'!BR62 -> 2191 | BS41: ='2-2.시군 연령별 한국인(각세)'!BS62 -> 1800 | BT41: =BU41+BV41 -> 865 | BU41: ='2-2.시군 연령별 한국인(각세)'!BU62 -> 520 | BV41: ='2-2.시군 연령별 한국인(각세)'!BV62 -> 345
A42: 50-54 | B42: 50-54 | C42: =D42+E42 -> 229691 | D42: =SUM(G42,J42,M42,P42,S42,V42,Y42,AB42,AE42,AH42,AK42,AN42,AQ42,AT42,AW42,AZ42,BC42,BF42,BI42,BL42,BO42,BR42,BU42) -> 118602 | E42: =SUM(H42,K42,N42,Q42,T42,W42,Z42,AC42,AF42,AI42,AL42,AO42,AR42,AU42,AX42,BA42,BD42,BG42,BJ42,BM42,BP42,BS42,BV42) -> 111089 | F42: =G42+H42 -> 46991 | G42: ='2-2.시군 연령별 한국인(각세)'!G68 -> 23415 | H42: ='2-2.시군 연령별 한국인(각세)'!H68 -> 23576 | I42: =J42+K42 -> 23091 | J42: ='2-2.시군 연령별 한국인(각세)'!J68 -> 11918 | K42: ='2-2.시군 연령별 한국인(각세)'!K68 -> 11173 | L42: =M42+N42 -> 11754 | M42: ='2-2.시군 연령별 한국인(각세)'!M68 -> 6167 | N42: ='2-2.시군 연령별 한국인(각세)'!N68 -> 5587 | O42: =P42+Q42 -> 13560 | P42: ='2-2.시군 연령별 한국인(각세)'!P68 -> 6781 | Q42: ='2-2.시군 연령별 한국인(각세)'!Q68 -> 6779 | R42: =S42+T42 -> 33458 | S42: ='2-2.시군 연령별 한국인(각세)'!S68 -> 17670 | T42: ='2-2.시군 연령별 한국인(각세)'!T68 -> 15788 | U42: =V42+W42 -> 9365 | V42: ='2-2.시군 연령별 한국인(각세)'!V68 -> 4741 | W42: ='2-2.시군 연령별 한국인(각세)'!W68 -> 4624 | X42: =Y42+Z42 -> 8607 | Y42: ='2-2.시군 연령별 한국인(각세)'!Y68 -> 4554 | Z42: ='2-2.시군 연령별 한국인(각세)'!Z68 -> 4053 | AA42: =AB42+AC42 -> 8708 | AB42: ='2-2.시군 연령별 한국인(각세)'!AB68 -> 4469 | AC42: ='2-2.시군 연령별 한국인(각세)'!AC68 -> 4239 | AD42: =AE42+AF42 -> 6207 | AE42: ='2-2.시군 연령별 한국인(각세)'!AE68 -> 3147 | AF42: ='2-2.시군 연령별 한국인(각세)'!AF68 -> 3060 | AG42: =AH42+AI42 -> 21491 | AH42: ='2-2.시군 연령별 한국인(각세)'!AH68 -> 10838 | AI42: ='2-2.시군 연령별 한국인(각세)'!AI68 -> 10653 | AJ42: =AK42+AL42 -> 2136 | AK42: ='2-2.시군 연령별 한국인(각세)'!AK68 -> 1174 | AL42: ='2-2.시군 연령별 한국인(각세)'!AL68 -> 962 | AM42: =AN42+AO42 -> 4557 | AN42: ='2-2.시군 연령별 한국인(각세)'!AN68 -> 2345 | AO42: ='2-2.시군 연령별 한국인(각세)'!AO68 -> 2212 | AP42: =AQ42+AR42 -> 2401 | AQ42: ='2-2.시군 연령별 한국인(각세)'!AQ68 -> 1255 | AR42: ='2-2.시군 연령별 한국인(각세)'!AR68 -> 1146 | AS42: =AT42+AU42 -> 1547 | AT42: ='2-2.시군 연령별 한국인(각세)'!AT68 -> 793 | AU42: ='2-2.시군 연령별 한국인(각세)'!AU68 -> 754 | AV42: =AW42+AX42 -> 3216 | AW42: ='2-2.시군 연령별 한국인(각세)'!AW68 -> 1663 | AX42: ='2-2.시군 연령별 한국인(각세)'!AX68 -> 1553 | AY42: =AZ42+BA42 -> 3740 | AZ42: ='2-2.시군 연령별 한국인(각세)'!AZ68 -> 2008 | BA42: ='2-2.시군 연령별 한국인(각세)'!BA68 -> 1732 | BB42: =BC42+BD42 -> 3137 | BC42: ='2-2.시군 연령별 한국인(각세)'!BC68 -> 1755 | BD42: ='2-2.시군 연령별 한국인(각세)'!BD68 -> 1382 | BE42: =BF42+BG42 -> 4401 | BF42: ='2-2.시군 연령별 한국인(각세)'!BF68 -> 2448 | BG42: ='2-2.시군 연령별 한국인(각세)'!BG68 -> 1953 | BH42: =BI42+BJ42 -> 9099 | BI42: ='2-2.시군 연령별 한국인(각세)'!BI68 -> 5012 | BJ42: ='2-2.시군 연령별 한국인(각세)'!BJ68 -> 4087 | BK42: =BL42+BM42 -> 3547 | BL42: ='2-2.시군 연령별 한국인(각세)'!BL68 -> 1815 | BM42: ='2-2.시군 연령별 한국인(각세)'!BM68 -> 1732 | BN42: =BO42+BP42 -> 3020 | BO42: ='2-2.시군 연령별 한국인(각세)'!BO68 -> 1603 | BP42: ='2-2.시군 연령별 한국인(각세)'!BP68 -> 1417 | BQ42: =BR42+BS42 -> 4586 | BR42: ='2-2.시군 연령별 한국인(각세)'!BR68 -> 2437 | BS42: ='2-2.시군 연령별 한국인(각세)'!BS68 -> 2149 | BT42: =BU42+BV42 -> 1072 | BU42: ='2-2.시군 연령별 한국인(각세)'!BU68 -> 594 | BV42: ='2-2.시군 연령별 한국인(각세)'!BV68 -> 478
A43: 55-59 | B43: 55-59 | C43: =D43+E43 -> 224589 | D43: =SUM(G43,J43,M43,P43,S43,V43,Y43,AB43,AE43,AH43,AK43,AN43,AQ43,AT43,AW43,AZ43,BC43,BF43,BI43,BL43,BO43,BR43,BU43) -> 113378 | E43: =SUM(H43,K43,N43,Q43,T43,W43,Z43,AC43,AF43,AI43,AL43,AO43,AR43,AU43,AX43,BA43,BD43,BG43,BJ43,BM43,BP43,BS43,BV43) -> 111211 | F43: =G43+H43 -> 46260 | G43: ='2-2.시군 연령별 한국인(각세)'!G74 -> 22712 | H43: ='2-2.시군 연령별 한국인(각세)'!H74 -> 23548 | I43: =J43+K43 -> 22363 | J43: ='2-2.시군 연령별 한국인(각세)'!J74 -> 11341 | K43: ='2-2.시군 연령별 한국인(각세)'!K74 -> 11022 | L43: =M43+N43 -> 11794 | M43: ='2-2.시군 연령별 한국인(각세)'!M74 -> 5945 | N43: ='2-2.시군 연령별 한국인(각세)'!N74 -> 5849 | O43: =P43+Q43 -> 14098 | P43: ='2-2.시군 연령별 한국인(각세)'!P74 -> 7028 | Q43: ='2-2.시군 연령별 한국인(각세)'!Q74 -> 7070 | R43: =S43+T43 -> 25016 | S43: ='2-2.시군 연령별 한국인(각세)'!S74 -> 13240 | T43: ='2-2.시군 연령별 한국인(각세)'!T74 -> 11776 | U43: =V43+W43 -> 9954 | V43: ='2-2.시군 연령별 한국인(각세)'!V74 -> 4884 | W43: ='2-2.시군 연령별 한국인(각세)'!W74 -> 5070 | X43: =Y43+Z43 -> 9166 | Y43: ='2-2.시군 연령별 한국인(각세)'!Y74 -> 4656 | Z43: ='2-2.시군 연령별 한국인(각세)'!Z74 -> 4510 | AA43: =AB43+AC43 -> 9635 | AB43: ='2-2.시군 연령별 한국인(각세)'!AB74 -> 4790 | AC43: ='2-2.시군 연령별 한국인(각세)'!AC74 -> 4845 | AD43: =AE43+AF43 -> 7097 | AE43: ='2-2.시군 연령별 한국인(각세)'!AE74 -> 3482 | AF43: ='2-2.시군 연령별 한국인(각세)'!AF74 -> 3615 | AG43: =AH43+AI43 -> 19449 | AH43: ='2-2.시군 연령별 한국인(각세)'!AH74 -> 9696 | AI43: ='2-2.시군 연령별 한국인(각세)'!AI74 -> 9753 | AJ43: =AK43+AL43 -> 2469 | AK43: ='2-2.시군 연령별 한국인(각세)'!AK74 -> 1303 | AL43: ='2-2.시군 연령별 한국인(각세)'!AL74 -> 1166 | AM43: =AN43+AO43 -> 5694 | AN43: ='2-2.시군 연령별 한국인(각세)'!AN74 -> 2913 | AO43: ='2-2.시군 연령별 한국인(각세)'!AO74 -> 2781 | AP43: =AQ43+AR43 -> 2662 | AQ43: ='2-2.시군 연령별 한국인(각세)'!AQ74 -> 1289 | AR43: ='2-2.시군 연령별 한국인(각세)'!AR74 -> 1373 | AS43: =AT43+AU43 -> 1677 | AT43: ='2-2.시군 연령별 한국인(각세)'!AT74 -> 809 | AU43: ='2-2.시군 연령별 한국인(각세)'!AU74 -> 868 | AV43: =AW43+AX43 -> 3726 | AW43: ='2-2.시군 연령별 한국인(각세)'!AW74 -> 1807 | AX43: ='2-2.시군 연령별 한국인(각세)'!AX74 -> 1919 | AY43: =AZ43+BA43 -> 4486 | AZ43: ='2-2.시군 연령별 한국인(각세)'!AZ74 -> 2284 | BA43: ='2-2.시군 연령별 한국인(각세)'!BA74 -> 2202 | BB43: =BC43+BD43 -> 3299 | BC43: ='2-2.시군 연령별 한국인(각세)'!BC74 -> 1758 | BD43: ='2-2.시군 연령별 한국인(각세)'!BD74 -> 1541 | BE43: =BF43+BG43 -> 4614 | BF43: ='2-2.시군 연령별 한국인(각세)'!BF74 -> 2476 | BG43: ='2-2.시군 연령별 한국인(각세)'!BG74 -> 2138 | BH43: =BI43+BJ43 -> 7769 | BI43: ='2-2.시군 연령별 한국인(각세)'!BI74 -> 4157 | BJ43: ='2-2.시군 연령별 한국인(각세)'!BJ74 -> 3612 | BK43: =BL43+BM43 -> 4239 | BL43: ='2-2.시군 연령별 한국인(각세)'!BL74 -> 2155 | BM43: ='2-2.시군 연령별 한국인(각세)'!BM74 -> 2084 | BN43: =BO43+BP43 -> 3409 | BO43: ='2-2.시군 연령별 한국인(각세)'!BO74 -> 1735 | BP43: ='2-2.시군 연령별 한국인(각세)'!BP74 -> 1674 | BQ43: =BR43+BS43 -> 4602 | BR43: ='2-2.시군 연령별 한국인(각세)'!BR74 -> 2323 | BS43: ='2-2.시군 연령별 한국인(각세)'!BS74 -> 2279 | BT43: =BU43+BV43 -> 1111 | BU43: ='2-2.시군 연령별 한국인(각세)'!BU74 -> 595 | BV43: ='2-2.시군 연령별 한국인(각세)'!BV74 -> 516
A44: 60-64 | B44: 60-64 | C44: =D44+E44 -> 174748 | D44: =SUM(G44,J44,M44,P44,S44,V44,Y44,AB44,AE44,AH44,AK44,AN44,AQ44,AT44,AW44,AZ44,BC44,BF44,BI44,BL44,BO44,BR44,BU44) -> 85537 | E44: =SUM(H44,K44,N44,Q44,T44,W44,Z44,AC44,AF44,AI44,AL44,AO44,AR44,AU44,AX44,BA44,BD44,BG44,BJ44,BM44,BP44,BS44,BV44) -> 89211 | F44: =G44+H44 -> 34092 | G44: ='2-2.시군 연령별 한국인(각세)'!G80 -> 17363 | H44: ='2-2.시군 연령별 한국인(각세)'!H80 -> 16729 | I44: =J44+K44 -> 17531 | J44: ='2-2.시군 연령별 한국인(각세)'!J80 -> 8443 | K44: ='2-2.시군 연령별 한국인(각세)'!K80 -> 9088 | L44: =M44+N44 -> 9457 | M44: ='2-2.시군 연령별 한국인(각세)'!M80 -> 4533 | N44: ='2-2.시군 연령별 한국인(각세)'!N80 -> 4924 | O44: =P44+Q44 -> 11432 | P44: ='2-2.시군 연령별 한국인(각세)'!P80 -> 5354 | Q44: ='2-2.시군 연령별 한국인(각세)'!Q80 -> 6078 | R44: =S44+T44 -> 14997 | S44: ='2-2.시군 연령별 한국인(각세)'!S80 -> 7562 | T44: ='2-2.시군 연령별 한국인(각세)'!T80 -> 7435 | U44: =V44+W44 -> 8365 | V44: ='2-2.시군 연령별 한국인(각세)'!V80 -> 3937 | W44: ='2-2.시군 연령별 한국인(각세)'!W80 -> 4428 | X44: =Y44+Z44 -> 7971 | Y44: ='2-2.시군 연령별 한국인(각세)'!Y80 -> 3872 | Z44: ='2-2.시군 연령별 한국인(각세)'!Z80 -> 4099 | AA44: =AB44+AC44 -> 7942 | AB44: ='2-2.시군 연령별 한국인(각세)'!AB80 -> 3779 | AC44: ='2-2.시군 연령별 한국인(각세)'!AC80 -> 4163 | AD44: =AE44+AF44 -> 5906 | AE44: ='2-2.시군 연령별 한국인(각세)'!AE80 -> 2795 | AF44: ='2-2.시군 연령별 한국인(각세)'!AF80 -> 3111 | AG44: =AH44+AI44 -> 14518 | AH44: ='2-2.시군 연령별 한국인(각세)'!AH80 -> 6996 | AI44: ='2-2.시군 연령별 한국인(각세)'!AI80 -> 7522 | AJ44: =AK44+AL44 -> 2226 | AK44: ='2-2.시군 연령별 한국인(각세)'!AK80 -> 1111 | AL44: ='2-2.시군 연령별 한국인(각세)'!AL80 -> 1115 | AM44: =AN44+AO44 -> 5239 | AN44: ='2-2.시군 연령별 한국인(각세)'!AN80 -> 2538 | AO44: ='2-2.시군 연령별 한국인(각세)'!AO80 -> 2701 | AP44: =AQ44+AR44 -> 2442 | AQ44: ='2-2.시군 연령별 한국인(각세)'!AQ80 -> 1204 | AR44: ='2-2.시군 연령별 한국인(각세)'!AR80 -> 1238 | AS44: =AT44+AU44 -> 1551 | AT44: ='2-2.시군 연령별 한국인(각세)'!AT80 -> 778 | AU44: ='2-2.시군 연령별 한국인(각세)'!AU80 -> 773 | AV44: =AW44+AX44 -> 3430 | AW44: ='2-2.시군 연령별 한국인(각세)'!AW80 -> 1600 | AX44: ='2-2.시군 연령별 한국인(각세)'!AX80 -> 1830 | AY44: =AZ44+BA44 -> 4267 | AZ44: ='2-2.시군 연령별 한국인(각세)'!AZ80 -> 2041 | BA44: ='2-2.시군 연령별 한국인(각세)'!BA80 -> 2226 | BB44: =BC44+BD44 -> 2736 | BC44: ='2-2.시군 연령별 한국인(각세)'!BC80 -> 1394 | BD44: ='2-2.시군 연령별 한국인(각세)'!BD80 -> 1342 | BE44: =BF44+BG44 -> 3883 | BF44: ='2-2.시군 연령별 한국인(각세)'!BF80 -> 1918 | BG44: ='2-2.시군 연령별 한국인(각세)'!BG80 -> 1965 | BH44: =BI44+BJ44 -> 5496 | BI44: ='2-2.시군 연령별 한국인(각세)'!BI80 -> 2759 | BJ44: ='2-2.시군 연령별 한국인(각세)'!BJ80 -> 2737 | BK44: =BL44+BM44 -> 3914 | BL44: ='2-2.시군 연령별 한국인(각세)'!BL80 -> 1876 | BM44: ='2-2.시군 연령별 한국인(각세)'!BM80 -> 2038 | BN44: =BO44+BP44 -> 2967 | BO44: ='2-2.시군 연령별 한국인(각세)'!BO80 -> 1505 | BP44: ='2-2.시군 연령별 한국인(각세)'!BP80 -> 1462 | BQ44: =BR44+BS44 -> 3515 | BR44: ='2-2.시군 연령별 한국인(각세)'!BR80 -> 1725 | BS44: ='2-2.시군 연령별 한국인(각세)'!BS80 -> 1790 | BT44: =BU44+BV44 -> 871 | BU44: ='2-2.시군 연령별 한국인(각세)'!BU80 -> 454 | BV44: ='2-2.시군 연령별 한국인(각세)'!BV80 -> 417
A45: 65-69 | B45: 65-69 | C45: =D45+E45 -> 133390 | D45: =SUM(G45,J45,M45,P45,S45,V45,Y45,AB45,AE45,AH45,AK45,AN45,AQ45,AT45,AW45,AZ45,BC45,BF45,BI45,BL45,BO45,BR45,BU45) -> 65065 | E45: =SUM(H45,K45,N45,Q45,T45,W45,Z45,AC45,AF45,AI45,AL45,AO45,AR45,AU45,AX45,BA45,BD45,BG45,BJ45,BM45,BP45,BS45,BV45) -> 68325 | F45: =G45+H45 -> 22334 | G45: ='2-2.시군 연령별 한국인(각세)'!G86 -> 11335 | H45: ='2-2.시군 연령별 한국인(각세)'!H86 -> 10999 | I45: =J45+K45 -> 13646 | J45: ='2-2.시군 연령별 한국인(각세)'!J86 -> 6538 | K45: ='2-2.시군 연령별 한국인(각세)'!K86 -> 7108 | L45: =M45+N45 -> 7521 | M45: ='2-2.시군 연령별 한국인(각세)'!M86 -> 3607 | N45: ='2-2.시군 연령별 한국인(각세)'!N86 -> 3914 | O45: =P45+Q45 -> 8954 | P45: ='2-2.시군 연령별 한국인(각세)'!P86 -> 4403 | Q45: ='2-2.시군 연령별 한국인(각세)'!Q86 -> 4551 | R45: =S45+T45 -> 9443 | S45: ='2-2.시군 연령별 한국인(각세)'!S86 -> 4659 | T45: ='2-2.시군 연령별 한국인(각세)'!T86 -> 4784 | U45: =V45+W45 -> 6436 | V45: ='2-2.시군 연령별 한국인(각세)'!V86 -> 3160 | W45: ='2-2.시군 연령별 한국인(각세)'!W86 -> 3276 | X45: =Y45+Z45 -> 6597 | Y45: ='2-2.시군 연령별 한국인(각세)'!Y86 -> 3236 | Z45: ='2-2.시군 연령별 한국인(각세)'!Z86 -> 3361 | AA45: =AB45+AC45 -> 6817 | AB45: ='2-2.시군 연령별 한국인(각세)'!AB86 -> 3303 | AC45: ='2-2.시군 연령별 한국인(각세)'!AC86 -> 3514 | AD45: =AE45+AF45 -> 4957 | AE45: ='2-2.시군 연령별 한국인(각세)'!AE86 -> 2350 | AF45: ='2-2.시군 연령별 한국인(각세)'!AF86 -> 2607 | AG45: =AH45+AI45 -> 11097 | AH45: ='2-2.시군 연령별 한국인(각세)'!AH86 -> 5174 | AI45: ='2-2.시군 연령별 한국인(각세)'!AI86 -> 5923 | AJ45: =AK45+AL45 -> 2031 | AK45: ='2-2.시군 연령별 한국인(각세)'!AK86 -> 1013 | AL45: ='2-2.시군 연령별 한국인(각세)'!AL86 -> 1018 | AM45: =AN45+AO45 -> 4470 | AN45: ='2-2.시군 연령별 한국인(각세)'!AN86 -> 2107 | AO45: ='2-2.시군 연령별 한국인(각세)'!AO86 -> 2363 | AP45: =AQ45+AR45 -> 2058 | AQ45: ='2-2.시군 연령별 한국인(각세)'!AQ86 -> 1016 | AR45: ='2-2.시군 연령별 한국인(각세)'!AR86 -> 1042 | AS45: =AT45+AU45 -> 1327 | AT45: ='2-2.시군 연령별 한국인(각세)'!AT86 -> 634 | AU45: ='2-2.시군 연령별 한국인(각세)'!AU86 -> 693 | AV45: =AW45+AX45 -> 2967 | AW45: ='2-2.시군 연령별 한국인(각세)'!AW86 -> 1351 | AX45: ='2-2.시군 연령별 한국인(각세)'!AX86 -> 1616 | AY45: =AZ45+BA45 -> 3545 | AZ45: ='2-2.시군 연령별 한국인(각세)'!AZ86 -> 1771 | BA45: ='2-2.시군 연령별 한국인(각세)'!BA86 -> 1774 | BB45: =BC45+BD45 -> 2264 | BC45: ='2-2.시군 연령별 한국인(각세)'!BC86 -> 1111 | BD45: ='2-2.시군 연령별 한국인(각세)'!BD86 -> 1153 | BE45: =BF45+BG45 -> 3338 | BF45: ='2-2.시군 연령별 한국인(각세)'!BF86 -> 1669 | BG45: ='2-2.시군 연령별 한국인(각세)'!BG86 -> 1669 | BH45: =BI45+BJ45 -> 4135 | BI45: ='2-2.시군 연령별 한국인(각세)'!BI86 -> 1999 | BJ45: ='2-2.시군 연령별 한국인(각세)'!BJ86 -> 2136 | BK45: =BL45+BM45 -> 3407 | BL45: ='2-2.시군 연령별 한국인(각세)'!BL86 -> 1647 | BM45: ='2-2.시군 연령별 한국인(각세)'!BM86 -> 1760 | BN45: =BO45+BP45 -> 2404 | BO45: ='2-2.시군 연령별 한국인(각세)'!BO86 -> 1186 | BP45: ='2-2.시군 연령별 한국인(각세)'!BP86 -> 1218 | BQ45: =BR45+BS45 -> 2978 | BR45: ='2-2.시군 연령별 한국인(각세)'!BR86 -> 1468 | BS45: ='2-2.시군 연령별 한국인(각세)'!BS86 -> 1510 | BT45: =BU45+BV45 -> 664 | BU45: ='2-2.시군 연령별 한국인(각세)'!BU86 -> 328 | BV45: ='2-2.시군 연령별 한국인(각세)'!BV86 -> 336
A46: 70-74 | B46: 70-74 | C46: =D46+E46 -> 125215 | D46: =SUM(G46,J46,M46,P46,S46,V46,Y46,AB46,AE46,AH46,AK46,AN46,AQ46,AT46,AW46,AZ46,BC46,BF46,BI46,BL46,BO46,BR46,BU46) -> 53459 | E46: =SUM(H46,K46,N46,Q46,T46,W46,Z46,AC46,AF46,AI46,AL46,AO46,AR46,AU46,AX46,BA46,BD46,BG46,BJ46,BM46,BP46,BS46,BV46) -> 71756 | F46: =G46+H46 -> 17337 | G46: ='2-2.시군 연령별 한국인(각세)'!G92 -> 7835 | H46: ='2-2.시군 연령별 한국인(각세)'!H92 -> 9502 | I46: =J46+K46 -> 12515 | J46: ='2-2.시군 연령별 한국인(각세)'!J92 -> 5348 | K46: ='2-2.시군 연령별 한국인(각세)'!K92 -> 7167 | L46: =M46+N46 -> 6852 | M46: ='2-2.시군 연령별 한국인(각세)'!M92 -> 2833 | N46: ='2-2.시군 연령별 한국인(각세)'!N92 -> 4019 | O46: =P46+Q46 -> 9066 | P46: ='2-2.시군 연령별 한국인(각세)'!P92 -> 3893 | Q46: ='2-2.시군 연령별 한국인(각세)'!Q92 -> 5173 | R46: =S46+T46 -> 7853 | S46: ='2-2.시군 연령별 한국인(각세)'!S92 -> 3242 | T46: ='2-2.시군 연령별 한국인(각세)'!T92 -> 4611 | U46: =V46+W46 -> 6399 | V46: ='2-2.시군 연령별 한국인(각세)'!V92 -> 2771 | W46: ='2-2.시군 연령별 한국인(각세)'!W92 -> 3628 | X46: =Y46+Z46 -> 6576 | Y46: ='2-2.시군 연령별 한국인(각세)'!Y92 -> 2777 | Z46: ='2-2.시군 연령별 한국인(각세)'!Z92 -> 3799 | AA46: =AB46+AC46 -> 6766 | AB46: ='2-2.시군 연령별 한국인(각세)'!AB92 -> 2722 | AC46: ='2-2.시군 연령별 한국인(각세)'!AC92 -> 4044 | AD46: =AE46+AF46 -> 4943 | AE46: ='2-2.시군 연령별 한국인(각세)'!AE92 -> 2080 | AF46: ='2-2.시군 연령별 한국인(각세)'!AF92 -> 2863 | AG46: =AH46+AI46 -> 9394 | AH46: ='2-2.시군 연령별 한국인(각세)'!AH92 -> 4118 | AI46: ='2-2.시군 연령별 한국인(각세)'!AI92 -> 5276 | AJ46: =AK46+AL46 -> 2190 | AK46: ='2-2.시군 연령별 한국인(각세)'!AK92 -> 944 | AL46: ='2-2.시군 연령별 한국인(각세)'!AL92 -> 1246 | AM46: =AN46+AO46 -> 5087 | AN46: ='2-2.시군 연령별 한국인(각세)'!AN92 -> 2176 | AO46: ='2-2.시군 연령별 한국인(각세)'!AO92 -> 2911 | AP46: =AQ46+AR46 -> 2326 | AQ46: ='2-2.시군 연령별 한국인(각세)'!AQ92 -> 998 | AR46: ='2-2.시군 연령별 한국인(각세)'!AR92 -> 1328 | AS46: =AT46+AU46 -> 1655 | AT46: ='2-2.시군 연령별 한국인(각세)'!AT92 -> 706 | AU46: ='2-2.시군 연령별 한국인(각세)'!AU92 -> 949 | AV46: =AW46+AX46 -> 3536 | AW46: ='2-2.시군 연령별 한국인(각세)'!AW92 -> 1375 | AX46: ='2-2.시군 연령별 한국인(각세)'!AX92 -> 2161 | AY46: =AZ46+BA46 -> 3384 | AZ46: ='2-2.시군 연령별 한국인(각세)'!AZ92 -> 1448 | BA46: ='2-2.시군 연령별 한국인(각세)'!BA92 -> 1936 | BB46: =BC46+BD46 -> 2166 | BC46: ='2-2.시군 연령별 한국인(각세)'!BC92 -> 896 | BD46: ='2-2.시군 연령별 한국인(각세)'!BD92 -> 1270 | BE46: =BF46+BG46 -> 2900 | BF46: ='2-2.시군 연령별 한국인(각세)'!BF92 -> 1306 | BG46: ='2-2.시군 연령별 한국인(각세)'!BG92 -> 1594 | BH46: =BI46+BJ46 -> 4018 | BI46: ='2-2.시군 연령별 한국인(각세)'!BI92 -> 1672 | BJ46: ='2-2.시군 연령별 한국인(각세)'!BJ92 -> 2346 | BK46: =BL46+BM46 -> 3708 | BL46: ='2-2.시군 연령별 한국인(각세)'!BL92 -> 1600 | BM46: ='2-2.시군 연령별 한국인(각세)'!BM92 -> 2108 | BN46: =BO46+BP46 -> 2699 | BO46: ='2-2.시군 연령별 한국인(각세)'!BO92 -> 1117 | BP46: ='2-2.시군 연령별 한국인(각세)'!BP92 -> 1582 | BQ46: =BR46+BS46 -> 3280 | BR46: ='2-2.시군 연령별 한국인(각세)'!BR92 -> 1343 | BS46: ='2-2.시군 연령별 한국인(각세)'!BS92 -> 1937 | BT46: =BU46+BV46 -> 565 | BU46: ='2-2.시군 연령별 한국인(각세)'!BU92 -> 259 | BV46: ='2-2.시군 연령별 한국인(각세)'!BV92 -> 306
A47: 75-79 | B47: 75-79 | C47: =D47+E47 -> 107350 | D47: =SUM(G47,J47,M47,P47,S47,V47,Y47,AB47,AE47,AH47,AK47,AN47,AQ47,AT47,AW47,AZ47,BC47,BF47,BI47,BL47,BO47,BR47,BU47) -> 41559 | E47: =SUM(H47,K47,N47,Q47,T47,W47,Z47,AC47,AF47,AI47,AL47,AO47,AR47,AU47,AX47,BA47,BD47,BG47,BJ47,BM47,BP47,BS47,BV47) -> 65791 | F47: =G47+H47 -> 12379 | G47: ='2-2.시군 연령별 한국인(각세)'!G98 -> 4872 | H47: ='2-2.시군 연령별 한국인(각세)'!H98 -> 7507 | I47: =J47+K47 -> 10315 | J47: ='2-2.시군 연령별 한국인(각세)'!J98 -> 3843 | K47: ='2-2.시군 연령별 한국인(각세)'!K98 -> 6472 | L47: =M47+N47 -> 6524 | M47: ='2-2.시군 연령별 한국인(각세)'!M98 -> 2487 | N47: ='2-2.시군 연령별 한국인(각세)'!N98 -> 4037 | O47: =P47+Q47 -> 7558 | P47: ='2-2.시군 연령별 한국인(각세)'!P98 -> 3039 | Q47: ='2-2.시군 연령별 한국인(각세)'!Q98 -> 4519 | R47: =S47+T47 -> 6148 | S47: ='2-2.시군 연령별 한국인(각세)'!S98 -> 2227 | T47: ='2-2.시군 연령별 한국인(각세)'!T98 -> 3921 | U47: =V47+W47 -> 5502 | V47: ='2-2.시군 연령별 한국인(각세)'!V98 -> 2275 | W47: ='2-2.시군 연령별 한국인(각세)'!W98 -> 3227 | X47: =Y47+Z47 -> 5611 | Y47: ='2-2.시군 연령별 한국인(각세)'!Y98 -> 2174 | Z47: ='2-2.시군 연령별 한국인(각세)'!Z98 -> 3437 | AA47: =AB47+AC47 -> 6680 | AB47: ='2-2.시군 연령별 한국인(각세)'!AB98 -> 2527 | AC47: ='2-2.시군 연령별 한국인(각세)'!AC98 -> 4153 | AD47: =AE47+AF47 -> 4426 | AE47: ='2-2.시군 연령별 한국인(각세)'!AE98 -> 1694 | AF47: ='2-2.시군 연령별 한국인(각세)'!AF98 -> 2732 | AG47: =AH47+AI47 -> 7313 | AH47: ='2-2.시군 연령별 한국인(각세)'!AH98 -> 2877 | AI47: ='2-2.시군 연령별 한국인(각세)'!AI98 -> 4436 | AJ47: =AK47+AL47 -> 2091 | AK47: ='2-2.시군 연령별 한국인(각세)'!AK98 -> 833 | AL47: ='2-2.시군 연령별 한국인(각세)'!AL98 -> 1258 | AM47: =AN47+AO47 -> 4905 | AN47: ='2-2.시군 연령별 한국인(각세)'!AN98 -> 1928 | AO47: ='2-2.시군 연령별 한국인(각세)'!AO98 -> 2977 | AP47: =AQ47+AR47 -> 2006 | AQ47: ='2-2.시군 연령별 한국인(각세)'!AQ98 -> 797 | AR47: ='2-2.시군 연령별 한국인(각세)'!AR98 -> 1209 | AS47: =AT47+AU47 -> 1410 | AT47: ='2-2.시군 연령별 한국인(각세)'!AT98 -> 557 | AU47: ='2-2.시군 연령별 한국인(각세)'!AU98 -> 853 | AV47: =AW47+AX47 -> 3101 | AW47: ='2-2.시군 연령별 한국인(각세)'!AW98 -> 1153 | AX47: ='2-2.시군 연령별 한국인(각세)'!AX98 -> 1948 | AY47: =AZ47+BA47 -> 3289 | AZ47: ='2-2.시군 연령별 한국인(각세)'!AZ98 -> 1235 | BA47: ='2-2.시군 연령별 한국인(각세)'!BA98 -> 2054 | BB47: =BC47+BD47 -> 2079 | BC47: ='2-2.시군 연령별 한국인(각세)'!BC98 -> 804 | BD47: ='2-2.시군 연령별 한국인(각세)'!BD98 -> 1275 | BE47: =BF47+BG47 -> 2705 | BF47: ='2-2.시군 연령별 한국인(각세)'!BF98 -> 1067 | BG47: ='2-2.시군 연령별 한국인(각세)'!BG98 -> 1638 | BH47: =BI47+BJ47 -> 3467 | BI47: ='2-2.시군 연령별 한국인(각세)'!BI98 -> 1276 | BJ47: ='2-2.시군 연령별 한국인(각세)'!BJ98 -> 2191 | BK47: =BL47+BM47 -> 3767 | BL47: ='2-2.시군 연령별 한국인(각세)'!BL98 -> 1509 | BM47: ='2-2.시군 연령별 한국인(각세)'!BM98 -> 2258 | BN47: =BO47+BP47 -> 2593 | BO47: ='2-2.시군 연령별 한국인(각세)'!BO98 -> 1069 | BP47: ='2-2.시군 연령별 한국인(각세)'!BP98 -> 1524 | BQ47: =BR47+BS47 -> 3053 | BR47: ='2-2.시군 연령별 한국인(각세)'!BR98 -> 1131 | BS47: ='2-2.시군 연령별 한국인(각세)'!BS98 -> 1922 | BT47: =BU47+BV47 -> 428 | BU47: ='2-2.시군 연령별 한국인(각세)'!BU98 -> 185 | BV47: ='2-2.시군 연령별 한국인(각세)'!BV98 -> 243
A48: 80-84 | B48: 80-84 | C48: =D48+E48 -> 67824 | D48: =SUM(G48,J48,M48,P48,S48,V48,Y48,AB48,AE48,AH48,AK48,AN48,AQ48,AT48,AW48,AZ48,BC48,BF48,BI48,BL48,BO48,BR48,BU48) -> 22417 | E48: =SUM(H48,K48,N48,Q48,T48,W48,Z48,AC48,AF48,AI48,AL48,AO48,AR48,AU48,AX48,BA48,BD48,BG48,BJ48,BM48,BP48,BS48,BV48) -> 45407 | F48: =G48+H48 -> 7356 | G48: ='2-2.시군 연령별 한국인(각세)'!G104 -> 2223 | H48: ='2-2.시군 연령별 한국인(각세)'!H104 -> 5133 | I48: =J48+K48 -> 6603 | J48: ='2-2.시군 연령별 한국인(각세)'!J104 -> 2063 | K48: ='2-2.시군 연령별 한국인(각세)'!K104 -> 4540 | L48: =M48+N48 -> 4123 | M48: ='2-2.시군 연령별 한국인(각세)'!M104 -> 1411 | N48: ='2-2.시군 연령별 한국인(각세)'!N104 -> 2712 | O48: =P48+Q48 -> 4922 | P48: ='2-2.시군 연령별 한국인(각세)'!P104 -> 1698 | Q48: ='2-2.시군 연령별 한국인(각세)'!Q104 -> 3224 | R48: =S48+T48 -> 3990 | S48: ='2-2.시군 연령별 한국인(각세)'!S104 -> 1283 | T48: ='2-2.시군 연령별 한국인(각세)'!T104 -> 2707 | U48: =V48+W48 -> 3334 | V48: ='2-2.시군 연령별 한국인(각세)'!V104 -> 1117 | W48: ='2-2.시군 연령별 한국인(각세)'!W104 -> 2217 | X48: =Y48+Z48 -> 3594 | Y48: ='2-2.시군 연령별 한국인(각세)'!Y104 -> 1229 | Z48: ='2-2.시군 연령별 한국인(각세)'!Z104 -> 2365 | AA48: =AB48+AC48 -> 4277 | AB48: ='2-2.시군 연령별 한국인(각세)'!AB104 -> 1466 | AC48: ='2-2.시군 연령별 한국인(각세)'!AC104 -> 2811 | AD48: =AE48+AF48 -> 2639 | AE48: ='2-2.시군 연령별 한국인(각세)'!AE104 -> 860 | AF48: ='2-2.시군 연령별 한국인(각세)'!AF104 -> 1779 | AG48: =AH48+AI48 -> 4416 | AH48: ='2-2.시군 연령별 한국인(각세)'!AH104 -> 1486 | AI48: ='2-2.시군 연령별 한국인(각세)'!AI104 -> 2930 | AJ48: =AK48+AL48 -> 1398 | AK48: ='2-2.시군 연령별 한국인(각세)'!AK104 -> 497 | AL48: ='2-2.시군 연령별 한국인(각세)'!AL104 -> 901 | AM48: =AN48+AO48 -> 3213 | AN48: ='2-2.시군 연령별 한국인(각세)'!AN104 -> 1114 | AO48: ='2-2.시군 연령별 한국인(각세)'!AO104 -> 2099 | AP48: =AQ48+AR48 -> 1256 | AQ48: ='2-2.시군 연령별 한국인(각세)'!AQ104 -> 479 | AR48: ='2-2.시군 연령별 한국인(각세)'!AR104 -> 777 | AS48: =AT48+AU48 -> 871 | AT48: ='2-2.시군 연령별 한국인(각세)'!AT104 -> 270 | AU48: ='2-2.시군 연령별 한국인(각세)'!AU104 -> 601 | AV48: =AW48+AX48 -> 1862 | AW48: ='2-2.시군 연령별 한국인(각세)'!AW104 -> 583 | AX48: ='2-2.시군 연령별 한국인(각세)'!AX104 -> 1279 | AY48: =AZ48+BA48 -> 2257 | AZ48: ='2-2.시군 연령별 한국인(각세)'!AZ104 -> 678 | BA48: ='2-2.시군 연령별 한국인(각세)'!BA104 -> 1579 | BB48: =BC48+BD48 -> 1374 | BC48: ='2-2.시군 연령별 한국인(각세)'!BC104 -> 459 | BD48: ='2-2.시군 연령별 한국인(각세)'!BD104 -> 915 | BE48: =BF48+BG48 -> 1845 | BF48: ='2-2.시군 연령별 한국인(각세)'!BF104 -> 593 | BG48: ='2-2.시군 연령별 한국인(각세)'!BG104 -> 1252 | BH48: =BI48+BJ48 -> 2132 | BI48: ='2-2.시군 연령별 한국인(각세)'!BI104 -> 748 | BJ48: ='2-2.시군 연령별 한국인(각세)'!BJ104 -> 1384 | BK48: =BL48+BM48 -> 2442 | BL48: ='2-2.시군 연령별 한국인(각세)'!BL104 -> 877 | BM48: ='2-2.시군 연령별 한국인(각세)'!BM104 -> 1565 | BN48: =BO48+BP48 -> 1677 | BO48: ='2-2.시군 연령별 한국인(각세)'!BO104 -> 603 | BP48: ='2-2.시군 연령별 한국인(각세)'!BP104 -> 1074 | BQ48: =BR48+BS48 -> 1981 | BR48: ='2-2.시군 연령별 한국인(각세)'!BR104 -> 581 | BS48: ='2-2.시군 연령별 한국인(각세)'!BS104 -> 1400 | BT48: =BU48+BV48 -> 262 | BU48: ='2-2.시군 연령별 한국인(각세)'!BU104 -> 99 | BV48: ='2-2.시군 연령별 한국인(각세)'!BV104 -> 163
A49: 85-89 | B49: 85-89 | C49: =D49+E49 -> 30297 | D49: =SUM(G49,J49,M49,P49,S49,V49,Y49,AB49,AE49,AH49,AK49,AN49,AQ49,AT49,AW49,AZ49,BC49,BF49,BI49,BL49,BO49,BR49,BU49) -> 7941 | E49: =SUM(H49,K49,N49,Q49,T49,W49,Z49,AC49,AF49,AI49,AL49,AO49,AR49,AU49,AX49,BA49,BD49,BG49,BJ49,BM49,BP49,BS49,BV49) -> 22356 | F49: =G49+H49 -> 3481 | G49: ='2-2.시군 연령별 한국인(각세)'!G110 -> 756 | H49: ='2-2.시군 연령별 한국인(각세)'!H110 -> 2725 | I49: =J49+K49 -> 2778 | J49: ='2-2.시군 연령별 한국인(각세)'!J110 -> 663 | K49: ='2-2.시군 연령별 한국인(각세)'!K110 -> 2115 | L49: =M49+N49 -> 1955 | M49: ='2-2.시군 연령별 한국인(각세)'!M110 -> 548 | N49: ='2-2.시군 연령별 한국인(각세)'!N110 -> 1407 | O49: =P49+Q49 -> 2340 | P49: ='2-2.시군 연령별 한국인(각세)'!P110 -> 624 | Q49: ='2-2.시군 연령별 한국인(각세)'!Q110 -> 1716 | R49: =S49+T49 -> 1826 | S49: ='2-2.시군 연령별 한국인(각세)'!S110 -> 449 | T49: ='2-2.시군 연령별 한국인(각세)'!T110 -> 1377 | U49: =V49+W49 -> 1582 | V49: ='2-2.시군 연령별 한국인(각세)'!V110 -> 446 | W49: ='2-2.시군 연령별 한국인(각세)'!W110 -> 1136 | X49: =Y49+Z49 -> 1392 | Y49: ='2-2.시군 연령별 한국인(각세)'!Y110 -> 413 | Z49: ='2-2.시군 연령별 한국인(각세)'!Z110 -> 979 | AA49: =AB49+AC49 -> 2016 | AB49: ='2-2.시군 연령별 한국인(각세)'!AB110 -> 534 | AC49: ='2-2.시군 연령별 한국인(각세)'!AC110 -> 1482 | AD49: =AE49+AF49 -> 1228 | AE49: ='2-2.시군 연령별 한국인(각세)'!AE110 -> 319 | AF49: ='2-2.시군 연령별 한국인(각세)'!AF110 -> 909 | AG49: =AH49+AI49 -> 1755 | AH49: ='2-2.시군 연령별 한국인(각세)'!AH110 -> 469 | AI49: ='2-2.시군 연령별 한국인(각세)'!AI110 -> 1286 | AJ49: =AK49+AL49 -> 551 | AK49: ='2-2.시군 연령별 한국인(각세)'!AK110 -> 156 | AL49: ='2-2.시군 연령별 한국인(각세)'!AL110 -> 395 | AM49: =AN49+AO49 -> 1385 | AN49: ='2-2.시군 연령별 한국인(각세)'!AN110 -> 408 | AO49: ='2-2.시군 연령별 한국인(각세)'!AO110 -> 977 | AP49: =AQ49+AR49 -> 557 | AQ49: ='2-2.시군 연령별 한국인(각세)'!AQ110 -> 178 | AR49: ='2-2.시군 연령별 한국인(각세)'!AR110 -> 379 | AS49: =AT49+AU49 -> 399 | AT49: ='2-2.시군 연령별 한국인(각세)'!AT110 -> 120 | AU49: ='2-2.시군 연령별 한국인(각세)'!AU110 -> 279 | AV49: =AW49+AX49 -> 878 | AW49: ='2-2.시군 연령별 한국인(각세)'!AW110 -> 201 | AX49: ='2-2.시군 연령별 한국인(각세)'!AX110 -> 677 | AY49: =AZ49+BA49 -> 947 | AZ49: ='2-2.시군 연령별 한국인(각세)'!AZ110 -> 253 | BA49: ='2-2.시군 연령별 한국인(각세)'!BA110 -> 694 | BB49: =BC49+BD49 -> 581 | BC49: ='2-2.시군 연령별 한국인(각세)'!BC110 -> 160 | BD49: ='2-2.시군 연령별 한국인(각세)'!BD110 -> 421 | BE49: =BF49+BG49 -> 852 | BF49: ='2-2.시군 연령별 한국인(각세)'!BF110 -> 227 | BG49: ='2-2.시군 연령별 한국인(각세)'!BG110 -> 625 | BH49: =BI49+BJ49 -> 900 | BI49: ='2-2.시군 연령별 한국인(각세)'!BI110 -> 262 | BJ49: ='2-2.시군 연령별 한국인(각세)'!BJ110 -> 638 | BK49: =BL49+BM49 -> 1039 | BL49: ='2-2.시군 연령별 한국인(각세)'!BL110 -> 264 | BM49: ='2-2.시군 연령별 한국인(각세)'!BM110 -> 775 | BN49: =BO49+BP49 -> 759 | BO49: ='2-2.시군 연령별 한국인(각세)'!BO110 -> 239 | BP49: ='2-2.시군 연령별 한국인(각세)'!BP110 -> 520 | BQ49: =BR49+BS49 -> 972 | BR49: ='2-2.시군 연령별 한국인(각세)'!BR110 -> 209 | BS49: ='2-2.시군 연령별 한국인(각세)'!BS110 -> 763 | BT49: =BU49+BV49 -> 124 | BU49: ='2-2.시군 연령별 한국인(각세)'!BU110 -> 43 | BV49: ='2-2.시군 연령별 한국인(각세)'!BV110 -> 81
A50: 90-94 | B50: 90-94 | C50: =D50+E50 -> 10411 | D50: =SUM(G50,J50,M50,P50,S50,V50,Y50,AB50,AE50,AH50,AK50,AN50,AQ50,AT50,AW50,AZ50,BC50,BF50,BI50,BL50,BO50,BR50,BU50) -> 2353 | E50: =SUM(H50,K50,N50,Q50,T50,W50,Z50,AC50,AF50,AI50,AL50,AO50,AR50,AU50,AX50,BA50,BD50,BG50,BJ50,BM50,BP50,BS50,BV50) -> 8058 | F50: =G50+H50 -> 1210 | G50: ='2-2.시군 연령별 한국인(각세)'!G116 -> 236 | H50: ='2-2.시군 연령별 한국인(각세)'!H116 -> 974 | I50: =J50+K50 -> 958 | J50: ='2-2.시군 연령별 한국인(각세)'!J116 -> 213 | K50: ='2-2.시군 연령별 한국인(각세)'!K116 -> 745 | L50: =M50+N50 -> 615 | M50: ='2-2.시군 연령별 한국인(각세)'!M116 -> 135 | N50: ='2-2.시군 연령별 한국인(각세)'!N116 -> 480 | O50: =P50+Q50 -> 808 | P50: ='2-2.시군 연령별 한국인(각세)'!P116 -> 190 | Q50: ='2-2.시군 연령별 한국인(각세)'!Q116 -> 618 | R50: =S50+T50 -> 626 | S50: ='2-2.시군 연령별 한국인(각세)'!S116 -> 134 | T50: ='2-2.시군 연령별 한국인(각세)'!T116 -> 492 | U50: =V50+W50 -> 569 | V50: ='2-2.시군 연령별 한국인(각세)'!V116 -> 129 | W50: ='2-2.시군 연령별 한국인(각세)'!W116 -> 440 | X50: =Y50+Z50 -> 412 | Y50: ='2-2.시군 연령별 한국인(각세)'!Y116 -> 100 | Z50: ='2-2.시군 연령별 한국인(각세)'!Z116 -> 312 | AA50: =AB50+AC50 -> 754 | AB50: ='2-2.시군 연령별 한국인(각세)'!AB116 -> 181 | AC50: ='2-2.시군 연령별 한국인(각세)'!AC116 -> 573 | AD50: =AE50+AF50 -> 484 | AE50: ='2-2.시군 연령별 한국인(각세)'!AE116 -> 118 | AF50: ='2-2.시군 연령별 한국인(각세)'!AF116 -> 366 | AG50: =AH50+AI50 -> 567 | AH50: ='2-2.시군 연령별 한국인(각세)'!AH116 -> 127 | AI50: ='2-2.시군 연령별 한국인(각세)'!AI116 -> 440 | AJ50: =AK50+AL50 -> 174 | AK50: ='2-2.시군 연령별 한국인(각세)'!AK116 -> 43 | AL50: ='2-2.시군 연령별 한국인(각세)'!AL116 -> 131 | AM50: =AN50+AO50 -> 472 | AN50: ='2-2.시군 연령별 한국인(각세)'!AN116 -> 111 | AO50: ='2-2.시군 연령별 한국인(각세)'!AO116 -> 361 | AP50: =AQ50+AR50 -> 175 | AQ50: ='2-2.시군 연령별 한국인(각세)'!AQ116 -> 35 | AR50: ='2-2.시군 연령별 한국인(각세)'!AR116 -> 140 | AS50: =AT50+AU50 -> 129 | AT50: ='2-2.시군 연령별 한국인(각세)'!AT116 -> 40 | AU50: ='2-2.시군 연령별 한국인(각세)'!AU116 -> 89 | AV50: =AW50+AX50 -> 315 | AW50: ='2-2.시군 연령별 한국인(각세)'!AW116 -> 75 | AX50: ='2-2.시군 연령별 한국인(각세)'!AX116 -> 240 | AY50: =AZ50+BA50 -> 338 | AZ50: ='2-2.시군 연령별 한국인(각세)'!AZ116 -> 74 | BA50: ='2-2.시군 연령별 한국인(각세)'!BA116 -> 264 | BB50: =BC50+BD50 -> 170 | BC50: ='2-2.시군 연령별 한국인(각세)'!BC116 -> 46 | BD50: ='2-2.시군 연령별 한국인(각세)'!BD116 -> 124 | BE50: =BF50+BG50 -> 263 | BF50: ='2-2.시군 연령별 한국인(각세)'!BF116 -> 67 | BG50: ='2-2.시군 연령별 한국인(각세)'!BG116 -> 196 | BH50: =BI50+BJ50 -> 350 | BI50: ='2-2.시군 연령별 한국인(각세)'!BI116 -> 66 | BJ50: ='2-2.시군 연령별 한국인(각세)'!BJ116 -> 284 | BK50: =BL50+BM50 -> 350 | BL50: ='2-2.시군 연령별 한국인(각세)'!BL116 -> 94 | BM50: ='2-2.시군 연령별 한국인(각세)'!BM116 -> 256 | BN50: =BO50+BP50 -> 279 | BO50: ='2-2.시군 연령별 한국인(각세)'!BO116 -> 68 | BP50: ='2-2.시군 연령별 한국인(각세)'!BP116 -> 211 | BQ50: =BR50+BS50 -> 344 | BR50: ='2-2.시군 연령별 한국인(각세)'!BR116 -> 58 | BS50: ='2-2.시군 연령별 한국인(각세)'!BS116 -> 286 | BT50: =BU50+BV50 -> 49 | BU50: ='2-2.시군 연령별 한국인(각세)'!BU116 -> 13 | BV50: ='2-2.시군 연령별 한국인(각세)'!BV116 -> 36
A51: 95-99 | B51: 95-99 | C51: =D51+E51 -> 2245 | D51: =SUM(G51,J51,M51,P51,S51,V51,Y51,AB51,AE51,AH51,AK51,AN51,AQ51,AT51,AW51,AZ51,BC51,BF51,BI51,BL51,BO51,BR51,BU51) -> 409 | E51: =SUM(H51,K51,N51,Q51,T51,W51,Z51,AC51,AF51,AI51,AL51,AO51,AR51,AU51,AX51,BA51,BD51,BG51,BJ51,BM51,BP51,BS51,BV51) -> 1836 | F51: =G51+H51 -> 261 | G51: ='2-2.시군 연령별 한국인(각세)'!G122 -> 55 | H51: ='2-2.시군 연령별 한국인(각세)'!H122 -> 206 | I51: =J51+K51 -> 206 | J51: ='2-2.시군 연령별 한국인(각세)'!J122 -> 35 | K51: ='2-2.시군 연령별 한국인(각세)'!K122 -> 171 | L51: =M51+N51 -> 140 | M51: ='2-2.시군 연령별 한국인(각세)'!M122 -> 26 | N51: ='2-2.시군 연령별 한국인(각세)'!N122 -> 114 | O51: =P51+Q51 -> 169 | P51: ='2-2.시군 연령별 한국인(각세)'!P122 -> 32 | Q51: ='2-2.시군 연령별 한국인(각세)'!Q122 -> 137 | R51: =S51+T51 -> 158 | S51: ='2-2.시군 연령별 한국인(각세)'!S122 -> 25 | T51: ='2-2.시군 연령별 한국인(각세)'!T122 -> 133 | U51: =V51+W51 -> 167 | V51: ='2-2.시군 연령별 한국인(각세)'!V122 -> 26 | W51: ='2-2.시군 연령별 한국인(각세)'!W122 -> 141 | X51: =Y51+Z51 -> 82 | Y51: ='2-2.시군 연령별 한국인(각세)'!Y122 -> 18 | Z51: ='2-2.시군 연령별 한국인(각세)'!Z122 -> 64 | AA51: =AB51+AC51 -> 131 | AB51: ='2-2.시군 연령별 한국인(각세)'!AB122 -> 24 | AC51: ='2-2.시군 연령별 한국인(각세)'!AC122 -> 107 | AD51: =AE51+AF51 -> 105 | AE51: ='2-2.시군 연령별 한국인(각세)'!AE122 -> 15 | AF51: ='2-2.시군 연령별 한국인(각세)'!AF122 -> 90 | AG51: =AH51+AI51 -> 117 | AH51: ='2-2.시군 연령별 한국인(각세)'!AH122 -> 24 | AI51: ='2-2.시군 연령별 한국인(각세)'!AI122 -> 93 | AJ51: =AK51+AL51 -> 40 | AK51: ='2-2.시군 연령별 한국인(각세)'!AK122 -> 8 | AL51: ='2-2.시군 연령별 한국인(각세)'!AL122 -> 32 | AM51: =AN51+AO51 -> 89 | AN51: ='2-2.시군 연령별 한국인(각세)'!AN122 -> 17 | AO51: ='2-2.시군 연령별 한국인(각세)'!AO122 -> 72 | AP51: =AQ51+AR51 -> 45 | AQ51: ='2-2.시군 연령별 한국인(각세)'!AQ122 -> 9 | AR51: ='2-2.시군 연령별 한국인(각세)'!AR122 -> 36 | AS51: =AT51+AU51 -> 26 | AT51: ='2-2.시군 연령별 한국인(각세)'!AT122 -> 5 | AU51: ='2-2.시군 연령별 한국인(각세)'!AU122 -> 21 | AV51: =AW51+AX51 -> 53 | AW51: ='2-2.시군 연령별 한국인(각세)'!AW122 -> 12 | AX51: ='2-2.시군 연령별 한국인(각세)'!AX122 -> 41 | AY51: =AZ51+BA51 -> 69 | AZ51: ='2-2.시군 연령별 한국인(각세)'!AZ122 -> 13 | BA51: ='2-2.시군 연령별 한국인(각세)'!BA122 -> 56 | BB51: =BC51+BD51 -> 33 | BC51: ='2-2.시군 연령별 한국인(각세)'!BC122 -> 12 | BD51: ='2-2.시군 연령별 한국인(각세)'!BD122 -> 21 | BE51: =BF51+BG51 -> 48 | BF51: ='2-2.시군 연령별 한국인(각세)'!BF122 -> 8 | BG51: ='2-2.시군 연령별 한국인(각세)'!BG122 -> 40 | BH51: =BI51+BJ51 -> 69 | BI51: ='2-2.시군 연령별 한국인(각세)'!BI122 -> 10 | BJ51: ='2-2.시군 연령별 한국인(각세)'!BJ122 -> 59 | BK51: =BL51+BM51 -> 95 | BL51: ='2-2.시군 연령별 한국인(각세)'!BL122 -> 9 | BM51: ='2-2.시군 연령별 한국인(각세)'!BM122 -> 86 | BN51: =BO51+BP51 -> 58 | BO51: ='2-2.시군 연령별 한국인(각세)'!BO122 -> 14 | BP51: ='2-2.시군 연령별 한국인(각세)'!BP122 -> 44 | BQ51: =BR51+BS51 -> 68 | BR51: ='2-2.시군 연령별 한국인(각세)'!BR122 -> 8 | BS51: ='2-2.시군 연령별 한국인(각세)'!BS122 -> 60 | BT51: =BU51+BV51 -> 16 | BU51: ='2-2.시군 연령별 한국인(각세)'!BU122 -> 4 | BV51: ='2-2.시군 연령별 한국인(각세)'!BV122 -> 12
A52: 100+ | B52: 100+ | C52: =D52+E52 -> 725 | D52: =SUM(G52,J52,M52,P52,S52,V52,Y52,AB52,AE52,AH52,AK52,AN52,AQ52,AT52,AW52,AZ52,BC52,BF52,BI52,BL52,BO52,BR52,BU52) -> 149 | E52: =SUM(H52,K52,N52,Q52,T52,W52,Z52,AC52,AF52,AI52,AL52,AO52,AR52,AU52,AX52,BA52,BD52,BG52,BJ52,BM52,BP52,BS52,BV52) -> 576 | F52: =G52+H52 -> 78 | G52: ='2-2.시군 연령별 한국인(각세)'!G128+'2-2.시군 연령별 한국인(각세)'!G134+'2-2.시군 연령별 한국인(각세)'!G140 -> 19 | H52: ='2-2.시군 연령별 한국인(각세)'!H128+'2-2.시군 연령별 한국인(각세)'!H134+'2-2.시군 연령별 한국인(각세)'!H140 -> 59 | I52: =J52+K52 -> 69 | J52: ='2-2.시군 연령별 한국인(각세)'!J128+'2-2.시군 연령별 한국인(각세)'!J134+'2-2.시군 연령별 한국인(각세)'!J140 -> 13 | K52: ='2-2.시군 연령별 한국인(각세)'!K128+'2-2.시군 연령별 한국인(각세)'!K134+'2-2.시군 연령별 한국인(각세)'!K140 -> 56 | L52: =M52+N52 -> 41 | M52: ='2-2.시군 연령별 한국인(각세)'!M128+'2-2.시군 연령별 한국인(각세)'!M134+'2-2.시군 연령별 한국인(각세)'!M140 -> 6 | N52: ='2-2.시군 연령별 한국인(각세)'!N128+'2-2.시군 연령별 한국인(각세)'!N134+'2-2.시군 연령별 한국인(각세)'!N140 -> 35 | O52: =P52+Q52 -> 54 | P52: ='2-2.시군 연령별 한국인(각세)'!P128+'2-2.시군 연령별 한국인(각세)'!P134+'2-2.시군 연령별 한국인(각세)'!P140 -> 10 | Q52: ='2-2.시군 연령별 한국인(각세)'!Q128+'2-2.시군 연령별 한국인(각세)'!Q134+'2-2.시군 연령별 한국인(각세)'!Q140 -> 44 | R52: =S52+T52 -> 39 | S52: ='2-2.시군 연령별 한국인(각세)'!S128+'2-2.시군 연령별 한국인(각세)'!S134+'2-2.시군 연령별 한국인(각세)'!S140 -> 4 | T52: ='2-2.시군 연령별 한국인(각세)'!T128+'2-2.시군 연령별 한국인(각세)'!T134+'2-2.시군 연령별 한국인(각세)'!T140 -> 35 | U52: =V52+W52 -> 45 | V52: ='2-2.시군 연령별 한국인(각세)'!V128+'2-2.시군 연령별 한국인(각세)'!V134+'2-2.시군 연령별 한국인(각세)'!V140 -> 9 | W52: ='2-2.시군 연령별 한국인(각세)'!W128+'2-2.시군 연령별 한국인(각세)'!W134+'2-2.시군 연령별 한국인(각세)'!W140 -> 36 | X52: =Y52+Z52 -> 30 | Y52: ='2-2.시군 연령별 한국인(각세)'!Y128+'2-2.시군 연령별 한국인(각세)'!Y134+'2-2.시군 연령별 한국인(각세)'!Y140 -> 10 | Z52: ='2-2.시군 연령별 한국인(각세)'!Z128+'2-2.시군 연령별 한국인(각세)'!Z134+'2-2.시군 연령별 한국인(각세)'!Z140 -> 20 | AA52: =AB52+AC52 -> 48 | AB52: ='2-2.시군 연령별 한국인(각세)'!AB128+'2-2.시군 연령별 한국인(각세)'!AB134+'2-2.시군 연령별 한국인(각세)'!AB140 -> 6 | AC52: ='2-2.시군 연령별 한국인(각세)'!AC128+'2-2.시군 연령별 한국인(각세)'!AC134+'2-2.시군 연령별 한국인(각세)'!AC140 -> 42 | AD52: =AE52+AF52 -> 40 | AE52: ='2-2.시군 연령별 한국인(각세)'!AE128+'2-2.시군 연령별 한국인(각세)'!AE134+'2-2.시군 연령별 한국인(각세)'!AE140 -> 12 | AF52: ='2-2.시군 연령별 한국인(각세)'!AF128+'2-2.시군 연령별 한국인(각세)'!AF134+'2-2.시군 연령별 한국인(각세)'!AF140 -> 28 | AG52: =AH52+AI52 -> 44 | AH52: ='2-2.시군 연령별 한국인(각세)'!AH128+'2-2.시군 연령별 한국인(각세)'!AH134+'2-2.시군 연령별 한국인(각세)'!AH140 -> 5 | AI52: ='2-2.시군 연령별 한국인(각세)'!AI128+'2-2.시군 연령별 한국인(각세)'!AI134+'2-2.시군 연령별 한국인(각세)'!AI140 -> 39 | AJ52: =AK52+AL52 -> 11 | AK52: ='2-2.시군 연령별 한국인(각세)'!AK128+'2-2.시군 연령별 한국인(각세)'!AK134+'2-2.시군 연령별 한국인(각세)'!AK140 -> 1 | AL52: ='2-2.시군 연령별 한국인(각세)'!AL128+'2-2.시군 연령별 한국인(각세)'!AL134+'2-2.시군 연령별 한국인(각세)'!AL140 -> 10 | AM52: =AN52+AO52 -> 31 | AN52: ='2-2.시군 연령별 한국인(각세)'!AN128+'2-2.시군 연령별 한국인(각세)'!AN134+'2-2.시군 연령별 한국인(각세)'!AN140 -> 6 | AO52: ='2-2.시군 연령별 한국인(각세)'!AO128+'2-2.시군 연령별 한국인(각세)'!AO134+'2-2.시군 연령별 한국인(각세)'!AO140 -> 25 | AP52: =AQ52+AR52 -> 8 | AQ52: ='2-2.시군 연령별 한국인(각세)'!AQ128+'2-2.시군 연령별 한국인(각세)'!AQ134+'2-2.시군 연령별 한국인(각세)'!AQ140 -> 4 | AR52: ='2-2.시군 연령별 한국인(각세)'!AR128+'2-2.시군 연령별 한국인(각세)'!AR134+'2-2.시군 연령별 한국인(각세)'!AR140 -> 4 | AS52: =AT52+AU52 -> 20 | AT52: ='2-2.시군 연령별 한국인(각세)'!AT128+'2-2.시군 연령별 한국인(각세)'!AT134+'2-2.시군 연령별 한국인(각세)'!AT140 -> 5 | AU52: ='2-2.시군 연령별 한국인(각세)'!AU128+'2-2.시군 연령별 한국인(각세)'!AU134+'2-2.시군 연령별 한국인(각세)'!AU140 -> 15 | AV52: =AW52+AX52 -> 21 | AW52: ='2-2.시군 연령별 한국인(각세)'!AW128+'2-2.시군 연령별 한국인(각세)'!AW134+'2-2.시군 연령별 한국인(각세)'!AW140 -> 6 | AX52: ='2-2.시군 연령별 한국인(각세)'!AX128+'2-2.시군 연령별 한국인(각세)'!AX134+'2-2.시군 연령별 한국인(각세)'!AX140 -> 15 | AY52: =AZ52+BA52 -> 18 | AZ52: ='2-2.시군 연령별 한국인(각세)'!AZ128+'2-2.시군 연령별 한국인(각세)'!AZ134+'2-2.시군 연령별 한국인(각세)'!AZ140 -> 2 | BA52: ='2-2.시군 연령별 한국인(각세)'!BA128+'2-2.시군 연령별 한국인(각세)'!BA134+'2-2.시군 연령별 한국인(각세)'!BA140 -> 16 | BB52: =BC52+BD52 -> 9 | BC52: ='2-2.시군 연령별 한국인(각세)'!BC128+'2-2.시군 연령별 한국인(각세)'!BC134+'2-2.시군 연령별 한국인(각세)'!BC140 -> 3 | BD52: ='2-2.시군 연령별 한국인(각세)'!BD128+'2-2.시군 연령별 한국인(각세)'!BD134+'2-2.시군 연령별 한국인(각세)'!BD140 -> 6 | BE52: =BF52+BG52 -> 24 | BF52: ='2-2.시군 연령별 한국인(각세)'!BF128+'2-2.시군 연령별 한국인(각세)'!BF134+'2-2.시군 연령별 한국인(각세)'!BF140 -> 5 | BG52: ='2-2.시군 연령별 한국인(각세)'!BG128+'2-2.시군 연령별 한국인(각세)'!BG134+'2-2.시군 연령별 한국인(각세)'!BG140 -> 19 | BH52: =BI52+BJ52 -> 34 | BI52: ='2-2.시군 연령별 한국인(각세)'!BI128+'2-2.시군 연령별 한국인(각세)'!BI134+'2-2.시군 연령별 한국인(각세)'!BI140 -> 9 | BJ52: ='2-2.시군 연령별 한국인(각세)'!BJ128+'2-2.시군 연령별 한국인(각세)'!BJ134+'2-2.시군 연령별 한국인(각세)'!BJ140 -> 25 | BK52: =BL52+BM52 -> 20 | BL52: ='2-2.시군 연령별 한국인(각세)'!BL128+'2-2.시군 연령별 한국인(각세)'!BL134+'2-2.시군 연령별 한국인(각세)'!BL140 -> 3 | BM52: ='2-2.시군 연령별 한국인(각세)'!BM128+'2-2.시군 연령별 한국인(각세)'!BM134+'2-2.시군 연령별 한국인(각세)'!BM140 -> 17 | BN52: =BO52+BP52 -> 25 | BO52: ='2-2.시군 연령별 한국인(각세)'!BO128+'2-2.시군 연령별 한국인(각세)'!BO134+'2-2.시군 연령별 한국인(각세)'!BO140 -> 6 | BP52: ='2-2.시군 연령별 한국인(각세)'!BP128+'2-2.시군 연령별 한국인(각세)'!BP134+'2-2.시군 연령별 한국인(각세)'!BP140 -> 19 | BQ52: =BR52+BS52 -> 10 | BR52: ='2-2.시군 연령별 한국인(각세)'!BR128+'2-2.시군 연령별 한국인(각세)'!BR134+'2-2.시군 연령별 한국인(각세)'!BR140 -> 2 | BS52: ='2-2.시군 연령별 한국인(각세)'!BS128+'2-2.시군 연령별 한국인(각세)'!BS134+'2-2.시군 연령별 한국인(각세)'!BS140 -> 8 | BT52: =BU52+BV52 -> 6 | BU52: ='2-2.시군 연령별 한국인(각세)'!BU128+'2-2.시군 연령별 한국인(각세)'!BU134+'2-2.시군 연령별 한국인(각세)'!BU140 -> 3 | BV52: ='2-2.시군 연령별 한국인(각세)'!BV128+'2-2.시군 연령별 한국인(각세)'!BV134+'2-2.시군 연령별 한국인(각세)'!BV140 -> 3
B53: ◎ 외국인
B54: 총 계 | C54: =SUM(C55:C75) -> 49587 | D54: =SUM(D55:D75) -> 31429 | E54: =SUM(E55:E75) -> 18158 | F54: =SUM(F55:F75) -> 5134 | G54: =SUM(G55:G75) -> 3061 | H54: =SUM(H55:H75) -> 2073 | I54: =SUM(I55:I75) -> 9072 | J54: =SUM(J55:J75) -> 6287 | ... BV54: =SUM(BV55:BV75) -> 32
A55: 0-4 | B55: 0-4 | C55: =F55+I55+L55+O55+R55+U55+X55+AA55+AD55+AG55+AJ55+AM55+AP55+AS55+AV55+AY55+BB55+BE55+BH55+BK55+BN55+BQ55+BT55 -> 457 | D55: =G55+J55+M55+P55+S55+V55+Y55+AB55+AE55+AH55+AK55+AN55+AQ55+AT55+AW55+AZ55+BC55+BF55+BI55+BL55+BO55+BR55+BU55 -> 213 | E55: =H55+K55+N55+Q55+T55+W55+Z55+AC55+AF55+AI55+AL55+AO55+AR55+AU55+AX55+BA55+BD55+BG55+BJ55+BM55+BP55+BS55+BV55 -> 244 | F55: =SUM(G55:H55) -> 75 | G55: 36 | H55: 39 | I55: =SUM(J55:K55) -> 88 | J55: 47 | K55: 41 | L55: =SUM(M55:N55) -> 9 | M55: 6 | N55: 3 | O55: =SUM(P55:Q55) -> 6 | P55: 2 | Q55: 4 | R55: =SUM(S55:T55) -> 91 | S55: 38 | T55: 53 | U55: =SUM(V55:W55) -> 2 | V55: 1 | W55: 1 | X55: =SUM(Y55:Z55) -> 11 | Y55: 6 | Z55: 5 | AA55: =SUM(AB55:AC55) -> 3 | AB55: 2 | AC55: 1 | AD55: =SUM(AE55:AF55) -> 7 | AE55: 4 | AF55: 3 | AG55: =SUM(AH55:AI55) -> 123 | AH55: 50 | AI55: 73 | AJ55: =SUM(AK55:AL55) -> 2 | AK55: 1 | AL55: 1 | AM55: =SUM(AN55:AO55) -> 4 | AN55: 3 | AO55: 1 | AP55: =SUM(AQ55:AR55) -> 1 | AQ55: 1 | AR55: 0 | AS55: =SUM(AT55:AU55) -> 0 | AT55: 0 | AU55: 0 | AV55: =SUM(AW55:AX55) -> 0 | AW55: 0 | AX55: 0 | AY55: =SUM(AZ55:BA55) -> 1 | AZ55: 0 | BA55: 1 | BB55: =SUM(BC55:BD55) -> 2 | BC55: 1 | BD55: 1 | BE55: =SUM(BF55:BG55) -> 8 | BF55: 2 | BG55: 6 | BH55: =SUM(BI55:BJ55) -> 18 | BI55: 10 | BJ55: 8 | BK55: =SUM(BL55:BM55) -> 3 | BL55: 1 | BM55: 2 | BN55: =SUM(BO55:BP55) -> 1 | BO55: 1 | BP55: 0 | BQ55: 1 | BR55: 1 | BS55: 0 | BT55: =SUM(BU55:BV55) -> 1 | BU55: 0 | BV55: 1
A56: 5-9 | B56: 5-9 | C56: =F56+I56+L56+O56+R56+U56+X56+AA56+AD56+AG56+AJ56+AM56+AP56+AS56+AV56+AY56+BB56+BE56+BH56+BK56+BN56+BQ56+BT56 -> 243 | D56: =G56+J56+M56+P56+S56+V56+Y56+AB56+AE56+AH56+AK56+AN56+AQ56+AT56+AW56+AZ56+BC56+BF56+BI56+BL56+BO56+BR56+BU56 -> 113 | E56: =H56+K56+N56+Q56+T56+W56+Z56+AC56+AF56+AI56+AL56+AO56+AR56+AU56+AX56+BA56+BD56+BG56+BJ56+BM56+BP56+BS56+BV56 -> 130 | F56: =SUM(G56:H56) -> 34 | G56: 19 | H56: 15 | I56: =SUM(J56:K56) -> 74 | J56: 36 | K56: 38 | L56: =SUM(M56:N56) -> 4 | M56: 0 | N56: 4 | O56: =SUM(P56:Q56) -> 1 | P56: 0 | Q56: 1 | R56: =SUM(S56:T56) -> 39 | S56: 16 | T56: 23 | U56: =SUM(V56:W56) -> 2 | V56: 1 | W56: 1 | X56: =SUM(Y56:Z56) -> 8 | Y56: 3 | Z56: 5 | AA56: =SUM(AB56:AC56) -> 4 | AB56: 1 | AC56: 3 | AD56: =SUM(AE56:AF56) -> 3 | AE56: 0 | AF56: 3 | AG56: =SUM(AH56:AI56) -> 38 | AH56: 20 | AI56: 18 | AJ56: =SUM(AK56:AL56) -> 0 | AK56: 0 | AL56: 0 | AM56: =SUM(AN56:AO56) -> 4 | AN56: 1 | AO56: 3 | AP56: =SUM(AQ56:AR56) -> 0 | AQ56: 0 | AR56: 0 | AS56: =SUM(AT56:AU56) -> 1 | AT56: 0 | AU56: 1 | AV56: =SUM(AW56:AX56) -> 1 | AW56: 0 | AX56: 1 | AY56: =SUM(AZ56:BA56) -> 1 | AZ56: 0 | BA56: 1 | BB56: =SUM(BC56:BD56) -> 6 | BC56: 1 | BD56: 5 | BE56: =SUM(BF56:BG56) -> 1 | BF56: 1 | BG56: 0 | BH56: =SUM(BI56:BJ56) -> 17 | BI56: 10 | BJ56: 7 | BK56: =SUM(BL56:BM56) -> 5 | BL56: 4 | BM56: 1 | BN56: =SUM(BO56:BP56) -> 0 | BO56: 0 | BP56: 0 | BQ56: 0 | BR56: 0 | BS56: 0 | BT56: =SUM(BU56:BV56) -> 0 | BU56: 0 | BV56: 0
A57: 10-14 | B57: 10-14 | C57: =F57+I57+L57+O57+R57+U57+X57+AA57+AD57+AG57+AJ57+AM57+AP57+AS57+AV57+AY57+BB57+BE57+BH57+BK57+BN57+BQ57+BT57 -> 99 | D57: =G57+J57+M57+P57+S57+V57+Y57+AB57+AE57+AH57+AK57+AN57+AQ57+AT57+AW57+AZ57+BC57+BF57+BI57+BL57+BO57+BR57+BU57 -> 55 | E57: =H57+K57+N57+Q57+T57+W57+Z57+AC57+AF57+AI57+AL57+AO57+AR57+AU57+AX57+BA57+BD57+BG57+BJ57+BM57+BP57+BS57+BV57 -> 44 | F57: =SUM(G57:H57) -> 16 | G57: 11 | H57: 5 | I57: =SUM(J57:K57) -> 18 | J57: 8 | K57: 10 | L57: =SUM(M57:N57) -> 3 | M57: 1 | N57: 2 | O57: =SUM(P57:Q57) -> 4 | P57: 1 | Q57: 3 | R57: =SUM(S57:T57) -> 13 | S57: 8 | T57: 5 | U57: =SUM(V57:W57) -> 2 | V57: 1 | W57: 1 | X57: =SUM(Y57:Z57) -> 4 | Y57: 0 | Z57: 4 | AA57: =SUM(AB57:AC57) -> 1 | AB57: 1 | AC57: 0 | AD57: =SUM(AE57:AF57) -> 3 | AE57: 3 | AF57: 0 | AG57: =SUM(AH57:AI57) -> 19 | AH57: 12 | AI57: 7 | AJ57: =SUM(AK57:AL57) -> 1 | AK57: 1 | AL57: 0 | AM57: =SUM(AN57:AO57) -> 1 | AN57: 1 | AO57: 0 | AP57: =SUM(AQ57:AR57) -> 0 | AQ57: 0 | AR57: 0 | AS57: =SUM(AT57:AU57) -> 0 | AT57: 0 | AU57: 0 | AV57: =SUM(AW57:AX57) -> 2 | AW57: 1 | AX57: 1 | AY57: =SUM(AZ57:BA57) -> 1 | AZ57: 0 | BA57: 1 | BB57: =SUM(BC57:BD57) -> 4 | BC57: 2 | BD57: 2 | BE57: =SUM(BF57:BG57) -> 0 | BF57: 0 | BG57: 0 | BH57: =SUM(BI57:BJ57) -> 4 | BI57: 3 | BJ57: 1 | BK57: =SUM(BL57:BM57) -> 1 | BL57: 0 | BM57: 1 | BN57: =SUM(BO57:BP57) -> 0 | BO57: 0 | BP57: 0 | BQ57: 2 | BR57: 1 | BS57: 1 | BT57: =SUM(BU57:BV57) -> 0 | BU57: 0 | BV57: 0
A58: 15-19 | B58: 15-19 | C58: =F58+I58+L58+O58+R58+U58+X58+AA58+AD58+AG58+AJ58+AM58+AP58+AS58+AV58+AY58+BB58+BE58+BH58+BK58+BN58+BQ58+BT58 -> 696 | D58: =G58+J58+M58+P58+S58+V58+Y58+AB58+AE58+AH58+AK58+AN58+AQ58+AT58+AW58+AZ58+BC58+BF58+BI58+BL58+BO58+BR58+BU58 -> 316 | E58: =H58+K58+N58+Q58+T58+W58+Z58+AC58+AF58+AI58+AL58+AO58+AR58+AU58+AX58+BA58+BD58+BG58+BJ58+BM58+BP58+BS58+BV58 -> 380 | F58: =SUM(G58:H58) -> 61 | G58: 25 | H58: 36 | I58: =SUM(J58:K58) -> 205 | J58: 91 | K58: 114 | L58: =SUM(M58:N58) -> 47 | M58: 16 | N58: 31 | O58: =SUM(P58:Q58) -> 19 | P58: 11 | Q58: 8 | R58: =SUM(S58:T58) -> 41 | S58: 20 | T58: 21 | U58: =SUM(V58:W58) -> 34 | V58: 20 | W58: 14 | X58: =SUM(Y58:Z58) -> 13 | Y58: 3 | Z58: 10 | AA58: =SUM(AB58:AC58) -> 5 | AB58: 3 | AC58: 2 | AD58: =SUM(AE58:AF58) -> 4 | AE58: 1 | AF58: 3 | AG58: =SUM(AH58:AI58) -> 227 | AH58: 107 | AI58: 120 | AJ58: =SUM(AK58:AL58) -> 4 | AK58: 3 | AL58: 1 | AM58: =SUM(AN58:AO58) -> 0 | AN58: 0 | AO58: 0 | AP58: =SUM(AQ58:AR58) -> 2 | AQ58: 1 | AR58: 1 | AS58: =SUM(AT58:AU58) -> 1 | AT58: 0 | AU58: 1 | AV58: =SUM(AW58:AX58) -> 0 | AW58: 0 | AX58: 0 | AY58: =SUM(AZ58:BA58) -> 1 | AZ58: 0 | BA58: 1 | BB58: =SUM(BC58:BD58) -> 7 | BC58: 2 | BD58: 5 | BE58: =SUM(BF58:BG58) -> 6 | BF58: 1 | BG58: 5 | BH58: =SUM(BI58:BJ58) -> 8 | BI58: 5 | BJ58: 3 | BK58: =SUM(BL58:BM58) -> 4 | BL58: 2 | BM58: 2 | BN58: =SUM(BO58:BP58) -> 5 | BO58: 3 | BP58: 2 | BQ58: 2 | BR58: 2 | BS58: 0 | BT58: =SUM(BU58:BV58) -> 0 | BU58: 0 | BV58: 0
A59: 20-24 | B59: 20-24 | C59: =F59+I59+L59+O59+R59+U59+X59+AA59+AD59+AG59+AJ59+AM59+AP59+AS59+AV59+AY59+BB59+BE59+BH59+BK59+BN59+BQ59+BT59 -> 7767 | D59: =G59+J59+M59+P59+S59+V59+Y59+AB59+AE59+AH59+AK59+AN59+AQ59+AT59+AW59+AZ59+BC59+BF59+BI59+BL59+BO59+BR59+BU59 -> 4551 | E59: =H59+K59+N59+Q59+T59+W59+Z59+AC59+AF59+AI59+AL59+AO59+AR59+AU59+AX59+BA59+BD59+BG59+BJ59+BM59+BP59+BS59+BV59 -> 3216 | F59: =SUM(G59:H59) -> 732 | G59: 373 | H59: 359 | I59: =SUM(J59:K59) -> 1252 | J59: 773 | K59: 479 | L59: =SUM(M59:N59) -> 374 | M59: 187 | N59: 187 | O59: =SUM(P59:Q59) -> 219 | P59: 86 | Q59: 133 | R59: =SUM(S59:T59) -> 648 | S59: 382 | T59: 266 | U59: =SUM(V59:W59) -> 168 | V59: 59 | W59: 109 | X59: =SUM(Y59:Z59) -> 414 | Y59: 310 | Z59: 104 | AA59: =SUM(AB59:AC59) -> 152 | AB59: 76 | AC59: 76 | AD59: =SUM(AE59:AF59) -> 92 | AE59: 48 | AF59: 44 | AG59: =SUM(AH59:AI59) -> 1932 | AH59: 1019 | AI59: 913 | AJ59: =SUM(AK59:AL59) -> 86 | AK59: 68 | AL59: 18 | AM59: =SUM(AN59:AO59) -> 124 | AN59: 88 | AO59: 36 | AP59: =SUM(AQ59:AR59) -> 31 | AQ59: 12 | AR59: 19 | AS59: =SUM(AT59:AU59) -> 36 | AT59: 19 | AU59: 17 | AV59: =SUM(AW59:AX59) -> 114 | AW59: 91 | AX59: 23 | AY59: =SUM(AZ59:BA59) -> 193 | AZ59: 78 | BA59: 115 | BB59: =SUM(BC59:BD59) -> 236 | BC59: 194 | BD59: 42 | BE59: =SUM(BF59:BG59) -> 234 | BF59: 169 | BG59: 65 | BH59: =SUM(BI59:BJ59) -> 480 | BI59: 356 | BJ59: 124 | BK59: =SUM(BL59:BM59) -> 49 | BL59: 15 | BM59: 34 | BN59: =SUM(BO59:BP59) -> 24 | BO59: 3 | BP59: 21 | BQ59: 164 | BR59: 133 | BS59: 31 | BT59: =SUM(BU59:BV59) -> 13 | BU59: 12 | BV59: 1
A60: 25-29 | B60: 25-29 | C60: =F60+I60+L60+O60+R60+U60+X60+AA60+AD60+AG60+AJ60+AM60+AP60+AS60+AV60+AY60+BB60+BE60+BH60+BK60+BN60+BQ60+BT60 -> 12569 | D60: =G60+J60+M60+P60+S60+V60+Y60+AB60+AE60+AH60+AK60+AN60+AQ60+AT60+AW60+AZ60+BC60+BF60+BI60+BL60+BO60+BR60+BU60 -> 8257 | E60: =H60+K60+N60+Q60+T60+W60+Z60+AC60+AF60+AI60+AL60+AO60+AR60+AU60+AX60+BA60+BD60+BG60+BJ60+BM60+BP60+BS60+BV60 -> 4312 | F60: =SUM(G60:H60) -> 1169 | G60: 708 | H60: 461 | I60: =SUM(J60:K60) -> 2008 | J60: 1455 | K60: 553 | L60: =SUM(M60:N60) -> 510 | M60: 307 | N60: 203 | O60: =SUM(P60:Q60) -> 337 | P60: 133 | Q60: 204 | R60: =SUM(S60:T60) -> 1590 | S60: 989 | T60: 601 | U60: =SUM(V60:W60) -> 175 | V60: 53 | W60: 122 | X60: =SUM(Y60:Z60) -> 840 | Y60: 673 | Z60: 167 | AA60: =SUM(AB60:AC60) -> 210 | AB60: 83 | AC60: 127 | AD60: =SUM(AE60:AF60) -> 137 | AE60: 63 | AF60: 74 | AG60: =SUM(AH60:AI60) -> 2098 | AH60: 1326 | AI60: 772 | AJ60: =SUM(AK60:AL60) -> 207 | AK60: 166 | AL60: 41 | AM60: =SUM(AN60:AO60) -> 192 | AN60: 136 | AO60: 56 | AP60: =SUM(AQ60:AR60) -> 59 | AQ60: 28 | AR60: 31 | AS60: =SUM(AT60:AU60) -> 49 | AT60: 11 | AU60: 38 | AV60: =SUM(AW60:AX60) -> 185 | AW60: 121 | AX60: 64 | AY60: =SUM(AZ60:BA60) -> 316 | AZ60: 176 | BA60: 140 | BB60: =SUM(BC60:BD60) -> 479 | BC60: 392 | BD60: 87 | BE60: =SUM(BF60:BG60) -> 452 | BF60: 342 | BG60: 110 | BH60: =SUM(BI60:BJ60) -> 1060 | BI60: 754 | BJ60: 306 | BK60: =SUM(BL60:BM60) -> 86 | BL60: 32 | BM60: 54 | BN60: =SUM(BO60:BP60) -> 62 | BO60: 14 | BP60: 48 | BQ60: 306 | BR60: 264 | BS60: 42 | BT60: =SUM(BU60:BV60) -> 42 | BU60: 31 | BV60: 11
A61: 30-34 | B61: 30-34 | C61: =F61+I61+L61+O61+R61+U61+X61+AA61+AD61+AG61+AJ61+AM61+AP61+AS61+AV61+AY61+BB61+BE61+BH61+BK61+BN61+BQ61+BT61 -> 9886 | D61: =G61+J61+M61+P61+S61+V61+Y61+AB61+AE61+AH61+AK61+AN61+AQ61+AT61+AW61+AZ61+BC61+BF61+BI61+BL61+BO61+BR61+BU61 -> 7076 | E61: =H61+K61+N61+Q61+T61+W61+Z61+AC61+AF61+AI61+AL61+AO61+AR61+AU61+AX61+BA61+BD61+BG61+BJ61+BM61+BP61+BS61+BV61 -> 2810 | F61: =SUM(G61:H61) -> 976 | G61: 629 | H61: 347 | I61: =SUM(J61:K61) -> 1886 | J61: 1495 | K61: 391 | L61: =SUM(M61:N61) -> 320 | M61: 216 | N61: 104 | O61: =SUM(P61:Q61) -> 181 | P61: 75 | Q61: 106 | R61: =SUM(S61:T61) -> 1302 | S61: 805 | T61: 497 | U61: =SUM(V61:W61) -> 115 | V61: 51 | W61: 64 | X61: =SUM(Y61:Z61) -> 645 | Y61: 531 | Z61: 114 | AA61: =SUM(AB61:AC61) -> 142 | AB61: 60 | AC61: 82 | AD61: =SUM(AE61:AF61) -> 107 | AE61: 46 | AF61: 61 | AG61: =SUM(AH61:AI61) -> 1339 | AH61: 965 | AI61: 374 | AJ61: =SUM(AK61:AL61) -> 123 | AK61: 104 | AL61: 19 | AM61: =SUM(AN61:AO61) -> 134 | AN61: 84 | AO61: 50 | AP61: =SUM(AQ61:AR61) -> 50 | AQ61: 21 | AR61: 29 | AS61: =SUM(AT61:AU61) -> 27 | AT61: 4 | AU61: 23 | AV61: =SUM(AW61:AX61) -> 154 | AW61: 119 | AX61: 35 | AY61: =SUM(AZ61:BA61) -> 173 | AZ61: 98 | BA61: 75 | BB61: =SUM(BC61:BD61) -> 458 | BC61: 397 | BD61: 61 | BE61: =SUM(BF61:BG61) -> 346 | BF61: 290 | BG61: 56 | BH61: =SUM(BI61:BJ61) -> 989 | BI61: 755 | BJ61: 234 | BK61: =SUM(BL61:BM61) -> 63 | BL61: 32 | BM61: 31 | BN61: =SUM(BO61:BP61) -> 43 | BO61: 11 | BP61: 32 | BQ61: 290 | BR61: 267 | BS61: 23 | BT61: =SUM(BU61:BV61) -> 23 | BU61: 21 | BV61: 2
A62: 35-39 | B62: 35-39 | C62: =F62+I62+L62+O62+R62+U62+X62+AA62+AD62+AG62+AJ62+AM62+AP62+AS62+AV62+AY62+BB62+BE62+BH62+BK62+BN62+BQ62+BT62 -> 6071 | D62: =G62+J62+M62+P62+S62+V62+Y62+AB62+AE62+AH62+AK62+AN62+AQ62+AT62+AW62+AZ62+BC62+BF62+BI62+BL62+BO62+BR62+BU62 -> 4467 | E62: =H62+K62+N62+Q62+T62+W62+Z62+AC62+AF62+AI62+AL62+AO62+AR62+AU62+AX62+BA62+BD62+BG62+BJ62+BM62+BP62+BS62+BV62 -> 1604 | F62: =SUM(G62:H62) -> 627 | G62: 450 | H62: 177 | I62: =SUM(J62:K62) -> 1247 | J62: 993 | K62: 254 | L62: =SUM(M62:N62) -> 168 | M62: 111 | N62: 57 | O62: =SUM(P62:Q62) -> 119 | P62: 56 | Q62: 63 | R62: =SUM(S62:T62) -> 842 | S62: 532 | T62: 310 | U62: =SUM(V62:W62) -> 67 | V62: 32 | W62: 35 | X62: =SUM(Y62:Z62) -> 387 | Y62: 322 | Z62: 65 | AA62: =SUM(AB62:AC62) -> 81 | AB62: 31 | AC62: 50 | AD62: =SUM(AE62:AF62) -> 48 | AE62: 22 | AF62: 26 | AG62: =SUM(AH62:AI62) -> 717 | AH62: 535 | AI62: 182 | AJ62: =SUM(AK62:AL62) -> 48 | AK62: 40 | AL62: 8 | AM62: =SUM(AN62:AO62) -> 71 | AN62: 47 | AO62: 24 | AP62: =SUM(AQ62:AR62) -> 16 | AQ62: 8 | AR62: 8 | AS62: =SUM(AT62:AU62) -> 13 | AT62: 3 | AU62: 10 | AV62: =SUM(AW62:AX62) -> 128 | AW62: 108 | AX62: 20 | AY62: =SUM(AZ62:BA62) -> 75 | AZ62: 39 | BA62: 36 | BB62: =SUM(BC62:BD62) -> 264 | BC62: 237 | BD62: 27 | BE62: =SUM(BF62:BG62) -> 222 | BF62: 177 | BG62: 45 | BH62: =SUM(BI62:BJ62) -> 638 | BI62: 491 | BJ62: 147 | BK62: =SUM(BL62:BM62) -> 49 | BL62: 20 | BM62: 29 | BN62: =SUM(BO62:BP62) -> 28 | BO62: 15 | BP62: 13 | BQ62: 197 | BR62: 183 | BS62: 14 | BT62: =SUM(BU62:BV62) -> 19 | BU62: 15 | BV62: 4
A63: 40-44 | B63: 40-44 | C63: =F63+I63+L63+O63+R63+U63+X63+AA63+AD63+AG63+AJ63+AM63+AP63+AS63+AV63+AY63+BB63+BE63+BH63+BK63+BN63+BQ63+BT63 -> 3784 | D63: =G63+J63+M63+P63+S63+V63+Y63+AB63+AE63+AH63+AK63+AN63+AQ63+AT63+AW63+AZ63+BC63+BF63+BI63+BL63+BO63+BR63+BU63 -> 2560 | E63: =H63+K63+N63+Q63+T63+W63+Z63+AC63+AF63+AI63+AL63+AO63+AR63+AU63+AX63+BA63+BD63+BG63+BJ63+BM63+BP63+BS63+BV63 -> 1224 | F63: =SUM(G63:H63) -> 456 | G63: 319 | H63: 137 | I63: =SUM(J63:K63) -> 795 | J63: 567 | K63: 228 | L63: =SUM(M63:N63) -> 103 | M63: 72 | N63: 31 | O63: =SUM(P63:Q63) -> 104 | P63: 52 | Q63: 52 | R63: =SUM(S63:T63) -> 484 | S63: 273 | T63: 211 | U63: =SUM(V63:W63) -> 45 | V63: 18 | W63: 27 | X63: =SUM(Y63:Z63) -> 260 | Y63: 199 | Z63: 61 | AA63: =SUM(AB63:AC63) -> 47 | AB63: 23 | AC63: 24 | AD63: =SUM(AE63:AF63) -> 54 | AE63: 22 | AF63: 32 | AG63: =SUM(AH63:AI63) -> 388 | AH63: 260 | AI63: 128 | AJ63: =SUM(AK63:AL63) -> 46 | AK63: 33 | AL63: 13 | AM63: =SUM(AN63:AO63) -> 53 | AN63: 32 | AO63: 21 | AP63: =SUM(AQ63:AR63) -> 16 | AQ63: 11 | AR63: 5 | AS63: =SUM(AT63:AU63) -> 15 | AT63: 5 | AU63: 10 | AV63: =SUM(AW63:AX63) -> 79 | AW63: 64 | AX63: 15 | AY63: =SUM(AZ63:BA63) -> 50 | AZ63: 28 | BA63: 22 | BB63: =SUM(BC63:BD63) -> 148 | BC63: 119 | BD63: 29 | BE63: =SUM(BF63:BG63) -> 135 | BF63: 99 | BG63: 36 | BH63: =SUM(BI63:BJ63) -> 304 | BI63: 202 | BJ63: 102 | BK63: =SUM(BL63:BM63) -> 32 | BL63: 16 | BM63: 16 | BN63: =SUM(BO63:BP63) -> 25 | BO63: 16 | BP63: 9 | BQ63: 136 | BR63: 122 | BS63: 14 | BT63: =SUM(BU63:BV63) -> 9 | BU63: 8 | BV63: 1
A64: 45-49 | B64: 45-49 | C64: =F64+I64+L64+O64+R64+U64+X64+AA64+AD64+AG64+AJ64+AM64+AP64+AS64+AV64+AY64+BB64+BE64+BH64+BK64+BN64+BQ64+BT64 -> 2721 | D64: =G64+J64+M64+P64+S64+V64+Y64+AB64+AE64+AH64+AK64+AN64+AQ64+AT64+AW64+AZ64+BC64+BF64+BI64+BL64+BO64+BR64+BU64 -> 1414 | E64: =H64+K64+N64+Q64+T64+W64+Z64+AC64+AF64+AI64+AL64+AO64+AR64+AU64+AX64+BA64+BD64+BG64+BJ64+BM64+BP64+BS64+BV64 -> 1307 | F64: =SUM(G64:H64) -> 319 | G64: 184 | H64: 135 | I64: =SUM(J64:K64) -> 591 | J64: 341 | K64: 250 | L64: =SUM(M64:N64) -> 86 | M64: 45 | N64: 41 | O64: =SUM(P64:Q64) -> 99 | P64: 36 | Q64: 63 | R64: =SUM(S64:T64) -> 369 | S64: 198 | T64: 171 | U64: =SUM(V64:W64) -> 49 | V64: 15 | W64: 34 | X64: =SUM(Y64:Z64) -> 137 | Y64: 69 | Z64: 68 | AA64: =SUM(AB64:AC64) -> 63 | AB64: 18 | AC64: 45 | AD64: =SUM(AE64:AF64) -> 27 | AE64: 10 | AF64: 17 | AG64: =SUM(AH64:AI64) -> 279 | AH64: 143 | AI64: 136 | AJ64: =SUM(AK64:AL64) -> 20 | AK64: 10 | AL64: 10 | AM64: =SUM(AN64:AO64) -> 44 | AN64: 17 | AO64: 27 | AP64: =SUM(AQ64:AR64) -> 22 | AQ64: 5 | AR64: 17 | AS64: =SUM(AT64:AU64) -> 32 | AT64: 9 | AU64: 23 | AV64: =SUM(AW64:AX64) -> 45 | AW64: 30 | AX64: 15 | AY64: =SUM(AZ64:BA64) -> 48 | AZ64: 27 | BA64: 21 | BB64: =SUM(BC64:BD64) -> 83 | BC64: 51 | BD64: 32 | BE64: =SUM(BF64:BG64) -> 87 | BF64: 46 | BG64: 41 | BH64: =SUM(BI64:BJ64) -> 180 | BI64: 100 | BJ64: 80 | BK64: =SUM(BL64:BM64) -> 47 | BL64: 9 | BM64: 38 | BN64: =SUM(BO64:BP64) -> 26 | BO64: 5 | BP64: 21 | BQ64: 62 | BR64: 43 | BS64: 19 | BT64: =SUM(BU64:BV64) -> 6 | BU64: 3 | BV64: 3
A65: 50-54 | B65: 50-54 | C65: =F65+I65+L65+O65+R65+U65+X65+AA65+AD65+AG65+AJ65+AM65+AP65+AS65+AV65+AY65+BB65+BE65+BH65+BK65+BN65+BQ65+BT65 -> 2268 | D65: =G65+J65+M65+P65+S65+V65+Y65+AB65+AE65+AH65+AK65+AN65+AQ65+AT65+AW65+AZ65+BC65+BF65+BI65+BL65+BO65+BR65+BU65 -> 1012 | E65: =H65+K65+N65+Q65+T65+W65+Z65+AC65+AF65+AI65+AL65+AO65+AR65+AU65+AX65+BA65+BD65+BG65+BJ65+BM65+BP65+BS65+BV65 -> 1256 | F65: =SUM(G65:H65) -> 274 | G65: 118 | H65: 156 | I65: =SUM(J65:K65) -> 424 | J65: 226 | K65: 198 | L65: =SUM(M65:N65) -> 109 | M65: 44 | N65: 65 | O65: =SUM(P65:Q65) -> 103 | P65: 37 | Q65: 66 | R65: =SUM(S65:T65) -> 268 | S65: 114 | T65: 154 | U65: =SUM(V65:W65) -> 71 | V65: 31 | W65: 40 | X65: =SUM(Y65:Z65) -> 106 | Y65: 48 | Z65: 58 | AA65: =SUM(AB65:AC65) -> 81 | AB65: 31 | AC65: 50 | AD65: =SUM(AE65:AF65) -> 53 | AE65: 14 | AF65: 39 | AG65: =SUM(AH65:AI65) -> 219 | AH65: 103 | AI65: 116 | AJ65: =SUM(AK65:AL65) -> 16 | AK65: 5 | AL65: 11 | AM65: =SUM(AN65:AO65) -> 52 | AN65: 22 | AO65: 30 | AP65: =SUM(AQ65:AR65) -> 19 | AQ65: 6 | AR65: 13 | AS65: =SUM(AT65:AU65) -> 26 | AT65: 11 | AU65: 15 | AV65: =SUM(AW65:AX65) -> 26 | AW65: 10 | AX65: 16 | AY65: =SUM(AZ65:BA65) -> 47 | AZ65: 17 | BA65: 30 | BB65: =SUM(BC65:BD65) -> 66 | BC65: 32 | BD65: 34 | BE65: =SUM(BF65:BG65) -> 67 | BF65: 31 | BG65: 36 | BH65: =SUM(BI65:BJ65) -> 123 | BI65: 67 | BJ65: 56 | BK65: =SUM(BL65:BM65) -> 55 | BL65: 22 | BM65: 33 | BN65: =SUM(BO65:BP65) -> 30 | BO65: 12 | BP65: 18 | BQ65: 28 | BR65: 9 | BS65: 19 | BT65: =SUM(BU65:BV65) -> 5 | BU65: 2 | BV65: 3
A66: 55-59 | B66: 55-59 | C66: =F66+I66+L66+O66+R66+U66+X66+AA66+AD66+AG66+AJ66+AM66+AP66+AS66+AV66+AY66+BB66+BE66+BH66+BK66+BN66+BQ66+BT66 -> 1813 | D66: =G66+J66+M66+P66+S66+V66+Y66+AB66+AE66+AH66+AK66+AN66+AQ66+AT66+AW66+AZ66+BC66+BF66+BI66+BL66+BO66+BR66+BU66 -> 809 | E66: =H66+K66+N66+Q66+T66+W66+Z66+AC66+AF66+AI66+AL66+AO66+AR66+AU66+AX66+BA66+BD66+BG66+BJ66+BM66+BP66+BS66+BV66 -> 1004 | F66: =SUM(G66:H66) -> 218 | G66: 102 | H66: 116 | I66: =SUM(J66:K66) -> 332 | J66: 173 | K66: 159 | L66: =SUM(M66:N66) -> 82 | M66: 37 | N66: 45 | O66: =SUM(P66:Q66) -> 102 | P66: 36 | Q66: 66 | R66: =SUM(S66:T66) -> 228 | S66: 103 | T66: 125 | U66: =SUM(V66:W66) -> 64 | V66: 26 | W66: 38 | X66: =SUM(Y66:Z66) -> 94 | Y66: 43 | Z66: 51 | AA66: =SUM(AB66:AC66) -> 59 | AB66: 28 | AC66: 31 | AD66: =SUM(AE66:AF66) -> 56 | AE66: 21 | AF66: 35 | AG66: =SUM(AH66:AI66) -> 157 | AH66: 72 | AI66: 85 | AJ66: =SUM(AK66:AL66) -> 11 | AK66: 1 | AL66: 10 | AM66: =SUM(AN66:AO66) -> 48 | AN66: 24 | AO66: 24 | AP66: =SUM(AQ66:AR66) -> 8 | AQ66: 5 | AR66: 3 | AS66: =SUM(AT66:AU66) -> 19 | AT66: 6 | AU66: 13 | AV66: =SUM(AW66:AX66) -> 19 | AW66: 7 | AX66: 12 | AY66: =SUM(AZ66:BA66) -> 28 | AZ66: 10 | BA66: 18 | BB66: =SUM(BC66:BD66) -> 53 | BC66: 23 | BD66: 30 | BE66: =SUM(BF66:BG66) -> 35 | BF66: 15 | BG66: 20 | BH66: =SUM(BI66:BJ66) -> 108 | BI66: 43 | BJ66: 65 | BK66: =SUM(BL66:BM66) -> 42 | BL66: 16 | BM66: 26 | BN66: =SUM(BO66:BP66) -> 16 | BO66: 6 | BP66: 10 | BQ66: 28 | BR66: 10 | BS66: 18 | BT66: =SUM(BU66:BV66) -> 6 | BU66: 2 | BV66: 4
... A75: 100+ | B75: 100+ | C75: =F75+I75+L75+O75+R75+U75+X75+AA75+AD75+AG75+AJ75+AM75+AP75+AS75+AV75+AY75+BB75+BE75+BH75+BK75+BN75+BQ75+BT75 -> 0 | D75: =G75+J75+M75+P75+S75+V75+Y75+AB75+AE75+AH75+AK75+AN75+AQ75+AT75+AW75+AZ75+BC75+BF75+BI75+BL75+BO75+BR75+BU75 -> 0 | E75: =H75+K75+N75+Q75+T75+W75+Z75+AC75+AF75+AI75+AL75+AO75+AR75+AU75+AX75+BA75+BD75+BG75+BJ75+BM75+BP75+BS75+BV75 -> 0 | F75: =SUM(G75:H75) -> 0 | G75: 0 | H75: 0 | I75: =SUM(J75:K75) -> 0 | J75: 0 | K75: 0 | L75: =SUM(M75:N75) -> 0 | M75: 0 | N75: 0 | O75: =SUM(P75:Q75) -> 0 | P75: 0 | Q75: 0 | R75: =SUM(S75:T75) -> 0 | S75: 0 | T75: 0 | U75: =SUM(V75:W75) -> 0 | V75: 0 | W75: 0 | X75: =SUM(Y75:Z75) -> 0 | Y75: 0 | Z75: 0 | AA75: =SUM(AB75:AC75) -> 0 | AB75: 0 | AC75: 0 | AD75: =SUM(AE75:AF75) -> 0 | AE75: 0 | AF75: 0 | AG75: =SUM(AH75:AI75) -> 0 | AH75: 0 | AI75: 0 | AJ75: =SUM(AK75:AL75) -> 0 | AK75: 0 | AL75: 0 | AM75: =SUM(AN75:AO75) -> 0 | AN75: 0 | AO75: 0 | AP75: =SUM(AQ75:AR75) -> 0 | AQ75: 0 | AR75: 0 | AS75: =SUM(AT75:AU75) -> 0 | AT75: 0 | AU75: 0 | AV75: =SUM(AW75:AX75) -> 0 | AW75: 0 | AX75: 0 | AY75: =SUM(AZ75:BA75) -> 0 | AZ75: 0 | BA75: 0 | BB75: =SUM(BC75:BD75) -> 0 | BC75: 0 | BD75: 0 | BE75: =SUM(BF75:BG75) -> 0 | BF75: 0 | BG75: 0 | BH75: =SUM(BI75:BJ75) -> 0 | BI75: 0 | BJ75: 0 | BK75: =SUM(BL75:BM75) -> 0 | BL75: 0 | BM75: 0 | BN75: =SUM(BO75:BP75) -> 0 | BO75: 0 | BP75: 0 | BQ75: 0 | BR75: 0 | BS75: 0 | BT75: =SUM(BU75:BV75) -> 0 | BU75: 0 | BV75: 0
B77: ※100세이상은 '100+'에 합산

Sheet 2-2.시군 연령별 한국인(각세)
B2: 2-2. 시군, 성 및 연령별(각세) 인구현황
B4: (단위 : 세, 명)
B5: 연령별 | C5: 경 상 북 도 | F5: 포항시 | I5: 경주시 | L5: 김천시 | O5: 안동시 | R5: 구미시 | U5: 영주시 | X5: 영천시 | AA5: 상주시 | AD5: 문경시 | AG5: 경산시 | AJ5: 군위군 | AM5: 의성군 | AP5: 청송군 | AS5: 영양군 | AV5: 영덕군 | AY5: 청도군 | BB5: 고령군 | BE5: 성주군 | BH5: 칠곡군 | BK5: 예천군 | BN5: 봉화군 | BQ5: 울진군 | BT5: 울릉군
C6: 총 계 | D6: 남 | E6: 여 | F6: 소 계 | G6: 남 | H6: 여 | I6: 소 계 | J6: 남 | K6: 여 | L6: 소 계 | M6: 남 | N6: 여 | O6: 소 계 | P6: 남 | Q6: 여 | R6: 소 계 | S6: 남 | T6: 여 | U6: 소 계 | V6: 남 | W6: 여 | X6: 소 계 | Y6: 남 | Z6: 여 | AA6: 소 계 | AB6: 남 | AC6: 여 | AD6: 소 계 | AE6: 남 | AF6: 여 | AG6: 소 계 | AH6: 남 | AI6: 여 | AJ6: 소 계 | AK6: 남 | AL6: 여 | AM6: 소 계 | AN6: 남 | AO6: 여 | AP6: 소 계 | AQ6: 남 | AR6: 여 | AS6: 소 계 | AT6: 남 | AU6: 여 | AV6: 소 계 | AW6: 남 | AX6: 여 | AY6: 소 계 | AZ6: 남 | BA6: 여 | BB6: 소 계 | BC6: 남 | BD6: 여 | BE6: 소 계 | BF6: 남 | BG6: 여 | BH6: 소 계 | BI6: 남 | BJ6: 여 | BK6: 소 계 | BL6: 남 | BM6: 여 | BN6: 소 계 | BO6: 남 | BP6: 여 | BQ6: 소 계 | BR6: 남 | BS6: 여 | BT6: 소 계 | BU6: 남 | BV6: 여
B7: 총 계 | C7: =C8+C14+C20+C26+C32+C38+C44+C50+C56+C62+C68+C74+C80+C86+C92+C98+C104+C110+C116+C122+C140+C128+C134 -> 2700461 | D7: =D8+D14+D20+D26+D32+D38+D44+D50+D56+D62+D68+D74+D80+D86+D92+D98+D104+D110+D116+D122+D140+D128+D134 -> 1355977 | E7: =E8+E14+E20+E26+E32+E38+E44+E50+E56+E62+E68+E74+E80+E86+E92+E98+E104+E110+E116+E122+E140+E128+E134 -> 1344484 | F7: =F8+F14+F20+F26+F32+F38+F44+F50+F56+F62+F68+F74+F80+F86+F92+F98+F104+F110+F116+F122+F140+F128+F134 -> 518077 | G7: =G8+G14+G20+G26+G32+G38+G44+G50+G56+G62+G68+G74+G80+G86+G92+G98+G104+G110+G116+G122+G140+G128+G134 -> 262240 | H7: =H8+H14+H20+H26+H32+H38+H44+H50+H56+H62+H68+H74+H80+H86+H92+H98+H104+H110+H116+H122+H140+H128+H134 -> 255837 | I7: =I8+I14+I20+I26+I32+I38+I44+I50+I56+I62+I68+I74+I80+I86+I92+I98+I104+I110+I116+I122+I140+I128+I134 -> 260454 | J7: =J8+J14+J20+J26+J32+J38+J44+J50+J56+J62+J68+J74+J80+J86+J92+J98+J104+J110+J116+J122+J140+J128+J134 -> 130366 | ... BV7: =BV8+BV14+BV20+BV26+BV32+BV38+BV44+BV50+BV56+BV62+BV68+BV74+BV80+BV86+BV92+BV98+BV104+BV110+BV116+BV122+BV140+BV128+BV134 -> 4775
B8: 0-4 | C8: =D8+E8 -> 113417 | D8: =SUM(D9:D13) -> 58606 | E8: =SUM(E9:E13) -> 54811 | F8: =SUM(F9:F13) -> 23495 | G8: =SUM(G9:G13) -> 12253 | H8: =SUM(H9:H13) -> 11242 | I8: =SUM(I9:I13) -> 9299 | J8: =SUM(J9:J13) -> 4762 | K8: =SUM(K9:K13) -> 4537 | ... BV8: =SUM(BV9:BV13) -> 131
B9: 0 | C9: =D9+E9 -> 21410 | D9: =SUM(G9,J9,M9,P9,S9,V9,Y9,AB9,AE9,AH9,AK9,AN9,AQ9,AT9,AW9,AZ9,BC9,BF9,BI9,BL9,BO9,BR9,BU9) -> 11029 | E9: =SUM(H9,K9,N9,Q9,T9,W9,Z9,AC9,AF9,AI9,AL9,AO9,AR9,AU9,AX9,BA9,BD9,BG9,BJ9,BM9,BP9,BS9,BV9) -> 10381 | F9: 4398 | G9: 2289 | H9: 2109 | I9: 1676 | J9: 849 | K9: 827 | L9: 1014 | M9: 499 | N9: 515 | O9: 1404 | P9: 730 | Q9: 674 | R9: 4618 | S9: 2386 | T9: 2232 | U9: 641 | V9: 332 | W9: 309 | X9: 702 | Y9: 378 | Z9: 324 | AA9: 533 | AB9: 278 | AC9: 255 | AD9: 485 | AE9: 242 | AF9: 243 | AG9: 2289 | AH9: 1135 | AI9: 1154 | AJ9: 102 | AK9: 51 | AL9: 51 | AM9: 236 | AN9: 123 | AO9: 113 | AP9: 142 | AQ9: 65 | AR9: 77 | AS9: 96 | AT9: 46 | AU9: 50 | AV9: 191 | AW9: 104 | AX9: 87 | AY9: 160 | AZ9: 82 | BA9: 78 | BB9: 235 | BC9: 123 | BD9: 112 | BE9: 291 | BF9: 154 | BG9: 137 | BH9: 1326 | BI9: 699 | BJ9: 627 | BK9: 262 | BL9: 128 | BM9: 134 | BN9: 198 | BO9: 113 | BP9: 85 | BQ9: 355 | BR9: 192 | BS9: 163 | BT9: 56 | BU9: 31 | BV9: 25
B10: 1 | C10: =D10+E10 -> 21944 | D10: =SUM(G10,J10,M10,P10,S10,V10,Y10,AB10,AE10,AH10,AK10,AN10,AQ10,AT10,AW10,AZ10,BC10,BF10,BI10,BL10,BO10,BR10,BU10) -> 11324 | E10: =SUM(H10,K10,N10,Q10,T10,W10,Z10,AC10,AF10,AI10,AL10,AO10,AR10,AU10,AX10,BA10,BD10,BG10,BJ10,BM10,BP10,BS10,BV10) -> 10620 | F10: 4487 | G10: 2302 | H10: 2185 | I10: 1740 | J10: 916 | K10: 824 | L10: 1104 | M10: 571 | N10: 533 | O10: 1419 | P10: 714 | Q10: 705 | R10: 4663 | S10: 2440 | T10: 2223 | U10: 694 | V10: 376 | W10: 318 | X10: 675 | Y10: 347 | Z10: 328 | AA10: 530 | AB10: 271 | AC10: 259 | AD10: 526 | AE10: 280 | AF10: 246 | AG10: 2472 | AH10: 1239 | AI10: 1233 | AJ10: 102 | AK10: 45 | AL10: 57 | AM10: 227 | AN10: 120 | AO10: 107 | AP10: 140 | AQ10: 73 | AR10: 67 | AS10: 108 | AT10: 56 | AU10: 52 | AV10: 214 | AW10: 112 | AX10: 102 | AY10: 150 | AZ10: 74 | BA10: 76 | BB10: 264 | BC10: 133 | BD10: 131 | BE10: 276 | BF10: 136 | BG10: 140 | BH10: 1265 | BI10: 663 | BJ10: 602 | BK10: 239 | BL10: 123 | BM10: 116 | BN10: 203 | BO10: 105 | BP10: 98 | BQ10: 396 | BR10: 206 | BS10: 190 | BT10: 50 | BU10: 22 | BV10: 28
B11: 2 | C11: =D11+E11 -> 22602 | D11: =SUM(G11,J11,M11,P11,S11,V11,Y11,AB11,AE11,AH11,AK11,AN11,AQ11,AT11,AW11,AZ11,BC11,BF11,BI11,BL11,BO11,BR11,BU11) -> 11612 | E11: =SUM(H11,K11,N11,Q11,T11,W11,Z11,AC11,AF11,AI11,AL11,AO11,AR11,AU11,AX11,BA11,BD11,BG11,BJ11,BM11,BP11,BS11,BV11) -> 10990 | F11: 4701 | G11: 2434 | H11: 2267 | I11: 1838 | J11: 936 | K11: 902 | L11: 1148 | M11: 609 | N11: 539 | O11: 1474 | P11: 774 | Q11: 700 | R11: 4845 | S11: 2488 | T11: 2357 | U11: 688 | V11: 355 | W11: 333 | X11: 668 | Y11: 328 | Z11: 340 | AA11: 592 | AB11: 295 | AC11: 297 | AD11: 542 | AE11: 279 | AF11: 263 | AG11: 2430 | AH11: 1225 | AI11: 1205 | AJ11: 77 | AK11: 46 | AL11: 31 | AM11: 209 | AN11: 104 | AO11: 105 | AP11: 122 | AQ11: 52 | AR11: 70 | AS11: 102 | AT11: 56 | AU11: 46 | AV11: 212 | AW11: 111 | AX11: 101 | AY11: 174 | AZ11: 86 | BA11: 88 | BB11: 256 | BC11: 117 | BD11: 139 | BE11: 273 | BF11: 138 | BG11: 135 | BH11: 1373 | BI11: 724 | BJ11: 649 | BK11: 265 | BL11: 137 | BM11: 128 | BN11: 205 | BO11: 108 | BP11: 97 | BQ11: 361 | BR11: 188 | BS11: 173 | BT11: 47 | BU11: 22 | BV11: 25
B12: 3 | C12: =D12+E12 -> 23880 | D12: =SUM(G12,J12,M12,P12,S12,V12,Y12,AB12,AE12,AH12,AK12,AN12,AQ12,AT12,AW12,AZ12,BC12,BF12,BI12,BL12,BO12,BR12,BU12) -> 12350 | E12: =SUM(H12,K12,N12,Q12,T12,W12,Z12,AC12,AF12,AI12,AL12,AO12,AR12,AU12,AX12,BA12,BD12,BG12,BJ12,BM12,BP12,BS12,BV12) -> 11530 | F12: 4977 | G12: 2644 | H12: 2333 | I12: 2010 | J12: 1012 | K12: 998 | L12: 1229 | M12: 636 | N12: 593 | O12: 1508 | P12: 789 | Q12: 719 | R12: 5178 | S12: 2650 | T12: 2528 | U12: 821 | V12: 424 | W12: 397 | X12: 637 | Y12: 312 | Z12: 325 | AA12: 630 | AB12: 340 | AC12: 290 | AD12: 528 | AE12: 284 | AF12: 244 | AG12: 2501 | AH12: 1273 | AI12: 1228 | AJ12: 118 | AK12: 54 | AL12: 64 | AM12: 230 | AN12: 118 | AO12: 112 | AP12: 128 | AQ12: 67 | AR12: 61 | AS12: 92 | AT12: 55 | AU12: 37 | AV12: 216 | AW12: 111 | AX12: 105 | AY12: 187 | AZ12: 99 | BA12: 88 | BB12: 237 | BC12: 127 | BD12: 110 | BE12: 265 | BF12: 123 | BG12: 142 | BH12: 1400 | BI12: 723 | BJ12: 677 | BK12: 267 | BL12: 142 | BM12: 125 | BN12: 230 | BO12: 107 | BP12: 123 | BQ12: 428 | BR12: 230 | BS12: 198 | BT12: 63 | BU12: 30 | BV12: 33
B13: 4 | C13: =D13+E13 -> 23581 | D13: =SUM(G13,J13,M13,P13,S13,V13,Y13,AB13,AE13,AH13,AK13,AN13,AQ13,AT13,AW13,AZ13,BC13,BF13,BI13,BL13,BO13,BR13,BU13) -> 12291 | E13: =SUM(H13,K13,N13,Q13,T13,W13,Z13,AC13,AF13,AI13,AL13,AO13,AR13,AU13,AX13,BA13,BD13,BG13,BJ13,BM13,BP13,BS13,BV13) -> 11290 | F13: 4932 | G13: 2584 | H13: 2348 | I13: 2035 | J13: 1049 | K13: 986 | L13: 1226 | M13: 632 | N13: 594 | O13: 1378 | P13: 731 | Q13: 647 | R13: 5036 | S13: 2693 | T13: 2343 | U13: 792 | V13: 402 | W13: 390 | X13: 691 | Y13: 362 | Z13: 329 | AA13: 657 | AB13: 351 | AC13: 306 | AD13: 551 | AE13: 294 | AF13: 257 | AG13: 2507 | AH13: 1315 | AI13: 1192 | AJ13: 90 | AK13: 51 | AL13: 39 | AM13: 219 | AN13: 105 | AO13: 114 | AP13: 121 | AQ13: 70 | AR13: 51 | AS13: 91 | AT13: 57 | AU13: 34 | AV13: 201 | AW13: 95 | AX13: 106 | AY13: 221 | AZ13: 100 | BA13: 121 | BB13: 212 | BC13: 103 | BD13: 109 | BE13: 254 | BF13: 136 | BG13: 118 | BH13: 1416 | BI13: 696 | BJ13: 720 | BK13: 288 | BL13: 144 | BM13: 144 | BN13: 223 | BO13: 104 | BP13: 119 | BQ13: 390 | BR13: 187 | BS13: 203 | BT13: 50 | BU13: 30 | BV13: 20
B14: 5-9 | C14: =D14+E14 -> 109775 | D14: =SUM(D15:D19) -> 57108 | E14: =SUM(E15:E19) -> 52667 | F14: =SUM(F15:F19) -> 22794 | G14: =SUM(G15:G19) -> 11826 | H14: =SUM(H15:H19) -> 10968 | I14: =SUM(I15:I19) -> 10118 | J14: =SUM(J15:J19) -> 5225 | K14: =SUM(K15:K19) -> 4893 | ... BV14: =SUM(BV15:BV19) -> 136
B15: 5 | C15: =D15+E15 -> 21919 | D15: =SUM(G15,J15,M15,P15,S15,V15,Y15,AB15,AE15,AH15,AK15,AN15,AQ15,AT15,AW15,AZ15,BC15,BF15,BI15,BL15,BO15,BR15,BU15) -> 11333 | E15: =SUM(H15,K15,N15,Q15,T15,W15,Z15,AC15,AF15,AI15,AL15,AO15,AR15,AU15,AX15,BA15,BD15,BG15,BJ15,BM15,BP15,BS15,BV15) -> 10586 | F15: 4645 | G15: 2439 | H15: 2206 | I15: 1930 | J15: 1000 | K15: 930 | L15: 1104 | M15: 544 | N15: 560 | O15: 1373 | P15: 726 | Q15: 647 | R15: 4563 | S15: 2347 | T15: 2216 | U15: 774 | V15: 396 | W15: 378 | X15: 601 | Y15: 311 | Z15: 290 | AA15: 659 | AB15: 334 | AC15: 325 | AD15: 500 | AE15: 254 | AF15: 246 | AG15: 2225 | AH15: 1116 | AI15: 1109 | AJ15: 87 | AK15: 44 | AL15: 43 | AM15: 207 | AN15: 111 | AO15: 96 | AP15: 105 | AQ15: 51 | AR15: 54 | AS15: 105 | AT15: 52 | AU15: 53 | AV15: 194 | AW15: 96 | AX15: 98 | AY15: 187 | AZ15: 104 | BA15: 83 | BB15: 248 | BC15: 125 | BD15: 123 | BE15: 225 | BF15: 106 | BG15: 119 | BH15: 1300 | BI15: 682 | BJ15: 618 | BK15: 271 | BL15: 147 | BM15: 124 | BN15: 206 | BO15: 114 | BP15: 92 | BQ15: 366 | BR15: 209 | BS15: 157 | BT15: 44 | BU15: 25 | BV15: 19
B16: 6 | C16: =D16+E16 -> 21376 | D16: =SUM(G16,J16,M16,P16,S16,V16,Y16,AB16,AE16,AH16,AK16,AN16,AQ16,AT16,AW16,AZ16,BC16,BF16,BI16,BL16,BO16,BR16,BU16) -> 11156 | E16: =SUM(H16,K16,N16,Q16,T16,W16,Z16,AC16,AF16,AI16,AL16,AO16,AR16,AU16,AX16,BA16,BD16,BG16,BJ16,BM16,BP16,BS16,BV16) -> 10220 | F16: 4505 | G16: 2356 | H16: 2149 | I16: 1932 | J16: 1000 | K16: 932 | L16: 1045 | M16: 557 | N16: 488 | O16: 1315 | P16: 662 | Q16: 653 | R16: 4438 | S16: 2333 | T16: 2105 | U16: 803 | V16: 410 | W16: 393 | X16: 592 | Y16: 326 | Z16: 266 | AA16: 649 | AB16: 332 | AC16: 317 | AD16: 467 | AE16: 247 | AF16: 220 | AG16: 2254 | AH16: 1167 | AI16: 1087 | AJ16: 76 | AK16: 46 | AL16: 30 | AM16: 202 | AN16: 109 | AO16: 93 | AP16: 119 | AQ16: 60 | AR16: 59 | AS16: 76 | AT16: 47 | AU16: 29 | AV16: 206 | AW16: 110 | AX16: 96 | AY16: 181 | AZ16: 91 | BA16: 90 | BB16: 215 | BC16: 115 | BD16: 100 | BE16: 214 | BF16: 105 | BG16: 109 | BH16: 1224 | BI16: 624 | BJ16: 600 | BK16: 264 | BL16: 142 | BM16: 122 | BN16: 168 | BO16: 101 | BP16: 67 | BQ16: 374 | BR16: 189 | BS16: 185 | BT16: 57 | BU16: 27 | BV16: 30
B17: 7 | C17: =D17+E17 -> 22714 | D17: =SUM(G17,J17,M17,P17,S17,V17,Y17,AB17,AE17,AH17,AK17,AN17,AQ17,AT17,AW17,AZ17,BC17,BF17,BI17,BL17,BO17,BR17,BU17) -> 11752 | E17: =SUM(H17,K17,N17,Q17,T17,W17,Z17,AC17,AF17,AI17,AL17,AO17,AR17,AU17,AX17,BA17,BD17,BG17,BJ17,BM17,BP17,BS17,BV17) -> 10962 | F17: 4639 | G17: 2351 | H17: 2288 | I17: 2081 | J17: 1071 | K17: 1010 | L17: 1147 | M17: 636 | N17: 511 | O17: 1414 | P17: 732 | Q17: 682 | R17: 4847 | S17: 2477 | T17: 2370 | U17: 850 | V17: 407 | W17: 443 | X17: 614 | Y17: 332 | Z17: 282 | AA17: 761 | AB17: 412 | AC17: 349 | AD17: 508 | AE17: 281 | AF17: 227 | AG17: 2239 | AH17: 1151 | AI17: 1088 | AJ17: 105 | AK17: 58 | AL17: 47 | AM17: 244 | AN17: 133 | AO17: 111 | AP17: 122 | AQ17: 71 | AR17: 51 | AS17: 106 | AT17: 54 | AU17: 52 | AV17: 163 | AW17: 79 | AX17: 84 | AY17: 212 | AZ17: 100 | BA17: 112 | BB17: 236 | BC17: 121 | BD17: 115 | BE17: 225 | BF17: 129 | BG17: 96 | BH17: 1314 | BI17: 681 | BJ17: 633 | BK17: 247 | BL17: 142 | BM17: 105 | BN17: 196 | BO17: 103 | BP17: 93 | BQ17: 386 | BR17: 197 | BS17: 189 | BT17: 58 | BU17: 34 | BV17: 24
B18: 8 | C18: =D18+E18 -> 22648 | D18: =SUM(G18,J18,M18,P18,S18,V18,Y18,AB18,AE18,AH18,AK18,AN18,AQ18,AT18,AW18,AZ18,BC18,BF18,BI18,BL18,BO18,BR18,BU18) -> 11754 | E18: =SUM(H18,K18,N18,Q18,T18,W18,Z18,AC18,AF18,AI18,AL18,AO18,AR18,AU18,AX18,BA18,BD18,BG18,BJ18,BM18,BP18,BS18,BV18) -> 10894 | F18: 4609 | G18: 2381 | H18: 2228 | I18: 2144 | J18: 1089 | K18: 1055 | L18: 1065 | M18: 554 | N18: 511 | O18: 1416 | P18: 712 | Q18: 704 | R18: 4671 | S18: 2450 | T18: 2221 | U18: 871 | V18: 434 | W18: 437 | X18: 681 | Y18: 362 | Z18: 319 | AA18: 723 | AB18: 390 | AC18: 333 | AD18: 500 | AE18: 279 | AF18: 221 | AG18: 2279 | AH18: 1184 | AI18: 1095 | AJ18: 92 | AK18: 50 | AL18: 42 | AM18: 234 | AN18: 115 | AO18: 119 | AP18: 122 | AQ18: 54 | AR18: 68 | AS18: 110 | AT18: 53 | AU18: 57 | AV18: 237 | AW18: 134 | AX18: 103 | AY18: 209 | AZ18: 103 | BA18: 106 | BB18: 239 | BC18: 132 | BD18: 107 | BE18: 210 | BF18: 113 | BG18: 97 | BH18: 1323 | BI18: 687 | BJ18: 636 | BK18: 268 | BL18: 146 | BM18: 122 | BN18: 180 | BO18: 80 | BP18: 100 | BQ18: 394 | BR18: 224 | BS18: 170 | BT18: 71 | BU18: 28 | BV18: 43
B19: 9 | C19: =D19+E19 -> 21118 | D19: =SUM(G19,J19,M19,P19,S19,V19,Y19,AB19,AE19,AH19,AK19,AN19,AQ19,AT19,AW19,AZ19,BC19,BF19,BI19,BL19,BO19,BR19,BU19) -> 11113 | E19: =SUM(H19,K19,N19,Q19,T19,W19,Z19,AC19,AF19,AI19,AL19,AO19,AR19,AU19,AX19,BA19,BD19,BG19,BJ19,BM19,BP19,BS19,BV19) -> 10005 | F19: 4396 | G19: 2299 | H19: 2097 | I19: 2031 | J19: 1065 | K19: 966 | L19: 1009 | M19: 556 | N19: 453 | O19: 1341 | P19: 716 | Q19: 625 | R19: 4227 | S19: 2165 | T19: 2062 | U19: 848 | V19: 477 | W19: 371 | X19: 578 | Y19: 286 | Z19: 292 | AA19: 688 | AB19: 349 | AC19: 339 | AD19: 518 | AE19: 291 | AF19: 227 | AG19: 2074 | AH19: 1099 | AI19: 975 | AJ19: 83 | AK19: 47 | AL19: 36 | AM19: 209 | AN19: 111 | AO19: 98 | AP19: 124 | AQ19: 64 | AR19: 60 | AS19: 82 | AT19: 44 | AU19: 38 | AV19: 221 | AW19: 105 | AX19: 116 | AY19: 197 | AZ19: 98 | BA19: 99 | BB19: 219 | BC19: 110 | BD19: 109 | BE19: 236 | BF19: 142 | BG19: 94 | BH19: 1163 | BI19: 619 | BJ19: 544 | BK19: 261 | BL19: 147 | BM19: 114 | BN19: 190 | BO19: 91 | BP19: 99 | BQ19: 371 | BR19: 200 | BS19: 171 | BT19: 52 | BU19: 32 | BV19: 20
B20: 10-14 | C20: =D20+E20 -> 119309 | D20: =SUM(D21:D25) -> 62820 | E20: =SUM(E21:E25) -> 56489 | F20: =SUM(F21:F25) -> 24918 | G20: =SUM(G21:G25) -> 13205 | H20: =SUM(H21:H25) -> 11713 | I20: =SUM(I21:I25) -> 11339 | J20: =SUM(J21:J25) -> 5967 | K20: =SUM(K21:K25) -> 5372 | ... BV20: =SUM(BV21:BV25) -> 139
B21: 10 | C21: =D21+E21 -> 20981 | D21: =SUM(G21,J21,M21,P21,S21,V21,Y21,AB21,AE21,AH21,AK21,AN21,AQ21,AT21,AW21,AZ21,BC21,BF21,BI21,BL21,BO21,BR21,BU21) -> 10909 | E21: =SUM(H21,K21,N21,Q21,T21,W21,Z21,AC21,AF21,AI21,AL21,AO21,AR21,AU21,AX21,BA21,BD21,BG21,BJ21,BM21,BP21,BS21,BV21) -> 10072 | F21: 4429 | G21: 2364 | H21: 2065 | I21: 1972 | J21: 1032 | K21: 940 | L21: 1006 | M21: 495 | N21: 511 | O21: 1324 | P21: 699 | Q21: 625 | R21: 4254 | S21: 2203 | T21: 2051 | U21: 882 | V21: 470 | W21: 412 | X21: 596 | Y21: 279 | Z21: 317 | AA21: 696 | AB21: 356 | AC21: 340 | AD21: 498 | AE21: 256 | AF21: 242 | AG21: 1994 | AH21: 1010 | AI21: 984 | AJ21: 89 | AK21: 47 | AL21: 42 | AM21: 230 | AN21: 119 | AO21: 111 | AP21: 124 | AQ21: 65 | AR21: 59 | AS21: 99 | AT21: 46 | AU21: 53 | AV21: 213 | AW21: 113 | AX21: 100 | AY21: 195 | AZ21: 93 | BA21: 102 | BB21: 199 | BC21: 114 | BD21: 85 | BE21: 218 | BF21: 118 | BG21: 100 | BH21: 1148 | BI21: 619 | BJ21: 529 | BK21: 249 | BL21: 130 | BM21: 119 | BN21: 155 | BO21: 85 | BP21: 70 | BQ21: 352 | BR21: 163 | BS21: 189 | BT21: 59 | BU21: 33 | BV21: 26
B22: 11 | C22: =D22+E22 -> 22584 | D22: =SUM(G22,J22,M22,P22,S22,V22,Y22,AB22,AE22,AH22,AK22,AN22,AQ22,AT22,AW22,AZ22,BC22,BF22,BI22,BL22,BO22,BR22,BU22) -> 11976 | E22: =SUM(H22,K22,N22,Q22,T22,W22,Z22,AC22,AF22,AI22,AL22,AO22,AR22,AU22,AX22,BA22,BD22,BG22,BJ22,BM22,BP22,BS22,BV22) -> 10608 | F22: 4723 | G22: 2509 | H22: 2214 | I22: 2123 | J22: 1116 | K22: 1007 | L22: 1095 | M22: 586 | N22: 509 | O22: 1453 | P22: 750 | Q22: 703 | R22: 4571 | S22: 2392 | T22: 2179 | U22: 948 | V22: 512 | W22: 436 | X22: 642 | Y22: 353 | Z22: 289 | AA22: 706 | AB22: 379 | AC22: 327 | AD22: 545 | AE22: 306 | AF22: 239 | AG22: 2290 | AH22: 1220 | AI22: 1070 | AJ22: 77 | AK22: 46 | AL22: 31 | AM22: 250 | AN22: 136 | AO22: 114 | AP22: 138 | AQ22: 71 | AR22: 67 | AS22: 90 | AT22: 47 | AU22: 43 | AV22: 217 | AW22: 112 | AX22: 105 | AY22: 204 | AZ22: 119 | BA22: 85 | BB22: 201 | BC22: 109 | BD22: 92 | BE22: 205 | BF22: 118 | BG22: 87 | BH22: 1209 | BI22: 632 | BJ22: 577 | BK22: 253 | BL22: 123 | BM22: 130 | BN22: 197 | BO22: 106 | BP22: 91 | BQ22: 401 | BR22: 211 | BS22: 190 | BT22: 46 | BU22: 23 | BV22: 23
B23: 12 | C23: =D23+E23 -> 22756 | D23: =SUM(G23,J23,M23,P23,S23,V23,Y23,AB23,AE23,AH23,AK23,AN23,AQ23,AT23,AW23,AZ23,BC23,BF23,BI23,BL23,BO23,BR23,BU23) -> 11900 | E23: =SUM(H23,K23,N23,Q23,T23,W23,Z23,AC23,AF23,AI23,AL23,AO23,AR23,AU23,AX23,BA23,BD23,BG23,BJ23,BM23,BP23,BS23,BV23) -> 10856 | F23: 4722 | G23: 2469 | H23: 2253 | I23: 2120 | J23: 1097 | K23: 1023 | L23: 1082 | M23: 587 | N23: 495 | O23: 1480 | P23: 764 | Q23: 716 | R23: 4715 | S23: 2455 | T23: 2260 | U23: 904 | V23: 458 | W23: 446 | X23: 660 | Y23: 358 | Z23: 302 | AA23: 781 | AB23: 415 | AC23: 366 | AD23: 590 | AE23: 318 | AF23: 272 | AG23: 2192 | AH23: 1158 | AI23: 1034 | AJ23: 92 | AK23: 51 | AL23: 41 | AM23: 215 | AN23: 107 | AO23: 108 | AP23: 141 | AQ23: 77 | AR23: 64 | AS23: 103 | AT23: 49 | AU23: 54 | AV23: 239 | AW23: 128 | AX23: 111 | AY23: 218 | AZ23: 120 | BA23: 98 | BB23: 215 | BC23: 109 | BD23: 106 | BE23: 233 | BF23: 134 | BG23: 99 | BH23: 1200 | BI23: 609 | BJ23: 591 | BK23: 253 | BL23: 138 | BM23: 115 | BN23: 188 | BO23: 100 | BP23: 88 | BQ23: 363 | BR23: 174 | BS23: 189 | BT23: 50 | BU23: 25 | BV23: 25
B24: 13 | C24: =D24+E24 -> 24603 | D24: =SUM(G24,J24,M24,P24,S24,V24,Y24,AB24,AE24,AH24,AK24,AN24,AQ24,AT24,AW24,AZ24,BC24,BF24,BI24,BL24,BO24,BR24,BU24) -> 13073 | E24: =SUM(H24,K24,N24,Q24,T24,W24,Z24,AC24,AF24,AI24,AL24,AO24,AR24,AU24,AX24,BA24,BD24,BG24,BJ24,BM24,BP24,BS24,BV24) -> 11530 | F24: 5087 | G24: 2706 | H24: 2381 | I24: 2350 | J24: 1225 | K24: 1125 | L24: 1181 | M24: 627 | N24: 554 | O24: 1618 | P24: 840 | Q24: 778 | R24: 4886 | S24: 2581 | T24: 2305 | U24: 1017 | V24: 538 | W24: 479 | X24: 684 | Y24: 392 | Z24: 292 | AA24: 809 | AB24: 465 | AC24: 344 | AD24: 665 | AE24: 342 | AF24: 323 | AG24: 2349 | AH24: 1258 | AI24: 1091 | AJ24: 113 | AK24: 62 | AL24: 51 | AM24: 290 | AN24: 152 | AO24: 138 | AP24: 143 | AQ24: 73 | AR24: 70 | AS24: 113 | AT24: 57 | AU24: 56 | AV24: 247 | AW24: 127 | AX24: 120 | AY24: 258 | AZ24: 129 | BA24: 129 | BB24: 231 | BC24: 112 | BD24: 119 | BE24: 243 | BF24: 127 | BG24: 116 | BH24: 1273 | BI24: 680 | BJ24: 593 | BK24: 305 | BL24: 175 | BM24: 130 | BN24: 228 | BO24: 131 | BP24: 97 | BQ24: 455 | BR24: 243 | BS24: 212 | BT24: 58 | BU24: 31 | BV24: 27
B25: 14 | C25: =D25+E25 -> 28385 | D25: =SUM(G25,J25,M25,P25,S25,V25,Y25,AB25,AE25,AH25,AK25,AN25,AQ25,AT25,AW25,AZ25,BC25,BF25,BI25,BL25,BO25,BR25,BU25) -> 14962 | E25: =SUM(H25,K25,N25,Q25,T25,W25,Z25,AC25,AF25,AI25,AL25,AO25,AR25,AU25,AX25,BA25,BD25,BG25,BJ25,BM25,BP25,BS25,BV25) -> 13423 | F25: 5957 | G25: 3157 | H25: 2800 | I25: 2774 | J25: 1497 | K25: 1277 | L25: 1357 | M25: 689 | N25: 668 | O25: 1786 | P25: 938 | Q25: 848 | R25: 5657 | S25: 2941 | T25: 2716 | U25: 1199 | V25: 645 | W25: 554 | X25: 826 | Y25: 455 | Z25: 371 | AA25: 973 | AB25: 504 | AC25: 469 | AD25: 775 | AE25: 421 | AF25: 354 | AG25: 2723 | AH25: 1410 | AI25: 1313 | AJ25: 111 | AK25: 63 | AL25: 48 | AM25: 299 | AN25: 151 | AO25: 148 | AP25: 161 | AQ25: 86 | AR25: 75 | AS25: 115 | AT25: 58 | AU25: 57 | AV25: 270 | AW25: 140 | AX25: 130 | AY25: 285 | AZ25: 146 | BA25: 139 | BB25: 267 | BC25: 142 | BD25: 125 | BE25: 311 | BF25: 177 | BG25: 134 | BH25: 1424 | BI25: 756 | BJ25: 668 | BK25: 338 | BL25: 182 | BM25: 156 | BN25: 244 | BO25: 126 | BP25: 118 | BQ25: 458 | BR25: 241 | BS25: 217 | BT25: 75 | BU25: 37 | BV25: 38
B26: 15-19 | C26: =D26+E26 -> 160957 | D26: =SUM(D27:D31) -> 85676 | E26: =SUM(E27:E31) -> 75281 | F26: =SUM(F27:F31) -> 34088 | G26: =SUM(G27:G31) -> 18069 | H26: =SUM(H27:H31) -> 16019 | I26: =SUM(I27:I31) -> 16014 | J26: =SUM(J27:J31) -> 8478 | K26: =SUM(K27:K31) -> 7536 | ... BV26: =SUM(BV27:BV31) -> 194
B27: 15 | C27: =D27+E27 -> 31481 | D27: =SUM(G27,J27,M27,P27,S27,V27,Y27,AB27,AE27,AH27,AK27,AN27,AQ27,AT27,AW27,AZ27,BC27,BF27,BI27,BL27,BO27,BR27,BU27) -> 16755 | E27: =SUM(H27,K27,N27,Q27,T27,W27,Z27,AC27,AF27,AI27,AL27,AO27,AR27,AU27,AX27,BA27,BD27,BG27,BJ27,BM27,BP27,BS27,BV27) -> 14726 | F27: 6760 | G27: 3602 | H27: 3158 | I27: 3105 | J27: 1601 | K27: 1504 | L27: 1567 | M27: 827 | N27: 740 | O27: 1840 | P27: 935 | Q27: 905 | R27: 6205 | S27: 3310 | T27: 2895 | U27: 1349 | V27: 737 | W27: 612 | X27: 924 | Y27: 520 | Z27: 404 | AA27: 1057 | AB27: 593 | AC27: 464 | AD27: 812 | AE27: 450 | AF27: 362 | AG27: 2908 | AH27: 1528 | AI27: 1380 | AJ27: 139 | AK27: 86 | AL27: 53 | AM27: 339 | AN27: 163 | AO27: 176 | AP27: 195 | AQ27: 107 | AR27: 88 | AS27: 146 | AT27: 83 | AU27: 63 | AV27: 324 | AW27: 175 | AX27: 149 | AY27: 358 | AZ27: 177 | BA27: 181 | BB27: 291 | BC27: 162 | BD27: 129 | BE27: 370 | BF27: 194 | BG27: 176 | BH27: 1532 | BI27: 822 | BJ27: 710 | BK27: 338 | BL27: 179 | BM27: 159 | BN27: 282 | BO27: 150 | BP27: 132 | BQ27: 559 | BR27: 320 | BS27: 239 | BT27: 81 | BU27: 34 | BV27: 47
B28: 16 | C28: =D28+E28 -> 30353 | D28: =SUM(G28,J28,M28,P28,S28,V28,Y28,AB28,AE28,AH28,AK28,AN28,AQ28,AT28,AW28,AZ28,BC28,BF28,BI28,BL28,BO28,BR28,BU28) -> 16188 | E28: =SUM(H28,K28,N28,Q28,T28,W28,Z28,AC28,AF28,AI28,AL28,AO28,AR28,AU28,AX28,BA28,BD28,BG28,BJ28,BM28,BP28,BS28,BV28) -> 14165 | F28: 6414 | G28: 3386 | H28: 3028 | I28: 3008 | J28: 1577 | K28: 1431 | L28: 1638 | M28: 914 | N28: 724 | O28: 1833 | P28: 989 | Q28: 844 | R28: 5812 | S28: 3097 | T28: 2715 | U28: 1208 | V28: 659 | W28: 549 | X28: 945 | Y28: 492 | Z28: 453 | AA28: 1068 | AB28: 565 | AC28: 503 | AD28: 814 | AE28: 448 | AF28: 366 | AG28: 2771 | AH28: 1477 | AI28: 1294 | AJ28: 172 | AK28: 94 | AL28: 78 | AM28: 364 | AN28: 191 | AO28: 173 | AP28: 182 | AQ28: 91 | AR28: 91 | AS28: 133 | AT28: 69 | AU28: 64 | AV28: 313 | AW28: 150 | AX28: 163 | AY28: 328 | AZ28: 193 | BA28: 135 | BB28: 317 | BC28: 174 | BD28: 143 | BE28: 362 | BF28: 188 | BG28: 174 | BH28: 1403 | BI28: 772 | BJ28: 631 | BK28: 355 | BL28: 169 | BM28: 186 | BN28: 267 | BO28: 130 | BP28: 137 | BQ28: 574 | BR28: 322 | BS28: 252 | BT28: 72 | BU28: 41 | BV28: 31
B29: 17 | C29: =D29+E29 -> 31901 | D29: =SUM(G29,J29,M29,P29,S29,V29,Y29,AB29,AE29,AH29,AK29,AN29,AQ29,AT29,AW29,AZ29,BC29,BF29,BI29,BL29,BO29,BR29,BU29) -> 16917 | E29: =SUM(H29,K29,N29,Q29,T29,W29,Z29,AC29,AF29,AI29,AL29,AO29,AR29,AU29,AX29,BA29,BD29,BG29,BJ29,BM29,BP29,BS29,BV29) -> 14984 | F29: 6749 | G29: 3527 | H29: 3222 | I29: 3216 | J29: 1729 | K29: 1487 | L29: 1632 | M29: 886 | N29: 746 | O29: 1852 | P29: 970 | Q29: 882 | R29: 6030 | S29: 3221 | T29: 2809 | U29: 1362 | V29: 721 | W29: 641 | X29: 1012 | Y29: 507 | Z29: 505 | AA29: 1114 | AB29: 611 | AC29: 503 | AD29: 809 | AE29: 441 | AF29: 368 | AG29: 3065 | AH29: 1591 | AI29: 1474 | AJ29: 194 | AK29: 106 | AL29: 88 | AM29: 376 | AN29: 212 | AO29: 164 | AP29: 214 | AQ29: 110 | AR29: 104 | AS29: 144 | AT29: 86 | AU29: 58 | AV29: 311 | AW29: 165 | AX29: 146 | AY29: 387 | AZ29: 206 | BA29: 181 | BB29: 335 | BC29: 184 | BD29: 151 | BE29: 377 | BF29: 201 | BG29: 176 | BH29: 1391 | BI29: 753 | BJ29: 638 | BK29: 348 | BL29: 177 | BM29: 171 | BN29: 278 | BO29: 135 | BP29: 143 | BQ29: 629 | BR29: 337 | BS29: 292 | BT29: 76 | BU29: 41 | BV29: 35
B30: 18 | C30: =D30+E30 -> 33332 | D30: =SUM(G30,J30,M30,P30,S30,V30,Y30,AB30,AE30,AH30,AK30,AN30,AQ30,AT30,AW30,AZ30,BC30,BF30,BI30,BL30,BO30,BR30,BU30) -> 17611 | E30: =SUM(H30,K30,N30,Q30,T30,W30,Z30,AC30,AF30,AI30,AL30,AO30,AR30,AU30,AX30,BA30,BD30,BG30,BJ30,BM30,BP30,BS30,BV30) -> 15721 | F30: 6947 | G30: 3673 | H30: 3274 | I30: 3331 | J30: 1759 | K30: 1572 | L30: 1711 | M30: 905 | N30: 806 | O30: 1966 | P30: 1004 | Q30: 962 | R30: 6272 | S30: 3351 | T30: 2921 | U30: 1441 | V30: 746 | W30: 695 | X30: 1061 | Y30: 542 | Z30: 519 | AA30: 1168 | AB30: 618 | AC30: 550 | AD30: 863 | AE30: 469 | AF30: 394 | AG30: 3168 | AH30: 1645 | AI30: 1523 | AJ30: 214 | AK30: 107 | AL30: 107 | AM30: 420 | AN30: 221 | AO30: 199 | AP30: 202 | AQ30: 111 | AR30: 91 | AS30: 179 | AT30: 93 | AU30: 86 | AV30: 351 | AW30: 188 | AX30: 163 | AY30: 361 | AZ30: 178 | BA30: 183 | BB30: 334 | BC30: 168 | BD30: 166 | BE30: 434 | BF30: 238 | BG30: 196 | BH30: 1517 | BI30: 837 | BJ30: 680 | BK30: 395 | BL30: 208 | BM30: 187 | BN30: 306 | BO30: 159 | BP30: 147 | BQ30: 606 | BR30: 344 | BS30: 262 | BT30: 85 | BU30: 47 | BV30: 38
B31: 19 | C31: =D31+E31 -> 33890 | D31: =SUM(G31,J31,M31,P31,S31,V31,Y31,AB31,AE31,AH31,AK31,AN31,AQ31,AT31,AW31,AZ31,BC31,BF31,BI31,BL31,BO31,BR31,BU31) -> 18205 | E31: =SUM(H31,K31,N31,Q31,T31,W31,Z31,AC31,AF31,AI31,AL31,AO31,AR31,AU31,AX31,BA31,BD31,BG31,BJ31,BM31,BP31,BS31,BV31) -> 15685 | F31: 7218 | G31: 3881 | H31: 3337 | I31: 3354 | J31: 1812 | K31: 1542 | L31: 1818 | M31: 931 | N31: 887 | O31: 2019 | P31: 1078 | Q31: 941 | R31: 6220 | S31: 3358 | T31: 2862 | U31: 1332 | V31: 735 | W31: 597 | X31: 1116 | Y31: 600 | Z31: 516 | AA31: 1120 | AB31: 584 | AC31: 536 | AD31: 953 | AE31: 499 | AF31: 454 | AG31: 3428 | AH31: 1840 | AI31: 1588 | AJ31: 178 | AK31: 90 | AL31: 88 | AM31: 406 | AN31: 212 | AO31: 194 | AP31: 234 | AQ31: 129 | AR31: 105 | AS31: 147 | AT31: 87 | AU31: 60 | AV31: 354 | AW31: 191 | AX31: 163 | AY31: 390 | AZ31: 213 | BA31: 177 | BB31: 315 | BC31: 162 | BD31: 153 | BE31: 463 | BF31: 264 | BG31: 199 | BH31: 1475 | BI31: 801 | BJ31: 674 | BK31: 398 | BL31: 210 | BM31: 188 | BN31: 293 | BO31: 158 | BP31: 135 | BQ31: 572 | BR31: 326 | BS31: 246 | BT31: 87 | BU31: 44 | BV31: 43
B32: 20-24 | C32: =D32+E32 -> 168046 | D32: =SUM(D33:D37) -> 93171 | E32: =SUM(E33:E37) -> 74875 | F32: =SUM(F33:F37) -> 33851 | G32: =SUM(G33:G37) -> 19422 | H32: =SUM(H33:H37) -> 14429 | I32: =SUM(I33:I37) -> 16588 | J32: =SUM(J33:J37) -> 9400 | K32: =SUM(K33:K37) -> 7188 | ... BV32: =SUM(BV33:BV37) -> 236
B33: 20 | C33: =D33+E33 -> 34335 | D33: =SUM(G33,J33,M33,P33,S33,V33,Y33,AB33,AE33,AH33,AK33,AN33,AQ33,AT33,AW33,AZ33,BC33,BF33,BI33,BL33,BO33,BR33,BU33) -> 18929 | E33: =SUM(H33,K33,N33,Q33,T33,W33,Z33,AC33,AF33,AI33,AL33,AO33,AR33,AU33,AX33,BA33,BD33,BG33,BJ33,BM33,BP33,BS33,BV33) -> 15406 | F33: 7040 | G33: 4019 | H33: 3021 | I33: 3398 | J33: 1888 | K33: 1510 | L33: 1786 | M33: 964 | N33: 822 | O33: 2132 | P33: 1153 | Q33: 979 | R33: 6609 | S33: 3529 | T33: 3080 | U33: 1373 | V33: 771 | W33: 602 | X33: 1105 | Y33: 618 | Z33: 487 | AA33: 1093 | AB33: 640 | AC33: 453 | AD33: 854 | AE33: 463 | AF33: 391 | AG33: 3554 | AH33: 1891 | AI33: 1663 | AJ33: 202 | AK33: 111 | AL33: 91 | AM33: 432 | AN33: 226 | AO33: 206 | AP33: 250 | AQ33: 141 | AR33: 109 | AS33: 164 | AT33: 102 | AU33: 62 | AV33: 365 | AW33: 208 | AX33: 157 | AY33: 371 | AZ33: 202 | BA33: 169 | BB33: 344 | BC33: 195 | BD33: 149 | BE33: 423 | BF33: 237 | BG33: 186 | BH33: 1481 | BI33: 761 | BJ33: 720 | BK33: 416 | BL33: 252 | BM33: 164 | BN33: 291 | BO33: 173 | BP33: 118 | BQ33: 542 | BR33: 315 | BS33: 227 | BT33: 110 | BU33: 70 | BV33: 40
B34: 21 | C34: =D34+E34 -> 34792 | D34: =SUM(G34,J34,M34,P34,S34,V34,Y34,AB34,AE34,AH34,AK34,AN34,AQ34,AT34,AW34,AZ34,BC34,BF34,BI34,BL34,BO34,BR34,BU34) -> 19292 | E34: =SUM(H34,K34,N34,Q34,T34,W34,Z34,AC34,AF34,AI34,AL34,AO34,AR34,AU34,AX34,BA34,BD34,BG34,BJ34,BM34,BP34,BS34,BV34) -> 15500 | F34: 7022 | G34: 4047 | H34: 2975 | I34: 3464 | J34: 1965 | K34: 1499 | L34: 1770 | M34: 1042 | N34: 728 | O34: 2078 | P34: 1139 | Q34: 939 | R34: 6792 | S34: 3495 | T34: 3297 | U34: 1332 | V34: 777 | W34: 555 | X34: 1118 | Y34: 625 | Z34: 493 | AA34: 1122 | AB34: 632 | AC34: 490 | AD34: 828 | AE34: 473 | AF34: 355 | AG34: 3600 | AH34: 2000 | AI34: 1600 | AJ34: 230 | AK34: 127 | AL34: 103 | AM34: 456 | AN34: 264 | AO34: 192 | AP34: 238 | AQ34: 130 | AR34: 108 | AS34: 174 | AT34: 100 | AU34: 74 | AV34: 332 | AW34: 196 | AX34: 136 | AY34: 420 | AZ34: 249 | BA34: 171 | BB34: 317 | BC34: 168 | BD34: 149 | BE34: 522 | BF34: 313 | BG34: 209 | BH34: 1571 | BI34: 752 | BJ34: 819 | BK34: 407 | BL34: 232 | BM34: 175 | BN34: 289 | BO34: 164 | BP34: 125 | BQ34: 603 | BR34: 343 | BS34: 260 | BT34: 107 | BU34: 59 | BV34: 48
B35: 22 | C35: =D35+E35 -> 34443 | D35: =SUM(G35,J35,M35,P35,S35,V35,Y35,AB35,AE35,AH35,AK35,AN35,AQ35,AT35,AW35,AZ35,BC35,BF35,BI35,BL35,BO35,BR35,BU35) -> 19085 | E35: =SUM(H35,K35,N35,Q35,T35,W35,Z35,AC35,AF35,AI35,AL35,AO35,AR35,AU35,AX35,BA35,BD35,BG35,BJ35,BM35,BP35,BS35,BV35) -> 15358 | F35: 6977 | G35: 3989 | H35: 2988 | I35: 3404 | J35: 1924 | K35: 1480 | L35: 1789 | M35: 1019 | N35: 770 | O35: 1994 | P35: 1125 | Q35: 869 | R35: 6694 | S35: 3479 | T35: 3215 | U35: 1289 | V35: 739 | W35: 550 | X35: 1105 | Y35: 667 | Z35: 438 | AA35: 1053 | AB35: 598 | AC35: 455 | AD35: 844 | AE35: 461 | AF35: 383 | AG35: 3740 | AH35: 2062 | AI35: 1678 | AJ35: 209 | AK35: 119 | AL35: 90 | AM35: 448 | AN35: 253 | AO35: 195 | AP35: 217 | AQ35: 128 | AR35: 89 | AS35: 154 | AT35: 82 | AU35: 72 | AV35: 365 | AW35: 214 | AX35: 151 | AY35: 379 | AZ35: 222 | BA35: 157 | BB35: 343 | BC35: 203 | BD35: 140 | BE35: 474 | BF35: 281 | BG35: 193 | BH35: 1636 | BI35: 759 | BJ35: 877 | BK35: 418 | BL35: 235 | BM35: 183 | BN35: 283 | BO35: 156 | BP35: 127 | BQ35: 513 | BR35: 300 | BS35: 213 | BT35: 115 | BU35: 70 | BV35: 45
B36: 23 | C36: =D36+E36 -> 33931 | D36: =SUM(G36,J36,M36,P36,S36,V36,Y36,AB36,AE36,AH36,AK36,AN36,AQ36,AT36,AW36,AZ36,BC36,BF36,BI36,BL36,BO36,BR36,BU36) -> 18839 | E36: =SUM(H36,K36,N36,Q36,T36,W36,Z36,AC36,AF36,AI36,AL36,AO36,AR36,AU36,AX36,BA36,BD36,BG36,BJ36,BM36,BP36,BS36,BV36) -> 15092 | F36: 6805 | G36: 3931 | H36: 2874 | I36: 3305 | J36: 1882 | K36: 1423 | L36: 1852 | M36: 1014 | N36: 838 | O36: 1891 | P36: 1080 | Q36: 811 | R36: 6778 | S36: 3449 | T36: 3329 | U36: 1255 | V36: 767 | W36: 488 | X36: 1092 | Y36: 637 | Z36: 455 | AA36: 1004 | AB36: 585 | AC36: 419 | AD36: 719 | AE36: 404 | AF36: 315 | AG36: 3746 | AH36: 2041 | AI36: 1705 | AJ36: 221 | AK36: 143 | AL36: 78 | AM36: 452 | AN36: 261 | AO36: 191 | AP36: 242 | AQ36: 154 | AR36: 88 | AS36: 154 | AT36: 79 | AU36: 75 | AV36: 384 | AW36: 214 | AX36: 170 | AY36: 363 | AZ36: 224 | BA36: 139 | BB36: 317 | BC36: 204 | BD36: 113 | BE36: 498 | BF36: 290 | BG36: 208 | BH36: 1612 | BI36: 788 | BJ36: 824 | BK36: 375 | BL36: 203 | BM36: 172 | BN36: 258 | BO36: 147 | BP36: 111 | BQ36: 492 | BR36: 272 | BS36: 220 | BT36: 116 | BU36: 70 | BV36: 46
B37: 24 | C37: =D37+E37 -> 30545 | D37: =SUM(G37,J37,M37,P37,S37,V37,Y37,AB37,AE37,AH37,AK37,AN37,AQ37,AT37,AW37,AZ37,BC37,BF37,BI37,BL37,BO37,BR37,BU37) -> 17026 | E37: =SUM(H37,K37,N37,Q37,T37,W37,Z37,AC37,AF37,AI37,AL37,AO37,AR37,AU37,AX37,BA37,BD37,BG37,BJ37,BM37,BP37,BS37,BV37) -> 13519 | F37: 6007 | G37: 3436 | H37: 2571 | I37: 3017 | J37: 1741 | K37: 1276 | L37: 1603 | M37: 878 | N37: 725 | O37: 1819 | P37: 1058 | Q37: 761 | R37: 5995 | S37: 3151 | T37: 2844 | U37: 1041 | V37: 628 | W37: 413 | X37: 957 | Y37: 566 | Z37: 391 | AA37: 970 | AB37: 546 | AC37: 424 | AD37: 622 | AE37: 345 | AF37: 277 | AG37: 3540 | AH37: 1980 | AI37: 1560 | AJ37: 180 | AK37: 106 | AL37: 74 | AM37: 430 | AN37: 257 | AO37: 173 | AP37: 216 | AQ37: 125 | AR37: 91 | AS37: 131 | AT37: 77 | AU37: 54 | AV37: 295 | AW37: 173 | AX37: 122 | AY37: 318 | AZ37: 179 | BA37: 139 | BB37: 301 | BC37: 176 | BD37: 125 | BE37: 441 | BF37: 247 | BG37: 194 | BH37: 1461 | BI37: 683 | BJ37: 778 | BK37: 355 | BL37: 214 | BM37: 141 | BN37: 243 | BO37: 128 | BP37: 115 | BQ37: 468 | BR37: 254 | BS37: 214 | BT37: 135 | BU37: 78 | BV37: 57
B38: 25-29 | C38: =D38+E38 -> 143072 | D38: =SUM(D39:D43) -> 79584 | E38: =SUM(E39:E43) -> 63488 | F38: =SUM(F39:F43) -> 27957 | G38: =SUM(G39:G43) -> 15617 | H38: =SUM(H39:H43) -> 12340 | I38: =SUM(I39:I43) -> 12885 | J38: =SUM(J39:J43) -> 7232 | K38: =SUM(K39:K43) -> 5653 | ... BV38: =SUM(BV39:BV43) -> 216
B39: 25 | C39: =D39+E39 -> 29453 | D39: =SUM(G39,J39,M39,P39,S39,V39,Y39,AB39,AE39,AH39,AK39,AN39,AQ39,AT39,AW39,AZ39,BC39,BF39,BI39,BL39,BO39,BR39,BU39) -> 16690 | E39: =SUM(H39,K39,N39,Q39,T39,W39,Z39,AC39,AF39,AI39,AL39,AO39,AR39,AU39,AX39,BA39,BD39,BG39,BJ39,BM39,BP39,BS39,BV39) -> 12763 | F39: 5942 | G39: 3413 | H39: 2529 | I39: 2862 | J39: 1654 | K39: 1208 | L39: 1500 | M39: 827 | N39: 673 | O39: 1641 | P39: 940 | Q39: 701 | R39: 5972 | S39: 3233 | T39: 2739 | U39: 992 | V39: 600 | W39: 392 | X39: 1003 | Y39: 610 | Z39: 393 | AA39: 884 | AB39: 537 | AC39: 347 | AD39: 618 | AE39: 351 | AF39: 267 | AG39: 3295 | AH39: 1859 | AI39: 1436 | AJ39: 184 | AK39: 99 | AL39: 85 | AM39: 416 | AN39: 252 | AO39: 164 | AP39: 202 | AQ39: 117 | AR39: 85 | AS39: 130 | AT39: 67 | AU39: 63 | AV39: 266 | AW39: 159 | AX39: 107 | AY39: 355 | AZ39: 196 | BA39: 159 | BB39: 287 | BC39: 159 | BD39: 128 | BE39: 415 | BF39: 236 | BG39: 179 | BH39: 1419 | BI39: 744 | BJ39: 675 | BK39: 331 | BL39: 205 | BM39: 126 | BN39: 228 | BO39: 126 | BP39: 102 | BQ39: 404 | BR39: 248 | BS39: 156 | BT39: 107 | BU39: 58 | BV39: 49
B40: 26 | C40: =D40+E40 -> 28515 | D40: =SUM(G40,J40,M40,P40,S40,V40,Y40,AB40,AE40,AH40,AK40,AN40,AQ40,AT40,AW40,AZ40,BC40,BF40,BI40,BL40,BO40,BR40,BU40) -> 16321 | E40: =SUM(H40,K40,N40,Q40,T40,W40,Z40,AC40,AF40,AI40,AL40,AO40,AR40,AU40,AX40,BA40,BD40,BG40,BJ40,BM40,BP40,BS40,BV40) -> 12194 | F40: 5660 | G40: 3243 | H40: 2417 | I40: 2724 | J40: 1550 | K40: 1174 | L40: 1459 | M40: 830 | N40: 629 | O40: 1568 | P40: 894 | Q40: 674 | R40: 5782 | S40: 3275 | T40: 2507 | U40: 917 | V40: 573 | W40: 344 | X40: 944 | Y40: 549 | Z40: 395 | AA40: 812 | AB40: 483 | AC40: 329 | AD40: 613 | AE40: 344 | AF40: 269 | AG40: 3206 | AH40: 1791 | AI40: 1415 | AJ40: 166 | AK40: 101 | AL40: 65 | AM40: 393 | AN40: 220 | AO40: 173 | AP40: 198 | AQ40: 125 | AR40: 73 | AS40: 118 | AT40: 71 | AU40: 47 | AV40: 268 | AW40: 138 | AX40: 130 | AY40: 337 | AZ40: 204 | BA40: 133 | BB40: 299 | BC40: 168 | BD40: 131 | BE40: 402 | BF40: 226 | BG40: 176 | BH40: 1533 | BI40: 865 | BJ40: 668 | BK40: 364 | BL40: 204 | BM40: 160 | BN40: 227 | BO40: 140 | BP40: 87 | BQ40: 403 | BR40: 257 | BS40: 146 | BT40: 122 | BU40: 70 | BV40: 52
B41: 27 | C41: =D41+E41 -> 27803 | D41: =SUM(G41,J41,M41,P41,S41,V41,Y41,AB41,AE41,AH41,AK41,AN41,AQ41,AT41,AW41,AZ41,BC41,BF41,BI41,BL41,BO41,BR41,BU41) -> 15468 | E41: =SUM(H41,K41,N41,Q41,T41,W41,Z41,AC41,AF41,AI41,AL41,AO41,AR41,AU41,AX41,BA41,BD41,BG41,BJ41,BM41,BP41,BS41,BV41) -> 12335 | F41: 5253 | G41: 2945 | H41: 2308 | I41: 2455 | J41: 1350 | K41: 1105 | L41: 1344 | M41: 763 | N41: 581 | O41: 1560 | P41: 848 | Q41: 712 | R41: 5998 | S41: 3211 | T41: 2787 | U41: 900 | V41: 512 | W41: 388 | X41: 895 | Y41: 515 | Z41: 380 | AA41: 847 | AB41: 469 | AC41: 378 | AD41: 647 | AE41: 360 | AF41: 287 | AG41: 3120 | AH41: 1768 | AI41: 1352 | AJ41: 163 | AK41: 94 | AL41: 69 | AM41: 373 | AN41: 217 | AO41: 156 | AP41: 179 | AQ41: 106 | AR41: 73 | AS41: 114 | AT41: 64 | AU41: 50 | AV41: 226 | AW41: 126 | AX41: 100 | AY41: 317 | AZ41: 189 | BA41: 128 | BB41: 270 | BC41: 166 | BD41: 104 | BE41: 409 | BF41: 238 | BG41: 171 | BH41: 1650 | BI41: 915 | BJ41: 735 | BK41: 320 | BL41: 175 | BM41: 145 | BN41: 235 | BO41: 137 | BP41: 98 | BQ41: 431 | BR41: 239 | BS41: 192 | BT41: 97 | BU41: 61 | BV41: 36
B42: 28 | C42: =D42+E42 -> 28488 | D42: =SUM(G42,J42,M42,P42,S42,V42,Y42,AB42,AE42,AH42,AK42,AN42,AQ42,AT42,AW42,AZ42,BC42,BF42,BI42,BL42,BO42,BR42,BU42) -> 15430 | E42: =SUM(H42,K42,N42,Q42,T42,W42,Z42,AC42,AF42,AI42,AL42,AO42,AR42,AU42,AX42,BA42,BD42,BG42,BJ42,BM42,BP42,BS42,BV42) -> 13058 | F42: 5489 | G42: 2954 | H42: 2535 | I42: 2497 | J42: 1374 | K42: 1123 | L42: 1339 | M42: 730 | N42: 609 | O42: 1539 | P42: 820 | Q42: 719 | R42: 6380 | S42: 3344 | T42: 3036 | U42: 838 | V42: 453 | W42: 385 | X42: 886 | Y42: 493 | Z42: 393 | AA42: 814 | AB42: 466 | AC42: 348 | AD42: 618 | AE42: 337 | AF42: 281 | AG42: 3037 | AH42: 1632 | AI42: 1405 | AJ42: 201 | AK42: 132 | AL42: 69 | AM42: 388 | AN42: 214 | AO42: 174 | AP42: 190 | AQ42: 102 | AR42: 88 | AS42: 134 | AT42: 69 | AU42: 65 | AV42: 241 | AW42: 124 | AX42: 117 | AY42: 321 | AZ42: 204 | BA42: 117 | BB42: 274 | BC42: 147 | BD42: 127 | BE42: 387 | BF42: 216 | BG42: 171 | BH42: 1809 | BI42: 989 | BJ42: 820 | BK42: 360 | BL42: 211 | BM42: 149 | BN42: 233 | BO42: 125 | BP42: 108 | BQ42: 420 | BR42: 241 | BS42: 179 | BT42: 93 | BU42: 53 | BV42: 40
B43: 29 | C43: =D43+E43 -> 28813 | D43: =SUM(G43,J43,M43,P43,S43,V43,Y43,AB43,AE43,AH43,AK43,AN43,AQ43,AT43,AW43,AZ43,BC43,BF43,BI43,BL43,BO43,BR43,BU43) -> 15675 | E43: =SUM(H43,K43,N43,Q43,T43,W43,Z43,AC43,AF43,AI43,AL43,AO43,AR43,AU43,AX43,BA43,BD43,BG43,BJ43,BM43,BP43,BS43,BV43) -> 13138 | F43: 5613 | G43: 3062 | H43: 2551 | I43: 2347 | J43: 1304 | K43: 1043 | L43: 1399 | M43: 757 | N43: 642 | O43: 1555 | P43: 828 | Q43: 727 | R43: 6556 | S43: 3464 | T43: 3092 | U43: 820 | V43: 450 | W43: 370 | X43: 949 | Y43: 525 | Z43: 424 | AA43: 833 | AB43: 458 | AC43: 375 | AD43: 611 | AE43: 335 | AF43: 276 | AG43: 3175 | AH43: 1691 | AI43: 1484 | AJ43: 152 | AK43: 71 | AL43: 81 | AM43: 353 | AN43: 204 | AO43: 149 | AP43: 211 | AQ43: 135 | AR43: 76 | AS43: 134 | AT43: 78 | AU43: 56 | AV43: 252 | AW43: 129 | AX43: 123 | AY43: 300 | AZ43: 162 | BA43: 138 | BB43: 265 | BC43: 144 | BD43: 121 | BE43: 398 | BF43: 221 | BG43: 177 | BH43: 1827 | BI43: 1044 | BJ43: 783 | BK43: 335 | BL43: 193 | BM43: 142 | BN43: 255 | BO43: 151 | BP43: 104 | BQ43: 373 | BR43: 208 | BS43: 165 | BT43: 100 | BU43: 61 | BV43: 39
B44: 30-34 | C44: =D44+E44 -> 169962 | D44: =SUM(D45:D49) -> 89426 | E44: =SUM(E45:E49) -> 80536 | F44: =SUM(F45:F49) -> 35278 | G44: =SUM(G45:G49) -> 18403 | H44: =SUM(H45:H49) -> 16875 | I44: =SUM(I45:I49) -> 14641 | J44: =SUM(J45:J49) -> 7792 | K44: =SUM(K45:K49) -> 6849 | ... BV44: =SUM(BV45:BV49) -> 247
B45: 30 | C45: =D45+E45 -> 28885 | D45: =SUM(G45,J45,M45,P45,S45,V45,Y45,AB45,AE45,AH45,AK45,AN45,AQ45,AT45,AW45,AZ45,BC45,BF45,BI45,BL45,BO45,BR45,BU45) -> 15584 | E45: =SUM(H45,K45,N45,Q45,T45,W45,Z45,AC45,AF45,AI45,AL45,AO45,AR45,AU45,AX45,BA45,BD45,BG45,BJ45,BM45,BP45,BS45,BV45) -> 13301 | F45: 5791 | G45: 3024 | H45: 2767 | I45: 2385 | J45: 1304 | K45: 1081 | L45: 1407 | M45: 755 | N45: 652 | O45: 1589 | P45: 818 | Q45: 771 | R45: 6485 | S45: 3419 | T45: 3066 | U45: 887 | V45: 491 | W45: 396 | X45: 900 | Y45: 495 | Z45: 405 | AA45: 732 | AB45: 406 | AC45: 326 | AD45: 637 | AE45: 343 | AF45: 294 | AG45: 3282 | AH45: 1813 | AI45: 1469 | AJ45: 180 | AK45: 101 | AL45: 79 | AM45: 377 | AN45: 229 | AO45: 148 | AP45: 186 | AQ45: 112 | AR45: 74 | AS45: 94 | AT45: 48 | AU45: 46 | AV45: 243 | AW45: 121 | AX45: 122 | AY45: 301 | AZ45: 165 | BA45: 136 | BB45: 283 | BC45: 152 | BD45: 131 | BE45: 378 | BF45: 206 | BG45: 172 | BH45: 1742 | BI45: 1018 | BJ45: 724 | BK45: 317 | BL45: 167 | BM45: 150 | BN45: 211 | BO45: 122 | BP45: 89 | BQ45: 390 | BR45: 222 | BS45: 168 | BT45: 88 | BU45: 53 | BV45: 35
B46: 31 | C46: =D46+E46 -> 30614 | D46: =SUM(G46,J46,M46,P46,S46,V46,Y46,AB46,AE46,AH46,AK46,AN46,AQ46,AT46,AW46,AZ46,BC46,BF46,BI46,BL46,BO46,BR46,BU46) -> 16132 | E46: =SUM(H46,K46,N46,Q46,T46,W46,Z46,AC46,AF46,AI46,AL46,AO46,AR46,AU46,AX46,BA46,BD46,BG46,BJ46,BM46,BP46,BS46,BV46) -> 14482 | F46: 6375 | G46: 3308 | H46: 3067 | I46: 2634 | J46: 1377 | K46: 1257 | L46: 1518 | M46: 803 | N46: 715 | O46: 1733 | P46: 902 | Q46: 831 | R46: 6671 | S46: 3447 | T46: 3224 | U46: 893 | V46: 469 | W46: 424 | X46: 878 | Y46: 490 | Z46: 388 | AA46: 810 | AB46: 445 | AC46: 365 | AD46: 741 | AE46: 412 | AF46: 329 | AG46: 3324 | AH46: 1767 | AI46: 1557 | AJ46: 149 | AK46: 90 | AL46: 59 | AM46: 332 | AN46: 187 | AO46: 145 | AP46: 171 | AQ46: 88 | AR46: 83 | AS46: 118 | AT46: 66 | AU46: 52 | AV46: 285 | AW46: 151 | AX46: 134 | AY46: 325 | AZ46: 174 | BA46: 151 | BB46: 292 | BC46: 164 | BD46: 128 | BE46: 402 | BF46: 208 | BG46: 194 | BH46: 1832 | BI46: 992 | BJ46: 840 | BK46: 331 | BL46: 167 | BM46: 164 | BN46: 254 | BO46: 136 | BP46: 118 | BQ46: 427 | BR46: 226 | BS46: 201 | BT46: 119 | BU46: 63 | BV46: 56
B47: 32 | C47: =D47+E47 -> 34675 | D47: =SUM(G47,J47,M47,P47,S47,V47,Y47,AB47,AE47,AH47,AK47,AN47,AQ47,AT47,AW47,AZ47,BC47,BF47,BI47,BL47,BO47,BR47,BU47) -> 18114 | E47: =SUM(H47,K47,N47,Q47,T47,W47,Z47,AC47,AF47,AI47,AL47,AO47,AR47,AU47,AX47,BA47,BD47,BG47,BJ47,BM47,BP47,BS47,BV47) -> 16561 | F47: 7144 | G47: 3778 | H47: 3366 | I47: 2967 | J47: 1570 | K47: 1397 | L47: 1635 | M47: 838 | N47: 797 | O47: 1944 | P47: 949 | Q47: 995 | R47: 7640 | S47: 4003 | T47: 3637 | U47: 1070 | V47: 575 | W47: 495 | X47: 1147 | Y47: 585 | Z47: 562 | AA47: 899 | AB47: 472 | AC47: 427 | AD47: 694 | AE47: 370 | AF47: 324 | AG47: 3866 | AH47: 1946 | AI47: 1920 | AJ47: 184 | AK47: 98 | AL47: 86 | AM47: 385 | AN47: 213 | AO47: 172 | AP47: 220 | AQ47: 121 | AR47: 99 | AS47: 148 | AT47: 67 | AU47: 81 | AV47: 320 | AW47: 178 | AX47: 142 | AY47: 352 | AZ47: 193 | BA47: 159 | BB47: 332 | BC47: 175 | BD47: 157 | BE47: 417 | BF47: 202 | BG47: 215 | BH47: 2047 | BI47: 1121 | BJ47: 926 | BK47: 385 | BL47: 200 | BM47: 185 | BN47: 265 | BO47: 127 | BP47: 138 | BQ47: 503 | BR47: 279 | BS47: 224 | BT47: 111 | BU47: 54 | BV47: 57
B48: 33 | C48: =D48+E48 -> 37867 | D48: =SUM(G48,J48,M48,P48,S48,V48,Y48,AB48,AE48,AH48,AK48,AN48,AQ48,AT48,AW48,AZ48,BC48,BF48,BI48,BL48,BO48,BR48,BU48) -> 19755 | E48: =SUM(H48,K48,N48,Q48,T48,W48,Z48,AC48,AF48,AI48,AL48,AO48,AR48,AU48,AX48,BA48,BD48,BG48,BJ48,BM48,BP48,BS48,BV48) -> 18112 | F48: 7941 | G48: 4128 | H48: 3813 | I48: 3257 | J48: 1732 | K48: 1525 | L48: 1859 | M48: 976 | N48: 883 | O48: 2165 | P48: 1029 | Q48: 1136 | R48: 8139 | S48: 4279 | T48: 3860 | U48: 1190 | V48: 623 | W48: 567 | X48: 1153 | Y48: 642 | Z48: 511 | AA48: 976 | AB48: 524 | AC48: 452 | AD48: 829 | AE48: 383 | AF48: 446 | AG48: 4138 | AH48: 2128 | AI48: 2010 | AJ48: 170 | AK48: 94 | AL48: 76 | AM48: 409 | AN48: 221 | AO48: 188 | AP48: 196 | AQ48: 108 | AR48: 88 | AS48: 140 | AT48: 74 | AU48: 66 | AV48: 345 | AW48: 188 | AX48: 157 | AY48: 419 | AZ48: 211 | BA48: 208 | BB48: 381 | BC48: 194 | BD48: 187 | BE48: 462 | BF48: 239 | BG48: 223 | BH48: 2293 | BI48: 1259 | BJ48: 1034 | BK48: 406 | BL48: 201 | BM48: 205 | BN48: 272 | BO48: 147 | BP48: 125 | BQ48: 608 | BR48: 307 | BS48: 301 | BT48: 119 | BU48: 68 | BV48: 51
B49: 34 | C49: =D49+E49 -> 37921 | D49: =SUM(G49,J49,M49,P49,S49,V49,Y49,AB49,AE49,AH49,AK49,AN49,AQ49,AT49,AW49,AZ49,BC49,BF49,BI49,BL49,BO49,BR49,BU49) -> 19841 | E49: =SUM(H49,K49,N49,Q49,T49,W49,Z49,AC49,AF49,AI49,AL49,AO49,AR49,AU49,AX49,BA49,BD49,BG49,BJ49,BM49,BP49,BS49,BV49) -> 18080 | F49: 8027 | G49: 4165 | H49: 3862 | I49: 3398 | J49: 1809 | K49: 1589 | L49: 1891 | M49: 1011 | N49: 880 | O49: 2111 | P49: 1027 | Q49: 1084 | R49: 8069 | S49: 4186 | T49: 3883 | U49: 1181 | V49: 611 | W49: 570 | X49: 1193 | Y49: 621 | Z49: 572 | AA49: 979 | AB49: 535 | AC49: 444 | AD49: 792 | AE49: 413 | AF49: 379 | AG49: 4216 | AH49: 2181 | AI49: 2035 | AJ49: 181 | AK49: 87 | AL49: 94 | AM49: 402 | AN49: 231 | AO49: 171 | AP49: 215 | AQ49: 121 | AR49: 94 | AS49: 145 | AT49: 88 | AU49: 57 | AV49: 319 | AW49: 162 | AX49: 157 | AY49: 398 | AZ49: 195 | BA49: 203 | BB49: 363 | BC49: 193 | BD49: 170 | BE49: 383 | BF49: 201 | BG49: 182 | BH49: 2311 | BI49: 1269 | BJ49: 1042 | BK49: 364 | BL49: 201 | BM49: 163 | BN49: 275 | BO49: 146 | BP49: 129 | BQ49: 585 | BR49: 313 | BS49: 272 | BT49: 123 | BU49: 75 | BV49: 48
B50: 35-39 | C50: =D50+E50 -> 178714 | D50: =SUM(D51:D55) -> 93383 | E50: =SUM(E51:E55) -> 85331 | F50: =SUM(F51:F55) -> 35974 | G50: =SUM(G51:G55) -> 18331 | H50: =SUM(H51:H55) -> 17643 | I50: =SUM(I51:I55) -> 16218 | J50: =SUM(J51:J55) -> 8473 | K50: =SUM(K51:K55) -> 7745 | ... BV50: =SUM(BV51:BV55) -> 261
B51: 35 | C51: =D51+E51 -> 38548 | D51: =SUM(G51,J51,M51,P51,S51,V51,Y51,AB51,AE51,AH51,AK51,AN51,AQ51,AT51,AW51,AZ51,BC51,BF51,BI51,BL51,BO51,BR51,BU51) -> 20134 | E51: =SUM(H51,K51,N51,Q51,T51,W51,Z51,AC51,AF51,AI51,AL51,AO51,AR51,AU51,AX51,BA51,BD51,BG51,BJ51,BM51,BP51,BS51,BV51) -> 18414 | F51: 7848 | G51: 4015 | H51: 3833 | I51: 3401 | J51: 1740 | K51: 1661 | L51: 1899 | M51: 1031 | N51: 868 | O51: 2269 | P51: 1140 | Q51: 1129 | R51: 8308 | S51: 4316 | T51: 3992 | U51: 1235 | V51: 620 | W51: 615 | X51: 1134 | Y51: 620 | Z51: 514 | AA51: 995 | AB51: 521 | AC51: 474 | AD51: 837 | AE51: 465 | AF51: 372 | AG51: 4235 | AH51: 2180 | AI51: 2055 | AJ51: 192 | AK51: 107 | AL51: 85 | AM51: 402 | AN51: 234 | AO51: 168 | AP51: 224 | AQ51: 130 | AR51: 94 | AS51: 159 | AT51: 75 | AU51: 84 | AV51: 336 | AW51: 186 | AX51: 150 | AY51: 385 | AZ51: 208 | BA51: 177 | BB51: 382 | BC51: 215 | BD51: 167 | BE51: 458 | BF51: 250 | BG51: 208 | BH51: 2378 | BI51: 1309 | BJ51: 1069 | BK51: 380 | BL51: 211 | BM51: 169 | BN51: 305 | BO51: 167 | BP51: 138 | BQ51: 661 | BR51: 325 | BS51: 336 | BT51: 125 | BU51: 69 | BV51: 56
B52: 36 | C52: =D52+E52 -> 36083 | D52: =SUM(G52,J52,M52,P52,S52,V52,Y52,AB52,AE52,AH52,AK52,AN52,AQ52,AT52,AW52,AZ52,BC52,BF52,BI52,BL52,BO52,BR52,BU52) -> 18905 | E52: =SUM(H52,K52,N52,Q52,T52,W52,Z52,AC52,AF52,AI52,AL52,AO52,AR52,AU52,AX52,BA52,BD52,BG52,BJ52,BM52,BP52,BS52,BV52) -> 17178 | F52: 7376 | G52: 3726 | H52: 3650 | I52: 3222 | J52: 1717 | K52: 1505 | L52: 1712 | M52: 929 | N52: 783 | O52: 2087 | P52: 1068 | Q52: 1019 | R52: 7526 | S52: 3899 | T52: 3627 | U52: 1250 | V52: 665 | W52: 585 | X52: 1077 | Y52: 562 | Z52: 515 | AA52: 948 | AB52: 523 | AC52: 425 | AD52: 812 | AE52: 440 | AF52: 372 | AG52: 3971 | AH52: 2047 | AI52: 1924 | AJ52: 211 | AK52: 117 | AL52: 94 | AM52: 389 | AN52: 219 | AO52: 170 | AP52: 210 | AQ52: 103 | AR52: 107 | AS52: 136 | AT52: 81 | AU52: 55 | AV52: 353 | AW52: 194 | AX52: 159 | AY52: 366 | AZ52: 194 | BA52: 172 | BB52: 381 | BC52: 186 | BD52: 195 | BE52: 413 | BF52: 233 | BG52: 180 | BH52: 2218 | BI52: 1211 | BJ52: 1007 | BK52: 400 | BL52: 232 | BM52: 168 | BN52: 304 | BO52: 168 | BP52: 136 | BQ52: 612 | BR52: 329 | BS52: 283 | BT52: 109 | BU52: 62 | BV52: 47
B53: 37 | C53: =D53+E53 -> 34440 | D53: =SUM(G53,J53,M53,P53,S53,V53,Y53,AB53,AE53,AH53,AK53,AN53,AQ53,AT53,AW53,AZ53,BC53,BF53,BI53,BL53,BO53,BR53,BU53) -> 18126 | E53: =SUM(H53,K53,N53,Q53,T53,W53,Z53,AC53,AF53,AI53,AL53,AO53,AR53,AU53,AX53,BA53,BD53,BG53,BJ53,BM53,BP53,BS53,BV53) -> 16314 | F53: 6944 | G53: 3567 | H53: 3377 | I53: 3132 | J53: 1639 | K53: 1493 | L53: 1712 | M53: 898 | N53: 814 | O53: 2087 | P53: 1077 | Q53: 1010 | R53: 7142 | S53: 3716 | T53: 3426 | U53: 1206 | V53: 625 | W53: 581 | X53: 969 | Y53: 547 | Z53: 422 | AA53: 919 | AB53: 502 | AC53: 417 | AD53: 747 | AE53: 367 | AF53: 380 | AG53: 3790 | AH53: 1983 | AI53: 1807 | AJ53: 182 | AK53: 105 | AL53: 77 | AM53: 393 | AN53: 237 | AO53: 156 | AP53: 193 | AQ53: 112 | AR53: 81 | AS53: 134 | AT53: 73 | AU53: 61 | AV53: 347 | AW53: 179 | AX53: 168 | AY53: 351 | AZ53: 205 | BA53: 146 | BB53: 362 | BC53: 200 | BD53: 162 | BE53: 407 | BF53: 238 | BG53: 169 | BH53: 2031 | BI53: 1091 | BJ53: 940 | BK53: 397 | BL53: 228 | BM53: 169 | BN53: 278 | BO53: 153 | BP53: 125 | BQ53: 603 | BR53: 326 | BS53: 277 | BT53: 114 | BU53: 58 | BV53: 56
