Workbook
Name D_불명: OFFSET(#REF!,0,0,COUNTA(#REF!),6)
Name D_불명: OFFSET(#REF!,0,0,COUNTA(#REF!),6)
Name D_불명: OFFSET(#REF!,0,0,COUNTA(#REF!),6)
Name D_불명: OFFSET(#REF!,0,0,COUNTA(#REF!),6)
Name D_불명: OFFSET(#REF!,0,0,COUNTA(#REF!),6)
Name D_불명: OFFSET(#REF!,0,0,COUNTA(#REF!),6)
Name D_불명: OFFSET(#REF!,0,0,COUNTA(#REF!),6)
Name D_불명: OFFSET(#REF!,0,0,COUNTA(#REF!),6)
Name D_세대수: OFFSET(#REF!,0,0,COUNTA(#REF!),6)
Name D_세대수: OFFSET(#REF!,0,0,COUNTA(#REF!),6)
Name D_세대수: OFFSET(#REF!,0,0,COUNTA(#REF!),6)
Name D_세대수: OFFSET(#REF!,0,0,COUNTA(#REF!),6)
Name D_세대수: OFFSET(#REF!,0,0,COUNTA(#REF!),6)
Name D_세대수: OFFSET(#REF!,0,0,COUNTA(#REF!),6)
Name D_세대수: OFFSET(#REF!,0,0,COUNTA(#REF!),6)
Name D_세대수: OFFSET(#REF!,0,0,COUNTA(#REF!),6)
Name D_연령: OFFSET(#REF!,0,0,COUNTA(#REF!),9)
Name D_연령: OFFSET(#REF!,0,0,COUNTA(#REF!),9)
Name D_연령: OFFSET(#REF!,0,0,COUNTA(#REF!),9)
Name D_연령: OFFSET(#REF!,0,0,COUNTA(#REF!),9)
Name D_연령: OFFSET(#REF!,0,0,COUNTA(#REF!),9)
Name D_연령: OFFSET(#REF!,0,0,COUNTA(#REF!),9)
Name D_연령: OFFSET(#REF!,0,0,COUNTA(#REF!),9)
Name D_연령: OFFSET(#REF!,0,0,COUNTA(#REF!),9)
Name D_외국인: OFFSET(#REF!,0,0,COUNTA(#REF!),6)
Name D_외국인: OFFSET(#REF!,0,0,COUNTA(#REF!),6)
Name D_외국인: OFFSET(#REF!,0,0,COUNTA(#REF!),6)
Name D_외국인: OFFSET(#REF!,0,0,COUNTA(#REF!),6)
Name D_외국인: OFFSET(#REF!,0,0,COUNTA(#REF!),6)
Name D_외국인: OFFSET(#REF!,0,0,COUNTA(#REF!),6)
Name D_외국인: OFFSET(#REF!,0,0,COUNTA(#REF!),6)
Name D_외국인: OFFSET(#REF!,0,0,COUNTA(#REF!),6)
Name D_외국인_상세: OFFSET(#REF!,0,0,COUNTA(#REF!),8)
Name D_외국인_상세: OFFSET(#REF!,0,0,COUNTA(#REF!),8)
Name D_외국인_상세: OFFSET(#REF!,0,0,COUNTA(#REF!),8)
Name D_외국인_상세: OFFSET(#REF!,0,0,COUNTA(#REF!),8)
Name D_외국인_상세: OFFSET(#REF!,0,0,COUNTA(#REF!),8)
Name D_외국인_상세: OFFSET(#REF!,0,0,COUNTA(#REF!),8)
Name D_외국인_상세: OFFSET(#REF!,0,0,COUNTA(#REF!),8)
Name D_외국인_상세: OFFSET(#REF!,0,0,COUNTA(#REF!),8)
Name DATA_국적별외국인: #REF!
Name DATA_국적별외국인: #REF!
Name DATA_국적별외국인: #REF!
Name DATA_국적별외국인: #REF!
Name DATA_국적별외국인: #REF!
Name DATA_국적별외국인: #REF!
Name DATA_국적별외국인: '3. 국적별 외국인 현황'!$B$7:$BW$65
Name DATA_국적별외국인: #REF!
Name DATA_세대인구총괄: '1-2. 읍면동별 인구 및 세대현황'!$B$7:$M$194
Name DATA_세대인구총괄: '1-2. 읍면동별 인구 및 세대현황'!$B$7:$M$194
Name DATA_세대인구총괄: '1-2. 읍면동별 인구 및 세대현황'!$B$7:$M$194
Name DATA_세대인구총괄: '1-2. 읍면동별 인구 및 세대현황'!$B$7:$M$194
Name DATA_세대인구총괄: '1-2. 읍면동별 인구 및 세대현황'!$B$7:$M$194
Name DATA_세대인구총괄: '1-2. 읍면동별 인구 및 세대현황'!$B$7:$M$194
Name DATA_세대인구총괄: #REF!
Name DATA_체류자격: #REF!
Name DATA_체류자격: #REF!
Name DATA_체류자격: #REF!
Name DATA_체류자격: #REF!
Name DATA_체류자격: #REF!

Sheet 1-1. 시군별 인구 및 세대현황
B2: 1-1. 시군별 인구 및 세대현황
L4: (단위 : 세대, 명)
C5: 연도(분기) | E5: 세 대 수 | F5: 총 계 | I5: 한 국 인 | L5: 외 국 인
F6: 총 계 | G6: 남 | H6: 여 | I6: 소 계 | J6: 남 | K6: 여 | L6: 소 계 | M6: 남 | N6: 여
C8: 1995 | E8: 862912 | F8: 2775922 | G8: 1392540 | H8: 1383382 | I8: 2770378 | J8: 1389878 | K8: 1380500 | L8: 5544 | M8: 2662 | N8: 2882
C9: 1996 | E9: 890719 | F9: 2799171 | G9: 1403863 | H9: 1395308 | I9: 2790451 | J9: 1399442 | K9: 1391009 | L9: 8720 | M9: 4421 | N9: 4299
C10: 1997 | E10: 914824 | F10: 2811586 | G10: 1409973 | H10: 1401613 | I10: 2799084 | J10: 1403153 | K10: 1395931 | L10: 12502 | M10: 6820 | N10: 5682
C11: 1998 | E11: 921203 | F11: 2820111 | G11: 1413857 | H11: 1406254 | I11: 2809595 | J11: 1408418 | K11: 1401177 | L11: 10516 | M11: 5439 | N11: 5077
C12: 1999 | E12: 931140 | F12: 2820319 | G12: 1413928 | H12: 1406391 | I12: 2808567 | J12: 1407843 | K12: 1400724 | L12: 11752 | M12: 6085 | N12: 5667
C13: 2000 | E13: 943498 | F13: 2813551 | G13: 1410152 | H13: 1403399 | I13: 2797178 | J13: 1401512 | K13: 1395666 | L13: 16373 | M13: 8640 | N13: 7733
C14: 2001 | E14: 954933 | F14: 2802597 | G14: 1403689 | H14: 1398908 | I14: 2784704 | J14: 1394244 | K14: 1390460 | L14: 17893 | M14: 9445 | N14: 8448
C15: 2002 | E15: 964032 | F15: 2775890 | G15: 1390433 | H15: 1385457 | I15: 2756744 | J15: 1380211 | K15: 1376533 | L15: 19146 | M15: 10222 | N15: 8924
C16: 2003 | E16: 974099 | F16: 2742123 | G16: 1375503 | H16: 1366620 | I16: 2720832 | J16: 1363201 | K16: 1357631 | L16: 21291 | M16: 12302 | N16: 8989
C17: 2004 | E17: 985475 | F17: 2718613 | G17: 1366188 | H17: 1352425 | I17: 2695917 | J17: 1352420 | K17: 1343497 | L17: 22696 | M17: 13768 | N17: 8928
C18: 2005 | E18: 1006080 | F18: 2711900 | G18: 1363745 | H18: 1348155 | I18: 2688491 | J18: 1349437 | K18: 1339054 | L18: 23409 | M18: 14308 | N18: 9101
C19: 2006 | E19: 1030265 | F19: 2718298 | G19: 1368074 | H19: 1350224 | I19: 2688577 | J19: 1349830 | K19: 1338747 | L19: 29721 | M19: 18244 | N19: 11477
C20: 2007 | E20: 1045213 | F20: 2715085 | G20: 1366900 | H20: 1348185 | I20: 2681364 | J20: 1346756 | K20: 1334608 | L20: 33721 | M20: 20144 | N20: 13577
C21: 2008 | E21: 1058099 | F21: 2709662 | G21: 1364216 | H21: 1345446 | I21: 2673931 | J21: 1343199 | K21: 1330732 | L21: 35731 | M21: 21017 | N21: 14714
C22: 2009 | E22: 1073367 | F22: 2705226 | G22: 1361969 | H22: 1343257 | I22: 2669876 | J22: 1340977 | K22: 1328899 | L22: 35350 | M22: 20992 | N22: 14358
C23: 2010 | E23: 1101486 | F23: 2726815 | G23: 1373272 | H23: 1353543 | I23: 2689920 | J23: 1351202 | K23: 1338718 | L23: 36895 | M23: 22070 | N23: 14825
C24: 2011 | E24: 1114901 | F24: 2739179 | G24: 1380367 | H24: 1358812 | I24: 2699195 | J24: 1355727 | K24: 1343468 | L24: =SUM(M24:N24) -> 39984 | M24: 24640 | N24: 15344
C25: 2012 | E25: 1125195 | F25: 2738420 | G25: 1379825 | H25: 1358595 | I25: 2698353 | J25: 1355294 | K25: 1343059 | L25: 40067 | M25: 24531 | N25: 15536
C27: 2013 3/4 | E27: 1134249 | F27: 2739509 | G27: 1380867 | H27: 1358642 | I27: 2696705 | J27: 1354402 | K27: 1342303 | L27: 42804 | M27: 26465 | N27: 16339
C28: 2013 4/4 | E28: 1139387 | F28: 2742939 | G28: 1382922 | H28: 1360017 | I28: 2699440 | J28: 1355951 | K28: 1343489 | L28: 43499 | M28: 26971 | N28: 16528
C29: 2014 1/4 | E29: 1142501 | F29: 2741506 | G29: 1382450 | H29: 1359056 | I29: 2697169 | J29: 1354872 | K29: 1342297 | L29: 44337 | M29: 27578 | N29: 16759
C30: 2014 2/4 | E30: 1145091 | F30: 2743058 | G30: 1383581 | H30: 1359477 | I30: 2697248 | J30: 1354925 | K30: 1342323 | L30: 45810 | M30: 28656 | N30: 17154
C31: 2014 3/4 | E31: 1151129 | F31: 2751132 | G31: 1387333 | H31: 1363799 | I31: 2703929 | J31: 1357549 | K31: 1346380 | L31: 47203 | M31: 29784 | N31: 17419
C33: 2014 4/4 경 상 북 도 | E33: =SUM(E34:E56) -> 1153559 | F33: =SUM(F34:F56) -> 2748599 | G33: =SUM(G34:G56) -> 1386564 | H33: =SUM(H34:H56) -> 1362035 | I33: =SUM(I34:I56) -> 2700794 | J33: =SUM(J34:J56) -> 1356182 | K33: =SUM(K34:K56) -> 1344612 | L33: =SUM(L34:L56) -> 47805 | ... N33: =SUM(N34:N56) -> 17423
C34: 포항시 | E34: ='1-2. 읍면동별 인구 및 세대현황'!C8 -> 207515 | F34: =I34+L34 -> 524276 | G34: =J34+M34 -> 265990 | H34: =K34+N34 -> 258286 | I34: =J34+K34 -> 519368 | J34: ='1-2. 읍면동별 인구 및 세대현황'!H8 -> 263070 | K34: ='1-2. 읍면동별 인구 및 세대현황'!I8 -> 256298 | L34: =M34+N34 -> 4908 | M34: ='1-2. 읍면동별 인구 및 세대현황'!K8 -> 2920 | N34: ='1-2. 읍면동별 인구 및 세대현황'!L8 -> 1988
C35: 경주시 | E35: ='1-2. 읍면동별 인구 및 세대현황'!C40 -> 111848 | F35: =I35+L35 -> 269930 | G35: =J35+M35 -> 136781 | H35: =K35+N35 -> 133149 | I35: =J35+K35 -> 261535 | J35: ='1-2. 읍면동별 인구 및 세대현황'!H40 -> 130820 | K35: ='1-2. 읍면동별 인구 및 세대현황'!I40 -> 130715 | L35: =M35+N35 -> 8395 | M35: ='1-2. 읍면동별 인구 및 세대현황'!K40 -> 5961 | N35: ='1-2. 읍면동별 인구 및 세대현황'!L40 -> 2434
C36: 김천시 | E36: ='1-2. 읍면동별 인구 및 세대현황'!C64 -> 57275 | F36: =I36+L36 -> 137158 | G36: =J36+M36 -> 68329 | H36: =K36+N36 -> 68829 | I36: =J36+K36 -> 135456 | J36: ='1-2. 읍면동별 인구 및 세대현황'!H64 -> 67355 | K36: ='1-2. 읍면동별 인구 및 세대현황'!I64 -> 68101 | L36: =M36+N36 -> 1702 | M36: ='1-2. 읍면동별 인구 및 세대현황'!K64 -> 974 | N36: ='1-2. 읍면동별 인구 및 세대현황'!L64 -> 728
C37: 안동시 | E37: ='1-2. 읍면동별 인구 및 세대현황'!C87 -> 71881 | F37: =I37+L37 -> 170094 | G37: =J37+M37 -> 83823 | H37: =K37+N37 -> 86271 | I37: =J37+K37 -> 168697 | J37: ='1-2. 읍면동별 인구 및 세대현황'!H87 -> 83240 | K37: ='1-2. 읍면동별 인구 및 세대현황'!I87 -> 85457 | L37: =M37+N37 -> 1397 | M37: ='1-2. 읍면동별 인구 및 세대현황'!K87 -> 583 | N37: ='1-2. 읍면동별 인구 및 세대현황'!L87 -> 814
C38: 구미시 | E38: ='1-2. 읍면동별 인구 및 세대현황'!C112 -> 166686 | F38: =I38+L38 -> 426532 | G38: =J38+M38 -> 218156 | H38: =K38+N38 -> 208376 | I38: =J38+K38 -> 420320 | J38: ='1-2. 읍면동별 인구 및 세대현황'!H112 -> 214452 | K38: ='1-2. 읍면동별 인구 및 세대현황'!I112 -> 205868 | L38: =M38+N38 -> 6212 | M38: ='1-2. 읍면동별 인구 및 세대현황'!K112 -> 3704 | N38: ='1-2. 읍면동별 인구 및 세대현황'!L112 -> 2508
C39: 영주시 | E39: ='1-2. 읍면동별 인구 및 세대현황'!C140 -> 48093 | F39: =I39+L39 -> 111628 | G39: =J39+M39 -> 55438 | H39: =K39+N39 -> 56190 | I39: =J39+K39 -> 110780 | J39: ='1-2. 읍면동별 인구 및 세대현황'!H140 -> 55109 | K39: ='1-2. 읍면동별 인구 및 세대현황'!I140 -> 55671 | L39: =M39+N39 -> 848 | M39: ='1-2. 읍면동별 인구 및 세대현황'!K140 -> 329 | N39: ='1-2. 읍면동별 인구 및 세대현황'!L140 -> 519
C40: 영천시 | E40: ='1-2. 읍면동별 인구 및 세대현황'!C160 -> 46355 | F40: =I40+L40 -> 103464 | G40: =J40+M40 -> 52705 | H40: =K40+N40 -> 50759 | I40: =J40+K40 -> 100689 | J40: ='1-2. 읍면동별 인구 및 세대현황'!H160 -> 50619 | K40: ='1-2. 읍면동별 인구 및 세대현황'!I160 -> 50070 | L40: =M40+N40 -> 2775 | M40: ='1-2. 읍면동별 인구 및 세대현황'!K160 -> 2086 | N40: ='1-2. 읍면동별 인구 및 세대현황'!L160 -> 689
C41: 상주시 | E41: ='1-2. 읍면동별 인구 및 세대현황'!C177 -> 45845 | F41: =I41+L41 -> 103798 | G41: =J41+M41 -> 50848 | H41: =K41+N41 -> 52950 | I41: =J41+K41 -> 102892 | J41: ='1-2. 읍면동별 인구 및 세대현황'!H177 -> 50485 | K41: ='1-2. 읍면동별 인구 및 세대현황'!I177 -> 52407 | L41: =M41+N41 -> 906 | M41: ='1-2. 읍면동별 인구 및 세대현황'!K177 -> 363 | N41: ='1-2. 읍면동별 인구 및 세대현황'!L177 -> 543
C42: 문경시 | E42: ='1-2. 읍면동별 인구 및 세대현황'!C202 -> 34159 | F42: =I42+L42 -> 76520 | G42: =J42+M42 -> 37487 | H42: =K42+N42 -> 39033 | I42: =J42+K42 -> 75911 | J42: ='1-2. 읍면동별 인구 및 세대현황'!H202 -> 37231 | K42: ='1-2. 읍면동별 인구 및 세대현황'!I202 -> 38680 | L42: =M42+N42 -> 609 | M42: ='1-2. 읍면동별 인구 및 세대현황'!K202 -> 256 | N42: ='1-2. 읍면동별 인구 및 세대현황'!L202 -> 353
C43: 경산시 | E43: ='1-2. 읍면동별 인구 및 세대현황'!C217 -> 103935 | F43: =I43+L43 -> 261191 | G43: =J43+M43 -> 132325 | H43: =K43+N43 -> 128866 | I43: =J43+K43 -> 253968 | J43: ='1-2. 읍면동별 인구 및 세대현황'!H217 -> 127909 | K43: ='1-2. 읍면동별 인구 및 세대현황'!I217 -> 126059 | L43: =M43+N43 -> 7223 | M43: ='1-2. 읍면동별 인구 및 세대현황'!K217 -> 4416 | N43: ='1-2. 읍면동별 인구 및 세대현황'!L217 -> 2807
C44: 군위군 | E44: ='1-2. 읍면동별 인구 및 세대현황'!C233 -> 12038 | F44: =I44+L44 -> 24731 | G44: =J44+M44 -> 12548 | H44: =K44+N44 -> 12183 | I44: =J44+K44 -> 24170 | J44: ='1-2. 읍면동별 인구 및 세대현황'!H233 -> 12120 | K44: ='1-2. 읍면동별 인구 및 세대현황'!I233 -> 12050 | L44: =M44+N44 -> 561 | M44: ='1-2. 읍면동별 인구 및 세대현황'!K233 -> 428 | N44: ='1-2. 읍면동별 인구 및 세대현황'!L233 -> 133
C45: 의성군 | E45: ='1-2. 읍면동별 인구 및 세대현황'!C242 -> 27352 | F45: =I45+L45 -> 55888 | G45: =J45+M45 -> 27309 | H45: =K45+N45 -> 28579 | I45: =J45+K45 -> 55212 | J45: ='1-2. 읍면동별 인구 및 세대현황'!H242 -> 26922 | K45: ='1-2. 읍면동별 인구 및 세대현황'!I242 -> 28290 | L45: =M45+N45 -> 676 | M45: ='1-2. 읍면동별 인구 및 세대현황'!K242 -> 387 | N45: ='1-2. 읍면동별 인구 및 세대현황'!L242 -> 289
...

Sheet 1-2. 읍면동별 인구 및 세대현황
B2: 1-2. 읍면동별 인구 및 세대현황
B4: * 행정동 기준 | L4: (단위 : 세대, 명)
C5: 세대수 | D5: 총 계 | G5: 한 국 인 | J5: 외 국 인
A6: 그룹 | B6: 구분 | D6: 총 계 | E6: 남 | F6: 여 | G6: 소 계 | H6: 남 | I6: 여 | J6: 소 계 | K6: 남 | L6: 여
A7: 1100000 | B7: 경 상 북 도 | C7: =C8+C40+C64+C87+C112+C140+C160+C177+C202+C217+C233+C242+C261+C270+C287+C297+C306+C317+C326+C339+C350+C361+C277 -> 1153559 | D7: =D8+D40+D64+D87+D112+D140+D160+D177+D202+D217+D233+D242+D261+D270+D287+D297+D306+D317+D326+D339+D350+D361+D277 -> 2748599 | E7: =E8+E40+E64+E87+E112+E140+E160+E177+E202+E217+E233+E242+E261+E270+E287+E297+E306+E317+E326+E339+E350+E361+E277 -> 1386564 | F7: =F8+F40+F64+F87+F112+F140+F160+F177+F202+F217+F233+F242+F261+F270+F287+F297+F306+F317+F326+F339+F350+F361+F277 -> 1362035 | G7: =G8+G40+G64+G87+G112+G140+G160+G177+G202+G217+G233+G242+G261+G270+G287+G297+G306+G317+G326+G339+G350+G361+G277 -> 2700794 | H7: =H8+H40+H64+H87+H112+H140+H160+H177+H202+H217+H233+H242+H261+H270+H287+H297+H306+H317+H326+H339+H350+H361+H277 -> 1356182 | I7: =I8+I40+I64+I87+I112+I140+I160+I177+I202+I217+I233+I242+I261+I270+I287+I297+I306+I317+I326+I339+I350+I361+I277 -> 1344612 | J7: =J8+J40+J64+J87+J112+J140+J160+J177+J202+J217+J233+J242+J261+J270+J287+J297+J306+J317+J326+J339+J350+J361+J277 -> 47805 | ... L7: =L8+L40+L64+L87+L112+L140+L160+L177+L202+L217+L233+L242+L261+L270+L287+L297+L306+L317+L326+L339+L350+L361+L277 -> 17423
A8: 1101000 | B8: 포항시 | C8: =C9+C24 -> 207515 | D8: =D9+D24 -> 524276 | E8: =E9+E24 -> 265990 | F8: =F9+F24 -> 258286 | G8: =G9+G24 -> 519368 | H8: =H9+H24 -> 263070 | I8: =I9+I24 -> 256298 | J8: =J9+J24 -> 4908 | ... L8: =L9+L24 -> 1988
A9: 1101054 | B9: 남구(계) | C9: =SUM(C10:C23) -> 101073 | D9: =G9+J9 -> 250721 | E9: =H9+K9 -> 129410 | F9: =I9+L9 -> 121311 | G9: =SUM(G10:G23) -> 247649 | H9: =SUM(H10:H23) -> 127446 | I9: =SUM(I10:I23) -> 120203 | J9: =SUM(J10:J23) -> 3072 | K9: =SUM(K10:K23) -> 1964 | L9: =SUM(L10:L23) -> 1108
B10: 구룡포읍 | C10: 4899 | D10: =G10+J10 -> 9881 | E10: =H10+K10 -> 5282 | F10: =I10+L10 -> 4599 | G10: =SUM(H10:I10) -> 9264 | H10: ='2-3.읍면동 연령별 한국인(각세)'!D9 -> 4725 | I10: ='2-3.읍면동 연령별 한국인(각세)'!E9 -> 4539 | J10: =SUM(K10:L10) -> 617 | K10: 557 | L10: 60
B11: 연일읍 | C11: 12124 | D11: =G11+J11 -> 34744 | E11: =H11+K11 -> 17747 | F11: =I11+L11 -> 16997 | G11: =SUM(H11:I11) -> 34520 | H11: ='2-3.읍면동 연령별 한국인(각세)'!D10 -> 17649 | I11: ='2-3.읍면동 연령별 한국인(각세)'!E10 -> 16871 | J11: =SUM(K11:L11) -> 224 | K11: 98 | L11: 126
B12: 오천읍 | C12: 21149 | D12: =G12+J12 -> 53328 | E12: =H12+K12 -> 28018 | F12: =I12+L12 -> 25310 | G12: =SUM(H12:I12) -> 52864 | H12: ='2-3.읍면동 연령별 한국인(각세)'!D11 -> 27806 | I12: ='2-3.읍면동 연령별 한국인(각세)'!E11 -> 25058 | J12: =SUM(K12:L12) -> 464 | K12: 212 | L12: 252
B13: 대송면 | C13: 2175 | D13: =G13+J13 -> 4951 | E13: =H13+K13 -> 2712 | F13: =I13+L13 -> 2239 | G13: =SUM(H13:I13) -> 4657 | H13: ='2-3.읍면동 연령별 한국인(각세)'!D12 -> 2459 | I13: ='2-3.읍면동 연령별 한국인(각세)'!E12 -> 2198 | J13: =SUM(K13:L13) -> 294 | K13: 253 | L13: 41
B14: 동해면 | C14: 4454 | D14: =G14+J14 -> 10612 | E14: =H14+K14 -> 5418 | F14: =I14+L14 -> 5194 | G14: =SUM(H14:I14) -> 10517 | H14: ='2-3.읍면동 연령별 한국인(각세)'!D13 -> 5366 | I14: ='2-3.읍면동 연령별 한국인(각세)'!E13 -> 5151 | J14: =SUM(K14:L14) -> 95 | K14: 52 | L14: 43
B15: 장기면 | C15: 2573 | D15: =G15+J15 -> 5097 | E15: =H15+K15 -> 2515 | F15: =I15+L15 -> 2582 | G15: =SUM(H15:I15) -> 4924 | H15: ='2-3.읍면동 연령별 한국인(각세)'!D14 -> 2369 | I15: ='2-3.읍면동 연령별 한국인(각세)'!E14 -> 2555 | J15: =SUM(K15:L15) -> 173 | K15: 146 | L15: 27
B16: 호미곶면 | C16: 1195 | D16: =G16+J16 -> 2317 | E16: =H16+K16 -> 1146 | F16: =I16+L16 -> 1171 | G16: =SUM(H16:I16) -> 2242 | H16: ='2-3.읍면동 연령별 한국인(각세)'!D15 -> 1077 | I16: ='2-3.읍면동 연령별 한국인(각세)'!E15 -> 1165 | J16: =SUM(K16:L16) -> 75 | K16: 69 | L16: 6
B17: 상대동 | C17: 12858 | D17: =G17+J17 -> 28114 | E17: =H17+K17 -> 14521 | F17: =I17+L17 -> 13593 | G17: =SUM(H17:I17) -> 27934 | H17: ='2-3.읍면동 연령별 한국인(각세)'!D16 -> 14472 | I17: ='2-3.읍면동 연령별 한국인(각세)'!E16 -> 13462 | J17: =SUM(K17:L17) -> 180 | K17: 49 | L17: 131
B18: 해도동 | C18: 10109 | D18: =G18+J18 -> 20891 | E18: =H18+K18 -> 10612 | F18: =I18+L18 -> 10279 | G18: =SUM(H18:I18) -> 20768 | H18: ='2-3.읍면동 연령별 한국인(각세)'!D17 -> 10576 | I18: ='2-3.읍면동 연령별 한국인(각세)'!E17 -> 10192 | J18: =SUM(K18:L18) -> 123 | K18: 36 | L18: 87
B19: 송도동 | C19: 7288 | D19: =G19+J19 -> 16256 | E19: =H19+K19 -> 8329 | F19: =I19+L19 -> 7927 | G19: =SUM(H19:I19) -> 16158 | H19: ='2-3.읍면동 연령별 한국인(각세)'!D18 -> 8277 | I19: ='2-3.읍면동 연령별 한국인(각세)'!E18 -> 7881 | J19: =SUM(K19:L19) -> 98 | K19: 52 | L19: 46
B20: 청림동 | C20: 2890 | D20: =G20+J20 -> 6526 | E20: =H20+K20 -> 3409 | F20: =I20+L20 -> 3117 | G20: =SUM(H20:I20) -> 6473 | H20: ='2-3.읍면동 연령별 한국인(각세)'!D19 -> 3387 | I20: ='2-3.읍면동 연령별 한국인(각세)'!E19 -> 3086 | J20: =SUM(K20:L20) -> 53 | K20: 22 | L20: 31
B21: 제철동 | C21: 1464 | D21: =G21+J21 -> 3329 | E21: =H21+K21 -> 1878 | F21: =I21+L21 -> 1451 | G21: =SUM(H21:I21) -> 3242 | H21: ='2-3.읍면동 연령별 한국인(각세)'!D20 -> 1803 | I21: ='2-3.읍면동 연령별 한국인(각세)'!E20 -> 1439 | J21: =SUM(K21:L21) -> 87 | K21: 75 | L21: 12
... B23: 대이동 | C23: 7572 | D23: =G23+J23 -> 22189 | E23: =H23+K23 -> 11111 | F23: =I23+L23 -> 11078 | G23: =SUM(H23:I23) -> 22010 | H23: ='2-3.읍면동 연령별 한국인(각세)'!D22 -> 11027 | I23: ='2-3.읍면동 연령별 한국인(각세)'!E22 -> 10983 | J23: =SUM(K23:L23) -> 179 | K23: 84 | L23: 95
B24: 북구(계) | C24: =SUM(C25:C39) -> 106442 | D24: =G24+J24 -> 273555 | E24: =H24+K24 -> 136580 | F24: =I24+L24 -> 136975 | G24: =SUM(G25:G39) -> 271719 | H24: =SUM(H25:H39) -> 135624 | I24: =SUM(I25:I39) -> 136095 | J24: =SUM(J25:J39) -> 1836 | K24: =SUM(K25:K39) -> 956 | L24: =SUM(L25:L39) -> 880
B25: 흥해읍 | C25: 13937 | D25: =G25+J25 -> 34812 | E25: =H25+K25 -> 17491 | F25: =I25+L25 -> 17321 | G25: =SUM(H25:I25) -> 34301 | H25: ='2-3.읍면동 연령별 한국인(각세)'!D24 -> 17228 | I25: ='2-3.읍면동 연령별 한국인(각세)'!E24 -> 17073 | J25: =SUM(K25:L25) -> 511 | K25: 263 | L25: 248
B26: 신광면 | C26: 1553 | D26: =G26+J26 -> 3041 | E26: =H26+K26 -> 1521 | F26: =I26+L26 -> 1520 | G26: =SUM(H26:I26) -> 3025 | H26: ='2-3.읍면동 연령별 한국인(각세)'!D25 -> 1513 | I26: ='2-3.읍면동 연령별 한국인(각세)'!E25 -> 1512 | J26: =SUM(K26:L26) -> 16 | K26: 8 | L26: 8
B27: 청하면 | C27: 2716 | D27: =G27+J27 -> 5409 | E27: =H27+K27 -> 2674 | F27: =I27+L27 -> 2735 | G27: =SUM(H27:I27) -> 5313 | H27: ='2-3.읍면동 연령별 한국인(각세)'!D26 -> 2613 | I27: ='2-3.읍면동 연령별 한국인(각세)'!E26 -> 2700 | J27: =SUM(K27:L27) -> 96 | K27: 61 | L27: 35
B28: 송라면 | C28: 1513 | D28: =G28+J28 -> 2905 | E28: =H28+K28 -> 1426 | F28: =I28+L28 -> 1479 | G28: =SUM(H28:I28) -> 2846 | H28: ='2-3.읍면동 연령별 한국인(각세)'!D27 -> 1376 | I28: ='2-3.읍면동 연령별 한국인(각세)'!E27 -> 1470 | J28: =SUM(K28:L28) -> 59 | K28: 50 | L28: 9
B29: 기계면 | C29: 2616 | D29: =G29+J29 -> 5497 | E29: =H29+K29 -> 2652 | F29: =I29+L29 -> 2845 | G29: =SUM(H29:I29) -> 5446 | H29: ='2-3.읍면동 연령별 한국인(각세)'!D28 -> 2628 | I29: ='2-3.읍면동 연령별 한국인(각세)'!E28 -> 2818 | J29: =SUM(K29:L29) -> 51 | K29: 24 | L29: 27
B30: 죽장면 | C30: 1568 | D30: =G30+J30 -> 2922 | E30: =H30+K30 -> 1411 | F30: =I30+L30 -> 1511 | G30: =SUM(H30:I30) -> 2898 | H30: ='2-3.읍면동 연령별 한국인(각세)'!D29 -> 1406 | I30: ='2-3.읍면동 연령별 한국인(각세)'!E29 -> 1492 | J30: =SUM(K30:L30) -> 24 | K30: 5 | L30: 19
B31: 기북면 | C31: 698 | D31: =G31+J31 -> 1336 | E31: =H31+K31 -> 640 | F31: =I31+L31 -> 696 | G31: =SUM(H31:I31) -> 1322 | H31: ='2-3.읍면동 연령별 한국인(각세)'!D30 -> 639 | I31: ='2-3.읍면동 연령별 한국인(각세)'!E30 -> 683 | J31: =SUM(K31:L31) -> 14 | K31: 1 | L31: 13
B32: 중앙동 | C32: 8753 | D32: =G32+J32 -> 17906 | E32: =H32+K32 -> 8798 | F32: =I32+L32 -> 9108 | G32: =SUM(H32:I32) -> 17728 | H32: ='2-3.읍면동 연령별 한국인(각세)'!D31 -> 8679 | I32: ='2-3.읍면동 연령별 한국인(각세)'!E31 -> 9049 | J32: =SUM(K32:L32) -> 178 | K32: 119 | L32: 59
B33: 양학동 | C33: 7087 | D33: =G33+J33 -> 20092 | E33: =H33+K33 -> 10152 | F33: =I33+L33 -> 9940 | G33: =SUM(H33:I33) -> 20017 | H33: ='2-3.읍면동 연령별 한국인(각세)'!D32 -> 10121 | I33: ='2-3.읍면동 연령별 한국인(각세)'!E32 -> 9896 | J33: =SUM(K33:L33) -> 75 | K33: 31 | L33: 44
B34: 죽도동 | C34: 10487 | D34: =G34+J34 -> 21863 | E34: =H34+K34 -> 10855 | F34: =I34+L34 -> 11008 | G34: =SUM(H34:I34) -> 21737 | H34: ='2-3.읍면동 연령별 한국인(각세)'!D33 -> 10810 | I34: ='2-3.읍면동 연령별 한국인(각세)'!E33 -> 10927 | J34: =SUM(K34:L34) -> 126 | K34: 45 | L34: 81
B35: 용흥동 | C35: 9312 | D35: =G35+J35 -> 24806 | E35: =H35+K35 -> 12414 | F35: =I35+L35 -> 12392 | G35: =SUM(H35:I35) -> 24708 | H35: ='2-3.읍면동 연령별 한국인(각세)'!D34 -> 12372 | I35: ='2-3.읍면동 연령별 한국인(각세)'!E34 -> 12336 | J35: =SUM(K35:L35) -> 98 | K35: 42 | L35: 56
B36: 우창동 | C36: 10681 | D36: =G36+J36 -> 29078 | E36: =H36+K36 -> 14342 | F36: =I36+L36 -> 14736 | G36: =SUM(H36:I36) -> 28987 | H36: ='2-3.읍면동 연령별 한국인(각세)'!D35 -> 14309 | I36: ='2-3.읍면동 연령별 한국인(각세)'!E35 -> 14678 | J36: =SUM(K36:L36) -> 91 | K36: 33 | L36: 58
... B39: 환여동 | C39: 4069 | D39: =G39+J39 -> 11598 | E39: =H39+K39 -> 5785 | F39: =I39+L39 -> 5813 | G39: =SUM(H39:I39) -> 11547 | H39: ='2-3.읍면동 연령별 한국인(각세)'!D38 -> 5762 | I39: ='2-3.읍면동 연령별 한국인(각세)'!E38 -> 5785 | J39: =SUM(K39:L39) -> 51 | K39: 23 | L39: 28
B40: 경 주 시 | C40: =SUM(C41:C63) -> 111848 | D40: =G40+J40 -> 269930 | E40: =H40+K40 -> 136781 | F40: =I40+L40 -> 133149 | G40: =SUM(G41:G63) -> 261535 | H40: =SUM(H41:H63) -> 130820 | I40: =SUM(I41:I63) -> 130715 | J40: =SUM(J41:J63) -> 8395 | K40: =SUM(K41:K63) -> 5961 | L40: =SUM(L41:L63) -> 2434
B41: 감포읍 | C41: 3152 | D41: =G41+J41 -> 6605 | E41: =H41+K41 -> 3481 | F41: =I41+L41 -> 3124 | G41: =SUM(H41:I41) -> 6174 | H41: ='2-3.읍면동 연령별 한국인(각세)'!D40 -> 3075 | I41: ='2-3.읍면동 연령별 한국인(각세)'!E40 -> 3099 | J41: =SUM(K41:L41) -> 431 | K41: 406 | L41: 25
B42: 안강읍 | C42: 12651 | D42: =G42+J42 -> 30092 | E42: =H42+K42 -> 15068 | F42: =I42+L42 -> 15024 | G42: =SUM(H42:I42) -> 29756 | H42: ='2-3.읍면동 연령별 한국인(각세)'!D41 -> 14879 | I42: ='2-3.읍면동 연령별 한국인(각세)'!E41 -> 14877 | J42: =SUM(K42:L42) -> 336 | K42: 189 | L42: 147
B43: 건천읍 | C43: 5161 | D43: =G43+J43 -> 11068 | E43: =H43+K43 -> 5669 | F43: =I43+L43 -> 5399 | G43: =SUM(H43:I43) -> 10863 | H43: ='2-3.읍면동 연령별 한국인(각세)'!D42 -> 5519 | I43: ='2-3.읍면동 연령별 한국인(각세)'!E42 -> 5344 | J43: =SUM(K43:L43) -> 205 | K43: 150 | L43: 55
B44: 외동읍 | C44: 8054 | D44: =G44+J44 -> 19904 | E44: =H44+K44 -> 11304 | F44: =I44+L44 -> 8600 | G44: =SUM(H44:I44) -> 16782 | H44: ='2-3.읍면동 연령별 한국인(각세)'!D43 -> 8688 | I44: ='2-3.읍면동 연령별 한국인(각세)'!E43 -> 8094 | J44: =SUM(K44:L44) -> 3122 | K44: 2616 | L44: 506
B45: 양북면 | C45: 1957 | D45: =G45+J45 -> 4166 | E45: =H45+K45 -> 2219 | F45: =I45+L45 -> 1947 | G45: =SUM(H45:I45) -> 3979 | H45: ='2-3.읍면동 연령별 한국인(각세)'!D44 -> 2052 | I45: ='2-3.읍면동 연령별 한국인(각세)'!E44 -> 1927 | J45: =SUM(K45:L45) -> 187 | K45: 167 | L45: 20
...

Sheet 1-3. 리별 인구 및 세대현황(시)
A2: 1-3. 리별 세대 및 인구 현황(외국인 제외)
AW3: (단위 : 명, 세대)
A4: 포항시 | F4: 경주시 | K4: 김천시 | P4: 안동시 | U4: 구미시 | Z4: 영주시 | AE4: 영천시 | AJ4: 상주시 | AO4: 문경시 | AT4: 경산시
A5: 행정구역 | B5: 계 | C5: 남 | D5: 여 | E5: 세대수 | F5: 행정구역 | G5: 계 | H5: 남 | I5: 여 | J5: 세 대 | K5: 행정구역 | L5: 계 | M5: 남 | N5: 여 | O5: 세 대 | P5: 행정구역 | Q5: 계 | R5: 남 | S5: 여 | T5: 세 대 | U5: 행정구역 | V5: 계 | W5: 남 | X5: 여 | Y5: 세 대 | Z5: 행정구역 | AA5: 계 | AB5: 남 | AC5: 여 | AD5: 세 대 | AE5: 행정구역 | AF5: 계 | AG5: 남 | AH5: 여 | AI5: 세 대 | AJ5: 행정구역 | AK5: 계 | AL5: 남 | AM5: 여 | AN5: 세 대 | AO5: 행정구역 | AP5: 계 | AQ5: 남 | AR5: 여 | AS5: 세 대 | AT5: 행정구역 | AU5: 계 | AV5: 남 | AW5: 여 | AX5: 세 대
A6: 구룡포읍 | B6: 9264 | C6: 4725 | D6: 4539 | E6: 4899 | F6: 감포읍 | G6: 6174 | H6: 3075 | I6: 3099 | J6: 3152 | K6: 아포읍 | L6: 8489 | M6: 4292 | N6: 4197 | O6: 3654 | P6: 풍산읍 | Q6: 7380 | R6: 3643 | S6: 3737 | T6: 3591 | U6: 선산읍 | V6: 14884 | W6: 7472 | X6: 7412 | Y6: 5973 | Z6: 풍기읍 | AA6: 12005 | AB6: 6036 | AC6: 5969 | AD6: 5552 | AE6: 금호읍 | AF6: 11858 | AG6: 6154 | AH6: 5704 | AI6: 5960 | AJ6: 함창읍 | AK6: 6705 | AL6: 3273 | AM6: 3432 | AN6: 3169 | AO6: 문경읍 | AP6: 7393 | AQ6: 3590 | AR6: 3803 | AS6: 3512 | AT6: 하양읍 | AU6: 26617 | AV6: 13312 | AW6: 13305 | AX6: 10713
A7: 구룡포1리 | B7: 1057 | C7: 557 | D7: 500 | E7: 532 | F7: 감포 1리 | G7: 486 | H7: 224 | I7: 262 | J7: 253 | K7: 인 1리 | L7: 257 | M7: 129 | N7: 128 | O7: 111 | P7: 안교 1리 | Q7: 1051 | R7: 520 | S7: 531 | T7: 508 | U7: 완 전 리 | V7: 1876 | W7: 952 | X7: 924 | Y7: 805 | Z7: 성내 1리 | AA7: 436 | AB7: 200 | AC7: 236 | AD7: 211 | AE7: 교대 1리 | AF7: 907 | AG7: 446 | AH7: 461 | AI7: 465 | AJ7: 구향 1리 | AK7: 306 | AL7: 168 | AM7: 138 | AN7: 130 | AO7: 상 1리 | AP7: 311 | AQ7: 149 | AR7: 162 | AS7: 133 | AT7: 금락1리 | AU7: 1847 | AV7: 930 | AW7: 917 | AX7: 899
A8: 구룡포2리 | B8: 1352 | C8: 676 | D8: 676 | E8: 620 | F8: 감포 2리 | G8: 1051 | H8: 532 | I8: 519 | J8: 498 | K8: 인 2리 | L8: 213 | M8: 119 | N8: 94 | O8: 101 | P8: 안교 2리 | Q8: 375 | R8: 174 | S8: 201 | T8: 188 | U8: 동 부 리 | V8: 1382 | W8: 686 | X8: 696 | Y8: 582 | Z8: 성내 2리 | AA8: 255 | AB8: 121 | AC8: 134 | AD8: 116 | AE8: 교대 2리 | AF8: 623 | AG8: 322 | AH8: 301 | AI8: 279 | AJ8: 구향 2리 | AK8: 994 | AL8: 478 | AM8: 516 | AN8: 475 | AO8: 상 2리 | AP8: 635 | AQ8: 296 | AR8: 339 | AS8: 334 | AT8: 금락2리 | AU8: 1598 | AV8: 785 | AW8: 813 | AX8: 788
A9: 구룡포3리 | B9: 349 | C9: 183 | D9: 166 | E9: 210 | F9: 감포 3리 | G9: 609 | H9: 304 | I9: 305 | J9: 360 | K9: 인 3리 | L9: 90 | M9: 44 | N9: 46 | O9: 46 | P9: 안교 3리 | Q9: 155 | R9: 77 | S9: 78 | T9: 74 | U9: 노 상 리 | V9: 2655 | W9: 1271 | X9: 1384 | Y9: 946 | Z9: 성내 3리 | AA9: 698 | AB9: 313 | AC9: 385 | AD9: 344 | AE9: 교대 3리 | AF9: 364 | AG9: 190 | AH9: 174 | AI9: 157 | AJ9: 구향 3리 | AK9: 833 | AL9: 382 | AM9: 451 | AN9: 369 | AO9: 하 1리 | AP9: 622 | AQ9: 294 | AR9: 328 | AS9: 287 | AT9: 금락3리 | AU9: 47 | AV9: 25 | AW9: 22 | AX9: 24
A10: 구룡포4리 | B10: 551 | C10: 273 | D10: 278 | E10: 315 | F10: 감포 4리 | G10: 443 | H10: 217 | I10: 226 | J10: 219 | K10: 인 4리 | L10: 176 | M10: 86 | N10: 90 | O10: 69 | P10: 상리 1리 | Q10: 183 | R10: 88 | S10: 95 | T10: 85 | U10: 이 문 리 | V10: 2553 | W10: 1266 | X10: 1287 | Y10: 975 | Z10: 성내 4리 | AA10: 1301 | AB10: 631 | AC10: 670 | AD10: 524 | AE10: 교대 4리 | AF10: 1166 | AG10: 565 | AH10: 601 | AI10: 435 | AJ10: 구향 4리 | AK10: 263 | AL10: 137 | AM10: 126 | AN10: 138 | AO10: 하 2리 | AP10: 1206 | AQ10: 598 | AR10: 608 | AS10: 559 | AT10: 금락4리 | AU10: 1785 | AV10: 883 | AW10: 902 | AX10: 906
A11: 구룡포5리 | B11: 605 | C11: 317 | D11: 288 | E11: 329 | F11: 감포 5리 | G11: 382 | H11: 188 | I11: 194 | J11: 190 | K11: 의 1리 | L11: 427 | M11: 221 | N11: 206 | O11: 181 | P11: 상리 2리 | Q11: 168 | R11: 77 | S11: 91 | T11: 85 | U11: 죽장 1리 | V11: 285 | W11: 154 | X11: 131 | Y11: 125 | Z11: 동부 1리 | AA11: 1212 | AB11: 611 | AC11: 601 | AD11: 474 | AE11: 덕 성 리 | AF11: 988 | AG11: 501 | AH11: 487 | AI11: 473 | AJ11: 오동 1리 | AK11: 536 | AL11: 267 | AM11: 269 | AN11: 220 | AO11: 교 촌 리 | AP11: 791 | AQ11: 384 | AR11: 407 | AS11: 385 | AT11: 금락5리 | AU11: 1943 | AV11: 933 | AW11: 1010 | AX11: 648
A12: 구룡포6리 | B12: 825 | C12: 404 | D12: 421 | E12: 431 | F12: 오류 1리 | G12: 252 | H12: 134 | I12: 118 | J12: 124 | K12: 의 2리 | L12: 130 | M12: 63 | N12: 67 | O12: 64 | P12: 상리 3리 | Q12: 173 | R12: 91 | S12: 82 | T12: 91 | U12: 죽장 2리 | V12: 238 | W12: 122 | X12: 116 | Y12: 98 | Z12: 동부 2리 | AA12: 641 | AB12: 326 | AC12: 315 | AD12: 287 | AE12: 성 천 리 | AF12: 220 | AG12: 115 | AH12: 105 | AI12: 100 | AJ12: 오동 2리 | AK12: 323 | AL12: 162 | AM12: 161 | AN12: 155 | AO12: 요 성 리 | AP12: 354 | AQ12: 160 | AR12: 194 | AS12: 180 | AT12: 금락6리 | AU12: 3407 | AV12: 1665 | AW12: 1742 | AX12: 1068
A13: 구룡포7리 | B13: 143 | C13: 75 | D13: 68 | E13: 84 | F13: 오류 2리 | G13: 384 | H13: 190 | I13: 194 | J13: 199 | K13: 예 1리 | L13: 150 | M13: 72 | N13: 78 | O13: 59 | P13: 하리 1리 | Q13: 260 | R13: 125 | S13: 135 | T13: 123 | U13: 봉곡 1리 | V13: 195 | W13: 102 | X13: 93 | Y13: 98 | Z13: 동부 3리 | AA13: 903 | AB13: 455 | AC13: 448 | AD13: 417 | AE13: 대미 1리 | AF13: 139 | AG13: 78 | AH13: 61 | AI13: 71 | AJ13: 오사 1리 | AK13: 386 | AL13: 187 | AM13: 199 | AN13: 168 | AO13: 지곡 1리 | AP13: 100 | AQ13: 49 | AR13: 51 | AS13: 45 | AT13: 금락7리 | AU13: 2196 | AV13: 1103 | AW13: 1093 | AX13: 742
A14: 삼정 1리 | B14: 147 | C14: 74 | D14: 73 | E14: 75 | F14: 오류 3리 | G14: 129 | H14: 67 | I14: 62 | J14: 65 | K14: 예 2리 | L14: 164 | M14: 80 | N14: 84 | O14: 65 | P14: 하리 2리 | Q14: 472 | R14: 235 | S14: 237 | T14: 220 | U14: 봉곡 2리 | V14: 84 | W14: 42 | X14: 42 | Y14: 42 | Z14: 동부 4리 | AA14: 768 | AB14: 391 | AC14: 377 | AD14: 321 | AE14: 대미 2리 | AF14: 120 | AG14: 62 | AH14: 58 | AI14: 57 | AJ14: 오사 2리 | AK14: 35 | AL14: 20 | AM14: 15 | AN14: 18 | AO14: 지곡 2리 | AP14: 106 | AQ14: 51 | AR14: 55 | AS14: 58 | AT14: 금락8리 | AU14: 1389 | AV14: 685 | AW14: 704 | AX14: 439
A15: 삼정 2리 | B15: 197 | C15: 94 | D15: 103 | E15: 89 | F15: 오류 4리 | G15: 300 | H15: 151 | I15: 149 | J15: 155 | K15: 지 1리 | L15: 289 | M15: 139 | N15: 150 | O15: 111 | P15: 마 애 리 | Q15: 198 | R15: 101 | S15: 97 | T15: 92 | U15: 포상 1리 | V15: 107 | W15: 60 | X15: 47 | Y15: 54 | Z15: 동부 5리 | AA15: 242 | AB15: 124 | AC15: 118 | AD15: 119 | AE15: 석 섬 리 | AF15: 181 | AG15: 97 | AH15: 84 | AI15: 104 | AJ15: 증 촌 리 | AK15: 540 | AL15: 272 | AM15: 268 | AN15: 237 | AO15: 마원 1리 | AP15: 219 | AQ15: 104 | AR15: 115 | AS15: 105 | AT15: 동서1리 | AU15: 2676 | AV15: 1331 | AW15: 1345 | AX15: 1118
A16: 삼정 3리 | B16: 150 | C16: 69 | D16: 81 | E16: 82 | F16: 전 동 리 | G16: 311 | H16: 163 | I16: 148 | J16: 156 | K16: 지 2리 | L16: 135 | M16: 70 | N16: 65 | O16: 57 | P16: 수 1리 | Q16: 209 | R16: 97 | S16: 112 | T16: 85 | U16: 포상 2리 | V16: 111 | W16: 57 | X16: 54 | Y16: 55 | Z16: 동부 6리 | AA16: 333 | AB16: 154 | AC16: 179 | AD16: 158 | AE16: 원제 1리 | AF16: 277 | AG16: 153 | AH16: 124 | AI16: 125 | AJ16: 교촌 1리 | AK16: 117 | AL16: 58 | AM16: 59 | AN16: 63 | AO16: 마원 2리 | AP16: 142 | AQ16: 68 | AR16: 74 | AS16: 80 | AT16: 동서2리 | AU16: 824 | AV16: 439 | AW16: 385 | AX16: 374
A17: 석병 1리 | B17: 190 | C17: 96 | D17: 94 | E17: 108 | F17: 전촌 1리 | G17: 270 | H17: 143 | I17: 127 | J17: 143 | K17: 대신 1리 | L17: 284 | M17: 147 | N17: 137 | O17: 120 | P17: 수 2리 | Q17: 162 | R17: 84 | S17: 78 | T17: 70 | U17: 소 재 리 | V17: 155 | W17: 78 | X17: 77 | Y17: 77 | Z17: 산 법 리 | AA17: 396 | AB17: 239 | AC17: 157 | AD17: 286 | AE17: 원제 2리 | AF17: 1478 | AG17: 867 | AH17: 611 | AI17: 1111 | AJ17: 교촌 2리 | AK17: 103 | AL17: 46 | AM17: 57 | AN17: 50 | AO17: 마원 3리 | AP17: 107 | AQ17: 57 | AR17: 50 | AS17: 55 | AT17: 동서3리 | AU17: 193 | AV17: 95 | AW17: 98 | AX17: 86
... A40: 생지 5리 | B40: 2367 | C40: 1205 | D40: 1162 | E40: 772 | F40: 육통 2리 | G40: 340 | H40: 182 | I40: 158 | J40: 158 | K40: 신 촌 리 | L40: 499 | M40: 244 | N40: 255 | O40: 199 | P40: 소산 2리 | Q40: 201 | R40: 105 | S40: 96 | T40: 83 | U40: 오로 2리 | V40: 2597 | W40: 1298 | X40: 1299 | Y40: 865 | Z40: 신암 2리 | AA40: 88 | AB40: 45 | AC40: 43 | AD40: 49 | AE40: 청통면 | AF40: 4433 | AG40: 2280 | AH40: 2153 | AI40: 2127 | AJ40: 덕담 3리 | AK40: 276 | AL40: 134 | AM40: 142 | AN40: 119 | AO40: 왕릉 2리 | AP40: 226 | AQ40: 122 | AR40: 104 | AS40: 115 | AT40: 대조2리 | AU40: 304 | AV40: 155 | AW40: 149 | AX40: 137
A41: 괴정 1리 | B41: 2148 | C41: 1119 | D41: 1029 | E41: 887 | F41: 육통 3리 | G41: 153 | H41: 79 | I41: 74 | J41: 78 | K41: 월곡 1리 | P41: 와룡면 | U41: 대망 1리 | V41: 205 | W41: 115 | X41: 90 | Y41: 85 | Z41: 신암 3리 | AA41: 219 | AB41: 117 | AC41: 102 | AD41: 106 | AE41: 호당 1리 | AJ41: 원흥 1리 | AO41: 왕릉 3리 | AP41: 392 | AQ41: 178 | AR41: 214 | AS41: 201 | AT41: 진량읍 | AU41: 38862 | AV41: 20012 | AW41: 18850 | AX41: 15606
A42: 괴정 2리 | B42: 825 | C42: 413 | D42: 412 | E42: 330 | F42: 노당 1리 | G42: 258 | H42: 131 | I42: 127 | J42: 128 | K42: 월곡 1리 | L42: 490 | M42: 248 | N42: 242 | O42: 247 | P42: 와룡면 | Q42: 4581 | R42: 2331 | S42: 2250 | T42: 2123 | U42: 대망 2리 | V42: 145 | W42: 80 | X42: 65 | Y42: 71 | Z42: 신암 3리 | AA42: 219 | AB42: 117 | AC42: 102 | AD42: 106 | AE42: 호당 1리 | AF42: 131 | AG42: 68 | AH42: 63 | AI42: 64 | AJ42: 원흥 1리 | AK42: 112 | AL42: 53 | AM42: 59 | AN42: 45 | AO42: 갈전 1리 | AP42: 214 | AQ42: 104 | AR42: 110 | AS42: 93 | AT42: 신상1리 | AU42: 473 | AV42: 255 | AW42: 218 | AX42: 218
A43: 동문 1리 | B43: 1897 | C43: 996 | D43: 901 | E43: 770 | F43: 노당 2리 | G43: 221 | H43: 105 | I43: 116 | J43: 116 | K43: 월곡 2리 | L43: 170 | M43: 89 | N43: 81 | O43: 71 | P43: 중가구 1 | Q43: 210 | R43: 116 | S43: 94 | T43: 88 | U43: 파 산 리 | V43: 119 | W43: 69 | X43: 50 | Y43: 59 | Z43: 지동 1리 | AA43: 94 | AB43: 48 | AC43: 46 | AD43: 38 | AE43: 호당 2리 | AF43: 227 | AG43: 111 | AH43: 116 | AI43: 114 | AJ43: 원흥 2리 | AK43: 221 | AL43: 105 | AM43: 116 | AN43: 103 | AO43: 갈전 2리 | AP43: 97 | AQ43: 52 | AR43: 45 | AS43: 51 | AT43: 신상2리 | AU43: 447 | AV43: 256 | AW43: 191 | AX43: 224
A44: 동문 2리 | B44: 2182 | C44: 1118 | D44: 1064 | E44: 813 | F44: 산대 1리 | G44: 685 | H44: 360 | I44: 325 | J44: 258 | K44: 월곡 3리 | L44: 144 | M44: 80 | N44: 64 | O44: 61 | P44: 중가구 2 | Q44: 154 | R44: 80 | S44: 74 | T44: 61 | U44: 신 촌 리 | V44: 321 | W44: 167 | X44: 154 | Y44: 129 | Z44: 지동 2리 | AA44: 121 | AB44: 58 | AC44: 63 | AD44: 53 | AE44: 우천 1리 | AF44: 223 | AG44: 110 | AH44: 113 | AI44: 116 | AJ44: 원흥 3리 | AK44: 127 | AL44: 63 | AM44: 64 | AN44: 54 | AO44: 갈전 3리 | AP44: 51 | AQ44: 20 | AR44: 31 | AS44: 30 | AT44: 신상3리 | AU44: 937 | AV44: 585 | AW44: 352 | AX44: 569
A45: 동문 3리 | B45: 1141 | C45: 586 | D45: 555 | E45: 344 | F45: 산대 2리 | G45: 403 | H45: 212 | I45: 191 | J45: 161 | K45: 월곡 4리 | L45: 118 | M45: 59 | N45: 59 | O45: 49 | P45: 가구 1리 | Q45: 438 | R45: 216 | S45: 222 | T45: 173 | U45: 황 산 리 | V45: 283 | W45: 133 | X45: 150 | Y45: 140 | Z45: 지동 3리 | AA45: 52 | AB45: 28 | AC45: 24 | AD45: 26 | AE45: 우천 2리 | AF45: 126 | AG45: 63 | AH45: 63 | AI45: 63 | AJ45: 두 릉 리 | AK45: 246 | AL45: 120 | AM45: 126 | AN45: 112 | AO45: 저 음 리 | AP45: 67 | AQ45: 29 | AR45: 38 | AS45: 44 | AT45: 신상4리 | AU45: 1427 | AV45: 713 | AW45: 714 | AX45: 475
A46: 오천 1리 | B46: 1880 | C46: 990 | D46: 890 | E46: 699 | F46: 산대 3리 | G46: 1429 | H46: 754 | I46: 675 | J46: 575 | K46: 용암 1리 | L46: 285 | M46: 138 | N46: 147 | O46: 130 | P46: 가구 2리 | Q46: 209 | R46: 100 | S46: 109 | T46: 100 | U46: 횡 산 리 | V46: 170 | W46: 85 | X46: 85 | Y46: 77 | Z46: 석포 1리 | AA46: 146 | AB46: 76 | AC46: 70 | AD46: 78 | AE46: 보 성 리 | AF46: 247 | AG46: 132 | AH46: 115 | AI46: 116 | AJ46: 목 가 리 | AK46: 224 | AL46: 122 | AM46: 102 | AN46: 104 | AO46: 작천 1리 | AP46: 188 | AQ46: 85 | AR46: 103 | AS46: 102 | AT46: 신상5리 | AU46: 1559 | AV46: 774 | AW46: 785 | AX46: 509
A47: 오천 2리 | B47: 1510 | C47: 760 | D47: 750 | E47: 455 | F47: 산대 4리 | G47: 2478 | H47: 1241 | I47: 1237 | J47: 891 | K47: 용암 2리 | L47: 76 | M47: 46 | N47: 30 | O47: 44 | P47: 산야 1리 | Q47: 68 | R47: 35 | S47: 33 | T47: 35 | U47: 외 예 리 | V47: 259 | W47: 136 | X47: 123 | Y47: 106 | Z47: 석포 2리 | AA47: 149 | AB47: 74 | AC47: 75 | AD47: 76 | AE47: 신덕 1리 | AF47: 95 | AG47: 45 | AH47: 50 | AI47: 50 | AJ47: 덕 가 리 | AK47: 224 | AL47: 110 | AM47: 114 | AN47: 102 | AO47: 작천 2리 | AP47: 123 | AQ47: 60 | AR47: 63 | AS47: 55 | AT47: 신상6리 | AU47: 773 | AV47: 474 | AW47: 299 | AX47: 457
A48: 유강 1리 | B48: 172 | C48: 87 | D48: 85 | E48: 87 | F48: 산대 5리 | G48: 3331 | H48: 1627 | I48: 1704 | J48: 1389 | K48: 봉곡 1리 | L48: 395 | M48: 201 | N48: 194 | O48: 163 | P48: 산야 2리 | Q48: 84 | R48: 40 | S48: 44 | T48: 42 | U48: 내 예 리 | V48: 83 | W48: 40 | X48: 43 | Y48: 51 | Z48: 용상 1리 | AA48: 157 | AB48: 83 | AC48: 74 | AD48: 62 | AE48: 신덕 2리 | AF48: 134 | AG48: 65 | AH48: 69 | AI48: 57 | AJ48: 용담 1리 | AK48: 133 | AL48: 60 | AM48: 73 | AN48: 58 | AO48: 성저 1리 | AP48: 181 | AQ48: 84 | AR48: 97 | AS48: 90 | AT48: 신상7리 | AU48: 436 | AV48: 270 | AW48: 166 | AX48: 337
A49: 유강 2리 | B49: 1359 | C49: 693 | D49: 666 | E49: 427 | F49: 산대 6리 | G49: 1414 | H49: 705 | I49: 709 | J49: 575 | K49: 봉곡 2리 | L49: 140 | M49: 71 | N49: 69 | O49: 61 | P49: 산야 3리 | Q49: 65 | R49: 31 | S49: 34 | T49: 34 | U49: 원호 1리 | V49: 88 | W49: 40 | X49: 48 | Y49: 34 | Z49: 용상 2리 | AA49: 170 | AB49: 77 | AC49: 93 | AD49: 75 | AE49: 대 평 리 | AF49: 267 | AG49: 144 | AH49: 123 | AI49: 135 | AJ49: 용담 2리 | AK49: 138 | AL49: 65 | AM49: 73 | AN49: 53 | AO49: 성저 2리 | AP49: 65 | AQ49: 36 | AR49: 29 | AS49: 31 | AT49: 선화1리 | AU49: 91 | AV49: 46 | AW49: 45 | AX49: 45
A50: 유강 3리 | B50: 1280 | C50: 659 | D50: 621 | E50: 383 | F50: 산대 7리 | G50: 2691 | H50: 1352 | I50: 1339 | J50: 823 | K50: 연 명 리 | L50: 297 | M50: 147 | N50: 150 | O50: 121 | P50: 주 계 리 | Q50: 245 | R50: 131 | S50: 114 | T50: 117 | U50: 원호 2리 | V50: 295 | W50: 159 | X50: 136 | Y50: 125 | Z50: 신천 1리 | AA50: 70 | AB50: 36 | AC50: 34 | AD50: 24 | AE50: 죽 정 리 | AF50: 143 | AG50: 77 | AH50: 66 | AI50: 65 | AJ50: 용담 3리 | AK50: 110 | AL50: 60 | AM50: 50 | AN50: 49 | AO50: 수 예 리 | AP50: 63 | AQ50: 36 | AR50: 27 | AS50: 33 | AT50: 선화2리 | AU50: 319 | AV50: 164 | AW50: 155 | AX50: 145
A51: 유강 4리 | B51: 1627 | C51: 844 | D51: 783 | E51: 493 | F51: 산대 8리 | G51: 1725 | H51: 839 | I51: 886 | J51: 781 | K51: 노 곡 리 | L51: 204 | M51: 107 | N51: 97 | O51: 80 | P51: 가 야 리 | Q51: 204 | R51: 105 | S51: 99 | T51: 100 | U51: 원호 3리 | V51: 2479 | W51: 1250 | X51: 1229 | Y51: 783 | Z51: 신천 2리 | AA51: 129 | AB51: 62 | AC51: 67 | AD51: 59 | AE51: 송 천 리 | AF51: 338 | AG51: 171 | AH51: 167 | AI51: 147 | AJ51: 묵 상 리 | AK51: 275 | AL51: 128 | AM51: 147 | AN51: 135 | AO51: 민지 1리 | AP51: 79 | AQ51: 37 | AR51: 42 | AS51: 50 | AT51: 선화3리 | AU51: 212 | AV51: 125 | AW51: 87 | AX51: 120
A52: 유강 5리 | B52: 2266 | C52: 1141 | D52: 1125 | E52: 737 | F52: 산대 9리 | G52: 2087 | H52: 1038 | I52: 1049 | J52: 831 | K52: 남 면 | L52: 3550 | M52: 1739 | N52: 1811 | O52: 1659 | P52: 지내 1리 | Q52: 197 | R52: 103 | S52: 94 | T52: 96 | U52: 원호 4리 | V52: 3928 | W52: 1989 | X52: 1939 | Y52: 1202 | Z52: 운문 1리 | AA52: 206 | AB52: 103 | AC52: 103 | AD52: 81 | AE52: 원촌 1리 | AF52: 299 | AG52: 153 | AH52: 146 | AI52: 138 | AJ52: 묵 하 리 | AK52: 150 | AL52: 76 | AM52: 74 | AN52: 75 | AO52: 민지 2리 | AP52: 56 | AQ52: 28 | AR52: 28 | AS52: 21 | AT52: 선화4리 | AU52: 220 | AV52: 113 | AW52: 107 | AX52: 92
A53: 유강 6리 | B53: 1810 | C53: 915 | D53: 895 | E53: 546 | F53: 산대10리 | G53: 1211 | H53: 595 | I53: 616 | J53: 377 | K53: 옥산 1리 | L53: 330 | M53: 169 | N53: 161 | O53: 160 | P53: 지내 2리 | Q53: 155 | R53: 83 | S53: 72 | T53: 61 | U53: 원호 5리 | V53: 2646 | W53: 1369 | X53: 1277 | Y53: 746 | Z53: 운문 2리 | AA53: 218 | AB53: 101 | AC53: 117 | AD53: 102 | AE53: 원촌 2리 | AF53: 151 | AG53: 73 | AH53: 78 | AI53: 73 | AJ53: 매협 1리 | AK53: 180 | AL53: 84 | AM53: 96 | AN53: 93 | AO53: 전곡 1리 | AP53: 131 | AQ53: 65 | AR53: 66 | AS53: 59 | AT53: 선화5리 | AU53: 2953 | AV53: 1494 | AW53: 1459 | AX53: 1180
... A68: 오천읍 | B68: 52864 | C68: 27806 | D68: 25058 | E68: 21149 | F68: 대 동 리 | G68: 196 | H68: 94 | I68: 102 | J68: 97 | K68: 초곡 2리 | L68: 43 | M68: 20 | N68: 23 | O68: 18 | P68: 가류 2리 | Q68: 38 | R68: 20 | S68: 18 | T68: 25 | U68: 봉한 1리 | V68: 275 | W68: 139 | X68: 136 | Y68: 120 | Z68: 금광 1리 | AA68: 85 | AB68: 43 | AC68: 42 | AD68: 40 | AE68: 부산 1리 | AF68: 110 | AG68: 51 | AH68: 59 | AI68: 53 | AJ68: 오상 2리 | AK68: 134 | AL68: 66 | AM68: 68 | AN68: 60 | AO68: 하괴 3리 | AP68: 122 | AQ68: 55 | AR68: 67 | AS68: 60 | AT68: 양기1리 | AU68: 444 | AV68: 250 | AW68: 194 | AX68: 83
A69: 원 1리 | B69: 284 | C69: 151 | D69: 133 | E69: 136 | F69: 검단 1리 | G69: 166 | H69: 78 | I69: 88 | J69: 86 | K69: 용전 1리 | P69: 나 소 리 | Q69: 195 | R69: 101 | S69: 94 | T69: 90 | U69: 봉한 2리 | V69: 534 | W69: 277 | X69: 257 | Y69: 213 | Z69: 금광 2리 | AA69: 68 | AB69: 34 | AC69: 34 | AD69: 25 | AE69: 부산 2리 | AF69: 155 | AG69: 75 | AH69: 80 | AI69: 89 | AJ69: 죽암 1리 | AK69: 176 | AL69: 93 | AM69: 83 | AN69: 77 | AO69: 영순면 | AP69: 2629 | AQ69: 1350 | AR69: 1279 | AS69: 1335 | AT69: 양기2리 | AU69: 3196 | AV69: 1588 | AW69: 1608 | AX69: 1143
A70: 원 2리 | B70: 5131 | C70: 2644 | D70: 2487 | E70: 1784 | F70: 검단 2리 | G70: 275 | H70: 135 | I70: 140 | J70: 138 | K70: 운남 1리 | L70: 265 | M70: 134 | N70: 131 | O70: 104 | P70: 오천 1리 | Q70: 47 | R70: 23 | S70: 24 | T70: 28 | U70: 봉한 3리 | V70: 451 | W70: 214 | X70: 237 | Y70: 141 | Z70: 금광 3리 | AA70: 38 | AB70: 19 | AC70: 19 | AD70: 17 | AE70: 화 서 리 | AF70: 96 | AG70: 41 | AH70: 55 | AI70: 58 | AJ70: 죽암 2리 | AK70: 141 | AL70: 68 | AM70: 73 | AN70: 61 | AO70: 의곡 1리 | AP70: 225 | AQ70: 111 | AR70: 114 | AS70: 111 | AT70: 상림리 | AU70: 685 | AV70: 395 | AW70: 290 | AX70: 381
A71: 원 3리 | B71: 2955 | C71: 1558 | D71: 1397 | E71: 904 | F71: 사 방 리 | G71: 510 | H71: 244 | I71: 266 | J71: 245 | K71: 운남 2리 | L71: 152 | M71: 79 | N71: 73 | O71: 63 | P71: 오천 2리 | Q71: 137 | R71: 68 | S71: 69 | T71: 68 | U71: 봉한 4리 | V71: 935 | W71: 457 | X71: 478 | Y71: 288 | Z71: 용혈 1리 | AA71: 56 | AB71: 27 | AC71: 29 | AD71: 30 | AE71: 화남 1리 | AF71: 61 | AG71: 36 | AH71: 25 | AI71: 36 | AJ71: 간상 1리 | AK71: 170 | AL71: 77 | AM71: 93 | AN71: 75 | AO71: 의곡 2리 | AP71: 156 | AQ71: 76 | AR71: 80 | AS71: 74 | AT71: 내리리 | AU71: 259 | AV71: 145 | AW71: 114 | AX71: 157
A72: 원 4리 | B72: 3464 | C72: 1765 | D72: 1699 | E72: 1050 | F72: 청 령 리 | G72: 319 | H72: 159 | I72: 160 | J72: 148 | K72: 계령면 | L72: 2884 | M72: 1459 | N72: 1425 | O72: 1242 | P72: 오천 3리 | Q72: 60 | R72: 28 | S72: 32 | T72: 27 | U72: 항곡 1리 | V72: 812 | W72: 442 | X72: 370 | Y72: 323 | Z72: 용혈 2리 | AA72: 96 | AB72: 53 | AC72: 43 | AD72: 52 | AE72: 화남 2리 | AF72: 53 | AG72: 25 | AH72: 28 | AI72: 25 | AJ72: 간상 2리 | AK72: 123 | AL72: 56 | AM72: 67 | AN72: 57 | AO72: 의곡 3리 | AP72: 69 | AQ72: 34 | AR72: 35 | AS72: 40 | AT72: 문천1리 | AU72: 98 | AV72: 46 | AW72: 52 | AX72: 44
A73: 원 5리 | B73: 1654 | C73: 987 | D73: 667 | E73: 942 | F73: 건천읍 | G73: 10863 | H73: 5519 | I73: 5344 | J73: 5161 | K73: 황계 1리 | L73: 393 | M73: 203 | N73: 190 | O73: 169 | P73: 북후면 | Q73: 3586 | R73: 1831 | S73: 1755 | T73: 1610 | U73: 항곡 2리 | V73: 258 | W73: 121 | X73: 137 | Y73: 80 | Z73: 문수면 | AA73: 2154 | AB73: 1090 | AC73: 1064 | AD73: 1052 | AE73: 화남 3리 | AF73: 196 | AG73: 100 | AH73: 96 | AI73: 102 | AJ73: 신 암 리 | AK73: 152 | AL73: 73 | AM73: 79 | AN73: 71 | AO73: 김 용 리 | AP73: 165 | AQ73: 91 | AR73: 74 | AS73: 77 | AT73: 문천2리 | AU73: 100 | AV73: 58 | AW73: 42 | AX73: 44
A74: 원 6리 | B74: 2322 | C74: 1396 | D74: 926 | E74: 1309 | F74: 건천 1리 | G74: 573 | H74: 267 | I74: 306 | J74: 332 | K74: 황계 2리 | L74: 117 | M74: 61 | N74: 56 | O74: 53 | P74: 옹천 1리 | Q74: 258 | R74: 126 | S74: 132 | T74: 128 | U74: 예강 1리 | V74: 599 | W74: 306 | X74: 293 | Y74: 226 | Z74: 승문 1리 | AA74: 201 | AB74: 103 | AC74: 98 | AD74: 77 | AE74: 왕산 1리 | AF74: 269 | AG74: 134 | AH74: 135 | AI74: 139 | AJ74: 금당 1리 | AK74: 86 | AL74: 41 | AM74: 45 | AN74: 42 | AO74: 포내 1리 | AP74: 140 | AQ74: 70 | AR74: 70 | AS74: 70 | AT74: 문천3리 | AU74: 97 | AV74: 49 | AW74: 48 | AX74: 49
A75: 문덕 1리 | B75: 254 | C75: 136 | D75: 118 | E75: 105 | F75: 건천 2리 | G75: 1741 | H75: 919 | I75: 822 | J75: 766 | K75: 신룡 1리 | L75: 185 | M75: 91 | N75: 94 | O75: 76 | P75: 옹천 2리 | Q75: 213 | R75: 92 | S75: 121 | T75: 95 | U75: 예강 2리 | V75: 184 | W75: 92 | X75: 92 | Y75: 75 | Z75: 승문 2리 | AA75: 99 | AB75: 52 | AC75: 47 | AD75: 43 | AE75: 왕산 2리 | AF75: 237 | AG75: 115 | AH75: 122 | AI75: 107 | AJ75: 금당 2리 | AK75: 52 | AL75: 26 | AM75: 26 | AN75: 30 | AO75: 포내 2리 | AP75: 112 | AQ75: 59 | AR75: 53 | AS75: 46 | AT75: 평(坪)사리 | AU75: 347 | AV75: 215 | AW75: 132 | AX75: 256
A76: 문덕 2리 | B76: 89 | C76: 50 | D76: 39 | E76: 47 | F76: 건천 3리 | G76: 376 | H76: 177 | I76: 199 | J76: 184 | K76: 신룡 2리 | L76: 102 | M76: 50 | N76: 52 | O76: 41 | P76: 옹천 3리 | Q76: 509 | R76: 262 | S76: 247 | T76: 264 | U76: 무을면 | V76: 2139 | W76: 1070 | X76: 1069 | Y76: 1019 | Z76: 만방 1리 | AA76: 173 | AB76: 83 | AC76: 90 | AD76: 77 | AE76: 매양 1리 | AF76: 336 | AG76: 163 | AH76: 173 | AI76: 163 | AJ76: 우물 1리 | AK76: 59 | AL76: 29 | AM76: 30 | AN76: 24 | AO76: 사근 1리 | AP76: 434 | AQ76: 256 | AR76: 178 | AS76: 228 | AT76: 평(平)사1리 | AU76: 195 | AV76: 96 | AW76: 99 | AX76: 94
A77: 문덕 3리 | B77: 1889 | C77: 1091 | D77: 798 | E77: 944 | F77: 건천 4리 | G77: 1170 | H77: 565 | I77: 605 | J77: 525 | K77: 신룡 3리 | L77: 225 | M77: 117 | N77: 108 | O77: 81 | P77: 장 기 리 | Q77: 181 | R77: 92 | S77: 89 | T77: 88 | U77: 송삼 1리 | V77: 211 | W77: 103 | X77: 108 | Y77: 101 | Z77: 만방 2리 | AA77: 137 | AB77: 73 | AC77: 64 | AD77: 62 | AE77: 매양 2리 | AF77: 62 | AG77: 32 | AH77: 30 | AI77: 38 | AJ77: 우물 2리 | AK77: 39 | AL77: 14 | AM77: 25 | AN77: 21 | AO77: 사근 2리 | AP77: 120 | AQ77: 55 | AR77: 65 | AS77: 62 | AT77: 평(平)사2리 | AU77: 353 | AV77: 203 | AW77: 150 | AX77: 204
...

Sheet 1-3. 리별 인구 및 세대현황(군)
A2: 1-3. 리별 세대 및 인구 현황(외국인 제외)
AO3: 왜관19리, 왜관20리, 죽전3리 | BK3: (단위 : 명, 세대)
A4: 군위군 | F4: 의성군 | K4: 청송군 | P4: 영양군 | U4: 영덕군 | Z4: 청도군 | AE4: 고령군 | AJ4: 성주군 | AO4: 칠곡군 | AT4: 예천군 | AY4: 봉화군 | BD4: 울진군 | BI4: 울릉군
A5: 행정구역 | B5: 계 | C5: 남 | D5: 여 | E5: 세대수 | F5: 행정구역 | G5: 계 | H5: 남 | I5: 여 | J5: 세 대 | K5: 행정구역 | L5: 계 | M5: 남 | N5: 여 | O5: 세 대 | P5: 행정구역 | Q5: 계 | R5: 남 | S5: 여 | T5: 세 대 | U5: 행정구역 | V5: 계 | W5: 남 | X5: 여 | Y5: 세 대 | Z5: 행정구역 | AA5: 계 | AB5: 남 | AC5: 여 | AD5: 세 대 | AE5: 행정구역 | AF5: 계 | AG5: 남 | AH5: 여 | AI5: 세 대 | AJ5: 행정구역 | AK5: 계 | AL5: 남 | AM5: 여 | AN5: 세 대 | AO5: 행정구역 | AP5: 계 | AQ5: 남 | AR5: 여 | AS5: 세 대 | AT5: 행정구역 | AU5: 계 | AV5: 남 | AW5: 여 | AX5: 세 대 | AY5: 행정구역 | AZ5: 계 | BA5: 남 | BB5: 여 | BC5: 세 대 | BD5: 행정구역 | BE5: 계 | BF5: 남 | BG5: 여 | BH5: 세 대 | BI5: 행정구역 | BJ5: 계 | BK5: 남 | BL5: 여 | BM5: 세 대
A6: 군위읍 | B6: 8193 | C6: 4195 | D6: 3998 | E6: 3693 | F6: 의성읍 | G6: 14324 | H6: 7104 | I6: 7220 | J6: 6474 | K6: 청송읍 | L6: 5495 | M6: 2726 | N6: 2769 | O6: 2538 | P6: 영양읍 | Q6: 7907 | R6: 3875 | S6: 4032 | T6: 3496 | U6: 영덕읍 | V6: 11312 | W6: 5413 | X6: 5899 | Y6: 5683 | Z6: 화양읍 | AA6: 7927 | AB6: 3840 | AC6: 4087 | AD6: 3459 | AE6: 고령읍 | AF6: 11003 | AG6: 5532 | AH6: 5471 | AI6: 4887 | AJ6: 성주읍 | AK6: 13776 | AL6: 6930 | AM6: 6846 | AN6: 5732 | AO6: 왜관읍 | AP6: 32614 | AQ6: 16368 | AR6: 16246 | AS6: 13192 | AT6: 예천읍 | AU6: 17398 | AV6: 8634 | AW6: 8764 | AX6: 7478 | AY6: 봉화읍 | AZ6: 10660 | BA6: 5226 | BB6: 5434 | BC6: 4592 | BD6: 울진읍 | BE6: 14734 | BF6: 7293 | BG6: 7441 | BH6: 5800 | BI6: 울릉읍 | BJ6: 7295 | BK6: 3872 | BL6: 3423 | BM6: 3767
A7: 동부 1리 | B7: 793 | C7: 400 | D7: 393 | E7: 330 | F7: 후죽 1리 | G7: 647 | H7: 316 | I7: 331 | J7: 292 | K7: 월막 1리 | L7: 954 | M7: 480 | N7: 474 | O7: 430 | P7: 동부 1리 | Q7: 1248 | R7: 614 | S7: 634 | T7: 568 | U7: 구 미 리 | V7: 144 | W7: 66 | X7: 78 | Y7: 71 | Z7: 동 상 리 | AA7: 185 | AB7: 94 | AC7: 91 | AD7: 104 | AE7: 쾌빈 1리 | AF7: 375 | AG7: 194 | AH7: 181 | AI7: 167 | AJ7: 경산 1리 | AK7: 796 | AL7: 388 | AM7: 408 | AN7: 322 | AO7: 왜관 1리 | AP7: 1111 | AQ7: 551 | AR7: 560 | AS7: 575 | AT7: 노 하 리 | AU7: 665 | AV7: 325 | AW7: 340 | AX7: 370 | AY7: 내성 1리 | AZ7: 1194 | BA7: 572 | BB7: 622 | BC7: 492 | BD7: 읍내 1리 | BE7: 1020 | BF7: 493 | BG7: 527 | BH7: 395 | BI7: 도동 1리 | BJ7: 1357 | BK7: 689 | BL7: 668 | BM7: 673
A8: 동부 2리 | B8: 750 | C8: 376 | D8: 374 | E8: 325 | F8: 후죽 2리 | G8: 568 | H8: 288 | I8: 280 | J8: 284 | K8: 월막 2리 | L8: 1213 | M8: 589 | N8: 624 | O8: 514 | P8: 동부 2리 | Q8: 616 | R8: 280 | S8: 336 | T8: 326 | U8: 화개 1리 | V8: 733 | W8: 370 | X8: 363 | Y8: 302 | Z8: 서상 1리 | AA8: 461 | AB8: 225 | AC8: 236 | AD8: 219 | AE8: 쾌빈 2리 | AF8: 1786 | AG8: 884 | AH8: 902 | AI8: 669 | AJ8: 경산 2리 | AK8: 179 | AL8: 94 | AM8: 85 | AN8: 76 | AO8: 왜관 2리 | AP8: 540 | AQ8: 275 | AR8: 265 | AS8: 240 | AT8: 노 상 리 | AU8: 630 | AV8: 307 | AW8: 323 | AX8: 282 | AY8: 내성 2리 | AZ8: 602 | BA8: 303 | BB8: 299 | BC8: 259 | BD8: 읍내 2리 | BE8: 1580 | BF8: 781 | BG8: 799 | BH8: 617 | BI8: 도동 2리 | BJ8: 1731 | BK8: 929 | BL8: 802 | BM8: 880
A9: 서부 1리 | B9: 1082 | C9: 560 | D9: 522 | E9: 462 | F9: 후죽 3리 | G9: 1172 | H9: 581 | I9: 591 | J9: 495 | K9: 덕 리 | L9: 785 | M9: 398 | N9: 387 | O9: 407 | P9: 서부 1리 | Q9: 1097 | R9: 537 | S9: 560 | T9: 468 | U9: 화개 2리 | V9: 414 | W9: 197 | X9: 217 | Y9: 169 | Z9: 서상 2리 | AA9: 75 | AB9: 37 | AC9: 38 | AD9: 35 | AE9: 쾌빈 3리 | AF9: 1134 | AG9: 536 | AH9: 598 | AI9: 420 | AJ9: 경산 3리 | AK9: 245 | AL9: 132 | AM9: 113 | AN9: 107 | AO9: 왜관 3리 | AP9: 621 | AQ9: 304 | AR9: 317 | AS9: 317 | AT9: 백전 1리 | AU9: 743 | AV9: 371 | AW9: 372 | AX9: 352 | AY9: 내성 3리 | AZ9: 3197 | BA9: 1544 | BB9: 1653 | BC9: 1175 | BD9: 읍내 3리 | BE9: 3759 | BF9: 1883 | BG9: 1876 | BH9: 1438 | BI9: 도동 3리 | BJ9: 1492 | BK9: 767 | BL9: 725 | BM9: 829
A10: 서부 2리 | B10: 582 | C10: 290 | D10: 292 | E10: 247 | F10: 후죽 4리 | G10: 1231 | H10: 584 | I10: 647 | J10: 613 | K10: 금곡 1리 | L10: 823 | M10: 404 | N10: 419 | O10: 331 | P10: 서부 2리 | Q10: 1667 | R10: 814 | S10: 853 | T10: 633 | U10: 남석 1리 | V10: 555 | W10: 265 | X10: 290 | Y10: 265 | Z10: 신 봉 리 | AA10: 145 | AB10: 70 | AC10: 75 | AD10: 68 | AE10: 고아 1리 | AF10: 866 | AG10: 419 | AH10: 447 | AI10: 378 | AJ10: 경산 4리 | AK10: 1139 | AL10: 571 | AM10: 568 | AN10: 394 | AO10: 왜관 4리 | AP10: 508 | AQ10: 264 | AR10: 244 | AS10: 228 | AT10: 백전 2리 | AU10: 1477 | AV10: 721 | AW10: 756 | AX10: 604 | AY10: 내성 4리 | AZ10: 1361 | BA10: 635 | BB10: 726 | BC10: 588 | BD10: 읍내 4리 | BE10: 1136 | BF10: 535 | BG10: 601 | BH10: 471 | BI10: 저동 1리 | BJ10: 1623 | BK10: 861 | BL10: 762 | BM10: 773
A11: 서부 3리 | B11: 912 | C11: 456 | D11: 456 | E11: 358 | F11: 중리 1리 | G11: 586 | H11: 286 | I11: 300 | J11: 303 | K11: 금곡 2리 | L11: 141 | M11: 71 | N11: 70 | O11: 68 | P11: 서부 3리 | Q11: 719 | R11: 373 | S11: 346 | T11: 290 | U11: 남석 2리 | V11: 731 | W11: 340 | X11: 391 | Y11: 372 | Z11: 교 촌 리 | AA11: 107 | AB11: 56 | AC11: 51 | AD11: 58 | AE11: 고아 2리 | AF11: 203 | AG11: 101 | AH11: 102 | AI11: 101 | AJ11: 경산 5리 | AK11: 1087 | AL11: 533 | AM11: 554 | AN11: 395 | AO11: 왜관 5리 | AP11: 1555 | AQ11: 691 | AR11: 864 | AS11: 839 | AT11: 동본 1리 | AU11: 2150 | AV11: 1042 | AW11: 1108 | AX11: 859 | AY11: 삼계 1리 | AZ11: 357 | BA11: 177 | BB11: 180 | BC11: 184 | BD11: 읍내 5리 | BE11: 2614 | BF11: 1305 | BG11: 1309 | BH11: 861 | BI11: 저동 2리 | BJ11: 288 | BK11: 154 | BL11: 134 | BM11: 146
A12: 금구 1리 | B12: 190 | C12: 100 | D12: 90 | E12: 85 | F12: 중리 2리 | G12: 1588 | H12: 797 | I12: 791 | J12: 590 | K12: 금곡 3리 | L12: 105 | M12: 57 | N12: 48 | O12: 52 | P12: 서부 4리 | Q12: 428 | R12: 210 | S12: 218 | T12: 192 | U12: 남석 3리 | V12: 1253 | W12: 612 | X12: 641 | Y12: 586 | Z12: 동 천 리 | AA12: 400 | AB12: 203 | AC12: 197 | AD12: 190 | AE12: 헌 문 리 | AF12: 509 | AG12: 278 | AH12: 231 | AI12: 252 | AJ12: 경산 6리 | AK12: 388 | AL12: 204 | AM12: 184 | AN12: 173 | AO12: 왜관 6리 | AP12: 661 | AQ12: 332 | AR12: 329 | AS12: 306 | AT12: 동본 2리 | AU12: 277 | AV12: 140 | AW12: 137 | AX12: 134 | AY12: 삼계 2리 | AZ12: 113 | BA12: 58 | BB12: 55 | BC12: 51 | BD12: 읍남 1리 | BE12: 215 | BF12: 108 | BG12: 107 | BH12: 98 | BI12: 저동 3리 | BJ12: 69 | BK12: 39 | BL12: 30 | BM12: 43
A13: 금구 2리 | B13: 99 | C13: 57 | D13: 42 | E13: 58 | F13: 중리 3리 | G13: 155 | H13: 82 | I13: 73 | J13: 77 | K13: 청 운 리 | L13: 455 | M13: 215 | N13: 240 | O13: 222 | P13: 황 용 리 | Q13: 50 | R13: 23 | S13: 27 | T13: 21 | U13: 덕곡 1리 | V13: 982 | W13: 474 | X13: 508 | Y13: 508 | Z13: 합천 1리 | AA13: 175 | AB13: 89 | AC13: 86 | AD13: 79 | AE13: 장 기 리 | AF13: 466 | AG13: 244 | AH13: 222 | AI13: 219 | AJ13: 경산 7리 | AK13: 615 | AL13: 300 | AM13: 315 | AN13: 281 | AO13: 왜관 7리 | AP13: 876 | AQ13: 445 | AR13: 431 | AS13: 388 | AT13: 남본 1리 | AU13: 1003 | AV13: 495 | AW13: 508 | AX13: 420 | AY13: 유곡 1리 | AZ13: 143 | BA13: 70 | BB13: 73 | BC13: 73 | BD13: 읍남 2리 | BE13: 113 | BF13: 56 | BG13: 57 | BH13: 51 | BI13: 사동 1리 | BJ13: 342 | BK13: 204 | BL13: 138 | BM13: 211
A14: 무성 1리 | B14: 179 | C14: 88 | D14: 91 | E14: 82 | F14: 상리 1리 | G14: 2775 | H14: 1329 | I14: 1446 | J14: 1134 | K14: 송 생 리 | L14: 206 | M14: 103 | N14: 103 | O14: 107 | P14: 현 1리 | Q14: 150 | R14: 69 | S14: 81 | T14: 71 | U14: 덕곡 2리 | V14: 738 | W14: 360 | X14: 378 | Y14: 378 | Z14: 합천 2리 | AA14: 224 | AB14: 107 | AC14: 117 | AD14: 107 | AE14: 연조 1리 | AF14: 709 | AG14: 357 | AH14: 352 | AI14: 281 | AJ14: 경산 8리 | AK14: 636 | AL14: 302 | AM14: 334 | AN14: 285 | AO14: 왜관 8리 | AP14: 401 | AQ14: 232 | AR14: 169 | AS14: 232 | AT14: 남본 2리 | AU14: 1377 | AV14: 672 | AW14: 705 | AX14: 546 | AY14: 유곡 2리 | AZ14: 114 | BA14: 61 | BB14: 53 | BC14: 62 | BD14: 읍남 3리 | BE14: 106 | BF14: 43 | BG14: 63 | BH14: 65 | BI14: 사동 2리 | BJ14: 148 | BK14: 83 | BL14: 65 | BM14: 82
A15: 무성 2리 | B15: 82 | C15: 41 | D15: 41 | E15: 33 | F15: 상리 2리 | G15: 98 | H15: 43 | I15: 55 | J15: 50 | K15: 교 리 | L15: 119 | M15: 62 | N15: 57 | O15: 55 | P15: 현 2리 | Q15: 124 | R15: 65 | S15: 59 | T15: 64 | U15: 천 전 리 | V15: 146 | W15: 70 | X15: 76 | Y15: 76 | Z15: 범곡 1리 | AA15: 1276 | AB15: 610 | AC15: 666 | AD15: 525 | AE15: 연조 2리 | AF15: 400 | AG15: 197 | AH15: 203 | AI15: 185 | AJ15: 대흥 1리 | AK15: 153 | AL15: 74 | AM15: 79 | AN15: 68 | AO15: 왜관 9리 | AP15: 1079 | AQ15: 555 | AR15: 524 | AS15: 444 | AT15: 서본 1리 | AU15: 569 | AV15: 273 | AW15: 296 | AX15: 263 | AY15: 유곡 3리 | AZ15: 198 | BA15: 100 | BB15: 98 | BC15: 100 | BD15: 읍남 4리 | BE15: 215 | BF15: 112 | BG15: 103 | BH15: 105 | BI15: 사동 3리 | BJ15: 217 | BK15: 119 | BL15: 98 | BM15: 103
A16: 무성 3리 | B16: 146 | C16: 69 | D16: 77 | E16: 65 | F16: 도동 1리 | G16: 758 | H16: 382 | I16: 376 | J16: 371 | K16: 거 대 리 | L16: 127 | M16: 69 | N16: 58 | O16: 74 | P16: 현 3리 | Q16: 90 | R16: 46 | S16: 44 | T16: 39 | U16: 남산 1리 | V16: 231 | W16: 122 | X16: 109 | Y16: 109 | Z16: 범곡 2리 | AA16: 1822 | AB16: 843 | AC16: 979 | AD16: 610 | AE16: 연조 3리 | AF16: 801 | AG16: 372 | AH16: 429 | AI16: 311 | AJ16: 대흥 2리 | AK16: 156 | AL16: 79 | AM16: 77 | AN16: 60 | AO16: 왜관10리 | AP16: 878 | AQ16: 496 | AR16: 382 | AS16: 401 | AT16: 서본 2리 | AU16: 809 | AV16: 438 | AW16: 371 | AX16: 347 | AY16: 거촌 1리 | AZ16: 58 | BA16: 30 | BB16: 28 | BC16: 24 | BD16: 연지 1리 | BE16: 398 | BF16: 199 | BG16: 199 | BH16: 167 | BI16: 독 도 리 | BJ16: 28 | BK16: 27 | BL16: 1 | BM16: 27
A17: 수서 1리 | B17: 291 | C17: 163 | D17: 128 | E17: 149 | F17: 도동 2리 | G17: 859 | H17: 428 | I17: 431 | J17: 391 | K17: 월외 1리 | L17: 95 | M17: 46 | N17: 49 | O17: 50 | P17: 전 곡 리 | Q17: 13 | R17: 7 | S17: 6 | T17: 7 | U17: 남산 2리 | V17: 73 | W17: 37 | X17: 36 | Y17: 36 | Z17: 송 북 리 | AA17: 185 | AB17: 90 | AC17: 95 | AD17: 76 | AE17: 지산 1리 | AF17: 472 | AG17: 244 | AH17: 228 | AI17: 222 | AJ17: 대흥 3리 | AK17: 139 | AL17: 65 | AM17: 74 | AN17: 60 | AO17: 왜관11리 | AP17: 763 | AQ17: 388 | AR17: 375 | AS17: 313 | AT17: 대심 1리 | AU17: 1798 | AV17: 901 | AW17: 897 | AX17: 686 | AY17: 거촌 2리 | AZ17: 213 | BA17: 110 | BB17: 103 | BC17: 101 | BD17: 연지 2리 | BE17: 499 | BF17: 254 | BG17: 245 | BH17: 193 | BI17: 서 면 | BJ17: 1511 | BK17: 795 | BL17: 716 | BM17: 800
A18: 수서 2리 | B18: 118 | C18: 62 | D18: 56 | E18: 65 | F18: 도동 3리 | G18: 845 | H18: 407 | I18: 438 | J18: 377 | K18: 월외 2리 | L18: 18 | M18: 8 | N18: 10 | O18: 12 | P18: 감천 1리 | Q18: 200 | R18: 96 | S18: 104 | T18: 96 | U18: 우 곡 리 | V18: 2,982 | W18: 1422 | X18: 1560 | Y18: 1560 | Z18: 눌 미 리 | AA18: 227 | AB18: 110 | AC18: 117 | AD18: 95 | AE18: 지산 2리 | AF18: 477 | AG18: 246 | AH18: 231 | AI18: 234 | AJ18: 대황 1리 | AK18: 337 | AL18: 175 | AM18: 162 | AN18: 133 | AO18: 왜관12리 | AP18: 601 | AQ18: 276 | AR18: 325 | AS18: 230 | AT18: 대심 2리 | AU18: 411 | AV18: 218 | AW18: 193 | AX18: 183 | AY18: 거촌 3리 | AZ18: 112 | BA18: 62 | BB18: 50 | BC18: 50 | BD18: 연지 3리 | BE18: 231 | BF18: 121 | BG18: 110 | BH18: 102 | BI18: 남양 1리 | BJ18: 475 | BK18: 251 | BL18: 224 | BM18: 242
A19: 사직 1리 | B19: 113 | C19: 57 | D19: 56 | E19: 51 | F19: 도동 4리 | G19: 148 | H19: 74 | I19: 74 | J19: 68 | K19: 부곡 1리 | L19: 350 | M19: 173 | N19: 177 | O19: 161 | P19: 감천 2리 | Q19: 59 | R19: 30 | S19: 29 | T19: 28 | U19: 화수 1리 | V19: 282 | W19: 140 | X19: 142 | Y19: 142 | Z19: 고 평 리 | AA19: 221 | AB19: 106 | AC19: 115 | AD19: 102 | AE19: 지산 3리 | AF19: 1234 | AG19: 661 | AH19: 573 | AI19: 680 | AJ19: 대황 2리 | AK19: 213 | AL19: 117 | AM19: 96 | AN19: 105 | AO19: 왜관13리 | AP19: 1012 | AQ19: 513 | AR19: 499 | AS19: 348 | AT19: 대심 3리 | AU19: 1902 | AV19: 938 | AW19: 964 | AX19: 719 | AY19: 석평 1리 | AZ19: 80 | BA19: 37 | BB19: 43 | BC19: 40 | BD19: 온양 1리 | BE19: 218 | BF19: 108 | BG19: 110 | BH19: 103 | BI19: 남양 2리 | BJ19: 95 | BK19: 51 | BL19: 44 | BM19: 36
A20: 사직 2리 | B20: 109 | C20: 53 | D20: 56 | E20: 53 | F20: 도 서 리 | G20: 542 | H20: 269 | I20: 273 | J20: 257 | K20: 부곡 2리 | L20: 104 | M20: 51 | N20: 53 | O20: 55 | P20: 삼지 1리 | Q20: 66 | R20: 31 | S20: 35 | T20: 38 | U20: 화수 2리 | V20: 133 | W20: 60 | X20: 73 | Y20: 73 | Z20: 소 라 리 | AA20: 216 | AB20: 104 | AC20: 112 | AD20: 94 | AE20: 본관 1리 | AF20: 243 | AG20: 131 | AH20: 112 | AI20: 110 | AJ20: 대황 3리 | AK20: 176 | AL20: 86 | AM20: 90 | AN20: 75 | AO20: 왜관14리 | AP20: 2240 | AQ20: 1087 | AR20: 1153 | AS20: 705 | AT20: 석 정 리 | AU20: 243 | AV20: 121 | AW20: 122 | AX20: 117 | AY20: 석평 2리 | AZ20: 96 | BA20: 56 | BB20: 40 | BC20: 48 | BD20: 온양 2리 | BE20: 242 | BF20: 117 | BG20: 125 | BH20: 123 | BI20: 남양 3리 | BJ20: 209 | BK20: 99 | BL20: 110 | BM20: 95
A21: 내량 1리 | B21: 206 | C21: 106 | D21: 100 | E21: 75 | F21: 치선 1리 | G21: 112 | H21: 51 | I21: 61 | J21: 52 | K21: 부동면 | L21: 2014 | M21: 994 | N21: 1020 | O21: 1054 | P21: 삼지 2리 | Q21: 81 | R21: 43 | S21: 38 | T21: 34 | U21: 삼 계 리 | V21: 65 | W21: 35 | X21: 30 | Y21: 30 | Z21: 유등 1리 | AA21: 256 | AB21: 137 | AC21: 119 | AD21: 142 | AE21: 본관 2리 | AF21: 141 | AG21: 72 | AH21: 69 | AI21: 71 | AJ21: 성산 1리 | AK21: 255 | AL21: 130 | AM21: 125 | AN21: 109 | AO21: 왜관15리 | AP21: 1210 | AQ21: 611 | AR21: 599 | AS21: 385 | AT21: 지 내 리 | AU21: 149 | AV21: 79 | AW21: 70 | AX21: 77 | AY21: 석평 3리 | AZ21: 250 | BA21: 119 | BB21: 131 | BC21: 118 | BD21: 명도 1리 | BE21: 133 | BF21: 69 | BG21: 64 | BH21: 72 | BI21: 남서 1리 | BJ21: 203 | BK21: 110 | BL21: 93 | BM21: 108
A22: 내량 2리 | B22: 216 | C22: 109 | D22: 107 | E22: 105 | F22: 치선 2리 | G22: 90 | H22: 45 | I22: 45 | J22: 49 | K22: 상 평 리 | L22: 138 | M22: 67 | N22: 71 | O22: 69 | P22: 하 원 리 | Q22: 162 | R22: 78 | S22: 84 | T22: 67 | U22: 매정 1리 | V22: 123 | W22: 56 | X22: 67 | Y22: 67 | Z22: 유등 2리 | AA22: 172 | AB22: 79 | AC22: 93 | AD22: 92 | AE22: 중화 1리 | AF22: 128 | AG22: 70 | AH22: 58 | AI22: 67 | AJ22: 성산 2리 | AK22: 121 | AL22: 59 | AM22: 62 | AN22: 59 | AO22: 왜관16리 | AP22: 1395 | AQ22: 678 | AR22: 717 | AS22: 470 | AT22: 상 리 | AU22: 181 | AV22: 94 | AW22: 87 | AX22: 81 | AY22: 해저 1리 | AZ22: 192 | BA22: 95 | BB22: 97 | BC22: 89 | BD22: 명도 2리 | BE22: 106 | BF22: 53 | BG22: 53 | BH22: 49 | BI22: 남서 2리 | BJ22: 41 | BK22: 21 | BL22: 20 | BM22: 25
A23: 외량 1리 | B23: 99 | C23: 52 | D23: 47 | E23: 50 | F23: 오로 1리 | G23: 141 | H23: 59 | I23: 82 | J23: 69 | K23: 지 리 | L23: 161 | M23: 84 | N23: 77 | O23: 82 | P23: 상원 1리 | Q23: 102 | R23: 51 | S23: 51 | T23: 51 | U23: 매정 2리 | V23: 68 | W23: 30 | X23: 38 | Y23: 38 | Z23: 유등 3리 | AA23: 152 | AB23: 75 | AC23: 77 | AD23: 67 | AE23: 중화 2리 | AF23: 90 | AG23: 40 | AH23: 50 | AI23: 47 | AJ23: 성산 3리 | AK23: 105 | AL23: 54 | AM23: 51 | AN23: 46 | AO23: 왜관17리 | AP23: 1896 | AQ23: 932 | AR23: 964 | AS23: 548 | AT23: 왕신 1리 | AU23: 131 | AV23: 68 | AW23: 63 | AX23: 64 | AY23: 해저 2리 | AZ23: 600 | BA23: 302 | BB23: 298 | BC23: 314 | BD23: 고성 1리 | BE23: 210 | BF23: 111 | BG23: 99 | BH23: 99 | BI23: 태하 1리 | BJ23: 417 | BK23: 221 | BL23: 196 | BM23: 248
A24: 외량 2리 | B24: 77 | C24: 38 | D24: 39 | E24: 38 | F24: 오로 2리 | G24: 212 | H24: 101 | I24: 111 | J24: 105 | K24: 하 의 리 | L24: 238 | M24: 111 | N24: 127 | O24: 122 | P24: 상원 2리 | Q24: 85 | R24: 45 | S24: 40 | T24: 43 | U24: 매정 3리 | V24: 66 | W24: 36 | X24: 30 | Y24: 30 | Z24: 토평 1리 | AA24: 117 | AB24: 59 | AC24: 58 | AD24: 60 | AE24: 저 전 리 | AF24: 169 | AG24: 87 | AH24: 82 | AI24: 94 | AJ24: 성산 4리 | AK24: 98 | AL24: 52 | AM24: 46 | AN24: 37 | AO24: 왜관18리 | AP24: 1995 | AQ24: 987 | AR24: 1008 | AS24: 629 | AT24: 왕신 2리 | AU24: 182 | AV24: 86 | AW24: 96 | AX24: 87 | AY24: 해저 3리 | AZ24: 177 | BA24: 87 | BB24: 90 | BC24: 83 | BD24: 고성 2리 | BE24: 140 | BF24: 67 | BG24: 73 | BH24: 72 | BI24: 태하 2리 | BJ24: 71 | BK24: 42 | BL24: 29 | BM24: 46
... A33: 정 2리 | B33: 152 | C33: 76 | D33: 76 | E33: 75 | F33: 원당 2리 | G33: 130 | H33: 60 | I33: 70 | J33: 72 | K33: 항 리 | L33: 69 | M33: 32 | N33: 37 | O33: 39 | P33: 무창 3리 | Q33: 59 | R33: 31 | S33: 28 | T33: 37 | U33: 화천 3리 | V33: 76 | W33: 32 | X33: 44 | Y33: 44 | Z33: 청도읍 | AA33: 12907 | AB33: 6297 | AC33: 6610 | AD33: 5849 | AE33: 가륜 1리 | AF33: 83 | AG33: 44 | AH33: 39 | AI33: 42 | AJ33: 금산 3리 | AK33: 226 | AL33: 118 | AM33: 108 | AN33: 99 | AO33: 석전 7리 | AP33: 564 | AQ33: 277 | AR33: 287 | AS33: 179 | AT33: 생 천 리 | AU33: 286 | AV33: 152 | AW33: 134 | AX33: 136 | AY33: 오록 1리 | AZ33: 114 | BA33: 57 | BB33: 57 | BC33: 64 | BD33: 대 흥 리 | BE33: 104 | BF33: 56 | BG33: 48 | BH33: 63 | BI33: 현포 2리 | BJ33: 118 | BK33: 62 | BL33: 56 | BM33: 57
A34: 정 3리 | B34: 132 | C34: 74 | D34: 58 | E34: 70 | F34: 원당 3리 | G34: 305 | H34: 232 | I34: 73 | J34: 96 | K34: 부남면 | L34: 2605 | M34: 1285 | N34: 1320 | O34: 1336 | P34: 양 구 리 | Q34: 38 | R34: 21 | S34: 17 | T34: 18 | U34: 강구면 | V34: 6978 | W34: 3344 | X34: 3634 | Y34: 3551 | Z34: 고수 1리 | AA34: 1358 | AB34: 657 | AC34: 701 | AD34: 543 | AE34: 가륜 2리 | AF34: 105 | AG34: 53 | AH34: 52 | AI34: 51 | AJ34: 예산 1리 | AK34: 468 | AL34: 242 | AM34: 226 | AN34: 183 | AO34: 석전 8리 | AP34: 1349 | AQ34: 654 | AR34: 695 | AS34: 456 | AT34: 용산 1리 | AU34: 47 | AV34: 26 | AW34: 21 | AX34: 25 | AY34: 오록 2리 | AZ34: 362 | BA34: 166 | BB34: 196 | BC34: 186 | BD34: 평해읍 | BE34: 3301 | BF34: 1613 | BG34: 1688 | BH34: 1659
A35: 하 곡 리 | B35: 218 | C35: 123 | D35: 95 | E35: 96 | F35: 철 파 리 | G35: 377 | H35: 189 | I35: 188 | J35: 200 | K35: 감연 1리 | L35: 160 | M35: 72 | N35: 88 | O35: 84 | P35: 기 산 리 | Q35: 51 | R35: 25 | S35: 26 | T35: 28 | U35: 강구 1리 | V35: 387 | W35: 193 | X35: 194 | Y35: 168 | Z35: 고수 2리 | AA35: 485 | AB35: 232 | AC35: 253 | AD35: 232 | AE35: 원 송 리 | AF35: 126 | AG35: 50 | AH35: 76 | AI35: 66 | AJ35: 예산 2리 | AK35: 304 | AL35: 163 | AM35: 141 | AN35: 129 | AO35: 석전 9리 | AP35: 326 | AQ35: 166 | AR35: 160 | AS35: 113 | AT35: 용산 2리 | AU35: 57 | AV35: 26 | AW35: 31 | AX35: 33 | AY35: 오록 3리 | AZ35: 114 | BA35: 51 | BB35: 63 | BC35: 46 | BD35: 평해 1리 | BE35: 400 | BF35: 176 | BG35: 224 | BH35: 199
