Workbook
Name D_불명: OFFSET(#REF!,0,0,COUNTA(#REF!),6)
Name D_불명: OFFSET(#REF!,0,0,COUNTA(#REF!),6)
Name D_불명: OFFSET(#REF!,0,0,COUNTA(#REF!),6)
Name D_불명: OFFSET(#REF!,0,0,COUNTA(#REF!),6)
Name D_불명: OFFSET(#REF!,0,0,COUNTA(#REF!),6)
Name D_불명: OFFSET(#REF!,0,0,COUNTA(#REF!),6)
Name D_불명: OFFSET(#REF!,0,0,COUNTA(#REF!),6)
Name D_불명: OFFSET(#REF!,0,0,COUNTA(#REF!),6)
Name D_세대수: OFFSET(#REF!,0,0,COUNTA(#REF!),6)
Name D_세대수: OFFSET(#REF!,0,0,COUNTA(#REF!),6)
Name D_세대수: OFFSET(#REF!,0,0,COUNTA(#REF!),6)
Name D_세대수: OFFSET(#REF!,0,0,COUNTA(#REF!),6)
Name D_세대수: OFFSET(#REF!,0,0,COUNTA(#REF!),6)
Name D_세대수: OFFSET(#REF!,0,0,COUNTA(#REF!),6)
Name D_세대수: OFFSET(#REF!,0,0,COUNTA(#REF!),6)
Name D_세대수: OFFSET(#REF!,0,0,COUNTA(#REF!),6)
Name D_연령: OFFSET(#REF!,0,0,COUNTA(#REF!),9)
Name D_연령: OFFSET(#REF!,0,0,COUNTA(#REF!),9)
Name D_연령: OFFSET(#REF!,0,0,COUNTA(#REF!),9)
Name D_연령: OFFSET(#REF!,0,0,COUNTA(#REF!),9)
Name D_연령: OFFSET(#REF!,0,0,COUNTA(#REF!),9)
Name D_연령: OFFSET(#REF!,0,0,COUNTA(#REF!),9)
Name D_연령: OFFSET(#REF!,0,0,COUNTA(#REF!),9)
Name D_연령: OFFSET(#REF!,0,0,COUNTA(#REF!),9)
Name D_외국인: OFFSET(#REF!,0,0,COUNTA(#REF!),6)
Name D_외국인: OFFSET(#REF!,0,0,COUNTA(#REF!),6)
Name D_외국인: OFFSET(#REF!,0,0,COUNTA(#REF!),6)
Name D_외국인: OFFSET(#REF!,0,0,COUNTA(#REF!),6)
Name D_외국인: OFFSET(#REF!,0,0,COUNTA(#REF!),6)
Name D_외국인: OFFSET(#REF!,0,0,COUNTA(#REF!),6)
Name D_외국인: OFFSET(#REF!,0,0,COUNTA(#REF!),6)
Name D_외국인: OFFSET(#REF!,0,0,COUNTA(#REF!),6)
Name D_외국인_상세: OFFSET(#REF!,0,0,COUNTA(#REF!),8)
Name D_외국인_상세: OFFSET(#REF!,0,0,COUNTA(#REF!),8)
Name D_외국인_상세: OFFSET(#REF!,0,0,COUNTA(#REF!),8)
Name D_외국인_상세: OFFSET(#REF!,0,0,COUNTA(#REF!),8)
Name D_외국인_상세: OFFSET(#REF!,0,0,COUNTA(#REF!),8)
Name D_외국인_상세: OFFSET(#REF!,0,0,COUNTA(#REF!),8)
Name D_외국인_상세: OFFSET(#REF!,0,0,COUNTA(#REF!),8)
Name D_외국인_상세: OFFSET(#REF!,0,0,COUNTA(#REF!),8)
Name DATA_국적별외국인: #REF!
Name DATA_국적별외국인: #REF!
Name DATA_국적별외국인: #REF!
Name DATA_국적별외국인: #REF!
Name DATA_국적별외국인: #REF!
Name DATA_국적별외국인: #REF!
Name DATA_국적별외국인: '3. 국적별 외국인 현황'!$B$7:$BW$65
Name DATA_국적별외국인: #REF!
Name DATA_세대인구총괄: '1-2. 읍면동별 인구 및 세대현황'!$B$7:$M$194
Name DATA_세대인구총괄: '1-2. 읍면동별 인구 및 세대현황'!$B$7:$M$194
Name DATA_세대인구총괄: '1-2. 읍면동별 인구 및 세대현황'!$B$7:$M$194
Name DATA_세대인구총괄: '1-2. 읍면동별 인구 및 세대현황'!$B$7:$M$194
Name DATA_세대인구총괄: '1-2. 읍면동별 인구 및 세대현황'!$B$7:$M$194
Name DATA_세대인구총괄: '1-2. 읍면동별 인구 및 세대현황'!$B$7:$M$194
Name DATA_세대인구총괄: #REF!
Name DATA_체류자격: #REF!
Name DATA_체류자격: #REF!
Name DATA_체류자격: #REF!
Name DATA_체류자격: #REF!
Name DATA_체류자격: #REF!

Sheet 1-1. 시군별 인구 및 세대현황
B2: 1-1. 시군별 인구 및 세대현황
L4: (단위 : 세대, 명)
C5: 연도(분기) | E5: 세 대 수 | F5: 총 계 | I5: 한 국 인 | L5: 외 국 인
F6: 총 계 | G6: 남 | H6: 여 | I6: 소 계 | J6: 남 | K6: 여 | L6: 소 계 | M6: 남 | N6: 여
C8: 1995 | E8: 862912 | F8: 2775922 | G8: 1392540 | H8: 1383382 | I8: 2770378 | J8: 1389878 | K8: 1380500 | L8: 5544 | M8: 2662 | N8: 2882
C9: 1996 | E9: 890719 | F9: 2799171 | G9: 1403863 | H9: 1395308 | I9: 2790451 | J9: 1399442 | K9: 1391009 | L9: 8720 | M9: 4421 | N9: 4299
C10: 1997 | E10: 914824 | F10: 2811586 | G10: 1409973 | H10: 1401613 | I10: 2799084 | J10: 1403153 | K10: 1395931 | L10: 12502 | M10: 6820 | N10: 5682
C11: 1998 | E11: 921203 | F11: 2820111 | G11: 1413857 | H11: 1406254 | I11: 2809595 | J11: 1408418 | K11: 1401177 | L11: 10516 | M11: 5439 | N11: 5077
C12: 1999 | E12: 931140 | F12: 2820319 | G12: 1413928 | H12: 1406391 | I12: 2808567 | J12: 1407843 | K12: 1400724 | L12: 11752 | M12: 6085 | N12: 5667
C13: 2000 | E13: 943498 | F13: 2813551 | G13: 1410152 | H13: 1403399 | I13: 2797178 | J13: 1401512 | K13: 1395666 | L13: 16373 | M13: 8640 | N13: 7733
C14: 2001 | E14: 954933 | F14: 2802597 | G14: 1403689 | H14: 1398908 | I14: 2784704 | J14: 1394244 | K14: 1390460 | L14: 17893 | M14: 9445 | N14: 8448
C15: 2002 | E15: 964032 | F15: 2775890 | G15: 1390433 | H15: 1385457 | I15: 2756744 | J15: 1380211 | K15: 1376533 | L15: 19146 | M15: 10222 | N15: 8924
C16: 2003 | E16: 974099 | F16: 2742123 | G16: 1375503 | H16: 1366620 | I16: 2720832 | J16: 1363201 | K16: 1357631 | L16: 21291 | M16: 12302 | N16: 8989
C17: 2004 | E17: 985475 | F17: 2718613 | G17: 1366188 | H17: 1352425 | I17: 2695917 | J17: 1352420 | K17: 1343497 | L17: 22696 | M17: 13768 | N17: 8928
C18: 2005 | E18: 1006080 | F18: 2711900 | G18: 1363745 | H18: 1348155 | I18: 2688491 | J18: 1349437 | K18: 1339054 | L18: 23409 | M18: 14308 | N18: 9101
C19: 2006 | E19: 1030265 | F19: 2718298 | G19: 1368074 | H19: 1350224 | I19: 2688577 | J19: 1349830 | K19: 1338747 | L19: 29721 | M19: 18244 | N19: 11477
C20: 2007 | E20: 1045213 | F20: 2715085 | G20: 1366900 | H20: 1348185 | I20: 2681364 | J20: 1346756 | K20: 1334608 | L20: 33721 | M20: 20144 | N20: 13577
C21: 2008 | E21: 1058099 | F21: 2709662 | G21: 1364216 | H21: 1345446 | I21: 2673931 | J21: 1343199 | K21: 1330732 | L21: 35731 | M21: 21017 | N21: 14714
C22: 2009 | E22: 1073367 | F22: 2705226 | G22: 1361969 | H22: 1343257 | I22: 2669876 | J22: 1340977 | K22: 1328899 | L22: 35350 | M22: 20992 | N22: 14358
C23: 2010 | E23: 1101486 | F23: 2726815 | G23: 1373272 | H23: 1353543 | I23: 2689920 | J23: 1351202 | K23: 1338718 | L23: 36895 | M23: 22070 | N23: 14825
C24: 2011 | E24: 1114901 | F24: 2739179 | G24: 1380367 | H24: 1358812 | I24: 2699195 | J24: 1355727 | K24: 1343468 | L24: =SUM(M24:N24) -> 39984 | M24: 24640 | N24: 15344
C25: 2012 | E25: 1125195 | F25: 2738420 | G25: 1379825 | H25: 1358595 | I25: 2698353 | J25: 1355294 | K25: 1343059 | L25: 40067 | M25: 24531 | N25: 15536
C27: 2013 3/4 | E27: 1134249 | F27: 2739509 | G27: 1380867 | H27: 1358642 | I27: 2696705 | J27: 1354402 | K27: 1342303 | L27: 42804 | M27: 26465 | N27: 16339
C28: 2013 4/4 | E28: 1139387 | F28: 2742939 | G28: 1382922 | H28: 1360017 | I28: 2699440 | J28: 1355951 | K28: 1343489 | L28: 43499 | M28: 26971 | N28: 16528
C29: 2014 1/4 | E29: 1142501 | F29: 2741506 | G29: 1382450 | H29: 1359056 | I29: 2697169 | J29: 1354872 | K29: 1342297 | L29: 44337 | M29: 27578 | N29: 16759
C30: 2014 2/4 | E30: 1145091 | F30: 2743058 | G30: 1383581 | H30: 1359477 | I30: 2697248 | J30: 1354925 | K30: 1342323 | L30: 45810 | M30: 28656 | N30: 17154
C31: 2014 3/4 | E31: 1151129 | F31: 2751132 | G31: 1387333 | H31: 1363799 | I31: 2703929 | J31: 1357549 | K31: 1346380 | L31: 47203 | M31: 29784 | N31: 17419
C33: 2014 4/4 경 상 북 도 | E33: =SUM(E34:E56) -> 1153559 | F33: =SUM(F34:F56) -> 2748599 | G33: =SUM(G34:G56) -> 1386564 | H33: =SUM(H34:H56) -> 1362035 | I33: =SUM(I34:I56) -> 2700794 | J33: =SUM(J34:J56) -> 1356182 | K33: =SUM(K34:K56) -> 1344612 | L33: =SUM(L34:L56) -> 47805 | ... N33: =SUM(N34:N56) -> 17423
C34: 포항시 | E34: ='1-2. 읍면동별 인구 및 세대현황'!C8 -> 207515 | F34: =I34+L34 -> 524276 | G34: =J34+M34 -> 265990 | H34: =K34+N34 -> 258286 | I34: =J34+K34 -> 519368 | J34: ='1-2. 읍면동별 인구 및 세대현황'!H8 -> 263070 | K34: ='1-2. 읍면동별 인구 및 세대현황'!I8 -> 256298 | L34: =M34+N34 -> 4908 | M34: ='1-2. 읍면동별 인구 및 세대현황'!K8 -> 2920 | N34: ='1-2. 읍면동별 인구 및 세대현황'!L8 -> 1988
C35: 경주시 | E35: ='1-2. 읍면동별 인구 및 세대현황'!C40 -> 111848 | F35: =I35+L35 -> 269930 | G35: =J35+M35 -> 136781 | H35: =K35+N35 -> 133149 | I35: =J35+K35 -> 261535 | J35: ='1-2. 읍면동별 인구 및 세대현황'!H40 -> 130820 | K35: ='1-2. 읍면동별 인구 및 세대현황'!I40 -> 130715 | L35: =M35+N35 -> 8395 | M35: ='1-2. 읍면동별 인구 및 세대현황'!K40 -> 5961 | N35: ='1-2. 읍면동별 인구 및 세대현황'!L40 -> 2434
C36: 김천시 | E36: ='1-2. 읍면동별 인구 및 세대현황'!C64 -> 57275 | F36: =I36+L36 -> 137158 | G36: =J36+M36 -> 68329 | H36: =K36+N36 -> 68829 | I36: =J36+K36 -> 135456 | J36: ='1-2. 읍면동별 인구 및 세대현황'!H64 -> 67355 | K36: ='1-2. 읍면동별 인구 및 세대현황'!I64 -> 68101 | L36: =M36+N36 -> 1702 | M36: ='1-2. 읍면동별 인구 및 세대현황'!K64 -> 974 | N36: ='1-2. 읍면동별 인구 및 세대현황'!L64 -> 728
C37: 안동시 | E37: ='1-2. 읍면동별 인구 및 세대현황'!C87 -> 71881 | F37: =I37+L37 -> 170094 | G37: =J37+M37 -> 83823 | H37: =K37+N37 -> 86271 | I37: =J37+K37 -> 168697 | J37: ='1-2. 읍면동별 인구 및 세대현황'!H87 -> 83240 | K37: ='1-2. 읍면동별 인구 및 세대현황'!I87 -> 85457 | L37: =M37+N37 -> 1397 | M37: ='1-2. 읍면동별 인구 및 세대현황'!K87 -> 583 | N37: ='1-2. 읍면동별 인구 및 세대현황'!L87 -> 814
C38: 구미시 | E38: ='1-2. 읍면동별 인구 및 세대현황'!C112 -> 166686 | F38: =I38+L38 -> 426532 | G38: =J38+M38 -> 218156 | H38: =K38+N38 -> 208376 | I38: =J38+K38 -> 420320 | J38: ='1-2. 읍면동별 인구 및 세대현황'!H112 -> 214452 | K38: ='1-2. 읍면동별 인구 및 세대현황'!I112 -> 205868 | L38: =M38+N38 -> 6212 | M38: ='1-2. 읍면동별 인구 및 세대현황'!K112 -> 3704 | N38: ='1-2. 읍면동별 인구 및 세대현황'!L112 -> 2508
C39: 영주시 | E39: ='1-2. 읍면동별 인구 및 세대현황'!C140 -> 48093 | F39: =I39+L39 -> 111628 | G39: =J39+M39 -> 55438 | H39: =K39+N39 -> 56190 | I39: =J39+K39 -> 110780 | J39: ='1-2. 읍면동별 인구 및 세대현황'!H140 -> 55109 | K39: ='1-2. 읍면동별 인구 및 세대현황'!I140 -> 55671 | L39: =M39+N39 -> 848 | M39: ='1-2. 읍면동별 인구 및 세대현황'!K140 -> 329 | N39: ='1-2. 읍면동별 인구 및 세대현황'!L140 -> 519
C40: 영천시 | E40: ='1-2. 읍면동별 인구 및 세대현황'!C160 -> 46355 | F40: =I40+L40 -> 103464 | G40: =J40+M40 -> 52705 | H40: =K40+N40 -> 50759 | I40: =J40+K40 -> 100689 | J40: ='1-2. 읍면동별 인구 및 세대현황'!H160 -> 50619 | K40: ='1-2. 읍면동별 인구 및 세대현황'!I160 -> 50070 | L40: =M40+N40 -> 2775 | M40: ='1-2. 읍면동별 인구 및 세대현황'!K160 -> 2086 | N40: ='1-2. 읍면동별 인구 및 세대현황'!L160 -> 689
C41: 상주시 | E41: ='1-2. 읍면동별 인구 및 세대현황'!C177 -> 45845 | F41: =I41+L41 -> 103798 | G41: =J41+M41 -> 50848 | H41: =K41+N41 -> 52950 | I41: =J41+K41 -> 102892 | J41: ='1-2. 읍면동별 인구 및 세대현황'!H177 -> 50485 | K41: ='1-2. 읍면동별 인구 및 세대현황'!I177 -> 52407 | L41: =M41+N41 -> 906 | M41: ='1-2. 읍면동별 인구 및 세대현황'!K177 -> 363 | N41: ='1-2. 읍면동별 인구 및 세대현황'!L177 -> 543
C42: 문경시 | E42: ='1-2. 읍면동별 인구 및 세대현황'!C202 -> 34159 | F42: =I42+L42 -> 76520 | G42: =J42+M42 -> 37487 | H42: =K42+N42 -> 39033 | I42: =J42+K42 -> 75911 | J42: ='1-2. 읍면동별 인구 및 세대현황'!H202 -> 37231 | K42: ='1-2. 읍면동별 인구 및 세대현황'!I202 -> 38680 | L42: =M42+N42 -> 609 | M42: ='1-2. 읍면동별 인구 및 세대현황'!K202 -> 256 | N42: ='1-2. 읍면동별 인구 및 세대현황'!L202 -> 353
C43: 경산시 | E43: ='1-2. 읍면동별 인구 및 세대현황'!C217 -> 103935 | F43: =I43+L43 -> 261191 | G43: =J43+M43 -> 132325 | H43: =K43+N43 -> 128866 | I43: =J43+K43 -> 253968 | J43: ='1-2. 읍면동별 인구 및 세대현황'!H217 -> 127909 | K43: ='1-2. 읍면동별 인구 및 세대현황'!I217 -> 126059 | L43: =M43+N43 -> 7223 | M43: ='1-2. 읍면동별 인구 및 세대현황'!K217 -> 4416 | N43: ='1-2. 읍면동별 인구 및 세대현황'!L217 -> 2807
C44: 군위군 | E44: ='1-2. 읍면동별 인구 및 세대현황'!C233 -> 12038 | F44: =I44+L44 -> 24731 | G44: =J44+M44 -> 12548 | H44: =K44+N44 -> 12183 | I44: =J44+K44 -> 24170 | J44: ='1-2. 읍면동별 인구 및 세대현황'!H233 -> 12120 | K44: ='1-2. 읍면동별 인구 및 세대현황'!I233 -> 12050 | L44: =M44+N44 -> 561 | M44: ='1-2. 읍면동별 인구 및 세대현황'!K233 -> 428 | N44: ='1-2. 읍면동별 인구 및 세대현황'!L233 -> 133
C45: 의성군 | E45: ='1-2. 읍면동별 인구 및 세대현황'!C242 -> 27352 | F45: =I45+L45 -> 55888 | G45: =J45+M45 -> 27309 | H45: =K45+N45 -> 28579 | I45: =J45+K45 -> 55212 | J45: ='1-2. 읍면동별 인구 및 세대현황'!H242 -> 26922 | K45: ='1-2. 읍면동별 인구 및 세대현황'!I242 -> 28290 | L45: =M45+N45 -> 676 | M45: ='1-2. 읍면동별 인구 및 세대현황'!K242 -> 387 | N45: ='1-2. 읍면동별 인구 및 세대현황'!L242 -> 289
C46: 청송군 | E46: ='1-2. 읍면동별 인구 및 세대현황'!C261 -> 13220 | F46: =I46+L46 -> 26732 | G46: =J46+M46 -> 13253 | H46: =K46+N46 -> 13479 | I46: =J46+K46 -> 26453 | J46: ='1-2. 읍면동별 인구 및 세대현황'!H261 -> 13119 | K46: ='1-2. 읍면동별 인구 및 세대현황'!I261 -> 13334 | L46: =M46+N46 -> 279 | M46: ='1-2. 읍면동별 인구 및 세대현황'!K261 -> 134 | N46: ='1-2. 읍면동별 인구 및 세대현황'!L261 -> 145
C47: 영양군 | E47: ='1-2. 읍면동별 인구 및 세대현황'!C270 -> 8817 | F47: =I47+L47 -> 18408 | G47: =J47+M47 -> 9006 | H47: =K47+N47 -> 9402 | I47: =J47+K47 -> 18197 | J47: ='1-2. 읍면동별 인구 및 세대현황'!H270 -> 8944 | K47: ='1-2. 읍면동별 인구 및 세대현황'!I270 -> 9253 | L47: =M47+N47 -> 211 | M47: ='1-2. 읍면동별 인구 및 세대현황'!K270 -> 62 | N47: ='1-2. 읍면동별 인구 및 세대현황'!L270 -> 149
C48: 영덕군 | E48: ='1-2. 읍면동별 인구 및 세대현황'!C277 -> 20006 | F48: =I48+L48 -> 40318 | G48: =J48+M48 -> 19361 | H48: =K48+N48 -> 20957 | I48: =J48+K48 -> 39586 | J48: ='1-2. 읍면동별 인구 및 세대현황'!H277 -> 18846 | K48: ='1-2. 읍면동별 인구 및 세대현황'!I277 -> 20740 | L48: =M48+N48 -> 732 | M48: ='1-2. 읍면동별 인구 및 세대현황'!K277 -> 515 | N48: ='1-2. 읍면동별 인구 및 세대현황'!L277 -> 217
C49: 청도군 | E49: ='1-2. 읍면동별 인구 및 세대현황'!C287 -> 21211 | F49: =I49+L49 -> 44897 | G49: =J49+M49 -> 21915 | H49: =K49+N49 -> 22982 | I49: =J49+K49 -> 43993 | J49: ='1-2. 읍면동별 인구 및 세대현황'!H287 -> 21448 | K49: ='1-2. 읍면동별 인구 및 세대현황'!I287 -> 22545 | L49: =M49+N49 -> 904 | M49: ='1-2. 읍면동별 인구 및 세대현황'!K287 -> 467 | N49: ='1-2. 읍면동별 인구 및 세대현황'!L287 -> 437
C50: 고령군 | E50: ='1-2. 읍면동별 인구 및 세대현황'!C297 -> 16163 | F50: =I50+L50 -> 36853 | G50: =J50+M50 -> 19291 | H50: =K50+N50 -> 17562 | I50: =J50+K50 -> 35033 | J50: ='1-2. 읍면동별 인구 및 세대현황'!H297 -> 17847 | K50: ='1-2. 읍면동별 인구 및 세대현황'!I297 -> 17186 | L50: =M50+N50 -> 1820 | M50: ='1-2. 읍면동별 인구 및 세대현황'!K297 -> 1444 | N50: ='1-2. 읍면동별 인구 및 세대현황'!L297 -> 376
C51: 성주군 | E51: ='1-2. 읍면동별 인구 및 세대현황'!C306 -> 20989 | F51: =I51+L51 -> 46509 | G51: =J51+M51 -> 24117 | H51: =K51+N51 -> 22392 | I51: =J51+K51 -> 44981 | J51: ='1-2. 읍면동별 인구 및 세대현황'!H306 -> 23007 | K51: ='1-2. 읍면동별 인구 및 세대현황'!I306 -> 21974 | L51: =M51+N51 -> 1528 | M51: ='1-2. 읍면동별 인구 및 세대현황'!K306 -> 1110 | N51: ='1-2. 읍면동별 인구 및 세대현황'!L306 -> 418
C52: 칠곡군 | E52: ='1-2. 읍면동별 인구 및 세대현황'!C317 -> 52555 | F52: =I52+L52 -> 126092 | G52: =J52+M52 -> 66147 | H52: =K52+N52 -> 59945 | I52: =J52+K52 -> 122058 | J52: ='1-2. 읍면동별 인구 및 세대현황'!H317 -> 63281 | K52: ='1-2. 읍면동별 인구 및 세대현황'!I317 -> 58777 | L52: =M52+N52 -> 4034 | M52: ='1-2. 읍면동별 인구 및 세대현황'!K317 -> 2866 | N52: ='1-2. 읍면동별 인구 및 세대현황'!L317 -> 1168
C53: 예천군 | E53: ='1-2. 읍면동별 인구 및 세대현황'!C326 -> 21394 | F53: =I53+L53 -> 45559 | G53: =J53+M53 -> 22301 | H53: =K53+N53 -> 23258 | I53: =J53+K53 -> 45104 | J53: ='1-2. 읍면동별 인구 및 세대현황'!H326 -> 22145 | K53: ='1-2. 읍면동별 인구 및 세대현황'!I326 -> 22959 | L53: =M53+N53 -> 455 | M53: ='1-2. 읍면동별 인구 및 세대현황'!K326 -> 156 | N53: ='1-2. 읍면동별 인구 및 세대현황'!L326 -> 299
C54: 봉화군 | E54: ='1-2. 읍면동별 인구 및 세대현황'!C339 -> 16268 | F54: =I54+L54 -> 34308 | G54: =J54+M54 -> 17009 | H54: =K54+N54 -> 17299 | I54: =J54+K54 -> 34023 | J54: ='1-2. 읍면동별 인구 및 세대현황'!H339 -> 16911 | K54: ='1-2. 읍면동별 인구 및 세대현황'!I339 -> 17112 | L54: =M54+N54 -> 285 | M54: ='1-2. 읍면동별 인구 및 세대현황'!K339 -> 98 | N54: ='1-2. 읍면동별 인구 및 세대현황'!L339 -> 187
C55: 울진군 | E55: ='1-2. 읍면동별 인구 및 세대현황'!C350 -> 24590 | F55: =I55+L55 -> 53318 | G55: =J55+M55 -> 26841 | H55: =K55+N55 -> 26477 | I55: =J55+K55 -> 52104 | J55: ='1-2. 읍면동별 인구 및 세대현황'!H350 -> 25825 | K55: ='1-2. 읍면동별 인구 및 세대현황'!I350 -> 26279 | L55: =M55+N55 -> 1214 | M55: ='1-2. 읍면동별 인구 및 세대현황'!K350 -> 1016 | N55: ='1-2. 읍면동별 인구 및 세대현황'!L350 -> 198
C56: 울릉군 | E56: ='1-2. 읍면동별 인구 및 세대현황'!C361 -> 5364 | F56: =I56+L56 -> 10395 | G56: =J56+M56 -> 5584 | H56: =K56+N56 -> 4811 | I56: =J56+K56 -> 10264 | J56: ='1-2. 읍면동별 인구 및 세대현황'!H361 -> 5477 | K56: ='1-2. 읍면동별 인구 및 세대현황'!I361 -> 4787 | L56: =M56+N56 -> 131 | M56: ='1-2. 읍면동별 인구 및 세대현황'!K361 -> 107 | N56: ='1-2. 읍면동별 인구 및 세대현황'!L361 -> 24

Sheet 1-2. 읍면동별 인구 및 세대현황
B2: 1-2. 읍면동별 인구 및 세대현황
B4: * 행정동 기준 | L4: (단위 : 세대, 명)
C5: 세대수 | D5: 총 계 | G5: 한 국 인 | J5: 외 국 인
A6: 그룹 | B6: 구분 | D6: 총 계 | E6: 남 | F6: 여 | G6: 소 계 | H6: 남 | I6: 여 | J6: 소 계 | K6: 남 | L6: 여
A7: 1100000 | B7: 경 상 북 도 | C7: =C8+C40+C64+C87+C112+C140+C160+C177+C202+C217+C233+C242+C261+C270+C287+C297+C306+C317+C326+C339+C350+C361+C277 -> 1153559 | D7: =D8+D40+D64+D87+D112+D140+D160+D177+D202+D217+D233+D242+D261+D270+D287+D297+D306+D317+D326+D339+D350+D361+D277 -> 2748599 | E7: =E8+E40+E64+E87+E112+E140+E160+E177+E202+E217+E233+E242+E261+E270+E287+E297+E306+E317+E326+E339+E350+E361+E277 -> 1386564 | F7: =F8+F40+F64+F87+F112+F140+F160+F177+F202+F217+F233+F242+F261+F270+F287+F297+F306+F317+F326+F339+F350+F361+F277 -> 1362035 | G7: =G8+G40+G64+G87+G112+G140+G160+G177+G202+G217+G233+G242+G261+G270+G287+G297+G306+G317+G326+G339+G350+G361+G277 -> 2700794 | H7: =H8+H40+H64+H87+H112+H140+H160+H177+H202+H217+H233+H242+H261+H270+H287+H297+H306+H317+H326+H339+H350+H361+H277 -> 1356182 | I7: =I8+I40+I64+I87+I112+I140+I160+I177+I202+I217+I233+I242+I261+I270+I287+I297+I306+I317+I326+I339+I350+I361+I277 -> 1344612 | J7: =J8+J40+J64+J87+J112+J140+J160+J177+J202+J217+J233+J242+J261+J270+J287+J297+J306+J317+J326+J339+J350+J361+J277 -> 47805 | ... L7: =L8+L40+L64+L87+L112+L140+L160+L177+L202+L217+L233+L242+L261+L270+L287+L297+L306+L317+L326+L339+L350+L361+L277 -> 17423
A8: 1101000 | B8: 포항시 | C8: =C9+C24 -> 207515 | D8: =D9+D24 -> 524276 | E8: =E9+E24 -> 265990 | F8: =F9+F24 -> 258286 | G8: =G9+G24 -> 519368 | H8: =H9+H24 -> 263070 | I8: =I9+I24 -> 256298 | J8: =J9+J24 -> 4908 | ... L8: =L9+L24 -> 1988
A9: 1101054 | B9: 남구(계) | C9: =SUM(C10:C23) -> 101073 | D9: =G9+J9 -> 250721 | E9: =H9+K9 -> 129410 | F9: =I9+L9 -> 121311 | G9: =SUM(G10:G23) -> 247649 | H9: =SUM(H10:H23) -> 127446 | I9: =SUM(I10:I23) -> 120203 | J9: =SUM(J10:J23) -> 3072 | K9: =SUM(K10:K23) -> 1964 | L9: =SUM(L10:L23) -> 1108
B10: 구룡포읍 | C10: 4899 | D10: =G10+J10 -> 9881 | E10: =H10+K10 -> 5282 | F10: =I10+L10 -> 4599 | G10: =SUM(H10:I10) -> 9264 | H10: ='2-3.읍면동 연령별 한국인(각세)'!D9 -> 4725 | I10: ='2-3.읍면동 연령별 한국인(각세)'!E9 -> 4539 | J10: =SUM(K10:L10) -> 617 | K10: 557 | L10: 60
B11: 연일읍 | C11: 12124 | D11: =G11+J11 -> 34744 | E11: =H11+K11 -> 17747 | F11: =I11+L11 -> 16997 | G11: =SUM(H11:I11) -> 34520 | H11: ='2-3.읍면동 연령별 한국인(각세)'!D10 -> 17649 | I11: ='2-3.읍면동 연령별 한국인(각세)'!E10 -> 16871 | J11: =SUM(K11:L11) -> 224 | K11: 98 | L11: 126
B12: 오천읍 | C12: 21149 | D12: =G12+J12 -> 53328 | E12: =H12+K12 -> 28018 | F12: =I12+L12 -> 25310 | G12: =SUM(H12:I12) -> 52864 | H12: ='2-3.읍면동 연령별 한국인(각세)'!D11 -> 27806 | I12: ='2-3.읍면동 연령별 한국인(각세)'!E11 -> 25058 | J12: =SUM(K12:L12) -> 464 | K12: 212 | L12: 252
B13: 대송면 | C13: 2175 | D13: =G13+J13 -> 4951 | E13: =H13+K13 -> 2712 | F13: =I13+L13 -> 2239 | G13: =SUM(H13:I13) -> 4657 | H13: ='2-3.읍면동 연령별 한국인(각세)'!D12 -> 2459 | I13: ='2-3.읍면동 연령별 한국인(각세)'!E12 -> 2198 | J13: =SUM(K13:L13) -> 294 | K13: 253 | L13: 41
B14: 동해면 | C14: 4454 | D14: =G14+J14 -> 10612 | E14: =H14+K14 -> 5418 | F14: =I14+L14 -> 5194 | G14: =SUM(H14:I14) -> 10517 | H14: ='2-3.읍면동 연령별 한국인(각세)'!D13 -> 5366 | I14: ='2-3.읍면동 연령별 한국인(각세)'!E13 -> 5151 | J14: =SUM(K14:L14) -> 95 | K14: 52 | L14: 43
B15: 장기면 | C15: 2573 | D15: =G15+J15 -> 5097 | E15: =H15+K15 -> 2515 | F15: =I15+L15 -> 2582 | G15: =SUM(H15:I15) -> 4924 | H15: ='2-3.읍면동 연령별 한국인(각세)'!D14 -> 2369 | I15: ='2-3.읍면동 연령별 한국인(각세)'!E14 -> 2555 | J15: =SUM(K15:L15) -> 173 | K15: 146 | L15: 27
B16: 호미곶면 | C16: 1195 | D16: =G16+J16 -> 2317 | E16: =H16+K16 -> 1146 | F16: =I16+L16 -> 1171 | G16: =SUM(H16:I16) -> 2242 | H16: ='2-3.읍면동 연령별 한국인(각세)'!D15 -> 1077 | I16: ='2-3.읍면동 연령별 한국인(각세)'!E15 -> 1165 | J16: =SUM(K16:L16) -> 75 | K16: 69 | L16: 6
B17: 상대동 | C17: 12858 | D17: =G17+J17 -> 28114 | E17: =H17+K17 -> 14521 | F17: =I17+L17 -> 13593 | G17: =SUM(H17:I17) -> 27934 | H17: ='2-3.읍면동 연령별 한국인(각세)'!D16 -> 14472 | I17: ='2-3.읍면동 연령별 한국인(각세)'!E16 -> 13462 | J17: =SUM(K17:L17) -> 180 | K17: 49 | L17: 131
B18: 해도동 | C18: 10109 | D18: =G18+J18 -> 20891 | E18: =H18+K18 -> 10612 | F18: =I18+L18 -> 10279 | G18: =SUM(H18:I18) -> 20768 | H18: ='2-3.읍면동 연령별 한국인(각세)'!D17 -> 10576 | I18: ='2-3.읍면동 연령별 한국인(각세)'!E17 -> 10192 | J18: =SUM(K18:L18) -> 123 | K18: 36 | L18: 87
B19: 송도동 | C19: 7288 | D19: =G19+J19 -> 16256 | E19: =H19+K19 -> 8329 | F19: =I19+L19 -> 7927 | G19: =SUM(H19:I19) -> 16158 | H19: ='2-3.읍면동 연령별 한국인(각세)'!D18 -> 8277 | I19: ='2-3.읍면동 연령별 한국인(각세)'!E18 -> 7881 | J19: =SUM(K19:L19) -> 98 | K19: 52 | L19: 46
B20: 청림동 | C20: 2890 | D20: =G20+J20 -> 6526 | E20: =H20+K20 -> 3409 | F20: =I20+L20 -> 3117 | G20: =SUM(H20:I20) -> 6473 | H20: ='2-3.읍면동 연령별 한국인(각세)'!D19 -> 3387 | I20: ='2-3.읍면동 연령별 한국인(각세)'!E19 -> 3086 | J20: =SUM(K20:L20) -> 53 | K20: 22 | L20: 31
B21: 제철동 | C21: 1464 | D21: =G21+J21 -> 3329 | E21: =H21+K21 -> 1878 | F21: =I21+L21 -> 1451 | G21: =SUM(H21:I21) -> 3242 | H21: ='2-3.읍면동 연령별 한국인(각세)'!D20 -> 1803 | I21: ='2-3.읍면동 연령별 한국인(각세)'!E20 -> 1439 | J21: =SUM(K21:L21) -> 87 | K21: 75 | L21: 12
... B23: 대이동 | C23: 7572 | D23: =G23+J23 -> 22189 | E23: =H23+K23 -> 11111 | F23: =I23+L23 -> 11078 | G23: =SUM(H23:I23) -> 22010 | H23: ='2-3.읍면동 연령별 한국인(각세)'!D22 -> 11027 | I23: ='2-3.읍면동 연령별 한국인(각세)'!E22 -> 10983 | J23: =SUM(K23:L23) -> 179 | K23: 84 | L23: 95
B24: 북구(계) | C24: =SUM(C25:C39) -> 106442 | D24: =G24+J24 -> 273555 | E24: =H24+K24 -> 136580 | F24: =I24+L24 -> 136975 | G24: =SUM(G25:G39) -> 271719 | H24: =SUM(H25:H39) -> 135624 | I24: =SUM(I25:I39) -> 136095 | J24: =SUM(J25:J39) -> 1836 | K24: =SUM(K25:K39) -> 956 | L24: =SUM(L25:L39) -> 880
B25: 흥해읍 | C25: 13937 | D25: =G25+J25 -> 34812 | E25: =H25+K25 -> 17491 | F25: =I25+L25 -> 17321 | G25: =SUM(H25:I25) -> 34301 | H25: ='2-3.읍면동 연령별 한국인(각세)'!D24 -> 17228 | I25: ='2-3.읍면동 연령별 한국인(각세)'!E24 -> 17073 | J25: =SUM(K25:L25) -> 511 | K25: 263 | L25: 248
B26: 신광면 | C26: 1553 | D26: =G26+J26 -> 3041 | E26: =H26+K26 -> 1521 | F26: =I26+L26 -> 1520 | G26: =SUM(H26:I26) -> 3025 | H26: ='2-3.읍면동 연령별 한국인(각세)'!D25 -> 1513 | I26: ='2-3.읍면동 연령별 한국인(각세)'!E25 -> 1512 | J26: =SUM(K26:L26) -> 16 | K26: 8 | L26: 8
B27: 청하면 | C27: 2716 | D27: =G27+J27 -> 5409 | E27: =H27+K27 -> 2674 | F27: =I27+L27 -> 2735 | G27: =SUM(H27:I27) -> 5313 | H27: ='2-3.읍면동 연령별 한국인(각세)'!D26 -> 2613 | I27: ='2-3.읍면동 연령별 한국인(각세)'!E26 -> 2700 | J27: =SUM(K27:L27) -> 96 | K27: 61 | L27: 35
B28: 송라면 | C28: 1513 | D28: =G28+J28 -> 2905 | E28: =H28+K28 -> 1426 | F28: =I28+L28 -> 1479 | G28: =SUM(H28:I28) -> 2846 | H28: ='2-3.읍면동 연령별 한국인(각세)'!D27 -> 1376 | I28: ='2-3.읍면동 연령별 한국인(각세)'!E27 -> 1470 | J28: =SUM(K28:L28) -> 59 | K28: 50 | L28: 9
B29: 기계면 | C29: 2616 | D29: =G29+J29 -> 5497 | E29: =H29+K29 -> 2652 | F29: =I29+L29 -> 2845 | G29: =SUM(H29:I29) -> 5446 | H29: ='2-3.읍면동 연령별 한국인(각세)'!D28 -> 2628 | I29: ='2-3.읍면동 연령별 한국인(각세)'!E28 -> 2818 | J29: =SUM(K29:L29) -> 51 | K29: 24 | L29: 27
B30: 죽장면 | C30: 1568 | D30: =G30+J30 -> 2922 | E30: =H30+K30 -> 1411 | F30: =I30+L30 -> 1511 | G30: =SUM(H30:I30) -> 2898 | H30: ='2-3.읍면동 연령별 한국인(각세)'!D29 -> 1406 | I30: ='2-3.읍면동 연령별 한국인(각세)'!E29 -> 1492 | J30: =SUM(K30:L30) -> 24 | K30: 5 | L30: 19
B31: 기북면 | C31: 698 | D31: =G31+J31 -> 1336 | E31: =H31+K31 -> 640 | F31: =I31+L31 -> 696 | G31: =SUM(H31:I31) -> 1322 | H31: ='2-3.읍면동 연령별 한국인(각세)'!D30 -> 639 | I31: ='2-3.읍면동 연령별 한국인(각세)'!E30 -> 683 | J31: =SUM(K31:L31) -> 14 | K31: 1 | L31: 13
B32: 중앙동 | C32: 8753 | D32: =G32+J32 -> 17906 | E32: =H32+K32 -> 8798 | F32: =I32+L32 -> 9108 | G32: =SUM(H32:I32) -> 17728 | H32: ='2-3.읍면동 연령별 한국인(각세)'!D31 -> 8679 | I32: ='2-3.읍면동 연령별 한국인(각세)'!E31 -> 9049 | J32: =SUM(K32:L32) -> 178 | K32: 119 | L32: 59
B33: 양학동 | C33: 7087 | D33: =G33+J33 -> 20092 | E33: =H33+K33 -> 10152 | F33: =I33+L33 -> 9940 | G33: =SUM(H33:I33) -> 20017 | H33: ='2-3.읍면동 연령별 한국인(각세)'!D32 -> 10121 | I33: ='2-3.읍면동 연령별 한국인(각세)'!E32 -> 9896 | J33: =SUM(K33:L33) -> 75 | K33: 31 | L33: 44
B34: 죽도동 | C34: 10487 | D34: =G34+J34 -> 21863 | E34: =H34+K34 -> 10855 | F34: =I34+L34 -> 11008 | G34: =SUM(H34:I34) -> 21737 | H34: ='2-3.읍면동 연령별 한국인(각세)'!D33 -> 10810 | I34: ='2-3.읍면동 연령별 한국인(각세)'!E33 -> 10927 | J34: =SUM(K34:L34) -> 126 | K34: 45 | L34: 81
B35: 용흥동 | C35: 9312 | D35: =G35+J35 -> 24806 | E35: =H35+K35 -> 12414 | F35: =I35+L35 -> 12392 | G35: =SUM(H35:I35) -> 24708 | H35: ='2-3.읍면동 연령별 한국인(각세)'!D34 -> 12372 | I35: ='2-3.읍면동 연령별 한국인(각세)'!E34 -> 12336 | J35: =SUM(K35:L35) -> 98 | K35: 42 | L35: 56
B36: 우창동 | C36: 10681 | D36: =G36+J36 -> 29078 | E36: =H36+K36 -> 14342 | F36: =I36+L36 -> 14736 | G36: =SUM(H36:I36) -> 28987 | H36: ='2-3.읍면동 연령별 한국인(각세)'!D35 -> 14309 | I36: ='2-3.읍면동 연령별 한국인(각세)'!E35 -> 14678 | J36: =SUM(K36:L36) -> 91 | K36: 33 | L36: 58
... B39: 환여동 | C39: 4069 | D39: =G39+J39 -> 11598 | E39: =H39+K39 -> 5785 | F39: =I39+L39 -> 5813 | G39: =SUM(H39:I39) -> 11547 | H39: ='2-3.읍면동 연령별 한국인(각세)'!D38 -> 5762 | I39: ='2-3.읍면동 연령별 한국인(각세)'!E38 -> 5785 | J39: =SUM(K39:L39) -> 51 | K39: 23 | L39: 28
B40: 경 주 시 | C40: =SUM(C41:C63) -> 111848 | D40: =G40+J40 -> 269930 | E40: =H40+K40 -> 136781 | F40: =I40+L40 -> 133149 | G40: =SUM(G41:G63) -> 261535 | H40: =SUM(H41:H63) -> 130820 | I40: =SUM(I41:I63) -> 130715 | J40: =SUM(J41:J63) -> 8395 | K40: =SUM(K41:K63) -> 5961 | L40: =SUM(L41:L63) -> 2434
B41: 감포읍 | C41: 3152 | D41: =G41+J41 -> 6605 | E41: =H41+K41 -> 3481 | F41: =I41+L41 -> 3124 | G41: =SUM(H41:I41) -> 6174 | H41: ='2-3.읍면동 연령별 한국인(각세)'!D40 -> 3075 | I41: ='2-3.읍면동 연령별 한국인(각세)'!E40 -> 3099 | J41: =SUM(K41:L41) -> 431 | K41: 406 | L41: 25
B42: 안강읍 | C42: 12651 | D42: =G42+J42 -> 30092 | E42: =H42+K42 -> 15068 | F42: =I42+L42 -> 15024 | G42: =SUM(H42:I42) -> 29756 | H42: ='2-3.읍면동 연령별 한국인(각세)'!D41 -> 14879 | I42: ='2-3.읍면동 연령별 한국인(각세)'!E41 -> 14877 | J42: =SUM(K42:L42) -> 336 | K42: 189 | L42: 147
B43: 건천읍 | C43: 5161 | D43: =G43+J43 -> 11068 | E43: =H43+K43 -> 5669 | F43: =I43+L43 -> 5399 | G43: =SUM(H43:I43) -> 10863 | H43: ='2-3.읍면동 연령별 한국인(각세)'!D42 -> 5519 | I43: ='2-3.읍면동 연령별 한국인(각세)'!E42 -> 5344 | J43: =SUM(K43:L43) -> 205 | K43: 150 | L43: 55
B44: 외동읍 | C44: 8054 | D44: =G44+J44 -> 19904 | E44: =H44+K44 -> 11304 | F44: =I44+L44 -> 8600 | G44: =SUM(H44:I44) -> 16782 | H44: ='2-3.읍면동 연령별 한국인(각세)'!D43 -> 8688 | I44: ='2-3.읍면동 연령별 한국인(각세)'!E43 -> 8094 | J44: =SUM(K44:L44) -> 3122 | K44: 2616 | L44: 506
B45: 양북면 | C45: 1957 | D45: =G45+J45 -> 4166 | E45: =H45+K45 -> 2219 | F45: =I45+L45 -> 1947 | G45: =SUM(H45:I45) -> 3979 | H45: ='2-3.읍면동 연령별 한국인(각세)'!D44 -> 2052 | I45: ='2-3.읍면동 연령별 한국인(각세)'!E44 -> 1927 | J45: =SUM(K45:L45) -> 187 | K45: 167 | L45: 20
B46: 양남면 | C46: 3254 | D46: =G46+J46 -> 6952 | E46: =H46+K46 -> 3594 | F46: =I46+L46 -> 3358 | G46: =SUM(H46:I46) -> 6883 | H46: ='2-3.읍면동 연령별 한국인(각세)'!D45 -> 3568 | I46: ='2-3.읍면동 연령별 한국인(각세)'!E45 -> 3315 | J46: =SUM(K46:L46) -> 69 | K46: 26 | L46: 43
B47: 내남면 | C47: 2512 | D47: =G47+J47 -> 5496 | E47: =H47+K47 -> 2795 | F47: =I47+L47 -> 2701 | G47: =SUM(H47:I47) -> 5193 | H47: ='2-3.읍면동 연령별 한국인(각세)'!D46 -> 2551 | I47: ='2-3.읍면동 연령별 한국인(각세)'!E46 -> 2642 | J47: =SUM(K47:L47) -> 303 | K47: 244 | L47: 59
B48: 산내면 | C48: 1880 | D48: =G48+J48 -> 3339 | E48: =H48+K48 -> 1656 | F48: =I48+L48 -> 1683 | G48: =SUM(H48:I48) -> 3306 | H48: ='2-3.읍면동 연령별 한국인(각세)'!D47 -> 1638 | I48: ='2-3.읍면동 연령별 한국인(각세)'!E47 -> 1668 | J48: =SUM(K48:L48) -> 33 | K48: 18 | L48: 15
B49: 서 면 | C49: 1876 | D49: =G49+J49 -> 3797 | E49: =H49+K49 -> 1954 | F49: =I49+L49 -> 1843 | G49: =SUM(H49:I49) -> 3656 | H49: ='2-3.읍면동 연령별 한국인(각세)'!D48 -> 1847 | I49: ='2-3.읍면동 연령별 한국인(각세)'!E48 -> 1809 | J49: =SUM(K49:L49) -> 141 | K49: 107 | L49: 34
B50: 현곡면 | C50: 5749 | D50: =G50+J50 -> 16394 | E50: =H50+K50 -> 8056 | F50: =I50+L50 -> 8338 | G50: =SUM(H50:I50) -> 16196 | H50: ='2-3.읍면동 연령별 한국인(각세)'!D49 -> 7908 | I50: ='2-3.읍면동 연령별 한국인(각세)'!E49 -> 8288 | J50: =SUM(K50:L50) -> 198 | K50: 148 | L50: 50
B51: 강동면 | C51: 3543 | D51: =G51+J51 -> 7502 | E51: =H51+K51 -> 3867 | F51: =I51+L51 -> 3635 | G51: =SUM(H51:I51) -> 7225 | H51: ='2-3.읍면동 연령별 한국인(각세)'!D50 -> 3663 | I51: ='2-3.읍면동 연령별 한국인(각세)'!E50 -> 3562 | J51: =SUM(K51:L51) -> 277 | K51: 204 | L51: 73
B52: 천북면 | C52: 2411 | D52: =G52+J52 -> 5716 | E52: =H52+K52 -> 3046 | F52: =I52+L52 -> 2670 | G52: =SUM(H52:I52) -> 5447 | H52: ='2-3.읍면동 연령별 한국인(각세)'!D51 -> 2817 | I52: ='2-3.읍면동 연령별 한국인(각세)'!E51 -> 2630 | J52: =SUM(K52:L52) -> 269 | K52: 229 | L52: 40
... B63: 보덕동 | C63: 1044 | D63: =G63+J63 -> 2188 | E63: =H63+K63 -> 1134 | F63: =I63+L63 -> 1054 | G63: =SUM(H63:I63) -> 2111 | H63: ='2-3.읍면동 연령별 한국인(각세)'!D62 -> 1079 | I63: ='2-3.읍면동 연령별 한국인(각세)'!E62 -> 1032 | J63: =SUM(K63:L63) -> 77 | K63: 55 | L63: 22
B64: 김 천 시 | C64: =SUM(C65:C86) -> 57275 | D64: =G64+J64 -> 137158 | E64: =H64+K64 -> 68329 | F64: =I64+L64 -> 68829 | G64: =SUM(G65:G86) -> 135456 | H64: =SUM(H65:H86) -> 67355 | I64: =SUM(I65:I86) -> 68101 | J64: =SUM(J65:J86) -> 1702 | K64: =SUM(K65:K86) -> 974 | L64: =SUM(L65:L86) -> 728
B65: 아포읍 | C65: 3654 | D65: =G65+J65 -> 8634 | E65: =H65+K65 -> 4382 | F65: =I65+L65 -> 4252 | G65: =SUM(H65:I65) -> 8489 | H65: ='2-3.읍면동 연령별 한국인(각세)'!D64 -> 4292 | I65: ='2-3.읍면동 연령별 한국인(각세)'!E64 -> 4197 | J65: =SUM(K65:L65) -> 145 | K65: 90 | L65: 55
B66: 농소면 | C66: 1428 | D66: =G66+J66 -> 3310 | E66: =H66+K66 -> 1691 | F66: =I66+L66 -> 1619 | G66: =SUM(H66:I66) -> 3283 | H66: ='2-3.읍면동 연령별 한국인(각세)'!D65 -> 1678 | I66: ='2-3.읍면동 연령별 한국인(각세)'!E65 -> 1605 | J66: =SUM(K66:L66) -> 27 | K66: 13 | L66: 14
B67: 남 면 | C67: 1659 | D67: =G67+J67 -> 3627 | E67: =H67+K67 -> 1796 | F67: =I67+L67 -> 1831 | G67: =SUM(H67:I67) -> 3550 | H67: ='2-3.읍면동 연령별 한국인(각세)'!D66 -> 1739 | I67: ='2-3.읍면동 연령별 한국인(각세)'!E66 -> 1811 | J67: =SUM(K67:L67) -> 77 | K67: 57 | L67: 20
B68: 개령면 | C68: 1242 | D68: =G68+J68 -> 2968 | E68: =H68+K68 -> 1531 | F68: =I68+L68 -> 1437 | G68: =SUM(H68:I68) -> 2884 | H68: ='2-3.읍면동 연령별 한국인(각세)'!D67 -> 1459 | I68: ='2-3.읍면동 연령별 한국인(각세)'!E67 -> 1425 | J68: =SUM(K68:L68) -> 84 | K68: 72 | L68: 12
B69: 감문면 | C69: 1818 | D69: =G69+J69 -> 3856 | E69: =H69+K69 -> 1908 | F69: =I69+L69 -> 1948 | G69: =SUM(H69:I69) -> 3781 | H69: ='2-3.읍면동 연령별 한국인(각세)'!D68 -> 1853 | I69: ='2-3.읍면동 연령별 한국인(각세)'!E68 -> 1928 | J69: =SUM(K69:L69) -> 75 | K69: 55 | L69: 20
B70: 어모면 | C70: 2225 | D70: =G70+J70 -> 4959 | E70: =H70+K70 -> 2505 | F70: =I70+L70 -> 2454 | G70: =SUM(H70:I70) -> 4892 | H70: ='2-3.읍면동 연령별 한국인(각세)'!D69 -> 2458 | I70: ='2-3.읍면동 연령별 한국인(각세)'!E69 -> 2434 | J70: =SUM(K70:L70) -> 67 | K70: 47 | L70: 20
B71: 봉산면 | C71: 1598 | D71: =G71+J71 -> 3698 | E71: =H71+K71 -> 1865 | F71: =I71+L71 -> 1833 | G71: =SUM(H71:I71) -> 3637 | H71: ='2-3.읍면동 연령별 한국인(각세)'!D70 -> 1828 | I71: ='2-3.읍면동 연령별 한국인(각세)'!E70 -> 1809 | J71: =SUM(K71:L71) -> 61 | K71: 37 | L71: 24
B72: 대항면 | C72: 1784 | D72: =G72+J72 -> 4177 | E72: =H72+K72 -> 2104 | F72: =I72+L72 -> 2073 | G72: =SUM(H72:I72) -> 4157 | H72: ='2-3.읍면동 연령별 한국인(각세)'!D71 -> 2103 | I72: ='2-3.읍면동 연령별 한국인(각세)'!E71 -> 2054 | J72: =SUM(K72:L72) -> 20 | K72: 1 | L72: 19
B73: 감천면 | C73: 934 | D73: =G73+J73 -> 2286 | E73: =H73+K73 -> 1167 | F73: =I73+L73 -> 1119 | G73: =SUM(H73:I73) -> 2252 | H73: ='2-3.읍면동 연령별 한국인(각세)'!D72 -> 1143 | I73: ='2-3.읍면동 연령별 한국인(각세)'!E72 -> 1109 | J73: =SUM(K73:L73) -> 34 | K73: 24 | L73: 10
B74: 조마면 | C74: 1160 | D74: =G74+J74 -> 2677 | E74: =H74+K74 -> 1355 | F74: =I74+L74 -> 1322 | G74: =SUM(H74:I74) -> 2597 | H74: ='2-3.읍면동 연령별 한국인(각세)'!D73 -> 1299 | I74: ='2-3.읍면동 연령별 한국인(각세)'!E73 -> 1298 | J74: =SUM(K74:L74) -> 80 | K74: 56 | L74: 24
B75: 구성면 | C75: 1680 | D75: =G75+J75 -> 3270 | E75: =H75+K75 -> 1614 | F75: =I75+L75 -> 1656 | G75: =SUM(H75:I75) -> 3244 | H75: ='2-3.읍면동 연령별 한국인(각세)'!D74 -> 1604 | I75: ='2-3.읍면동 연령별 한국인(각세)'!E74 -> 1640 | J75: =SUM(K75:L75) -> 26 | K75: 10 | L75: 16
B76: 지례면 | C76: 956 | D76: =G76+J76 -> 1900 | E76: =H76+K76 -> 962 | F76: =I76+L76 -> 938 | G76: =SUM(H76:I76) -> 1835 | H76: ='2-3.읍면동 연령별 한국인(각세)'!D75 -> 913 | I76: ='2-3.읍면동 연령별 한국인(각세)'!E75 -> 922 | J76: =SUM(K76:L76) -> 65 | K76: 49 | L76: 16
... B86: 율곡동 | C86: 722 | D86: =G86+J86 -> 2004 | E86: =H86+K86 -> 1028 | F86: =I86+L86 -> 976 | G86: =SUM(H86:I86) -> 2001 | H86: ='2-3.읍면동 연령별 한국인(각세)'!D85 -> 1027 | I86: ='2-3.읍면동 연령별 한국인(각세)'!E85 -> 974 | J86: =SUM(K86:L86) -> 3 | K86: 1 | L86: 2
B87: 안 동 시 | C87: =SUM(C88:C111) -> 71881 | D87: =G87+J87 -> 170094 | E87: =H87+K87 -> 83823 | F87: =I87+L87 -> 86271 | G87: =SUM(G88:G111) -> 168697 | H87: =SUM(H88:H111) -> 83240 | I87: =SUM(I88:I111) -> 85457 | J87: =SUM(J88:J111) -> 1397 | K87: =SUM(K88:K111) -> 583 | L87: =SUM(L88:L111) -> 814
B88: 풍산읍 | C88: 3591 | D88: =G88+J88 -> 7486 | E88: =H88+K88 -> 3711 | F88: =I88+L88 -> 3775 | G88: =SUM(H88:I88) -> 7380 | H88: ='2-3.읍면동 연령별 한국인(각세)'!D87 -> 3643 | I88: ='2-3.읍면동 연령별 한국인(각세)'!E87 -> 3737 | J88: =SUM(K88:L88) -> 106 | K88: 68 | L88: 38
B89: 와룡면 | C89: 2123 | D89: =G89+J89 -> 4624 | E89: =H89+K89 -> 2348 | F89: =I89+L89 -> 2276 | G89: =SUM(H89:I89) -> 4581 | H89: ='2-3.읍면동 연령별 한국인(각세)'!D88 -> 2331 | I89: ='2-3.읍면동 연령별 한국인(각세)'!E88 -> 2250 | J89: =SUM(K89:L89) -> 43 | K89: 17 | L89: 26
B90: 북후면 | C90: 1610 | D90: =G90+J90 -> 3622 | E90: =H90+K90 -> 1839 | F90: =I90+L90 -> 1783 | G90: =SUM(H90:I90) -> 3586 | H90: ='2-3.읍면동 연령별 한국인(각세)'!D89 -> 1831 | I90: ='2-3.읍면동 연령별 한국인(각세)'!E89 -> 1755 | J90: =SUM(K90:L90) -> 36 | K90: 8 | L90: 28
B91: 서후면 | C91: 1987 | D91: =G91+J91 -> 4064 | E91: =H91+K91 -> 2083 | F91: =I91+L91 -> 1981 | G91: =SUM(H91:I91) -> 4025 | H91: ='2-3.읍면동 연령별 한국인(각세)'!D90 -> 2071 | I91: ='2-3.읍면동 연령별 한국인(각세)'!E90 -> 1954 | J91: =SUM(K91:L91) -> 39 | K91: 12 | L91: 27
B92: 풍천면 | C92: 2059 | D92: =G92+J92 -> 4261 | E92: =H92+K92 -> 2118 | F92: =I92+L92 -> 2143 | G92: =SUM(H92:I92) -> 4206 | H92: ='2-3.읍면동 연령별 한국인(각세)'!D91 -> 2098 | I92: ='2-3.읍면동 연령별 한국인(각세)'!E91 -> 2108 | J92: =SUM(K92:L92) -> 55 | K92: 20 | L92: 35
B93: 일직면 | C93: 1603 | D93: =G93+J93 -> 3319 | E93: =H93+K93 -> 1578 | F93: =I93+L93 -> 1741 | G93: =SUM(H93:I93) -> 3261 | H93: ='2-3.읍면동 연령별 한국인(각세)'!D92 -> 1549 | I93: ='2-3.읍면동 연령별 한국인(각세)'!E92 -> 1712 | J93: =SUM(K93:L93) -> 58 | K93: 29 | L93: 29
B94: 남후면 | C94: 1036 | D94: =G94+J94 -> 2097 | E94: =H94+K94 -> 1071 | F94: =I94+L94 -> 1026 | G94: =SUM(H94:I94) -> 2046 | H94: ='2-3.읍면동 연령별 한국인(각세)'!D93 -> 1023 | I94: ='2-3.읍면동 연령별 한국인(각세)'!E93 -> 1023 | J94: =SUM(K94:L94) -> 51 | K94: 48 | L94: 3
B95: 남선면 | C95: 1129 | D95: =G95+J95 -> 2481 | E95: =H95+K95 -> 1233 | F95: =I95+L95 -> 1248 | G95: =SUM(H95:I95) -> 2459 | H95: ='2-3.읍면동 연령별 한국인(각세)'!D94 -> 1223 | I95: ='2-3.읍면동 연령별 한국인(각세)'!E94 -> 1236 | J95: =SUM(K95:L95) -> 22 | K95: 10 | L95: 12
B96: 임하면 | C96: 1459 | D96: =G96+J96 -> 3438 | E96: =H96+K96 -> 1802 | F96: =I96+L96 -> 1636 | G96: =SUM(H96:I96) -> 3376 | H96: ='2-3.읍면동 연령별 한국인(각세)'!D95 -> 1772 | I96: ='2-3.읍면동 연령별 한국인(각세)'!E95 -> 1604 | J96: =SUM(K96:L96) -> 62 | K96: 30 | L96: 32
B97: 길안면 | C97: 1630 | D97: =G97+J97 -> 3159 | E97: =H97+K97 -> 1578 | F97: =I97+L97 -> 1581 | G97: =SUM(H97:I97) -> 3138 | H97: ='2-3.읍면동 연령별 한국인(각세)'!D96 -> 1572 | I97: ='2-3.읍면동 연령별 한국인(각세)'!E96 -> 1566 | J97: =SUM(K97:L97) -> 21 | K97: 6 | L97: 15
B98: 임동면 | C98: 1115 | D98: =G98+J98 -> 2168 | E98: =H98+K98 -> 1098 | F98: =I98+L98 -> 1070 | G98: =SUM(H98:I98) -> 2136 | H98: ='2-3.읍면동 연령별 한국인(각세)'!D97 -> 1089 | I98: ='2-3.읍면동 연령별 한국인(각세)'!E97 -> 1047 | J98: =SUM(K98:L98) -> 32 | K98: 9 | L98: 23
B99: 예안면 | C99: 1067 | D99: =G99+J99 -> 2116 | E99: =H99+K99 -> 1083 | F99: =I99+L99 -> 1033 | G99: =SUM(H99:I99) -> 2104 | H99: ='2-3.읍면동 연령별 한국인(각세)'!D98 -> 1080 | I99: ='2-3.읍면동 연령별 한국인(각세)'!E98 -> 1024 | J99: =SUM(K99:L99) -> 12 | K99: 3 | L99: 9
... B111: 강남동 | C111: 3636 | D111: =G111+J111 -> 10530 | E111: =H111+K111 -> 5197 | F111: =I111+L111 -> 5333 | G111: =SUM(H111:I111) -> 10479 | H111: ='2-3.읍면동 연령별 한국인(각세)'!D110 -> 5163 | I111: ='2-3.읍면동 연령별 한국인(각세)'!E110 -> 5316 | J111: =SUM(K111:L111) -> 51 | K111: 34 | L111: 17
B112: 구미시 | C112: =SUM(C113:C139) -> 166686 | D112: =G112+J112 -> 426532 | E112: =H112+K112 -> 218156 | F112: =I112+L112 -> 208376 | G112: =SUM(G113:G139) -> 420320 | H112: =SUM(H113:H139) -> 214452 | I112: =SUM(I113:I139) -> 205868 | J112: =SUM(J113:J139) -> 6212 | K112: =SUM(K113:K139) -> 3704 | L112: =SUM(L113:L139) -> 2508
B113: 선산읍 | C113: 5973 | D113: =G113+J113 -> 15019 | E113: =H113+K113 -> 7525 | F113: =I113+L113 -> 7494 | G113: =SUM(H113:I113) -> 14884 | H113: ='2-3.읍면동 연령별 한국인(각세)'!D112 -> 7472 | I113: ='2-3.읍면동 연령별 한국인(각세)'!E112 -> 7412 | J113: =SUM(K113:L113) -> 135 | K113: 53 | L113: 82
B114: 고아읍 | C114: 11220 | D114: =G114+J114 -> 33579 | E114: =H114+K114 -> 17143 | F114: =I114+L114 -> 16436 | G114: =SUM(H114:I114) -> 33294 | H114: ='2-3.읍면동 연령별 한국인(각세)'!D113 -> 16939 | I114: ='2-3.읍면동 연령별 한국인(각세)'!E113 -> 16355 | J114: =SUM(K114:L114) -> 285 | K114: 204 | L114: 81
B115: 무을면 | C115: 1019 | D115: =G115+J115 -> 2170 | E115: =H115+K115 -> 1081 | F115: =I115+L115 -> 1089 | G115: =SUM(H115:I115) -> 2139 | H115: ='2-3.읍면동 연령별 한국인(각세)'!D114 -> 1070 | I115: ='2-3.읍면동 연령별 한국인(각세)'!E114 -> 1069 | J115: =SUM(K115:L115) -> 31 | K115: 11 | L115: 20
B116: 옥성면 | C116: 942 | D116: =G116+J116 -> 2038 | E116: =H116+K116 -> 1057 | F116: =I116+L116 -> 981 | G116: =SUM(H116:I116) -> 1986 | H116: ='2-3.읍면동 연령별 한국인(각세)'!D115 -> 1015 | I116: ='2-3.읍면동 연령별 한국인(각세)'!E115 -> 971 | J116: =SUM(K116:L116) -> 52 | K116: 42 | L116: 10
B117: 도개면 | C117: 1173 | D117: =G117+J117 -> 2546 | E117: =H117+K117 -> 1283 | F117: =I117+L117 -> 1263 | G117: =SUM(H117:I117) -> 2491 | H117: ='2-3.읍면동 연령별 한국인(각세)'!D116 -> 1237 | I117: ='2-3.읍면동 연령별 한국인(각세)'!E116 -> 1254 | J117: =SUM(K117:L117) -> 55 | K117: 46 | L117: 9
B118: 해평면 | C118: 2398 | D118: =G118+J118 -> 5390 | E118: =H118+K118 -> 2788 | F118: =I118+L118 -> 2602 | G118: =SUM(H118:I118) -> 5306 | H118: ='2-3.읍면동 연령별 한국인(각세)'!D117 -> 2732 | I118: ='2-3.읍면동 연령별 한국인(각세)'!E117 -> 2574 | J118: =SUM(K118:L118) -> 84 | K118: 56 | L118: 28
B119: 산동면 | C119: 1975 | D119: =G119+J119 -> 4398 | E119: =H119+K119 -> 2679 | F119: =I119+L119 -> 1719 | G119: =SUM(H119:I119) -> 3733 | H119: ='2-3.읍면동 연령별 한국인(각세)'!D118 -> 2107 | I119: ='2-3.읍면동 연령별 한국인(각세)'!E118 -> 1626 | J119: =SUM(K119:L119) -> 665 | K119: 572 | L119: 93
B120: 장천면 | C120: 1644 | D120: =G120+J120 -> 3836 | E120: =H120+K120 -> 2010 | F120: =I120+L120 -> 1826 | G120: =SUM(H120:I120) -> 3684 | H120: ='2-3.읍면동 연령별 한국인(각세)'!D119 -> 1879 | I120: ='2-3.읍면동 연령별 한국인(각세)'!E119 -> 1805 | J120: =SUM(K120:L120) -> 152 | K120: 131 | L120: 21
B121: 송정동 | C121: 7730 | D121: =G121+J121 -> 19624 | E121: =H121+K121 -> 9635 | F121: =I121+L121 -> 9989 | G121: =SUM(H121:I121) -> 19509 | H121: ='2-3.읍면동 연령별 한국인(각세)'!D120 -> 9601 | I121: ='2-3.읍면동 연령별 한국인(각세)'!E120 -> 9908 | J121: =SUM(K121:L121) -> 115 | K121: 34 | L121: 81
B122: 원평1동 | C122: 3086 | D122: =G122+J122 -> 5060 | E122: =H122+K122 -> 2618 | F122: =I122+L122 -> 2442 | G122: =SUM(H122:I122) -> 5002 | H122: ='2-3.읍면동 연령별 한국인(각세)'!D121 -> 2601 | I122: ='2-3.읍면동 연령별 한국인(각세)'!E121 -> 2401 | J122: =SUM(K122:L122) -> 58 | K122: 17 | L122: 41
B123: 원평2동 | C123: 2349 | D123: =G123+J123 -> 4535 | E123: =H123+K123 -> 2348 | F123: =I123+L123 -> 2187 | G123: =SUM(H123:I123) -> 4505 | H123: ='2-3.읍면동 연령별 한국인(각세)'!D122 -> 2339 | I123: ='2-3.읍면동 연령별 한국인(각세)'!E122 -> 2166 | J123: =SUM(K123:L123) -> 30 | K123: 9 | L123: 21
B124: 도량동 | C124: 11293 | D124: =G124+J124 -> 32647 | E124: =H124+K124 -> 16155 | F124: =I124+L124 -> 16492 | G124: =SUM(H124:I124) -> 32526 | H124: ='2-3.읍면동 연령별 한국인(각세)'!D123 -> 16116 | I124: ='2-3.읍면동 연령별 한국인(각세)'!E123 -> 16410 | J124: =SUM(K124:L124) -> 121 | K124: 39 | L124: 82
... B139: 양포동 | C139: 16097 | D139: =G139+J139 -> 45310 | E139: =H139+K139 -> 23529 | F139: =I139+L139 -> 21781 | G139: =SUM(H139:I139) -> 44607 | H139: ='2-3.읍면동 연령별 한국인(각세)'!D138 -> 23101 | I139: ='2-3.읍면동 연령별 한국인(각세)'!E138 -> 21506 | J139: =SUM(K139:L139) -> 703 | K139: 428 | L139: 275
B140: 영 주 시 | C140: =SUM(C141:C159) -> 48093 | D140: =G140+J140 -> 111628 | E140: =H140+K140 -> 55438 | F140: =I140+L140 -> 56190 | G140: =SUM(G141:G159) -> 110780 | H140: =SUM(H141:H159) -> 55109 | I140: =SUM(I141:I159) -> 55671 | J140: =SUM(J141:J159) -> 848 | K140: =SUM(K141:K159) -> 329 | L140: =SUM(L141:L159) -> 519
B141: 풍기읍 | C141: 5552 | D141: =G141+J141 -> 12269 | E141: =H141+K141 -> 6169 | F141: =I141+L141 -> 6100 | G141: =SUM(H141:I141) -> 12005 | H141: ='2-3.읍면동 연령별 한국인(각세)'!D140 -> 6036 | I141: ='2-3.읍면동 연령별 한국인(각세)'!E140 -> 5969 | J141: =SUM(K141:L141) -> 264 | K141: 133 | L141: 131
B142: 이산면 | C142: 1244 | D142: =G142+J142 -> 2846 | E142: =H142+K142 -> 1428 | F142: =I142+L142 -> 1418 | G142: =SUM(H142:I142) -> 2822 | H142: ='2-3.읍면동 연령별 한국인(각세)'!D141 -> 1423 | I142: ='2-3.읍면동 연령별 한국인(각세)'!E141 -> 1399 | J142: =SUM(K142:L142) -> 24 | K142: 5 | L142: 19
B143: 평은면 | C143: 794 | D143: =G143+J143 -> 1618 | E143: =H143+K143 -> 817 | F143: =I143+L143 -> 801 | G143: =SUM(H143:I143) -> 1605 | H143: ='2-3.읍면동 연령별 한국인(각세)'!D142 -> 809 | I143: ='2-3.읍면동 연령별 한국인(각세)'!E142 -> 796 | J143: =SUM(K143:L143) -> 13 | K143: 8 | L143: 5
B144: 문수면 | C144: 1052 | D144: =G144+J144 -> 2177 | E144: =H144+K144 -> 1099 | F144: =I144+L144 -> 1078 | G144: =SUM(H144:I144) -> 2154 | H144: ='2-3.읍면동 연령별 한국인(각세)'!D143 -> 1090 | I144: ='2-3.읍면동 연령별 한국인(각세)'!E143 -> 1064 | J144: =SUM(K144:L144) -> 23 | K144: 9 | L144: 14
B145: 장수면 | C145: 1194 | D145: =G145+J145 -> 2602 | E145: =H145+K145 -> 1341 | F145: =I145+L145 -> 1261 | G145: =SUM(H145:I145) -> 2548 | H145: ='2-3.읍면동 연령별 한국인(각세)'!D144 -> 1306 | I145: ='2-3.읍면동 연령별 한국인(각세)'!E144 -> 1242 | J145: =SUM(K145:L145) -> 54 | K145: 35 | L145: 19
B146: 안정면 | C146: 1598 | D146: =G146+J146 -> 3406 | E146: =H146+K146 -> 1709 | F146: =I146+L146 -> 1697 | G146: =SUM(H146:I146) -> 3374 | H146: ='2-3.읍면동 연령별 한국인(각세)'!D145 -> 1699 | I146: ='2-3.읍면동 연령별 한국인(각세)'!E145 -> 1675 | J146: =SUM(K146:L146) -> 32 | K146: 10 | L146: 22
B147: 봉현면 | C147: 1455 | D147: =G147+J147 -> 3180 | E147: =H147+K147 -> 1607 | F147: =I147+L147 -> 1573 | G147: =SUM(H147:I147) -> 3164 | H147: ='2-3.읍면동 연령별 한국인(각세)'!D146 -> 1605 | I147: ='2-3.읍면동 연령별 한국인(각세)'!E146 -> 1559 | J147: =SUM(K147:L147) -> 16 | K147: 2 | L147: 14
B148: 순흥면 | C148: 1098 | D148: =G148+J148 -> 2380 | E148: =H148+K148 -> 1191 | F148: =I148+L148 -> 1189 | G148: =SUM(H148:I148) -> 2368 | H148: ='2-3.읍면동 연령별 한국인(각세)'!D147 -> 1186 | I148: ='2-3.읍면동 연령별 한국인(각세)'!E147 -> 1182 | J148: =SUM(K148:L148) -> 12 | K148: 5 | L148: 7
B149: 단산면 | C149: 1102 | D149: =G149+J149 -> 2179 | E149: =H149+K149 -> 1085 | F149: =I149+L149 -> 1094 | G149: =SUM(H149:I149) -> 2176 | H149: ='2-3.읍면동 연령별 한국인(각세)'!D148 -> 1084 | I149: ='2-3.읍면동 연령별 한국인(각세)'!E148 -> 1092 | J149: =SUM(K149:L149) -> 3 | K149: 1 | L149: 2
...

Sheet 1-3. 리별 인구 및 세대현황(시)
A2: 1-3. 리별 세대 및 인구 현황(외국인 제외)
AW3: (단위 : 명, 세대)
A4: 포항시 | F4: 경주시 | K4: 김천시 | P4: 안동시 | U4: 구미시 | Z4: 영주시 | AE4: 영천시 | AJ4: 상주시 | AO4: 문경시 | AT4: 경산시
A5: 행정구역 | B5: 계 | C5: 남 | D5: 여 | E5: 세대수 | F5: 행정구역 | G5: 계 | H5: 남 | I5: 여 | J5: 세 대 | K5: 행정구역 | L5: 계 | M5: 남 | N5: 여 | O5: 세 대 | P5: 행정구역 | Q5: 계 | R5: 남 | S5: 여 | T5: 세 대 | U5: 행정구역 | V5: 계 | W5: 남 | X5: 여 | Y5: 세 대 | Z5: 행정구역 | AA5: 계 | AB5: 남 | AC5: 여 | AD5: 세 대 | AE5: 행정구역 | AF5: 계 | AG5: 남 | AH5: 여 | AI5: 세 대 | AJ5: 행정구역 | AK5: 계 | AL5: 남 | AM5: 여 | AN5: 세 대 | AO5: 행정구역 | AP5: 계 | AQ5: 남 | AR5: 여 | AS5: 세 대 | AT5: 행정구역 | AU5: 계 | AV5: 남 | AW5: 여 | AX5: 세 대
A6: 구룡포읍 | B6: 9264 | C6: 4725 | D6: 4539 | E6: 4899 | F6: 감포읍 | G6: 6174 | H6: 3075 | I6: 3099 | J6: 3152 | K6: 아포읍 | L6: 8489 | M6: 4292 | N6: 4197 | O6: 3654 | P6: 풍산읍 | Q6: 7380 | R6: 3643 | S6: 3737 | T6: 3591 | U6: 선산읍 | V6: 14884 | W6: 7472 | X6: 7412 | Y6: 5973 | Z6: 풍기읍 | AA6: 12005 | AB6: 6036 | AC6: 5969 | AD6: 5552 | AE6: 금호읍 | AF6: 11858 | AG6: 6154 | AH6: 5704 | AI6: 5960 | AJ6: 함창읍 | AK6: 6705 | AL6: 3273 | AM6: 3432 | AN6: 3169 | AO6: 문경읍 | AP6: 7393 | AQ6: 3590 | AR6: 3803 | AS6: 3512 | AT6: 하양읍 | AU6: 26617 | AV6: 13312 | AW6: 13305 | AX6: 10713
A7: 구룡포1리 | B7: 1057 | C7: 557 | D7: 500 | E7: 532 | F7: 감포 1리 | G7: 486 | H7: 224 | I7: 262 | J7: 253 | K7: 인 1리 | L7: 257 | M7: 129 | N7: 128 | O7: 111 | P7: 안교 1리 | Q7: 1051 | R7: 520 | S7: 531 | T7: 508 | U7: 완 전 리 | V7: 1876 | W7: 952 | X7: 924 | Y7: 805 | Z7: 성내 1리 | AA7: 436 | AB7: 200 | AC7: 236 | AD7: 211 | AE7: 교대 1리 | AF7: 907 | AG7: 446 | AH7: 461 | AI7: 465 | AJ7: 구향 1리 | AK7: 306 | AL7: 168 | AM7: 138 | AN7: 130 | AO7: 상 1리 | AP7: 311 | AQ7: 149 | AR7: 162 | AS7: 133 | AT7: 금락1리 | AU7: 1847 | AV7: 930 | AW7: 917 | AX7: 899
A8: 구룡포2리 | B8: 1352 | C8: 676 | D8: 676 | E8: 620 | F8: 감포 2리 | G8: 1051 | H8: 532 | I8: 519 | J8: 498 | K8: 인 2리 | L8: 213 | M8: 119 | N8: 94 | O8: 101 | P8: 안교 2리 | Q8: 375 | R8: 174 | S8: 201 | T8: 188 | U8: 동 부 리 | V8: 1382 | W8: 686 | X8: 696 | Y8: 582 | Z8: 성내 2리 | AA8: 255 | AB8: 121 | AC8: 134 | AD8: 116 | AE8: 교대 2리 | AF8: 623 | AG8: 322 | AH8: 301 | AI8: 279 | AJ8: 구향 2리 | AK8: 994 | AL8: 478 | AM8: 516 | AN8: 475 | AO8: 상 2리 | AP8: 635 | AQ8: 296 | AR8: 339 | AS8: 334 | AT8: 금락2리 | AU8: 1598 | AV8: 785 | AW8: 813 | AX8: 788
A9: 구룡포3리 | B9: 349 | C9: 183 | D9: 166 | E9: 210 | F9: 감포 3리 | G9: 609 | H9: 304 | I9: 305 | J9: 360 | K9: 인 3리 | L9: 90 | M9: 44 | N9: 46 | O9: 46 | P9: 안교 3리 | Q9: 155 | R9: 77 | S9: 78 | T9: 74 | U9: 노 상 리 | V9: 2655 | W9: 1271 | X9: 1384 | Y9: 946 | Z9: 성내 3리 | AA9: 698 | AB9: 313 | AC9: 385 | AD9: 344 | AE9: 교대 3리 | AF9: 364 | AG9: 190 | AH9: 174 | AI9: 157 | AJ9: 구향 3리 | AK9: 833 | AL9: 382 | AM9: 451 | AN9: 369 | AO9: 하 1리 | AP9: 622 | AQ9: 294 | AR9: 328 | AS9: 287 | AT9: 금락3리 | AU9: 47 | AV9: 25 | AW9: 22 | AX9: 24
A10: 구룡포4리 | B10: 551 | C10: 273 | D10: 278 | E10: 315 | F10: 감포 4리 | G10: 443 | H10: 217 | I10: 226 | J10: 219 | K10: 인 4리 | L10: 176 | M10: 86 | N10: 90 | O10: 69 | P10: 상리 1리 | Q10: 183 | R10: 88 | S10: 95 | T10: 85 | U10: 이 문 리 | V10: 2553 | W10: 1266 | X10: 1287 | Y10: 975 | Z10: 성내 4리 | AA10: 1301 | AB10: 631 | AC10: 670 | AD10: 524 | AE10: 교대 4리 | AF10: 1166 | AG10: 565 | AH10: 601 | AI10: 435 | AJ10: 구향 4리 | AK10: 263 | AL10: 137 | AM10: 126 | AN10: 138 | AO10: 하 2리 | AP10: 1206 | AQ10: 598 | AR10: 608 | AS10: 559 | AT10: 금락4리 | AU10: 1785 | AV10: 883 | AW10: 902 | AX10: 906
A11: 구룡포5리 | B11: 605 | C11: 317 | D11: 288 | E11: 329 | F11: 감포 5리 | G11: 382 | H11: 188 | I11: 194 | J11: 190 | K11: 의 1리 | L11: 427 | M11: 221 | N11: 206 | O11: 181 | P11: 상리 2리 | Q11: 168 | R11: 77 | S11: 91 | T11: 85 | U11: 죽장 1리 | V11: 285 | W11: 154 | X11: 131 | Y11: 125 | Z11: 동부 1리 | AA11: 1212 | AB11: 611 | AC11: 601 | AD11: 474 | AE11: 덕 성 리 | AF11: 988 | AG11: 501 | AH11: 487 | AI11: 473 | AJ11: 오동 1리 | AK11: 536 | AL11: 267 | AM11: 269 | AN11: 220 | AO11: 교 촌 리 | AP11: 791 | AQ11: 384 | AR11: 407 | AS11: 385 | AT11: 금락5리 | AU11: 1943 | AV11: 933 | AW11: 1010 | AX11: 648
A12: 구룡포6리 | B12: 825 | C12: 404 | D12: 421 | E12: 431 | F12: 오류 1리 | G12: 252 | H12: 134 | I12: 118 | J12: 124 | K12: 의 2리 | L12: 130 | M12: 63 | N12: 67 | O12: 64 | P12: 상리 3리 | Q12: 173 | R12: 91 | S12: 82 | T12: 91 | U12: 죽장 2리 | V12: 238 | W12: 122 | X12: 116 | Y12: 98 | Z12: 동부 2리 | AA12: 641 | AB12: 326 | AC12: 315 | AD12: 287 | AE12: 성 천 리 | AF12: 220 | AG12: 115 | AH12: 105 | AI12: 100 | AJ12: 오동 2리 | AK12: 323 | AL12: 162 | AM12: 161 | AN12: 155 | AO12: 요 성 리 | AP12: 354 | AQ12: 160 | AR12: 194 | AS12: 180 | AT12: 금락6리 | AU12: 3407 | AV12: 1665 | AW12: 1742 | AX12: 1068
A13: 구룡포7리 | B13: 143 | C13: 75 | D13: 68 | E13: 84 | F13: 오류 2리 | G13: 384 | H13: 190 | I13: 194 | J13: 199 | K13: 예 1리 | L13: 150 | M13: 72 | N13: 78 | O13: 59 | P13: 하리 1리 | Q13: 260 | R13: 125 | S13: 135 | T13: 123 | U13: 봉곡 1리 | V13: 195 | W13: 102 | X13: 93 | Y13: 98 | Z13: 동부 3리 | AA13: 903 | AB13: 455 | AC13: 448 | AD13: 417 | AE13: 대미 1리 | AF13: 139 | AG13: 78 | AH13: 61 | AI13: 71 | AJ13: 오사 1리 | AK13: 386 | AL13: 187 | AM13: 199 | AN13: 168 | AO13: 지곡 1리 | AP13: 100 | AQ13: 49 | AR13: 51 | AS13: 45 | AT13: 금락7리 | AU13: 2196 | AV13: 1103 | AW13: 1093 | AX13: 742
A14: 삼정 1리 | B14: 147 | C14: 74 | D14: 73 | E14: 75 | F14: 오류 3리 | G14: 129 | H14: 67 | I14: 62 | J14: 65 | K14: 예 2리 | L14: 164 | M14: 80 | N14: 84 | O14: 65 | P14: 하리 2리 | Q14: 472 | R14: 235 | S14: 237 | T14: 220 | U14: 봉곡 2리 | V14: 84 | W14: 42 | X14: 42 | Y14: 42 | Z14: 동부 4리 | AA14: 768 | AB14: 391 | AC14: 377 | AD14: 321 | AE14: 대미 2리 | AF14: 120 | AG14: 62 | AH14: 58 | AI14: 57 | AJ14: 오사 2리 | AK14: 35 | AL14: 20 | AM14: 15 | AN14: 18 | AO14: 지곡 2리 | AP14: 106 | AQ14: 51 | AR14: 55 | AS14: 58 | AT14: 금락8리 | AU14: 1389 | AV14: 685 | AW14: 704 | AX14: 439
A15: 삼정 2리 | B15: 197 | C15: 94 | D15: 103 | E15: 89 | F15: 오류 4리 | G15: 300 | H15: 151 | I15: 149 | J15: 155 | K15: 지 1리 | L15: 289 | M15: 139 | N15: 150 | O15: 111 | P15: 마 애 리 | Q15: 198 | R15: 101 | S15: 97 | T15: 92 | U15: 포상 1리 | V15: 107 | W15: 60 | X15: 47 | Y15: 54 | Z15: 동부 5리 | AA15: 242 | AB15: 124 | AC15: 118 | AD15: 119 | AE15: 석 섬 리 | AF15: 181 | AG15: 97 | AH15: 84 | AI15: 104 | AJ15: 증 촌 리 | AK15: 540 | AL15: 272 | AM15: 268 | AN15: 237 | AO15: 마원 1리 | AP15: 219 | AQ15: 104 | AR15: 115 | AS15: 105 | AT15: 동서1리 | AU15: 2676 | AV15: 1331 | AW15: 1345 | AX15: 1118
A16: 삼정 3리 | B16: 150 | C16: 69 | D16: 81 | E16: 82 | F16: 전 동 리 | G16: 311 | H16: 163 | I16: 148 | J16: 156 | K16: 지 2리 | L16: 135 | M16: 70 | N16: 65 | O16: 57 | P16: 수 1리 | Q16: 209 | R16: 97 | S16: 112 | T16: 85 | U16: 포상 2리 | V16: 111 | W16: 57 | X16: 54 | Y16: 55 | Z16: 동부 6리 | AA16: 333 | AB16: 154 | AC16: 179 | AD16: 158 | AE16: 원제 1리 | AF16: 277 | AG16: 153 | AH16: 124 | AI16: 125 | AJ16: 교촌 1리 | AK16: 117 | AL16: 58 | AM16: 59 | AN16: 63 | AO16: 마원 2리 | AP16: 142 | AQ16: 68 | AR16: 74 | AS16: 80 | AT16: 동서2리 | AU16: 824 | AV16: 439 | AW16: 385 | AX16: 374
A17: 석병 1리 | B17: 190 | C17: 96 | D17: 94 | E17: 108 | F17: 전촌 1리 | G17: 270 | H17: 143 | I17: 127 | J17: 143 | K17: 대신 1리 | L17: 284 | M17: 147 | N17: 137 | O17: 120 | P17: 수 2리 | Q17: 162 | R17: 84 | S17: 78 | T17: 70 | U17: 소 재 리 | V17: 155 | W17: 78 | X17: 77 | Y17: 77 | Z17: 산 법 리 | AA17: 396 | AB17: 239 | AC17: 157 | AD17: 286 | AE17: 원제 2리 | AF17: 1478 | AG17: 867 | AH17: 611 | AI17: 1111 | AJ17: 교촌 2리 | AK17: 103 | AL17: 46 | AM17: 57 | AN17: 50 | AO17: 마원 3리 | AP17: 107 | AQ17: 57 | AR17: 50 | AS17: 55 | AT17: 동서3리 | AU17: 193 | AV17: 95 | AW17: 98 | AX17: 86
... A40: 생지 5리 | B40: 2367 | C40: 1205 | D40: 1162 | E40: 772 | F40: 육통 2리 | G40: 340 | H40: 182 | I40: 158 | J40: 158 | K40: 신 촌 리 | L40: 499 | M40: 244 | N40: 255 | O40: 199 | P40: 소산 2리 | Q40: 201 | R40: 105 | S40: 96 | T40: 83 | U40: 오로 2리 | V40: 2597 | W40: 1298 | X40: 1299 | Y40: 865 | Z40: 신암 2리 | AA40: 88 | AB40: 45 | AC40: 43 | AD40: 49 | AE40: 청통면 | AF40: 4433 | AG40: 2280 | AH40: 2153 | AI40: 2127 | AJ40: 덕담 3리 | AK40: 276 | AL40: 134 | AM40: 142 | AN40: 119 | AO40: 왕릉 2리 | AP40: 226 | AQ40: 122 | AR40: 104 | AS40: 115 | AT40: 대조2리 | AU40: 304 | AV40: 155 | AW40: 149 | AX40: 137
A41: 괴정 1리 | B41: 2148 | C41: 1119 | D41: 1029 | E41: 887 | F41: 육통 3리 | G41: 153 | H41: 79 | I41: 74 | J41: 78 | K41: 월곡 1리 | P41: 와룡면 | U41: 대망 1리 | V41: 205 | W41: 115 | X41: 90 | Y41: 85 | Z41: 신암 3리 | AA41: 219 | AB41: 117 | AC41: 102 | AD41: 106 | AE41: 호당 1리 | AJ41: 원흥 1리 | AO41: 왕릉 3리 | AP41: 392 | AQ41: 178 | AR41: 214 | AS41: 201 | AT41: 진량읍 | AU41: 38862 | AV41: 20012 | AW41: 18850 | AX41: 15606
A42: 괴정 2리 | B42: 825 | C42: 413 | D42: 412 | E42: 330 | F42: 노당 1리 | G42: 258 | H42: 131 | I42: 127 | J42: 128 | K42: 월곡 1리 | L42: 490 | M42: 248 | N42: 242 | O42: 247 | P42: 와룡면 | Q42: 4581 | R42: 2331 | S42: 2250 | T42: 2123 | U42: 대망 2리 | V42: 145 | W42: 80 | X42: 65 | Y42: 71 | Z42: 신암 3리 | AA42: 219 | AB42: 117 | AC42: 102 | AD42: 106 | AE42: 호당 1리 | AF42: 131 | AG42: 68 | AH42: 63 | AI42: 64 | AJ42: 원흥 1리 | AK42: 112 | AL42: 53 | AM42: 59 | AN42: 45 | AO42: 갈전 1리 | AP42: 214 | AQ42: 104 | AR42: 110 | AS42: 93 | AT42: 신상1리 | AU42: 473 | AV42: 255 | AW42: 218 | AX42: 218
A43: 동문 1리 | B43: 1897 | C43: 996 | D43: 901 | E43: 770 | F43: 노당 2리 | G43: 221 | H43: 105 | I43: 116 | J43: 116 | K43: 월곡 2리 | L43: 170 | M43: 89 | N43: 81 | O43: 71 | P43: 중가구 1 | Q43: 210 | R43: 116 | S43: 94 | T43: 88 | U43: 파 산 리 | V43: 119 | W43: 69 | X43: 50 | Y43: 59 | Z43: 지동 1리 | AA43: 94 | AB43: 48 | AC43: 46 | AD43: 38 | AE43: 호당 2리 | AF43: 227 | AG43: 111 | AH43: 116 | AI43: 114 | AJ43: 원흥 2리 | AK43: 221 | AL43: 105 | AM43: 116 | AN43: 103 | AO43: 갈전 2리 | AP43: 97 | AQ43: 52 | AR43: 45 | AS43: 51 | AT43: 신상2리 | AU43: 447 | AV43: 256 | AW43: 191 | AX43: 224
A44: 동문 2리 | B44: 2182 | C44: 1118 | D44: 1064 | E44: 813 | F44: 산대 1리 | G44: 685 | H44: 360 | I44: 325 | J44: 258 | K44: 월곡 3리 | L44: 144 | M44: 80 | N44: 64 | O44: 61 | P44: 중가구 2 | Q44: 154 | R44: 80 | S44: 74 | T44: 61 | U44: 신 촌 리 | V44: 321 | W44: 167 | X44: 154 | Y44: 129 | Z44: 지동 2리 | AA44: 121 | AB44: 58 | AC44: 63 | AD44: 53 | AE44: 우천 1리 | AF44: 223 | AG44: 110 | AH44: 113 | AI44: 116 | AJ44: 원흥 3리 | AK44: 127 | AL44: 63 | AM44: 64 | AN44: 54 | AO44: 갈전 3리 | AP44: 51 | AQ44: 20 | AR44: 31 | AS44: 30 | AT44: 신상3리 | AU44: 937 | AV44: 585 | AW44: 352 | AX44: 569
A45: 동문 3리 | B45: 1141 | C45: 586 | D45: 555 | E45: 344 | F45: 산대 2리 | G45: 403 | H45: 212 | I45: 191 | J45: 161 | K45: 월곡 4리 | L45: 118 | M45: 59 | N45: 59 | O45: 49 | P45: 가구 1리 | Q45: 438 | R45: 216 | S45: 222 | T45: 173 | U45: 황 산 리 | V45: 283 | W45: 133 | X45: 150 | Y45: 140 | Z45: 지동 3리 | AA45: 52 | AB45: 28 | AC45: 24 | AD45: 26 | AE45: 우천 2리 | AF45: 126 | AG45: 63 | AH45: 63 | AI45: 63 | AJ45: 두 릉 리 | AK45: 246 | AL45: 120 | AM45: 126 | AN45: 112 | AO45: 저 음 리 | AP45: 67 | AQ45: 29 | AR45: 38 | AS45: 44 | AT45: 신상4리 | AU45: 1427 | AV45: 713 | AW45: 714 | AX45: 475
A46: 오천 1리 | B46: 1880 | C46: 990 | D46: 890 | E46: 699 | F46: 산대 3리 | G46: 1429 | H46: 754 | I46: 675 | J46: 575 | K46: 용암 1리 | L46: 285 | M46: 138 | N46: 147 | O46: 130 | P46: 가구 2리 | Q46: 209 | R46: 100 | S46: 109 | T46: 100 | U46: 횡 산 리 | V46: 170 | W46: 85 | X46: 85 | Y46: 77 | Z46: 석포 1리 | AA46: 146 | AB46: 76 | AC46: 70 | AD46: 78 | AE46: 보 성 리 | AF46: 247 | AG46: 132 | AH46: 115 | AI46: 116 | AJ46: 목 가 리 | AK46: 224 | AL46: 122 | AM46: 102 | AN46: 104 | AO46: 작천 1리 | AP46: 188 | AQ46: 85 | AR46: 103 | AS46: 102 | AT46: 신상5리 | AU46: 1559 | AV46: 774 | AW46: 785 | AX46: 509
A47: 오천 2리 | B47: 1510 | C47: 760 | D47: 750 | E47: 455 | F47: 산대 4리 | G47: 2478 | H47: 1241 | I47: 1237 | J47: 891 | K47: 용암 2리 | L47: 76 | M47: 46 | N47: 30 | O47: 44 | P47: 산야 1리 | Q47: 68 | R47: 35 | S47: 33 | T47: 35 | U47: 외 예 리 | V47: 259 | W47: 136 | X47: 123 | Y47: 106 | Z47: 석포 2리 | AA47: 149 | AB47: 74 | AC47: 75 | AD47: 76 | AE47: 신덕 1리 | AF47: 95 | AG47: 45 | AH47: 50 | AI47: 50 | AJ47: 덕 가 리 | AK47: 224 | AL47: 110 | AM47: 114 | AN47: 102 | AO47: 작천 2리 | AP47: 123 | AQ47: 60 | AR47: 63 | AS47: 55 | AT47: 신상6리 | AU47: 773 | AV47: 474 | AW47: 299 | AX47: 457
A48: 유강 1리 | B48: 172 | C48: 87 | D48: 85 | E48: 87 | F48: 산대 5리 | G48: 3331 | H48: 1627 | I48: 1704 | J48: 1389 | K48: 봉곡 1리 | L48: 395 | M48: 201 | N48: 194 | O48: 163 | P48: 산야 2리 | Q48: 84 | R48: 40 | S48: 44 | T48: 42 | U48: 내 예 리 | V48: 83 | W48: 40 | X48: 43 | Y48: 51 | Z48: 용상 1리 | AA48: 157 | AB48: 83 | AC48: 74 | AD48: 62 | AE48: 신덕 2리 | AF48: 134 | AG48: 65 | AH48: 69 | AI48: 57 | AJ48: 용담 1리 | AK48: 133 | AL48: 60 | AM48: 73 | AN48: 58 | AO48: 성저 1리 | AP48: 181 | AQ48: 84 | AR48: 97 | AS48: 90 | AT48: 신상7리 | AU48: 436 | AV48: 270 | AW48: 166 | AX48: 337
A49: 유강 2리 | B49: 1359 | C49: 693 | D49: 666 | E49: 427 | F49: 산대 6리 | G49: 1414 | H49: 705 | I49: 709 | J49: 575 | K49: 봉곡 2리 | L49: 140 | M49: 71 | N49: 69 | O49: 61 | P49: 산야 3리 | Q49: 65 | R49: 31 | S49: 34 | T49: 34 | U49: 원호 1리 | V49: 88 | W49: 40 | X49: 48 | Y49: 34 | Z49: 용상 2리 | AA49: 170 | AB49: 77 | AC49: 93 | AD49: 75 | AE49: 대 평 리 | AF49: 267 | AG49: 144 | AH49: 123 | AI49: 135 | AJ49: 용담 2리 | AK49: 138 | AL49: 65 | AM49: 73 | AN49: 53 | AO49: 성저 2리 | AP49: 65 | AQ49: 36 | AR49: 29 | AS49: 31 | AT49: 선화1리 | AU49: 91 | AV49: 46 | AW49: 45 | AX49: 45
A50: 유강 3리 | B50: 1280 | C50: 659 | D50: 621 | E50: 383 | F50: 산대 7리 | G50: 2691 | H50: 1352 | I50: 1339 | J50: 823 | K50: 연 명 리 | L50: 297 | M50: 147 | N50: 150 | O50: 121 | P50: 주 계 리 | Q50: 245 | R50: 131 | S50: 114 | T50: 117 | U50: 원호 2리 | V50: 295 | W50: 159 | X50: 136 | Y50: 125 | Z50: 신천 1리 | AA50: 70 | AB50: 36 | AC50: 34 | AD50: 24 | AE50: 죽 정 리 | AF50: 143 | AG50: 77 | AH50: 66 | AI50: 65 | AJ50: 용담 3리 | AK50: 110 | AL50: 60 | AM50: 50 | AN50: 49 | AO50: 수 예 리 | AP50: 63 | AQ50: 36 | AR50: 27 | AS50: 33 | AT50: 선화2리 | AU50: 319 | AV50: 164 | AW50: 155 | AX50: 145
A51: 유강 4리 | B51: 1627 | C51: 844 | D51: 783 | E51: 493 | F51: 산대 8리 | G51: 1725 | H51: 839 | I51: 886 | J51: 781 | K51: 노 곡 리 | L51: 204 | M51: 107 | N51: 97 | O51: 80 | P51: 가 야 리 | Q51: 204 | R51: 105 | S51: 99 | T51: 100 | U51: 원호 3리 | V51: 2479 | W51: 1250 | X51: 1229 | Y51: 783 | Z51: 신천 2리 | AA51: 129 | AB51: 62 | AC51: 67 | AD51: 59 | AE51: 송 천 리 | AF51: 338 | AG51: 171 | AH51: 167 | AI51: 147 | AJ51: 묵 상 리 | AK51: 275 | AL51: 128 | AM51: 147 | AN51: 135 | AO51: 민지 1리 | AP51: 79 | AQ51: 37 | AR51: 42 | AS51: 50 | AT51: 선화3리 | AU51: 212 | AV51: 125 | AW51: 87 | AX51: 120
A52: 유강 5리 | B52: 2266 | C52: 1141 | D52: 1125 | E52: 737 | F52: 산대 9리 | G52: 2087 | H52: 1038 | I52: 1049 | J52: 831 | K52: 남 면 | L52: 3550 | M52: 1739 | N52: 1811 | O52: 1659 | P52: 지내 1리 | Q52: 197 | R52: 103 | S52: 94 | T52: 96 | U52: 원호 4리 | V52: 3928 | W52: 1989 | X52: 1939 | Y52: 1202 | Z52: 운문 1리 | AA52: 206 | AB52: 103 | AC52: 103 | AD52: 81 | AE52: 원촌 1리 | AF52: 299 | AG52: 153 | AH52: 146 | AI52: 138 | AJ52: 묵 하 리 | AK52: 150 | AL52: 76 | AM52: 74 | AN52: 75 | AO52: 민지 2리 | AP52: 56 | AQ52: 28 | AR52: 28 | AS52: 21 | AT52: 선화4리 | AU52: 220 | AV52: 113 | AW52: 107 | AX52: 92
A53: 유강 6리 | B53: 1810 | C53: 915 | D53: 895 | E53: 546 | F53: 산대10리 | G53: 1211 | H53: 595 | I53: 616 | J53: 377 | K53: 옥산 1리 | L53: 330 | M53: 169 | N53: 161 | O53: 160 | P53: 지내 2리 | Q53: 155 | R53: 83 | S53: 72 | T53: 61 | U53: 원호 5리 | V53: 2646 | W53: 1369 | X53: 1277 | Y53: 746 | Z53: 운문 2리 | AA53: 218 | AB53: 101 | AC53: 117 | AD53: 102 | AE53: 원촌 2리 | AF53: 151 | AG53: 73 | AH53: 78 | AI53: 73 | AJ53: 매협 1리 | AK53: 180 | AL53: 84 | AM53: 96 | AN53: 93 | AO53: 전곡 1리 | AP53: 131 | AQ53: 65 | AR53: 66 | AS53: 59 | AT53: 선화5리 | AU53: 2953 | AV53: 1494 | AW53: 1459 | AX53: 1180
... A68: 오천읍 | B68: 52864 | C68: 27806 | D68: 25058 | E68: 21149 | F68: 대 동 리 | G68: 196 | H68: 94 | I68: 102 | J68: 97 | K68: 초곡 2리 | L68: 43 | M68: 20 | N68: 23 | O68: 18 | P68: 가류 2리 | Q68: 38 | R68: 20 | S68: 18 | T68: 25 | U68: 봉한 1리 | V68: 275 | W68: 139 | X68: 136 | Y68: 120 | Z68: 금광 1리 | AA68: 85 | AB68: 43 | AC68: 42 | AD68: 40 | AE68: 부산 1리 | AF68: 110 | AG68: 51 | AH68: 59 | AI68: 53 | AJ68: 오상 2리 | AK68: 134 | AL68: 66 | AM68: 68 | AN68: 60 | AO68: 하괴 3리 | AP68: 122 | AQ68: 55 | AR68: 67 | AS68: 60 | AT68: 양기1리 | AU68: 444 | AV68: 250 | AW68: 194 | AX68: 83
A69: 원 1리 | B69: 284 | C69: 151 | D69: 133 | E69: 136 | F69: 검단 1리 | G69: 166 | H69: 78 | I69: 88 | J69: 86 | K69: 용전 1리 | P69: 나 소 리 | Q69: 195 | R69: 101 | S69: 94 | T69: 90 | U69: 봉한 2리 | V69: 534 | W69: 277 | X69: 257 | Y69: 213 | Z69: 금광 2리 | AA69: 68 | AB69: 34 | AC69: 34 | AD69: 25 | AE69: 부산 2리 | AF69: 155 | AG69: 75 | AH69: 80 | AI69: 89 | AJ69: 죽암 1리 | AK69: 176 | AL69: 93 | AM69: 83 | AN69: 77 | AO69: 영순면 | AP69: 2629 | AQ69: 1350 | AR69: 1279 | AS69: 1335 | AT69: 양기2리 | AU69: 3196 | AV69: 1588 | AW69: 1608 | AX69: 1143
A70: 원 2리 | B70: 5131 | C70: 2644 | D70: 2487 | E70: 1784 | F70: 검단 2리 | G70: 275 | H70: 135 | I70: 140 | J70: 138 | K70: 운남 1리 | L70: 265 | M70: 134 | N70: 131 | O70: 104 | P70: 오천 1리 | Q70: 47 | R70: 23 | S70: 24 | T70: 28 | U70: 봉한 3리 | V70: 451 | W70: 214 | X70: 237 | Y70: 141 | Z70: 금광 3리 | AA70: 38 | AB70: 19 | AC70: 19 | AD70: 17 | AE70: 화 서 리 | AF70: 96 | AG70: 41 | AH70: 55 | AI70: 58 | AJ70: 죽암 2리 | AK70: 141 | AL70: 68 | AM70: 73 | AN70: 61 | AO70: 의곡 1리 | AP70: 225 | AQ70: 111 | AR70: 114 | AS70: 111 | AT70: 상림리 | AU70: 685 | AV70: 395 | AW70: 290 | AX70: 381
A71: 원 3리 | B71: 2955 | C71: 1558 | D71: 1397 | E71: 904 | F71: 사 방 리 | G71: 510 | H71: 244 | I71: 266 | J71: 245 | K71: 운남 2리 | L71: 152 | M71: 79 | N71: 73 | O71: 63 | P71: 오천 2리 | Q71: 137 | R71: 68 | S71: 69 | T71: 68 | U71: 봉한 4리 | V71: 935 | W71: 457 | X71: 478 | Y71: 288 | Z71: 용혈 1리 | AA71: 56 | AB71: 27 | AC71: 29 | AD71: 30 | AE71: 화남 1리 | AF71: 61 | AG71: 36 | AH71: 25 | AI71: 36 | AJ71: 간상 1리 | AK71: 170 | AL71: 77 | AM71: 93 | AN71: 75 | AO71: 의곡 2리 | AP71: 156 | AQ71: 76 | AR71: 80 | AS71: 74 | AT71: 내리리 | AU71: 259 | AV71: 145 | AW71: 114 | AX71: 157
A72: 원 4리 | B72: 3464 | C72: 1765 | D72: 1699 | E72: 1050 | F72: 청 령 리 | G72: 319 | H72: 159 | I72: 160 | J72: 148 | K72: 계령면 | L72: 2884 | M72: 1459 | N72: 1425 | O72: 1242 | P72: 오천 3리 | Q72: 60 | R72: 28 | S72: 32 | T72: 27 | U72: 항곡 1리 | V72: 812 | W72: 442 | X72: 370 | Y72: 323 | Z72: 용혈 2리 | AA72: 96 | AB72: 53 | AC72: 43 | AD72: 52 | AE72: 화남 2리 | AF72: 53 | AG72: 25 | AH72: 28 | AI72: 25 | AJ72: 간상 2리 | AK72: 123 | AL72: 56 | AM72: 67 | AN72: 57 | AO72: 의곡 3리 | AP72: 69 | AQ72: 34 | AR72: 35 | AS72: 40 | AT72: 문천1리 | AU72: 98 | AV72: 46 | AW72: 52 | AX72: 44
A73: 원 5리 | B73: 1654 | C73: 987 | D73: 667 | E73: 942 | F73: 건천읍 | G73: 10863 | H73: 5519 | I73: 5344 | J73: 5161 | K73: 황계 1리 | L73: 393 | M73: 203 | N73: 190 | O73: 169 | P73: 북후면 | Q73: 3586 | R73: 1831 | S73: 1755 | T73: 1610 | U73: 항곡 2리 | V73: 258 | W73: 121 | X73: 137 | Y73: 80 | Z73: 문수면 | AA73: 2154 | AB73: 1090 | AC73: 1064 | AD73: 1052 | AE73: 화남 3리 | AF73: 196 | AG73: 100 | AH73: 96 | AI73: 102 | AJ73: 신 암 리 | AK73: 152 | AL73: 73 | AM73: 79 | AN73: 71 | AO73: 김 용 리 | AP73: 165 | AQ73: 91 | AR73: 74 | AS73: 77 | AT73: 문천2리 | AU73: 100 | AV73: 58 | AW73: 42 | AX73: 44
A74: 원 6리 | B74: 2322 | C74: 1396 | D74: 926 | E74: 1309 | F74: 건천 1리 | G74: 573 | H74: 267 | I74: 306 | J74: 332 | K74: 황계 2리 | L74: 117 | M74: 61 | N74: 56 | O74: 53 | P74: 옹천 1리 | Q74: 258 | R74: 126 | S74: 132 | T74: 128 | U74: 예강 1리 | V74: 599 | W74: 306 | X74: 293 | Y74: 226 | Z74: 승문 1리 | AA74: 201 | AB74: 103 | AC74: 98 | AD74: 77 | AE74: 왕산 1리 | AF74: 269 | AG74: 134 | AH74: 135 | AI74: 139 | AJ74: 금당 1리 | AK74: 86 | AL74: 41 | AM74: 45 | AN74: 42 | AO74: 포내 1리 | AP74: 140 | AQ74: 70 | AR74: 70 | AS74: 70 | AT74: 문천3리 | AU74: 97 | AV74: 49 | AW74: 48 | AX74: 49
A75: 문덕 1리 | B75: 254 | C75: 136 | D75: 118 | E75: 105 | F75: 건천 2리 | G75: 1741 | H75: 919 | I75: 822 | J75: 766 | K75: 신룡 1리 | L75: 185 | M75: 91 | N75: 94 | O75: 76 | P75: 옹천 2리 | Q75: 213 | R75: 92 | S75: 121 | T75: 95 | U75: 예강 2리 | V75: 184 | W75: 92 | X75: 92 | Y75: 75 | Z75: 승문 2리 | AA75: 99 | AB75: 52 | AC75: 47 | AD75: 43 | AE75: 왕산 2리 | AF75: 237 | AG75: 115 | AH75: 122 | AI75: 107 | AJ75: 금당 2리 | AK75: 52 | AL75: 26 | AM75: 26 | AN75: 30 | AO75: 포내 2리 | AP75: 112 | AQ75: 59 | AR75: 53 | AS75: 46 | AT75: 평(坪)사리 | AU75: 347 | AV75: 215 | AW75: 132 | AX75: 256
A76: 문덕 2리 | B76: 89 | C76: 50 | D76: 39 | E76: 47 | F76: 건천 3리 | G76: 376 | H76: 177 | I76: 199 | J76: 184 | K76: 신룡 2리 | L76: 102 | M76: 50 | N76: 52 | O76: 41 | P76: 옹천 3리 | Q76: 509 | R76: 262 | S76: 247 | T76: 264 | U76: 무을면 | V76: 2139 | W76: 1070 | X76: 1069 | Y76: 1019 | Z76: 만방 1리 | AA76: 173 | AB76: 83 | AC76: 90 | AD76: 77 | AE76: 매양 1리 | AF76: 336 | AG76: 163 | AH76: 173 | AI76: 163 | AJ76: 우물 1리 | AK76: 59 | AL76: 29 | AM76: 30 | AN76: 24 | AO76: 사근 1리 | AP76: 434 | AQ76: 256 | AR76: 178 | AS76: 228 | AT76: 평(平)사1리 | AU76: 195 | AV76: 96 | AW76: 99 | AX76: 94
A77: 문덕 3리 | B77: 1889 | C77: 1091 | D77: 798 | E77: 944 | F77: 건천 4리 | G77: 1170 | H77: 565 | I77: 605 | J77: 525 | K77: 신룡 3리 | L77: 225 | M77: 117 | N77: 108 | O77: 81 | P77: 장 기 리 | Q77: 181 | R77: 92 | S77: 89 | T77: 88 | U77: 송삼 1리 | V77: 211 | W77: 103 | X77: 108 | Y77: 101 | Z77: 만방 2리 | AA77: 137 | AB77: 73 | AC77: 64 | AD77: 62 | AE77: 매양 2리 | AF77: 62 | AG77: 32 | AH77: 30 | AI77: 38 | AJ77: 우물 2리 | AK77: 39 | AL77: 14 | AM77: 25 | AN77: 21 | AO77: 사근 2리 | AP77: 120 | AQ77: 55 | AR77: 65 | AS77: 62 | AT77: 평(平)사2리 | AU77: 353 | AV77: 203 | AW77: 150 | AX77: 204
A78: 문덕 4리 | B78: 773 | C78: 390 | D78: 383 | E78: 366 | F78: 천포 1리 | G78: 781 | H78: 407 | I78: 374 | J78: 316 | K78: 덕촌 1리 | L78: 85 | M78: 44 | N78: 41 | O78: 35 | P78: 도촌 1리 | Q78: 142 | R78: 77 | S78: 65 | T78: 69 | U78: 송삼 2리 | V78: 99 | W78: 51 | X78: 48 | Y78: 45 | Z78: 적동 1리 | AA78: 249 | AB78: 119 | AC78: 130 | AD78: 107 | AE78: 화성 1리 | AF78: 108 | AG78: 58 | AH78: 50 | AI78: 48 | AJ78: 낙동면 | AK78: 4564 | AL78: 2214 | AM78: 2350 | AN78: 2209 | AO78: 왕태 1리 | AP78: 71 | AQ78: 36 | AR78: 35 | AS78: 43 | AT78: 다문1리 | AU78: 92 | AV78: 50 | AW78: 42 | AX78: 44
A79: 문덕 5리 | B79: 1778 | C79: 875 | D79: 903 | E79: 538 | F79: 천포 2리 | G79: 808 | H79: 421 | I79: 387 | J79: 386 | K79: 덕촌 2리 | L79: 106 | M79: 50 | N79: 53 | O79: 46 | P79: 도촌 2리 | Q79: 420 | R79: 248 | S79: 172 | T79: 78 | U79: 무수 1리 | V79: 122 | W79: 60 | X79: 62 | Y79: 55 | Z79: 적동 2리 | AA79: 133 | AB79: 62 | AC79: 71 | AD79: 82 | AE79: 화성 2리 | AF79: 331 | AG79: 159 | AH79: 172 | AI79: 181 | AJ79: 상촌 1리 | AK79: 304 | AL79: 144 | AM79: 160 | AN79: 171 | AO79: 왕태 2리 | AP79: 40 | AQ79: 19 | AR79: 21 | AS79: 23 | AT79: 다문2리 | AU79: 97 | AV79: 50 | AW79: 47 | AX79: 51
A80: 문덕 6리 | B80: 1633 | C80: 820 | D80: 813 | E80: 532 | F80: 송선 1리 | G80: 297 | H80: 152 | I80: 145 | J80: 164 | K80: 덕촌 3리 | L80: 91 | M80: 45 | N80: 46 | O80: 40 | P80: 오 산 리 | Q80: 230 | R80: 117 | S80: 113 | T80: 88 | U80: 무수 2리 | V80: 55 | W80: 26 | X80: 29 | Y80: 31 | Z80: 권 선 리 | AA80: 100 | AB80: 54 | AC80: 46 | AD80: 55 | AE80: 화성 3리 | AF80: 341 | AG80: 168 | AH80: 173 | AI80: 167 | AJ80: 상촌 2리 | AK80: 372 | AL80: 158 | AM80: 214 | AN80: 171 | AO80: 왕태 3리 | AP80: 77 | AQ80: 39 | AR80: 38 | AS80: 42 | AT80: 다문3리 | AU80: 83 | AV80: 42 | AW80: 41 | AX80: 37
A81: 문덕 7리 | B81: 1602 | C81: 894 | D81: 708 | E81: 800 | F81: 송선 2리 | G81: 169 | H81: 87 | I81: 82 | J81: 89 | K81: 서 부 리 | L81: 341 | M81: 184 | N81: 157 | O81: 140 | P81: 도 진 리 | Q81: 218 | R81: 101 | S81: 117 | T81: 102 | U81: 무수 3리 | V81: 104 | W81: 53 | X81: 51 | Y81: 55 | Z81: 월호 1리 | AA81: 145 | AB81: 69 | AC81: 76 | AD81: 61 | AE81: 화성 4리 | AF81: 115 | AG81: 57 | AH81: 58 | AI81: 54 | AJ81: 낙동 1리 | AK81: 302 | AL81: 157 | AM81: 145 | AN81: 130 | AO81: 오 룡 리 | AP81: 84 | AQ81: 37 | AR81: 47 | AS81: 51 | AT81: 아사리 | AU81: 132 | AV81: 66 | AW81: 66 | AX81: 64
A82: 문덕 8리 | B82: 2543 | C82: 1364 | D82: 1179 | E82: 1041 | F82: 신평 1리 | G82: 216 | H82: 103 | I82: 113 | J82: 119 | K82: 동부 1리 | L82: 241 | M82: 114 | N82: 127 | O82: 117 | P82: 물 한 리 | Q82: 183 | R82: 102 | S82: 81 | T82: 88 | U82: 오가 1리 | V82: 65 | W82: 34 | X82: 31 | Y82: 37 | Z82: 월호 2리 | AA82: 158 | AB82: 77 | AC82: 81 | AD82: 74 | AE82: 화성 5리 | AF82: 87 | AG82: 42 | AH82: 45 | AI82: 47 | AJ82: 낙동 2리 | AK82: 265 | AL82: 119 | AM82: 146 | AN82: 131 | AO82: 금림 1리 | AP82: 63 | AQ82: 32 | AR82: 31 | AS82: 31 | AT82: 시문리 | AU82: 73 | AV82: 40 | AW82: 33 | AX82: 37
A83: 문덕 9리 | B83: 1155 | C83: 636 | D83: 519 | E83: 560 | F83: 신평 2리 | G83: 323 | H83: 144 | I83: 179 | J83: 174 | K83: 동부 2리 | L83: 162 | M83: 83 | N83: 79 | O83: 70 | P83: 연곡 1리 | Q83: 135 | R83: 69 | S83: 66 | T83: 72 | U83: 오가 2리 | V83: 93 | W83: 50 | X83: 43 | Y83: 35 | Z83: 월호 3리 | AA83: 113 | AB83: 59 | AC83: 54 | AD83: 47 | AE83: 완전 1리 | AF83: 437 | AG83: 203 | AH83: 234 | AI83: 203 | AJ83: 장 곡 리 | AK83: 129 | AL83: 63 | AM83: 66 | AN83: 66 | AO83: 금림 2리 | AP83: 53 | AQ83: 27 | AR83: 26 | AS83: 32 | AT83: 현내리 | AU83: 177 | AV83: 87 | AW83: 90 | AX83: 92
A84: 문덕 10리 | B84: 1369 | C84: 714 | D84: 655 | E84: 545 | F84: 용명 1리 | G84: 216 | H84: 113 | I84: 103 | J84: 93 | K84: 양 천 리 | L84: 301 | M84: 156 | N84: 145 | O84: 129 | P84: 연곡 2리 | Q84: 157 | R84: 73 | S84: 84 | T84: 72 | U84: 오가 3리 | V84: 90 | W84: 49 | X84: 41 | Y84: 34 | Z84: 벌사 1리 | AA84: 76 | AB84: 41 | AC84: 35 | AD84: 32 | AE84: 완전 2리 | AF84: 244 | AG84: 135 | AH84: 109 | AI84: 126 | AJ84: 구잠 1리 | AK84: 119 | AL84: 62 | AM84: 57 | AN84: 56 | AO84: 달지 1리 | AP84: 117 | AQ84: 55 | AR84: 62 | AS84: 48 | AT84: 마곡리 | AU84: 175 | AV84: 97 | AW84: 78 | AX84: 82
A85: 문덕 11리 | B85: 1549 | C85: 852 | D85: 697 | E85: 738 | F85: 용명 2리 | G85: 216 | H85: 113 | I85: 103 | J85: 108 | K85: 광천 1리 | L85: 108 | M85: 48 | N85: 60 | O85: 56 | P85: 두 산 리 | Q85: 202 | R85: 104 | S85: 98 | T85: 106 | U85: 상 송 리 | V85: 137 | W85: 70 | X85: 67 | Y85: 80 | Z85: 벌사 2리 | AA85: 149 | AB85: 93 | AC85: 56 | AD85: 112 | AE85: 신덕 1리 | AF85: 179 | AG85: 88 | AH85: 91 | AI85: 85 | AJ85: 구잠 2리 | AK85: 120 | AL85: 60 | AM85: 60 | AN85: 64 | AO85: 달지 2리 | AP85: 109 | AQ85: 55 | AR85: 54 | AS85: 56 | AT85: 광석리 | AU85: 109 | AV85: 65 | AW85: 44 | AX85: 59
... A97: 세계 3리 | B97: 951 | C97: 473 | D97: 478 | E97: 433 | F97: 조전 2리 | G97: 284 | H97: 153 | I97: 131 | J97: 148 | K97: 송북 1리 | L97: 106 | M97: 60 | N97: 46 | O97: 49 | P97: 이송천리 | Q97: 537 | R97: 298 | S97: 239 | T97: 147 | U97: 농소 1리 | V97: 155 | W97: 72 | X97: 83 | Y97: 80 | Z97: 갈산 1리 | AA97: 105 | AB97: 56 | AC97: 49 | AD97: 54 | AE97: 대안 3리 | AF97: 62 | AG97: 34 | AH97: 28 | AI97: 34 | AJ97: 승 곡 리 | AK97: 265 | AL97: 141 | AM97: 124 | AN97: 122 | AO97: 과곡 2리 | AP97: 53 | AQ97: 24 | AR97: 29 | AS97: 26 | AT97: 소월3리 | AU97: 455 | AV97: 315 | AW97: 140 | AX97: 128
A98: 세계 4리 | B98: 832 | C98: 416 | D98: 416 | E98: 345 | F98: 외동읍 | G98: 16782 | H98: 8688 | I98: 8094 | J98: 8054 | K98: 송북 2리 | L98: 31 | M98: 12 | N98: 19 | O98: 15 | P98: 금계 1리 | Q98: 201 | R98: 96 | S98: 105 | T98: 97 | U98: 농소 2리 | V98: 127 | W98: 64 | X98: 63 | Y98: 58 | Z98: 갈산 2리 | AA98: 121 | AB98: 63 | AC98: 58 | AD98: 58 | AE98: 효정 1리 | AF98: 100 | AG98: 43 | AH98: 57 | AI98: 49 | AJ98: 비 룡 리 | AK98: 238 | AL98: 119 | AM98: 119 | AN98: 115 | AO98: 과곡 3리 | AP98: 82 | AQ98: 40 | AR98: 42 | AS98: 40 | AT98: 덕촌리 | AU98: 397 | AV98: 214 | AW98: 183 | AX98: 191
A99: 세계 5리 | B99: 1737 | C99: 876 | D99: 861 | E99: 699 | F99: 입실 1리 | G99: 800 | H99: 410 | I99: 390 | J99: 360 | K99: 금곡 1리 | L99: 131 | M99: 58 | N99: 73 | O99: 58 | P99: 금계 2리 | Q99: 102 | R99: 48 | S99: 54 | T99: 48 | U99: 주아 1리 | V99: 221 | W99: 113 | X99: 108 | Y99: 99 | Z99: 갈산 3리 | AA99: 103 | AB99: 51 | AC99: 52 | AD99: 54 | AE99: 효정 2리 | AF99: 99 | AG99: 54 | AH99: 45 | AI99: 52 | AJ99: 용 포 리 | AK99: 141 | AL99: 66 | AM99: 75 | AN99: 77 | AO99: 형천 1리 | AP99: 91 | AQ99: 40 | AR99: 51 | AS99: 41 | AT99: 시천1리 | AU99: 275 | AV99: 147 | AW99: 128 | AX99: 128
A100: 용덕 1리 | B100: 1481 | C100: 792 | D100: 689 | E100: 596 | F100: 입실 2리 | G100: 2996 | H100: 1543 | I100: 1453 | J100: 1513 | K100: 금곡 2리 | L100: 125 | M100: 62 | N100: 63 | O100: 50 | P100: 성 곡 리 | Q100: 304 | R100: 164 | S100: 140 | T100: 164 | U100: 주아 2리 | V100: 96 | W100: 50 | X100: 46 | Y100: 49 | Z100: 파 지 리 | AA100: 57 | AB100: 25 | AC100: 32 | AD100: 27 | AE100: 당지 1리 | AF100: 77 | AG100: 37 | AH100: 40 | AI100: 40 | AJ100: 수 정 리 | AK100: 96 | AL100: 44 | AM100: 52 | AN100: 52 | AO100: 형천 2리 | AP100: 55 | AQ100: 26 | AR100: 29 | AS100: 24 | AT100: 시천2리 | AU100: 97 | AV100: 49 | AW100: 48 | AX100: 45
A101: 용덕 2리 | B101: 842 | C101: 435 | D101: 407 | E101: 285 | F101: 입실 3리 | G101: 935 | H101: 511 | I101: 424 | J101: 468 | K101: 삼성 1리 | L101: 189 | M101: 104 | N101: 85 | O101: 89 | P101: 이개 1리 | Q101: 144 | R101: 76 | S101: 68 | T101: 70 | U101: 구봉 1리 | V101: 132 | W101: 59 | X101: 73 | Y101: 78 | Z101: 성곡 1리 | AA101: 296 | AB101: 156 | AC101: 140 | AD101: 130 | AE101: 당지 2리 | AF101: 52 | AG101: 27 | AH101: 25 | AI101: 33 | AJ101: 신 오 리 | AK101: 211 | AL101: 99 | AM101: 112 | AN101: 116 | AO101: 형천 3리 | AP101: 70 | AQ101: 34 | AR101: 36 | AS101: 32 | AT101: 용천1리 | AU101: 375 | AV101: 203 | AW101: 172 | AX101: 176
A102: 용덕 3리 | B102: 1828 | C102: 902 | D102: 926 | E102: 685 | F102: 구어 1리 | G102: 360 | H102: 195 | I102: 165 | J102: 187 | K102: 삼성 2리 | L102: 104 | M102: 50 | N102: 54 | O102: 51 | P102: 이개 2리 | Q102: 67 | R102: 35 | S102: 32 | T102: 34 | U102: 구봉 2리 | V102: 91 | W102: 53 | X102: 38 | Y102: 25 | Z102: 성곡 2리 | AA102: 30 | AB102: 10 | AC102: 20 | AD102: 20 | AE102: 화산 1리 | AF102: 142 | AG102: 73 | AH102: 69 | AI102: 74 | AJ102: 유곡 1리 | AK102: 115 | AL102: 57 | AM102: 58 | AN102: 58 | AO102: 위만 1리 | AP102: 167 | AQ102: 80 | AR102: 87 | AS102: 74 | AT102: 용천2리 | AU102: 68 | AV102: 36 | AW102: 32 | AX102: 33
A103: 용덕 4리 | B103: 2050 | C103: 1046 | D103: 1004 | E103: 821 | F103: 구어 2리 | G103: 1079 | H103: 575 | I103: 504 | J103: 460 | K103: 광덕 1리 | L103: 86 | M103: 45 | N103: 41 | O103: 50 | P103: 교 리 | Q103: 440 | R103: 194 | S103: 246 | T103: 306 | U103: 옥관 1리 | V103: 188 | W103: 100 | X103: 88 | Y103: 89 | Z103: 화기 1리 | AA103: 129 | AB103: 69 | AC103: 60 | AD103: 68 | AE103: 화산 2리 | AF103: 83 | AG103: 48 | AH103: 35 | AI103: 45 | AJ103: 유곡 2리 | AK103: 137 | AL103: 64 | AM103: 73 | AN103: 71 | AO103: 위만 2리 | AP103: 51 | AQ103: 27 | AR103: 24 | AS103: 30 | AT103: 계당1리 | AU103: 335 | AV103: 166 | AW103: 169 | AX103: 149
A104: 용덕 5리 | B104: 1771 | C104: 899 | D104: 872 | E104: 678 | F104: 모화 1리 | G104: 503 | H104: 272 | I104: 231 | J104: 245 | K104: 광덕 2리 | L104: 153 | M104: 79 | N104: 74 | O104: 73 | P104: 명 1리 | Q104: 419 | R104: 216 | S104: 203 | T104: 204 | U104: 옥관 2리 | V104: 64 | W104: 32 | X104: 32 | Y104: 38 | Z104: 화기 2리 | AA104: 92 | AB104: 51 | AC104: 41 | AD104: 45 | AE104: 가 상 리 | AF104: 169 | AG104: 84 | AH104: 85 | AI104: 97 | AJ104: 청리면 | AK104: 3070 | AL104: 1494 | AM104: 1576 | AN104: 1422 | AO104: 우본 1리 | AP104: 59 | AQ104: 30 | AR104: 29 | AS104: 35 | AT104: 계당2리 | AU104: 279 | AV104: 156 | AW104: 123 | AX104: 125
A105: 용덕 6리 | B105: 1873 | C105: 982 | D105: 891 | E105: 715 | F105: 모화 2리 | G105: 622 | H105: 342 | I105: 280 | J105: 328 | K105: 덕남 1리 | L105: 188 | M105: 82 | N105: 106 | O105: 92 | P105: 명 2리 | Q105: 310 | R105: 161 | S105: 149 | T105: 204 | U105: 산 촌 리 | V105: 46 | W105: 23 | X105: 23 | Y105: 26 | Z105: 소룡 1리 | AA105: 48 | AB105: 24 | AC105: 24 | AD105: 24 | AE105: 대 기 리 | AF105: 129 | AG105: 62 | AH105: 67 | AI105: 58 | AJ105: 원장 1리 | AK105: 525 | AL105: 256 | AM105: 269 | AN105: 240 | AO105: 우본 2리 | AP105: 65 | AQ105: 34 | AR105: 31 | AS105: 36 | AT105: 상암1리 | AU105: 248 | AV105: 123 | AW105: 125 | AX105: 100
A106: 구정 1리 | B106: 663 | C106: 367 | D106: 296 | E106: 331 | F106: 모화 3리 | G106: 754 | H106: 406 | I106: 348 | J106: 365 | K106: 덕남 2리 | L106: 176 | M106: 84 | N106: 92 | O106: 89 | P106: 대두서리 | Q106: 251 | R106: 130 | S106: 121 | T106: 123 | U106: 태봉 1리 | V106: 56 | W106: 22 | X106: 33 | Y106: 31 | Z106: 소룡 2리 | AA106: 94 | AB106: 42 | AC106: 52 | AD106: 57 | AE106: 암 기 리 | AF106: 141 | AG106: 65 | AH106: 76 | AI106: 76 | AJ106: 원장 2리 | AK106: 83 | AL106: 44 | AM106: 39 | AN106: 44 | AO106: 연소 1리 | AP106: 80 | AQ106: 39 | AR106: 41 | AS106: 39 | AT106: 상암2리 | AU106: 116 | AV106: 59 | AW106: 57 | AX106: 56
A107: 구정 2리 | B107: 2099 | C107: 1056 | D107: 1043 | E107: 810 | F107: 모화 4리 | G107: 963 | H107: 483 | I107: 480 | J107: 362 | K107: 태촌 1리 | L107: 130 | M107: 63 | N107: 67 | O107: 62 | P107: 자 품 리 | Q107: 216 | R107: 124 | S107: 92 | T107: 106 | U107: 태봉 2리 | V107: 35 | W107: 22 | X107: 13 | Y107: 18 | Z107: 소룡 3리 | AA107: 68 | AB107: 41 | AC107: 27 | AD107: 29 | AE107: 삼 부 리 | AF107: 139 | AG107: 68 | AH107: 71 | AI107: 79 | AJ107: 월 로 리 | AK107: 213 | AL107: 109 | AM107: 104 | AN107: 99 | AO107: 연소 2리 | AP107: 131 | AQ107: 66 | AR107: 65 | AS107: 52 | AT107: 계전1리 | AU107: 265 | AV107: 143 | AW107: 122 | AX107: 120
A108: 구정 3리 | B108: 1254 | C108: 631 | D108: 623 | E108: 485 | F108: 모화 5리 | G108: 1025 | H108: 534 | I108: 491 | J108: 380 | K108: 태촌 2리 | L108: 120 | M108: 57 | N108: 63 | O108: 55 | P108: 풍천면 | Q108: 4206 | R108: 2098 | S108: 2108 | T108: 2059 | U108: 대원 1리 | V108: 145 | W108: 84 | X108: 61 | Y108: 70 | Z108: 호문 1리 | AA108: 71 | AB108: 33 | AC108: 38 | AD108: 38 | AE108: 석 촌 리 | AF108: 176 | AG108: 81 | AH108: 95 | AI108: 96 | AJ108: 청하 1리 | AK108: 231 | AL108: 119 | AM108: 112 | AN108: 98 | AO108: 불 암 리 | AP108: 361 | AQ108: 175 | AR108: 186 | AS108: 195 | AT108: 계전2리 | AU108: 116 | AV108: 62 | AW108: 54 | AX108: 58
A109: 구정 4리 | B109: 1448 | C109: 750 | D109: 698 | E109: 455 | F109: 문산 1리 | G109: 132 | H109: 60 | I109: 72 | J109: 66 | K109: 태촌 3리 | L109: 203 | M109: 102 | N109: 101 | O109: 108 | P109: 갈전 1리 | Q109: 13 | R109: 8 | S109: 5 | T109: 7 | U109: 대원 2리 | V109: 75 | W109: 37 | X109: 38 | Y109: 31 | Z109: 호문 2리 | AA109: 32 | AB109: 15 | AC109: 17 | AD109: 19 | AE109: 당 곡 리 | AF109: 124 | AG109: 62 | AH109: 62 | AI109: 65 | AJ109: 청하 2리 | AK109: 155 | AL109: 69 | AM109: 86 | AN109: 75 | AO109: 존도 1리 | AP109: 133 | AQ109: 64 | AR109: 69 | AS109: 65 | AT109: 동강1리 | AU109: 228 | AV109: 124 | AW109: 104 | AX109: 112
... A173: 방산 1리 | B173: 112 | C173: 58 | D173: 54 | E173: 59 | F173: 읍천 2리 | G173: 1813 | H173: 961 | I173: 852 | J173: 675 | K173: 주례 2리 | L173: 85 | M173: 49 | N173: 36 | O173: 49 | P173: 이천 3리 | Q173: 369 | R173: 197 | S173: 172 | T173: 187 | U173: 상장 3리 | V173: 391 | W173: 208 | X173: 183 | Y173: 188 | Z173: 단산면 | AA173: 2176 | AB173: 1084 | AC173: 1092 | AD173: 1102 | AE173: 보현 1리 | AF173: 158 | AG173: 76 | AH173: 82 | AI173: 77 | AJ173: 흔평 1리 | AK173: 198 | AL173: 98 | AM173: 100 | AN173: 90 | AO173: 간송 1리 | AP173: 98 | AQ173: 47 | AR173: 51 | AS173: 52 | AT173: 일광2리 | AU173: 81 | AV173: 35 | AW173: 46 | AX173: 32
A174: 방산 2리 | B174: 62 | C174: 32 | D174: 30 | E174: 37 | F174: 내남면 | G174: 5193 | H174: 2551 | I174: 2642 | J174: 2512 | K174: 대성 1리 | L174: 100 | M174: 52 | N174: 48 | O174: 43 | P174: 신석 1리 | Q174: 237 | R174: 118 | S174: 119 | T174: 103 | U174: 신장 1리 | V174: 183 | W174: 95 | X174: 88 | Y174: 80 | Z174: 동원 1리 | AA174: 113 | AB174: 61 | AC174: 52 | AD174: 55 | AE174: 보현 2리 | AF174: 110 | AG174: 49 | AH174: 61 | AI174: 59 | AJ174: 흔평 2리 | AK174: 126 | AL174: 67 | AM174: 59 | AN174: 60 | AO174: 간송 2리 | AP174: 92 | AQ174: 46 | AR174: 46 | AS174: 49 | AT174: 남산면 | AU174: 3861 | AV174: 2018 | AW174: 1843 | AX174: 1777
A175: 산 서 리 | B175: 206 | C175: 95 | D175: 111 | E175: 132 | F175: 용장 1리 | G175: 399 | H175: 192 | I175: 207 | J175: 175 | K175: 대성 2리 | L175: 86 | M175: 42 | N175: 44 | O175: 45 | P175: 신석 2리 | Q175: 64 | R175: 30 | S175: 34 | T175: 36 | U175: 신장 2리 | V175: 326 | W175: 184 | X175: 142 | Y175: 144 | Z175: 동원 2리 | AA175: 91 | AB175: 52 | AC175: 39 | AD175: 37 | AE175: 보현 3리 | AF175: 133 | AG175: 65 | AH175: 68 | AI175: 70 | AJ175: 소은 1리 | AK175: 102 | AL175: 45 | AM175: 57 | AN175: 42 | AO175: 석항 1리 | AP175: 80 | AQ175: 42 | AR175: 38 | AS175: 37 | AT175: 산양리 | AU175: 263 | AV175: 136 | AW175: 127 | AX175: 125
A176: 서촌 1리 | B176: 38 | C176: 21 | D176: 17 | E176: 16 | F176: 용장 2리 | G176: 105 | H176: 53 | I176: 52 | J176: 46 | K176: 덕전 1리 | L176: 195 | M176: 97 | N176: 98 | O176: 89 | P176: 신 흥 리 | Q176: 57 | R176: 27 | S176: 30 | T176: 29 | U176: 하장 1리 | V176: 269 | W176: 142 | X176: 127 | Y176: 114 | Z176: 사천 1리 | AA176: 94 | AB176: 44 | AC176: 50 | AD176: 49 | AE176: 보현 4리 | AF176: 96 | AG176: 48 | AH176: 48 | AI176: 52 | AJ176: 소은 2리 | AK176: 90 | AL176: 47 | AM176: 43 | AN176: 36 | AO176: 석항 2리 | AP176: 129 | AQ176: 65 | AR176: 64 | AS176: 63 | AT176: 경1리 | AU176: 224 | AV176: 119 | AW176: 105 | AX176: 100
A177: 서촌 2리 | B177: 115 | C177: 56 | D177: 59 | E177: 54 | F177: 용장 3리 | G177: 114 | H177: 53 | I177: 61 | J177: 47 | K177: 덕전 2리 | L177: 199 | M177: 93 | N177: 106 | O177: 85 | P177: 도 로 리 | Q177: 146 | R177: 64 | S177: 82 | T177: 73 | U177: 하장 2리 | V177: 177 | W177: 89 | X177: 88 | Y177: 67 | Z177: 사천 2리 | AA177: 87 | AB177: 42 | AC177: 45 | AD177: 46 | AE177: 임고면 | AF177: 4348 | AG177: 2176 | AH177: 2172 | AI177: 2137 | AJ177: 지사 1리 | AK177: 95 | AL177: 47 | AM177: 48 | AN177: 46 | AO177: 석항 3리 | AP177: 63 | AQ177: 40 | AR177: 23 | AS177: 38 | AT177: 경2리 | AU177: 145 | AV177: 78 | AW177: 67 | AX177: 57
A178: 금 오 리 | B178: 79 | C178: 37 | D178: 42 | E178: 47 | F178: 용장 4리 | G178: 134 | H178: 67 | I178: 67 | J178: 62 | K178: 덕전 3리 | L178: 214 | M178: 107 | N178: 107 | O178: 87 | P178: 현내 1리 | Q178: 202 | R178: 96 | S178: 106 | T178: 92 | U178: 상 림 리 | V178: 315 | W178: 159 | X178: 156 | Y178: 145 | Z178: 구구 1리 | AA178: 75 | AB178: 31 | AC178: 44 | AD178: 51 | AE178: 양항 1리 | AF178: 240 | AG178: 119 | AH178: 121 | AI178: 116 | AJ178: 지사 2리 | AK178: 134 | AL178: 69 | AM178: 65 | AN178: 49 | AO178: 노은 1리 | AP178: 101 | AQ178: 48 | AR178: 53 | AS178: 42 | AT178: 남곡리 | AU178: 103 | AV178: 54 | AW178: 49 | AX178: 52
A179: 대 진 리 | B179: 133 | C179: 68 | D179: 65 | E179: 71 | F179: 노곡 1리 | G179: 226 | H179: 108 | I179: 118 | J179: 111 | K179: 덕전 4리 | L179: 301 | M179: 156 | N179: 145 | O179: 123 | P179: 현내 2리 | Q179: 90 | R179: 45 | S179: 45 | T179: 49 | U179: 금 산 리 | V179: 216 | W179: 107 | X179: 109 | Y179: 100 | Z179: 구구 2리 | AA179: 122 | AB179: 52 | AC179: 70 | AD179: 63 | AE179: 양항 2리 | AF179: 235 | AG179: 124 | AH179: 111 | AI179: 120 | AJ179: 내서면 | AK179: 2033 | AL179: 1008 | AM179: 1025 | AN179: 956 | AO179: 노은 2리 | AP179: 152 | AQ179: 76 | AR179: 76 | AS179: 73 | AT179: 갈지리 | AU179: 173 | AV179: 100 | AW179: 73 | AX179: 86
A180: 모포 1리 | B180: 148 | C180: 67 | D180: 81 | E180: 88 | F180: 노곡 2리 | G180: 241 | H180: 116 | I180: 125 | J180: 115 | K180: 대룡 1리 | L180: 361 | M180: 185 | N180: 176 | O180: 137 | P180: 원림 1리 | Q180: 375 | R180: 183 | S180: 192 | T180: 164 | U180: 오로 1리 | V180: 129 | W180: 64 | X180: 65 | Y180: 67 | Z180: 구구 3리 | AA180: 71 | AB180: 34 | AC180: 37 | AD180: 38 | AE180: 선원 1리 | AF180: 129 | AG180: 64 | AH180: 65 | AI180: 64 | AJ180: 능암 1리 | AK180: 94 | AL180: 48 | AM180: 46 | AN180: 44 | AO180: 노은 3리 | AP180: 81 | AQ180: 44 | AR180: 37 | AS180: 35 | AT180: 평기1리 | AU180: 98 | AV180: 53 | AW180: 45 | AX180: 48
A181: 모포 2리 | B181: 171 | C181: 81 | D181: 90 | E181: 84 | F181: 명계 1리 | G181: 142 | H181: 72 | I181: 70 | J181: 79 | K181: 대룡 2리 | L181: 348 | M181: 180 | N181: 168 | O181: 135 | P181: 원림 2리 | Q181: 78 | R181: 39 | S181: 39 | T181: 34 | U181: 오로 2리 | V181: 65 | W181: 34 | X181: 31 | Y181: 42 | Z181: 병산 1리 | AA181: 130 | AB181: 59 | AC181: 71 | AD181: 69 | AE181: 선원 2리 | AF181: 180 | AG181: 100 | AH181: 80 | AI181: 84 | AJ181: 능암 2리 | AK181: 166 | AL181: 82 | AM181: 84 | AN181: 74 | AO181: 적성 1리 | AP181: 231 | AQ181: 111 | AR181: 120 | AS181: 125 | AT181: 평기2리 | AU181: 126 | AV181: 68 | AW181: 58 | AX181: 57
A182: 학 계 리 | B182: 92 | C182: 43 | D182: 49 | E182: 55 | F182: 명계 2리 | G182: 108 | H182: 58 | I182: 50 | J182: 56 | K182: 복전 1리 | L182: 288 | M182: 139 | N182: 149 | O182: 123 | P182: 외 하 리 | Q182: 228 | R182: 110 | S182: 118 | T182: 99 | U182: 묵어 1리 | V182: 215 | W182: 105 | X182: 110 | Y182: 96 | Z182: 병산 2리 | AA182: 114 | AB182: 58 | AC182: 56 | AD182: 54 | AE182: 덕 연 리 | AF182: 326 | AG182: 174 | AH182: 152 | AI182: 149 | AJ182: 신촌 1리 | AK182: 149 | AL182: 70 | AM182: 79 | AN182: 78 | AO182: 적성 2리 | AP182: 169 | AQ182: 79 | AR182: 90 | AS182: 72 | AT182: 안심리 | AU182: 125 | AV182: 61 | AW182: 64 | AX182: 56
A183: 학 곡 리 | B183: 75 | C183: 36 | D183: 39 | E183: 39 | F183: 명계 3리 | G183: 154 | H183: 71 | I183: 83 | J183: 68 | K183: 복전 2리 | L183: 383 | M183: 190 | N183: 193 | O183: 148 | P183: 임하면 | Q183: 3376 | R183: 1772 | S183: 1604 | T183: 1459 | U183: 묵어 2리 | V183: 119 | W183: 65 | X183: 54 | Y183: 55 | Z183: 병산 3리 | AA183: 97 | AB183: 54 | AC183: 43 | AD183: 49 | AE183: 삼매 1리 | AF183: 215 | AG183: 111 | AH183: 104 | AI183: 106 | AJ183: 신촌 2리 | AK183: 118 | AL183: 62 | AM183: 56 | AN183: 50 | AO183: 적성 3리 | AP183: 87 | AQ183: 44 | AR183: 43 | AS183: 47 | AT183: 흥정리 | AU183: 118 | AV183: 59 | AW183: 59 | AX183: 59
A184: 신 계 리 | B184: 92 | C184: 50 | D184: 42 | E184: 49 | F184: 월산 1리 | G184: 116 | H184: 59 | I184: 57 | J184: 57 | K184: 감천면 | L184: 2252 | M184: 1143 | N184: 1109 | O184: 934 | P184: 임하 1리 | Q184: 374 | R184: 185 | S184: 189 | T184: 176 | U184: 여 남 리 | V184: 279 | W184: 144 | X184: 135 | Y184: 118 | Z184: 단곡 1리 | AA184: 184 | AB184: 87 | AC184: 97 | AD184: 69 | AE184: 삼매 2리 | AF184: 48 | AG184: 25 | AH184: 23 | AI184: 23 | AJ184: 북 장 리 | AK184: 178 | AL184: 92 | AM184: 86 | AN184: 70 | AO184: 생달 1리 | AP184: 134 | AQ184: 66 | AR184: 68 | AS184: 79 | AT184: 사림리 | AU184: 90 | AV184: 48 | AW184: 42 | AX184: 43
A185: 창지 1리 | B185: 73 | C185: 30 | D185: 43 | E185: 36 | F185: 월산 2리 | G185: 157 | H185: 78 | I185: 79 | J185: 70 | K185: 용호 1리 | L185: 229 | M185: 110 | N185: 119 | O185: 105 | P185: 임하 2리 | Q185: 110 | R185: 55 | S185: 55 | T185: 57 | U185: 명 곡 리 | V185: 123 | W185: 62 | X185: 61 | Y185: 62 | Z185: 단곡 2리 | AA185: 115 | AB185: 56 | AC185: 59 | AD185: 54 | AE185: 삼매 3리 | AF185: 133 | AG185: 65 | AH185: 68 | AI185: 63 | AJ185: 고곡 1리 | AK185: 59 | AL185: 32 | AM185: 27 | AN185: 22 | AO185: 생달 2리 | AP185: 80 | AQ185: 47 | AR185: 33 | AS185: 41 | AT185: 연하리 | AU185: 145 | AV185: 70 | AW185: 75 | AX185: 67
A186: 창지 2리 | B186: 84 | C186: 39 | D186: 45 | E186: 46 | F186: 이조 1리 | G186: 520 | H186: 245 | I186: 275 | J186: 239 | K186: 용호 2리 | L186: 133 | M186: 66 | N186: 67 | O186: 57 | P186: 천전 1리 | Q186: 251 | R186: 122 | S186: 129 | T186: 113 | Z186: 단곡 3리 | AA186: 71 | AB186: 33 | AC186: 38 | AD186: 40 | AE186: 평천 1리 | AF186: 139 | AG186: 72 | AH186: 67 | AI186: 72 | AJ186: 고곡 2리 | AK186: 70 | AL186: 32 | AM186: 38 | AN186: 43 | AO186: 명전 1리 | AP186: 62 | AQ186: 34 | AR186: 28 | AS186: 38 | AT186: 우검리 | AU186: 140 | AV186: 74 | AW186: 66 | AX186: 68
A187: 대 곡 리 | B187: 127 | C187: 65 | D187: 62 | E187: 66 | F187: 이조 2리 | G187: 115 | H187: 59 | I187: 56 | J187: 54 | K187: 무안 1리 | L187: 162 | M187: 86 | N187: 76 | O187: 71 | P187: 천전 2리 | Q187: 64 | R187: 38 | S187: 26 | T187: 34 | Z187: 옥대 1리 | AA187: 367 | AB187: 188 | AC187: 179 | AD187: 187 | AE187: 평천 2리 | AF187: 129 | AG187: 62 | AH187: 67 | AI187: 62 | AJ187: 서만 1리 | AK187: 133 | AL187: 59 | AM187: 74 | AN187: 61 | AO187: 명전 2리 | AP187: 85 | AQ187: 40 | AR187: 45 | AS187: 47 | AT187: 사월1리 | AU187: 171 | AV187: 89 | AW187: 82 | AX187: 71
A188: 죽 정 리 | B188: 114 | C188: 57 | D188: 57 | E188: 57 | F188: 이조 3리 | G188: 184 | H188: 84 | I188: 100 | J188: 89 | K188: 무안 2리 | L188: 126 | M188: 70 | N188: 56 | O188: 52 | P188: 추 목 리 | Q188: 249 | R188: 125 | S188: 124 | T188: 112 | Z188: 옥대 2리 | AA188: 44 | AB188: 21 | AC188: 23 | AD188: 19 | AE188: 평천 3리 | AF188: 168 | AG188: 79 | AH188: 89 | AI188: 78 | AJ188: 서만 2리 | AK188: 96 | AL188: 49 | AM188: 47 | AN188: 50 | AO188: 마성면 | AP188: 3864 | AQ188: 1856 | AR188: 2008 | AS188: 2040 | AT188: 사월2리 | AU188: 153 | AV188: 77 | AW188: 76 | AX188: 63
A189: 정천 1리 | B189: 187 | C189: 93 | D189: 94 | E189: 105 | F189: 부지 1리 | G189: 140 | H189: 68 | I189: 72 | J189: 70 | K189: 무안 3리 | L189: 80 | M189: 37 | N189: 43 | O189: 38 | P189: 신덕 1리 | Q189: 340 | R189: 170 | S189: 170 | T189: 166 | Z189: 옥대 3리 | AA189: 94 | AB189: 46 | AC189: 48 | AD189: 49 | AE189: 양평 1리 | AF189: 133 | AG189: 66 | AH189: 67 | AI189: 64 | AJ189: 서원 1리 | AK189: 176 | AL189: 88 | AM189: 88 | AN189: 84 | AO189: 모 곡 리 | AP189: 257 | AQ189: 126 | AR189: 131 | AS189: 149 | AT189: 송내리 | AU189: 243 | AV189: 125 | AW189: 118 | AX189: 108
A190: 정천 2리 | B190: 59 | C190: 31 | D190: 28 | E190: 26 | F190: 부지 2리 | G190: 80 | H190: 36 | I190: 44 | J190: 44 | K190: 도평 1리 | L190: 189 | M190: 95 | N190: 94 | O190: 77 | P190: 신덕 2리 | Q190: 382 | R190: 199 | S190: 183 | T190: 202 | Z190: 옥대 4리 | AA190: 148 | AB190: 68 | AC190: 80 | AD190: 76 | AE190: 양평 2리 | AF190: 188 | AG190: 90 | AH190: 98 | AI190: 77 | AJ190: 서원 2리 | AK190: 130 | AL190: 68 | AM190: 62 | AN190: 63 | AO190: 정리 1리 | AP190: 168 | AQ190: 87 | AR190: 81 | AS190: 98 | AT190: 조곡리 | AU190: 273 | AV190: 133 | AW190: 140 | AX190: 118
A191: 호미곶면 | B191: 2242 | C191: 1077 | D191: 1165 | E191: 1195 | F191: 덕천 1리 | G191: 157 | H191: 81 | I191: 76 | J191: 78 | K191: 도평 2리 | L191: 194 | M191: 102 | N191: 92 | O191: 81 | P191: 금소 1리 | Q191: 183 | R191: 84 | S191: 99 | T191: 96 | Z191: 좌 석 리 | AA191: 130 | AB191: 78 | AC191: 52 | AD191: 74 | AE191: 황 강 리 | AF191: 229 | AG191: 120 | AH191: 109 | AI191: 108 | AJ191: 낙 서 리 | AK191: 261 | AL191: 124 | AM191: 137 | AN191: 130 | AO191: 정리 2리 | AP191: 124 | AQ191: 57 | AR191: 67 | AS191: 61 | AT191: 전지1리 | AU191: 223 | AV191: 117 | AW191: 106 | AX191: 94
A192: 강사 1리 | B192: 218 | C192: 103 | D192: 115 | E192: 115 | F192: 덕천 2리 | G192: 143 | H192: 78 | I192: 65 | J192: 60 | K192: 광기 1리 | L192: 298 | M192: 151 | N192: 147 | O192: 118 | P192: 금소 2리 | Q192: 238 | R192: 117 | S192: 121 | T192: 111 | Z192: 마 락 리 | AA192: 29 | AB192: 20 | AC192: 9 | AD192: 23 | AE192: 효 1리 | AF192: 266 | AG192: 131 | AH192: 135 | AI192: 132 | AJ192: 평지 1리 | AK192: 128 | AL192: 62 | AM192: 66 | AN192: 61 | AO192: 상내 1리 | AP192: 138 | AQ192: 67 | AR192: 71 | AS192: 74 | AT192: 전지2리 | AU192: 114 | AV192: 64 | AW192: 50 | AX192: 63
A193: 강사 2리 | B193: 330 | C193: 161 | D193: 169 | E193: 178 | F193: 덕천 3리 | G193: 102 | H193: 48 | I193: 54 | J193: 52 | K193: 광기 2리 | L193: 220 | M193: 119 | N193: 101 | O193: 92 | P193: 고 곡 리 | Q193: 717 | R193: 438 | S193: 279 | T193: 163 | Z193: 부석면 | AA193: 3462 | AB193: 1716 | AC193: 1746 | AD193: 1729 | AE193: 효 2리 | AF193: 105 | AG193: 54 | AH193: 51 | AI193: 51 | AJ193: 평지 2리 | AK193: 58 | AL193: 29 | AM193: 29 | AN193: 31 | AO193: 상내 2리 | AP193: 28 | AQ193: 15 | AR193: 13 | AS193: 20 | AT193: 반곡1리 | AU193: 61 | AV193: 28 | AW193: 33 | AX193: 26
A194: 강사 3리 | B194: 42 | C194: 21 | D194: 21 | E194: 26 | F194: 안심 1리 | G194: 211 | H194: 109 | I194: 102 | J194: 121 | K194: 광기 3리 | L194: 124 | M194: 60 | N194: 64 | O194: 48 | P194: 오대 1리 | Q194: 211 | R194: 104 | S194: 107 | T194: 99 | Z194: 남 대 리 | AA194: 126 | AB194: 66 | AC194: 60 | AD194: 79 | AE194: 금 대 리 | AF194: 307 | AG194: 143 | AH194: 164 | AI194: 159 | AJ194: 노류 1리 | AK194: 105 | AL194: 56 | AM194: 49 | AN194: 45 | AO194: 하내 1리 | AP194: 220 | AQ194: 96 | AR194: 124 | AS194: 136 | AT194: 반곡2리 | AU194: 73 | AV194: 41 | AW194: 32 | AX194: 33
A195: 대보 1리 | B195: 269 | C195: 120 | D195: 149 | E195: 144 | F195: 안심 2리 | G195: 131 | H195: 65 | I195: 66 | J195: 68 | K195: 금송 1리 | L195: 118 | M195: 57 | N195: 61 | O195: 44 | P195: 오대 2리 | Q195: 205 | R195: 100 | S195: 105 | T195: 104 | Z195: 북지 1리 | AA195: 177 | AB195: 89 | AC195: 88 | AD195: 84 | AE195: 사 1리 | AF195: 170 | AG195: 81 | AH195: 89 | AI195: 90 | AJ195: 노류 2리 | AK195: 112 | AL195: 55 | AM195: 57 | AN195: 50 | AO195: 하내 2리 | AP195: 127 | AQ195: 54 | AR195: 73 | AS195: 64 | AT195: 상대리 | AU195: 200 | AV195: 105 | AW195: 95 | AX195: 95
A196: 대보 2리 | B196: 309 | C196: 149 | D196: 160 | E196: 161 | F196: 상신 1리 | G196: 146 | H196: 77 | I196: 69 | J196: 74 | K196: 금송 2리 | L196: 141 | M196: 71 | N196: 70 | O196: 59 | P196: 노 산 리 | Q196: 52 | R196: 35 | S196: 17 | T196: 26 | Z196: 북지 2리 | AA196: 187 | AB196: 97 | AC196: 90 | AD196: 80 | AE196: 사 2리 | AF196: 79 | AG196: 40 | AH196: 39 | AI196: 48 | AJ196: 모동면 | AK196: 2816 | AL196: 1392 | AM196: 1424 | AN196: 1310 | AO196: 신현 1리 | AP196: 357 | AQ196: 173 | AR196: 184 | AS196: 186 | AT196: 하대1리 | AU196: 229 | AV196: 126 | AW196: 103 | AX196: 108
A197: 대보 3리 | B197: 182 | C197: 88 | D197: 94 | E197: 105 | F197: 상신 2리 | G197: 100 | H197: 50 | I197: 50 | J197: 47 | K197: 금송 3리 | L197: 144 | M197: 71 | N197: 73 | O197: 52 | P197: 길안면 | Q197: 3138 | R197: 1572 | S197: 1566 | T197: 1630 | Z197: 임곡 1리 | AA197: 206 | AB197: 108 | AC197: 98 | AD197: 98 | AE197: 수성 1리 | AF197: 113 | AG197: 51 | AH197: 62 | AI197: 67 | AJ197: 덕곡 1리 | AK197: 218 | AL197: 103 | AM197: 115 | AN197: 103 | AO197: 신현 2리 | AP197: 75 | AQ197: 35 | AR197: 40 | AS197: 36 | AT197: 하대2리 | AU197: 150 | AV197: 80 | AW197: 70 | AX197: 79
... A208: 옥성 2리 | B208: 1255 | C208: 632 | D208: 623 | E208: 555 | F208: 망성 2리 | G208: 144 | H208: 64 | I208: 80 | J208: 74 | K208: 강곡 1리 | L208: 335 | M208: 168 | N208: 167 | O208: 137 | P208: 대사 2리 | Q208: 77 | R208: 43 | S208: 34 | T208: 38 | Z208: 용암 2리 | AA208: 116 | AB208: 56 | AC208: 60 | AD208: 57 | AE208: 대 성 리 | AF208: 143 | AG208: 76 | AH208: 67 | AI208: 61 | AJ208: 상판 1리 | AK208: 57 | AL208: 31 | AM208: 26 | AN208: 30 | AO208: 농암 1리 | AP208: 143 | AQ208: 60 | AR208: 83 | AS208: 77 | AT208: 신대3리 | AU208: 2308 | AV208: 1174 | AW208: 1134 | AX208: 852
A209: 약성 1리 | B209: 492 | C209: 257 | D209: 235 | E209: 227 | F209: 산내면 | G209: 3306 | H209: 1638 | I209: 1668 | J209: 1880 | K209: 강곡 2리 | L209: 126 | M209: 58 | N209: 68 | O209: 61 | P209: 고 란 리 | Q209: 96 | R209: 46 | S209: 50 | T209: 50 | Z209: 우 곡 리 | AA209: 152 | AB209: 78 | AC209: 74 | AD209: 83 | AE209: 오 류 리 | AF209: 131 | AG209: 61 | AH209: 70 | AI209: 65 | AJ209: 상판 2리 | AK209: 105 | AL209: 58 | AM209: 47 | AN209: 45 | AO209: 농암 2리 | AP209: 367 | AQ209: 180 | AR209: 187 | AS209: 186 | AT209: 압량리 | AU209: 180 | AV209: 106 | AW209: 74 | AX209: 86
A210: 약성 2리 | B210: 1801 | C210: 920 | D210: 881 | E210: 627 | F210: 의곡 1리 | G210: 441 | H210: 223 | I210: 218 | J210: 239 | K210: 신곡 1리 | L210: 63 | M210: 33 | N210: 30 | O210: 31 | P210: 묵계 1리 | Q210: 145 | R210: 69 | S210: 76 | T210: 81 | Z210: 상석 1리 | AA210: 125 | AB210: 60 | AC210: 65 | AD210: 63 | AE210: 고도 1리 | AF210: 123 | AG210: 58 | AH210: 65 | AI210: 62 | AJ210: 반 계 리 | AK210: 213 | AL210: 111 | AM210: 102 | AN210: 97 | AO210: 종곡 1리 | AP210: 54 | AQ210: 26 | AR210: 28 | AS210: 28 | AT210: 용암리 | AU210: 269 | AV210: 141 | AW210: 128 | AX210: 119
A211: 학 성 리 | B211: 363 | C211: 181 | D211: 182 | E211: 173 | F211: 의곡 2리 | G211: 70 | H211: 33 | I211: 37 | J211: 36 | K211: 신곡 2리 | L211: 51 | M211: 26 | N211: 25 | O211: 26 | P211: 묵계 2리 | Q211: 112 | R211: 55 | S211: 57 | T211: 63 | Z211: 상석 2리 | AA211: 104 | AB211: 56 | AC211: 48 | AD211: 54 | AE211: 고도 2리 | AF211: 95 | AG211: 51 | AH211: 44 | AI211: 56 | AJ211: 정 양 리 | AK211: 141 | AL211: 68 | AM211: 73 | AN211: 64 | AO211: 종곡 2리 | AP211: 101 | AQ211: 50 | AR211: 51 | AS211: 53 | AT211: 금구리 | AU211: 483 | AV211: 257 | AW211: 226 | AX211: 207
A212: 남성 1리 | B212: 1638 | C212: 800 | D212: 838 | E212: 635 | F212: 내일 1리 | G212: 136 | H212: 68 | I212: 68 | J212: 81 | K212: 신곡 3리 | L212: 148 | M212: 67 | N212: 81 | O212: 69 | P212: 구수 1리 | Q212: 112 | R212: 52 | S212: 60 | T212: 58 | Z212: 감곡 1리 | AA212: 121 | AB212: 61 | AC212: 60 | AD212: 60 | AE212: 부 리 | AF212: 70 | AG212: 34 | AH212: 36 | AI212: 34 | AJ212: 신흥 1리 | AK212: 107 | AL212: 52 | AM212: 55 | AN212: 44 | AO212: 종곡 3리 | AP212: 156 | AQ212: 73 | AR212: 83 | AS212: 86 | AT212: 현흥1리 | AU212: 316 | AV212: 167 | AW212: 149 | AX212: 123
A213: 남성 2리 | B213: 1703 | C213: 835 | D213: 868 | E213: 681 | F213: 내일 2리 | G213: 158 | H213: 78 | I213: 80 | J213: 89 | K213: 삼 산 리 | L213: 164 | M213: 84 | N213: 80 | O213: 74 | P213: 구수 2리 | Q213: 95 | R213: 52 | S213: 43 | T213: 46 | Z213: 감곡 2리 | AA213: 105 | AB213: 46 | AC213: 59 | AD213: 45 | AE213: 용전 1리 | AF213: 94 | AG213: 51 | AH213: 43 | AI213: 50 | AJ213: 신흥 2리 | AK213: 62 | AL213: 31 | AM213: 31 | AN213: 31 | AO213: 연천 1리 | AP213: 161 | AQ213: 76 | AR213: 85 | AS213: 74 | AT213: 현흥2리 | AU213: 97 | AV213: 47 | AW213: 50 | AX213: 43
A214: 남성 3리 | B214: 1850 | C214: 932 | D214: 918 | E214: 664 | F214: 대현 1리 | G214: 174 | H214: 80 | I214: 94 | J214: 108 | K214: 신왕 1리 | L214: 177 | M214: 86 | N214: 91 | O214: 87 | P214: 배 방 리 | Q214: 112 | R214: 56 | S214: 56 | T214: 59 | Z214: 보계 1리 | AA214: 171 | AB214: 86 | AC214: 85 | AD214: 93 | AE214: 용전 2리 | AF214: 66 | AG214: 30 | AH214: 36 | AI214: 34 | AJ214: 수봉 1리 | AK214: 120 | AL214: 58 | AM214: 62 | AN214: 61 | AO214: 연천 2리 | AP214: 98 | AQ214: 46 | AR214: 52 | AS214: 45 | AT214: 인안1리 | AU214: 97 | AV214: 50 | AW214: 47 | AX214: 48
A215: 성 내 리 | B215: 318 | C215: 139 | D215: 179 | E215: 158 | F215: 대현 2리 | G215: 213 | H215: 103 | I215: 110 | J215: 140 | K215: 신왕 2리 | L215: 186 | M215: 98 | N215: 88 | O215: 76 | P215: 용 계 리 | Q215: 56 | R215: 28 | S215: 28 | T215: 25 | Z215: 보계 2리 | AA215: 86 | AB215: 42 | AC215: 44 | AD215: 40 | AE215: 도암 1리 | AF215: 193 | AG215: 96 | AH215: 97 | AI215: 93 | AJ215: 수봉 2리 | AK215: 106 | AL215: 51 | AM215: 55 | AN215: 51 | AO215: 궁기 1리 | AP215: 119 | AQ215: 60 | AR215: 59 | AS215: 61 | AT215: 인안2리 | AU215: 124 | AV215: 63 | AW215: 61 | AX215: 59
A216: 중성 1리 | B216: 308 | C216: 145 | D216: 163 | E216: 145 | F216: 대현 3리 | G216: 427 | H216: 231 | I216: 196 | J216: 240 | K216: 대방 1리 | L216: 143 | M216: 65 | N216: 78 | O216: 64 | P216: 대곡 1리 | Q216: 47 | R216: 25 | S216: 22 | T216: 30 | AE216: 도암 2리 | AF216: 207 | AG216: 97 | AH216: 110 | AI216: 107 | AJ216: 모서면 | AK216: 2696 | AL216: 1341 | AM216: 1355 | AN216: 1323 | AO216: 궁기 2리 | AP216: 25 | AQ216: 9 | AR216: 16 | AS216: 13 | AT216: 인안3리 | AU216: 1189 | AV216: 590 | AW216: 599 | AX216: 434
A217: 중성 2리 | B217: 823 | C217: 395 | D217: 428 | E217: 371 | F217: 일부 1리 | G217: 183 | H217: 85 | I217: 98 | J217: 97 | K217: 대방 2리 | L217: 149 | M217: 74 | N217: 75 | O217: 57 | P217: 대곡 2리 | Q217: 55 | R217: 26 | S217: 29 | T217: 28 | AE217: 상 리 리 | AF217: 262 | AG217: 137 | AH217: 125 | AI217: 130 | AJ217: 삼포 1리 | AK217: 192 | AL217: 100 | AM217: 92 | AN217: 108 | AO217: 내서 1리 | AP217: 174 | AQ217: 89 | AR217: 85 | AS217: 114 | AT217: 의송리 | AU217: 193 | AV217: 96 | AW217: 97 | AX217: 97
A218: 망 천 리 | B218: 386 | C218: 195 | D218: 191 | E218: 182 | F218: 일부 2리 | G218: 178 | H218: 86 | I218: 92 | J218: 97 | K218: 대방 3리 | L218: 148 | M218: 72 | N218: 76 | O218: 80 | P218: 현하 1리 | Q218: 155 | R218: 71 | S218: 84 | T218: 92 | AE218: 학 리 | AF218: 60 | AG218: 31 | AH218: 29 | AI218: 30 | AJ218: 삼포 2리 | AK218: 214 | AL218: 99 | AM218: 115 | AN218: 110 | AO218: 내서 2리 | AP218: 73 | AQ218: 37 | AR218: 36 | AS218: 38 | AT218: 신촌리 | AU218: 160 | AV218: 83 | AW218: 77 | AX218: 75
A219: 남송 1리 | B219: 95 | C219: 50 | D219: 45 | E219: 52 | F219: 신원 1리 | G219: 110 | H219: 51 | I219: 59 | J219: 64 | K219: 구성면 | L219: 3244 | M219: 1604 | N219: 1640 | O219: 1680 | P219: 현하 2리 | Q219: 128 | R219: 66 | S219: 62 | T219: 60 | AE219: 해 선 리 | AF219: 365 | AG219: 175 | AH219: 190 | AI219: 213 | AJ219: 도안 1리 | AK219: 157 | AL219: 82 | AM219: 75 | AN219: 66 | AO219: 내서 3리 | AP219: 271 | AQ219: 103 | AR219: 168 | AS219: 153 | AT219: 내리 | AU219: 294 | AV219: 156 | AW219: 138 | AX219: 147
A220: 남송 2리 | B220: 130 | C220: 72 | D220: 58 | E220: 79 | F220: 신원 2리 | G220: 139 | H220: 70 | I220: 69 | J220: 81 | K220: 하강 1리 | L220: 187 | M220: 92 | N220: 95 | O220: 77 | P220: 현하 3리 | Q220: 129 | R220: 66 | S220: 63 | T220: 65 | AE220: 전사 1리 | AF220: 65 | AG220: 28 | AH220: 37 | AI220: 37 | AJ220: 도안 2리 | AK220: 71 | AL220: 40 | AM220: 31 | AN220: 35 | AO220: 화산 1리 | AP220: 105 | AQ220: 48 | AR220: 57 | AS220: 64 | AT220: 가일리 | AU220: 341 | AV220: 190 | AW220: 151 | AX220: 172
A221: 남송 3리 | B221: 114 | C221: 54 | D221: 60 | E221: 57 | F221: 외칠 1리 | G221: 190 | H221: 88 | I221: 102 | J221: 98 | K221: 하강 2리 | L221: 138 | M221: 64 | N221: 74 | O221: 77 | P221: 임동면 | Q221: 2136 | R221: 1089 | S221: 1047 | T221: 1115 | AE221: 전사 2리 | AF221: 125 | AG221: 66 | AH221: 59 | AI221: 52 | AJ221: 소정 1리 | AK221: 141 | AL221: 72 | AM221: 69 | AN221: 62 | AO221: 화산 2리 | AP221: 129 | AQ221: 58 | AR221: 71 | AS221: 75 | AT221: 당음리 | AU221: 348 | AV221: 175 | AW221: 173 | AX221: 158
...

Sheet 1-3. 리별 인구 및 세대현황(군)
A2: 1-3. 리별 세대 및 인구 현황(외국인 제외)
AO3: 왜관19리, 왜관20리, 죽전3리 | BK3: (단위 : 명, 세대)
A4: 군위군 | F4: 의성군 | K4: 청송군 | P4: 영양군 | U4: 영덕군 | Z4: 청도군 | AE4: 고령군 | AJ4: 성주군 | AO4: 칠곡군 | AT4: 예천군 | AY4: 봉화군 | BD4: 울진군 | BI4: 울릉군
A5: 행정구역 | B5: 계 | C5: 남 | D5: 여 | E5: 세대수 | F5: 행정구역 | G5: 계 | H5: 남 | I5: 여 | J5: 세 대 | K5: 행정구역 | L5: 계 | M5: 남 | N5: 여 | O5: 세 대 | P5: 행정구역 | Q5: 계 | R5: 남 | S5: 여 | T5: 세 대 | U5: 행정구역 | V5: 계 | W5: 남 | X5: 여 | Y5: 세 대 | Z5: 행정구역 | AA5: 계 | AB5: 남 | AC5: 여 | AD5: 세 대 | AE5: 행정구역 | AF5: 계 | AG5: 남 | AH5: 여 | AI5: 세 대 | AJ5: 행정구역 | AK5: 계 | AL5: 남 | AM5: 여 | AN5: 세 대 | AO5: 행정구역 | AP5: 계 | AQ5: 남 | AR5: 여 | AS5: 세 대 | AT5: 행정구역 | AU5: 계 | AV5: 남 | AW5: 여 | AX5: 세 대 | AY5: 행정구역 | AZ5: 계 | BA5: 남 | BB5: 여 | BC5: 세 대 | BD5: 행정구역 | BE5: 계 | BF5: 남 | BG5: 여 | BH5: 세 대 | BI5: 행정구역 | BJ5: 계 | BK5: 남 | BL5: 여 | BM5: 세 대
A6: 군위읍 | B6: 8193 | C6: 4195 | D6: 3998 | E6: 3693 | F6: 의성읍 | G6: 14324 | H6: 7104 | I6: 7220 | J6: 6474 | K6: 청송읍 | L6: 5495 | M6: 2726 | N6: 2769 | O6: 2538 | P6: 영양읍 | Q6: 7907 | R6: 3875 | S6: 4032 | T6: 3496 | U6: 영덕읍 | V6: 11312 | W6: 5413 | X6: 5899 | Y6: 5683 | Z6: 화양읍 | AA6: 7927 | AB6: 3840 | AC6: 4087 | AD6: 3459 | AE6: 고령읍 | AF6: 11003 | AG6: 5532 | AH6: 5471 | AI6: 4887 | AJ6: 성주읍 | AK6: 13776 | AL6: 6930 | AM6: 6846 | AN6: 5732 | AO6: 왜관읍 | AP6: 32614 | AQ6: 16368 | AR6: 16246 | AS6: 13192 | AT6: 예천읍 | AU6: 17398 | AV6: 8634 | AW6: 8764 | AX6: 7478 | AY6: 봉화읍 | AZ6: 10660 | BA6: 5226 | BB6: 5434 | BC6: 4592 | BD6: 울진읍 | BE6: 14734 | BF6: 7293 | BG6: 7441 | BH6: 5800 | BI6: 울릉읍 | BJ6: 7295 | BK6: 3872 | BL6: 3423 | BM6: 3767
A7: 동부 1리 | B7: 793 | C7: 400 | D7: 393 | E7: 330 | F7: 후죽 1리 | G7: 647 | H7: 316 | I7: 331 | J7: 292 | K7: 월막 1리 | L7: 954 | M7: 480 | N7: 474 | O7: 430 | P7: 동부 1리 | Q7: 1248 | R7: 614 | S7: 634 | T7: 568 | U7: 구 미 리 | V7: 144 | W7: 66 | X7: 78 | Y7: 71 | Z7: 동 상 리 | AA7: 185 | AB7: 94 | AC7: 91 | AD7: 104 | AE7: 쾌빈 1리 | AF7: 375 | AG7: 194 | AH7: 181 | AI7: 167 | AJ7: 경산 1리 | AK7: 796 | AL7: 388 | AM7: 408 | AN7: 322 | AO7: 왜관 1리 | AP7: 1111 | AQ7: 551 | AR7: 560 | AS7: 575 | AT7: 노 하 리 | AU7: 665 | AV7: 325 | AW7: 340 | AX7: 370 | AY7: 내성 1리 | AZ7: 1194 | BA7: 572 | BB7: 622 | BC7: 492 | BD7: 읍내 1리 | BE7: 1020 | BF7: 493 | BG7: 527 | BH7: 395 | BI7: 도동 1리 | BJ7: 1357 | BK7: 689 | BL7: 668 | BM7: 673
A8: 동부 2리 | B8: 750 | C8: 376 | D8: 374 | E8: 325 | F8: 후죽 2리 | G8: 568 | H8: 288 | I8: 280 | J8: 284 | K8: 월막 2리 | L8: 1213 | M8: 589 | N8: 624 | O8: 514 | P8: 동부 2리 | Q8: 616 | R8: 280 | S8: 336 | T8: 326 | U8: 화개 1리 | V8: 733 | W8: 370 | X8: 363 | Y8: 302 | Z8: 서상 1리 | AA8: 461 | AB8: 225 | AC8: 236 | AD8: 219 | AE8: 쾌빈 2리 | AF8: 1786 | AG8: 884 | AH8: 902 | AI8: 669 | AJ8: 경산 2리 | AK8: 179 | AL8: 94 | AM8: 85 | AN8: 76 | AO8: 왜관 2리 | AP8: 540 | AQ8: 275 | AR8: 265 | AS8: 240 | AT8: 노 상 리 | AU8: 630 | AV8: 307 | AW8: 323 | AX8: 282 | AY8: 내성 2리 | AZ8: 602 | BA8: 303 | BB8: 299 | BC8: 259 | BD8: 읍내 2리 | BE8: 1580 | BF8: 781 | BG8: 799 | BH8: 617 | BI8: 도동 2리 | BJ8: 1731 | BK8: 929 | BL8: 802 | BM8: 880
A9: 서부 1리 | B9: 1082 | C9: 560 | D9: 522 | E9: 462 | F9: 후죽 3리 | G9: 1172 | H9: 581 | I9: 591 | J9: 495 | K9: 덕 리 | L9: 785 | M9: 398 | N9: 387 | O9: 407 | P9: 서부 1리 | Q9: 1097 | R9: 537 | S9: 560 | T9: 468 | U9: 화개 2리 | V9: 414 | W9: 197 | X9: 217 | Y9: 169 | Z9: 서상 2리 | AA9: 75 | AB9: 37 | AC9: 38 | AD9: 35 | AE9: 쾌빈 3리 | AF9: 1134 | AG9: 536 | AH9: 598 | AI9: 420 | AJ9: 경산 3리 | AK9: 245 | AL9: 132 | AM9: 113 | AN9: 107 | AO9: 왜관 3리 | AP9: 621 | AQ9: 304 | AR9: 317 | AS9: 317 | AT9: 백전 1리 | AU9: 743 | AV9: 371 | AW9: 372 | AX9: 352 | AY9: 내성 3리 | AZ9: 3197 | BA9: 1544 | BB9: 1653 | BC9: 1175 | BD9: 읍내 3리 | BE9: 3759 | BF9: 1883 | BG9: 1876 | BH9: 1438 | BI9: 도동 3리 | BJ9: 1492 | BK9: 767 | BL9: 725 | BM9: 829
A10: 서부 2리 | B10: 582 | C10: 290 | D10: 292 | E10: 247 | F10: 후죽 4리 | G10: 1231 | H10: 584 | I10: 647 | J10: 613 | K10: 금곡 1리 | L10: 823 | M10: 404 | N10: 419 | O10: 331 | P10: 서부 2리 | Q10: 1667 | R10: 814 | S10: 853 | T10: 633 | U10: 남석 1리 | V10: 555 | W10: 265 | X10: 290 | Y10: 265 | Z10: 신 봉 리 | AA10: 145 | AB10: 70 | AC10: 75 | AD10: 68 | AE10: 고아 1리 | AF10: 866 | AG10: 419 | AH10: 447 | AI10: 378 | AJ10: 경산 4리 | AK10: 1139 | AL10: 571 | AM10: 568 | AN10: 394 | AO10: 왜관 4리 | AP10: 508 | AQ10: 264 | AR10: 244 | AS10: 228 | AT10: 백전 2리 | AU10: 1477 | AV10: 721 | AW10: 756 | AX10: 604 | AY10: 내성 4리 | AZ10: 1361 | BA10: 635 | BB10: 726 | BC10: 588 | BD10: 읍내 4리 | BE10: 1136 | BF10: 535 | BG10: 601 | BH10: 471 | BI10: 저동 1리 | BJ10: 1623 | BK10: 861 | BL10: 762 | BM10: 773
A11: 서부 3리 | B11: 912 | C11: 456 | D11: 456 | E11: 358 | F11: 중리 1리 | G11: 586 | H11: 286 | I11: 300 | J11: 303 | K11: 금곡 2리 | L11: 141 | M11: 71 | N11: 70 | O11: 68 | P11: 서부 3리 | Q11: 719 | R11: 373 | S11: 346 | T11: 290 | U11: 남석 2리 | V11: 731 | W11: 340 | X11: 391 | Y11: 372 | Z11: 교 촌 리 | AA11: 107 | AB11: 56 | AC11: 51 | AD11: 58 | AE11: 고아 2리 | AF11: 203 | AG11: 101 | AH11: 102 | AI11: 101 | AJ11: 경산 5리 | AK11: 1087 | AL11: 533 | AM11: 554 | AN11: 395 | AO11: 왜관 5리 | AP11: 1555 | AQ11: 691 | AR11: 864 | AS11: 839 | AT11: 동본 1리 | AU11: 2150 | AV11: 1042 | AW11: 1108 | AX11: 859 | AY11: 삼계 1리 | AZ11: 357 | BA11: 177 | BB11: 180 | BC11: 184 | BD11: 읍내 5리 | BE11: 2614 | BF11: 1305 | BG11: 1309 | BH11: 861 | BI11: 저동 2리 | BJ11: 288 | BK11: 154 | BL11: 134 | BM11: 146
A12: 금구 1리 | B12: 190 | C12: 100 | D12: 90 | E12: 85 | F12: 중리 2리 | G12: 1588 | H12: 797 | I12: 791 | J12: 590 | K12: 금곡 3리 | L12: 105 | M12: 57 | N12: 48 | O12: 52 | P12: 서부 4리 | Q12: 428 | R12: 210 | S12: 218 | T12: 192 | U12: 남석 3리 | V12: 1253 | W12: 612 | X12: 641 | Y12: 586 | Z12: 동 천 리 | AA12: 400 | AB12: 203 | AC12: 197 | AD12: 190 | AE12: 헌 문 리 | AF12: 509 | AG12: 278 | AH12: 231 | AI12: 252 | AJ12: 경산 6리 | AK12: 388 | AL12: 204 | AM12: 184 | AN12: 173 | AO12: 왜관 6리 | AP12: 661 | AQ12: 332 | AR12: 329 | AS12: 306 | AT12: 동본 2리 | AU12: 277 | AV12: 140 | AW12: 137 | AX12: 134 | AY12: 삼계 2리 | AZ12: 113 | BA12: 58 | BB12: 55 | BC12: 51 | BD12: 읍남 1리 | BE12: 215 | BF12: 108 | BG12: 107 | BH12: 98 | BI12: 저동 3리 | BJ12: 69 | BK12: 39 | BL12: 30 | BM12: 43
A13: 금구 2리 | B13: 99 | C13: 57 | D13: 42 | E13: 58 | F13: 중리 3리 | G13: 155 | H13: 82 | I13: 73 | J13: 77 | K13: 청 운 리 | L13: 455 | M13: 215 | N13: 240 | O13: 222 | P13: 황 용 리 | Q13: 50 | R13: 23 | S13: 27 | T13: 21 | U13: 덕곡 1리 | V13: 982 | W13: 474 | X13: 508 | Y13: 508 | Z13: 합천 1리 | AA13: 175 | AB13: 89 | AC13: 86 | AD13: 79 | AE13: 장 기 리 | AF13: 466 | AG13: 244 | AH13: 222 | AI13: 219 | AJ13: 경산 7리 | AK13: 615 | AL13: 300 | AM13: 315 | AN13: 281 | AO13: 왜관 7리 | AP13: 876 | AQ13: 445 | AR13: 431 | AS13: 388 | AT13: 남본 1리 | AU13: 1003 | AV13: 495 | AW13: 508 | AX13: 420 | AY13: 유곡 1리 | AZ13: 143 | BA13: 70 | BB13: 73 | BC13: 73 | BD13: 읍남 2리 | BE13: 113 | BF13: 56 | BG13: 57 | BH13: 51 | BI13: 사동 1리 | BJ13: 342 | BK13: 204 | BL13: 138 | BM13: 211
A14: 무성 1리 | B14: 179 | C14: 88 | D14: 91 | E14: 82 | F14: 상리 1리 | G14: 2775 | H14: 1329 | I14: 1446 | J14: 1134 | K14: 송 생 리 | L14: 206 | M14: 103 | N14: 103 | O14: 107 | P14: 현 1리 | Q14: 150 | R14: 69 | S14: 81 | T14: 71 | U14: 덕곡 2리 | V14: 738 | W14: 360 | X14: 378 | Y14: 378 | Z14: 합천 2리 | AA14: 224 | AB14: 107 | AC14: 117 | AD14: 107 | AE14: 연조 1리 | AF14: 709 | AG14: 357 | AH14: 352 | AI14: 281 | AJ14: 경산 8리 | AK14: 636 | AL14: 302 | AM14: 334 | AN14: 285 | AO14: 왜관 8리 | AP14: 401 | AQ14: 232 | AR14: 169 | AS14: 232 | AT14: 남본 2리 | AU14: 1377 | AV14: 672 | AW14: 705 | AX14: 546 | AY14: 유곡 2리 | AZ14: 114 | BA14: 61 | BB14: 53 | BC14: 62 | BD14: 읍남 3리 | BE14: 106 | BF14: 43 | BG14: 63 | BH14: 65 | BI14: 사동 2리 | BJ14: 148 | BK14: 83 | BL14: 65 | BM14: 82
A15: 무성 2리 | B15: 82 | C15: 41 | D15: 41 | E15: 33 | F15: 상리 2리 | G15: 98 | H15: 43 | I15: 55 | J15: 50 | K15: 교 리 | L15: 119 | M15: 62 | N15: 57 | O15: 55 | P15: 현 2리 | Q15: 124 | R15: 65 | S15: 59 | T15: 64 | U15: 천 전 리 | V15: 146 | W15: 70 | X15: 76 | Y15: 76 | Z15: 범곡 1리 | AA15: 1276 | AB15: 610 | AC15: 666 | AD15: 525 | AE15: 연조 2리 | AF15: 400 | AG15: 197 | AH15: 203 | AI15: 185 | AJ15: 대흥 1리 | AK15: 153 | AL15: 74 | AM15: 79 | AN15: 68 | AO15: 왜관 9리 | AP15: 1079 | AQ15: 555 | AR15: 524 | AS15: 444 | AT15: 서본 1리 | AU15: 569 | AV15: 273 | AW15: 296 | AX15: 263 | AY15: 유곡 3리 | AZ15: 198 | BA15: 100 | BB15: 98 | BC15: 100 | BD15: 읍남 4리 | BE15: 215 | BF15: 112 | BG15: 103 | BH15: 105 | BI15: 사동 3리 | BJ15: 217 | BK15: 119 | BL15: 98 | BM15: 103
A16: 무성 3리 | B16: 146 | C16: 69 | D16: 77 | E16: 65 | F16: 도동 1리 | G16: 758 | H16: 382 | I16: 376 | J16: 371 | K16: 거 대 리 | L16: 127 | M16: 69 | N16: 58 | O16: 74 | P16: 현 3리 | Q16: 90 | R16: 46 | S16: 44 | T16: 39 | U16: 남산 1리 | V16: 231 | W16: 122 | X16: 109 | Y16: 109 | Z16: 범곡 2리 | AA16: 1822 | AB16: 843 | AC16: 979 | AD16: 610 | AE16: 연조 3리 | AF16: 801 | AG16: 372 | AH16: 429 | AI16: 311 | AJ16: 대흥 2리 | AK16: 156 | AL16: 79 | AM16: 77 | AN16: 60 | AO16: 왜관10리 | AP16: 878 | AQ16: 496 | AR16: 382 | AS16: 401 | AT16: 서본 2리 | AU16: 809 | AV16: 438 | AW16: 371 | AX16: 347 | AY16: 거촌 1리 | AZ16: 58 | BA16: 30 | BB16: 28 | BC16: 24 | BD16: 연지 1리 | BE16: 398 | BF16: 199 | BG16: 199 | BH16: 167 | BI16: 독 도 리 | BJ16: 28 | BK16: 27 | BL16: 1 | BM16: 27
A17: 수서 1리 | B17: 291 | C17: 163 | D17: 128 | E17: 149 | F17: 도동 2리 | G17: 859 | H17: 428 | I17: 431 | J17: 391 | K17: 월외 1리 | L17: 95 | M17: 46 | N17: 49 | O17: 50 | P17: 전 곡 리 | Q17: 13 | R17: 7 | S17: 6 | T17: 7 | U17: 남산 2리 | V17: 73 | W17: 37 | X17: 36 | Y17: 36 | Z17: 송 북 리 | AA17: 185 | AB17: 90 | AC17: 95 | AD17: 76 | AE17: 지산 1리 | AF17: 472 | AG17: 244 | AH17: 228 | AI17: 222 | AJ17: 대흥 3리 | AK17: 139 | AL17: 65 | AM17: 74 | AN17: 60 | AO17: 왜관11리 | AP17: 763 | AQ17: 388 | AR17: 375 | AS17: 313 | AT17: 대심 1리 | AU17: 1798 | AV17: 901 | AW17: 897 | AX17: 686 | AY17: 거촌 2리 | AZ17: 213 | BA17: 110 | BB17: 103 | BC17: 101 | BD17: 연지 2리 | BE17: 499 | BF17: 254 | BG17: 245 | BH17: 193 | BI17: 서 면 | BJ17: 1511 | BK17: 795 | BL17: 716 | BM17: 800
A18: 수서 2리 | B18: 118 | C18: 62 | D18: 56 | E18: 65 | F18: 도동 3리 | G18: 845 | H18: 407 | I18: 438 | J18: 377 | K18: 월외 2리 | L18: 18 | M18: 8 | N18: 10 | O18: 12 | P18: 감천 1리 | Q18: 200 | R18: 96 | S18: 104 | T18: 96 | U18: 우 곡 리 | V18: 2,982 | W18: 1422 | X18: 1560 | Y18: 1560 | Z18: 눌 미 리 | AA18: 227 | AB18: 110 | AC18: 117 | AD18: 95 | AE18: 지산 2리 | AF18: 477 | AG18: 246 | AH18: 231 | AI18: 234 | AJ18: 대황 1리 | AK18: 337 | AL18: 175 | AM18: 162 | AN18: 133 | AO18: 왜관12리 | AP18: 601 | AQ18: 276 | AR18: 325 | AS18: 230 | AT18: 대심 2리 | AU18: 411 | AV18: 218 | AW18: 193 | AX18: 183 | AY18: 거촌 3리 | AZ18: 112 | BA18: 62 | BB18: 50 | BC18: 50 | BD18: 연지 3리 | BE18: 231 | BF18: 121 | BG18: 110 | BH18: 102 | BI18: 남양 1리 | BJ18: 475 | BK18: 251 | BL18: 224 | BM18: 242
A19: 사직 1리 | B19: 113 | C19: 57 | D19: 56 | E19: 51 | F19: 도동 4리 | G19: 148 | H19: 74 | I19: 74 | J19: 68 | K19: 부곡 1리 | L19: 350 | M19: 173 | N19: 177 | O19: 161 | P19: 감천 2리 | Q19: 59 | R19: 30 | S19: 29 | T19: 28 | U19: 화수 1리 | V19: 282 | W19: 140 | X19: 142 | Y19: 142 | Z19: 고 평 리 | AA19: 221 | AB19: 106 | AC19: 115 | AD19: 102 | AE19: 지산 3리 | AF19: 1234 | AG19: 661 | AH19: 573 | AI19: 680 | AJ19: 대황 2리 | AK19: 213 | AL19: 117 | AM19: 96 | AN19: 105 | AO19: 왜관13리 | AP19: 1012 | AQ19: 513 | AR19: 499 | AS19: 348 | AT19: 대심 3리 | AU19: 1902 | AV19: 938 | AW19: 964 | AX19: 719 | AY19: 석평 1리 | AZ19: 80 | BA19: 37 | BB19: 43 | BC19: 40 | BD19: 온양 1리 | BE19: 218 | BF19: 108 | BG19: 110 | BH19: 103 | BI19: 남양 2리 | BJ19: 95 | BK19: 51 | BL19: 44 | BM19: 36
A20: 사직 2리 | B20: 109 | C20: 53 | D20: 56 | E20: 53 | F20: 도 서 리 | G20: 542 | H20: 269 | I20: 273 | J20: 257 | K20: 부곡 2리 | L20: 104 | M20: 51 | N20: 53 | O20: 55 | P20: 삼지 1리 | Q20: 66 | R20: 31 | S20: 35 | T20: 38 | U20: 화수 2리 | V20: 133 | W20: 60 | X20: 73 | Y20: 73 | Z20: 소 라 리 | AA20: 216 | AB20: 104 | AC20: 112 | AD20: 94 | AE20: 본관 1리 | AF20: 243 | AG20: 131 | AH20: 112 | AI20: 110 | AJ20: 대황 3리 | AK20: 176 | AL20: 86 | AM20: 90 | AN20: 75 | AO20: 왜관14리 | AP20: 2240 | AQ20: 1087 | AR20: 1153 | AS20: 705 | AT20: 석 정 리 | AU20: 243 | AV20: 121 | AW20: 122 | AX20: 117 | AY20: 석평 2리 | AZ20: 96 | BA20: 56 | BB20: 40 | BC20: 48 | BD20: 온양 2리 | BE20: 242 | BF20: 117 | BG20: 125 | BH20: 123 | BI20: 남양 3리 | BJ20: 209 | BK20: 99 | BL20: 110 | BM20: 95
A21: 내량 1리 | B21: 206 | C21: 106 | D21: 100 | E21: 75 | F21: 치선 1리 | G21: 112 | H21: 51 | I21: 61 | J21: 52 | K21: 부동면 | L21: 2014 | M21: 994 | N21: 1020 | O21: 1054 | P21: 삼지 2리 | Q21: 81 | R21: 43 | S21: 38 | T21: 34 | U21: 삼 계 리 | V21: 65 | W21: 35 | X21: 30 | Y21: 30 | Z21: 유등 1리 | AA21: 256 | AB21: 137 | AC21: 119 | AD21: 142 | AE21: 본관 2리 | AF21: 141 | AG21: 72 | AH21: 69 | AI21: 71 | AJ21: 성산 1리 | AK21: 255 | AL21: 130 | AM21: 125 | AN21: 109 | AO21: 왜관15리 | AP21: 1210 | AQ21: 611 | AR21: 599 | AS21: 385 | AT21: 지 내 리 | AU21: 149 | AV21: 79 | AW21: 70 | AX21: 77 | AY21: 석평 3리 | AZ21: 250 | BA21: 119 | BB21: 131 | BC21: 118 | BD21: 명도 1리 | BE21: 133 | BF21: 69 | BG21: 64 | BH21: 72 | BI21: 남서 1리 | BJ21: 203 | BK21: 110 | BL21: 93 | BM21: 108
A22: 내량 2리 | B22: 216 | C22: 109 | D22: 107 | E22: 105 | F22: 치선 2리 | G22: 90 | H22: 45 | I22: 45 | J22: 49 | K22: 상 평 리 | L22: 138 | M22: 67 | N22: 71 | O22: 69 | P22: 하 원 리 | Q22: 162 | R22: 78 | S22: 84 | T22: 67 | U22: 매정 1리 | V22: 123 | W22: 56 | X22: 67 | Y22: 67 | Z22: 유등 2리 | AA22: 172 | AB22: 79 | AC22: 93 | AD22: 92 | AE22: 중화 1리 | AF22: 128 | AG22: 70 | AH22: 58 | AI22: 67 | AJ22: 성산 2리 | AK22: 121 | AL22: 59 | AM22: 62 | AN22: 59 | AO22: 왜관16리 | AP22: 1395 | AQ22: 678 | AR22: 717 | AS22: 470 | AT22: 상 리 | AU22: 181 | AV22: 94 | AW22: 87 | AX22: 81 | AY22: 해저 1리 | AZ22: 192 | BA22: 95 | BB22: 97 | BC22: 89 | BD22: 명도 2리 | BE22: 106 | BF22: 53 | BG22: 53 | BH22: 49 | BI22: 남서 2리 | BJ22: 41 | BK22: 21 | BL22: 20 | BM22: 25
A23: 외량 1리 | B23: 99 | C23: 52 | D23: 47 | E23: 50 | F23: 오로 1리 | G23: 141 | H23: 59 | I23: 82 | J23: 69 | K23: 지 리 | L23: 161 | M23: 84 | N23: 77 | O23: 82 | P23: 상원 1리 | Q23: 102 | R23: 51 | S23: 51 | T23: 51 | U23: 매정 2리 | V23: 68 | W23: 30 | X23: 38 | Y23: 38 | Z23: 유등 3리 | AA23: 152 | AB23: 75 | AC23: 77 | AD23: 67 | AE23: 중화 2리 | AF23: 90 | AG23: 40 | AH23: 50 | AI23: 47 | AJ23: 성산 3리 | AK23: 105 | AL23: 54 | AM23: 51 | AN23: 46 | AO23: 왜관17리 | AP23: 1896 | AQ23: 932 | AR23: 964 | AS23: 548 | AT23: 왕신 1리 | AU23: 131 | AV23: 68 | AW23: 63 | AX23: 64 | AY23: 해저 2리 | AZ23: 600 | BA23: 302 | BB23: 298 | BC23: 314 | BD23: 고성 1리 | BE23: 210 | BF23: 111 | BG23: 99 | BH23: 99 | BI23: 태하 1리 | BJ23: 417 | BK23: 221 | BL23: 196 | BM23: 248
A24: 외량 2리 | B24: 77 | C24: 38 | D24: 39 | E24: 38 | F24: 오로 2리 | G24: 212 | H24: 101 | I24: 111 | J24: 105 | K24: 하 의 리 | L24: 238 | M24: 111 | N24: 127 | O24: 122 | P24: 상원 2리 | Q24: 85 | R24: 45 | S24: 40 | T24: 43 | U24: 매정 3리 | V24: 66 | W24: 36 | X24: 30 | Y24: 30 | Z24: 토평 1리 | AA24: 117 | AB24: 59 | AC24: 58 | AD24: 60 | AE24: 저 전 리 | AF24: 169 | AG24: 87 | AH24: 82 | AI24: 94 | AJ24: 성산 4리 | AK24: 98 | AL24: 52 | AM24: 46 | AN24: 37 | AO24: 왜관18리 | AP24: 1995 | AQ24: 987 | AR24: 1008 | AS24: 629 | AT24: 왕신 2리 | AU24: 182 | AV24: 86 | AW24: 96 | AX24: 87 | AY24: 해저 3리 | AZ24: 177 | BA24: 87 | BB24: 90 | BC24: 83 | BD24: 고성 2리 | BE24: 140 | BF24: 67 | BG24: 73 | BH24: 72 | BI24: 태하 2리 | BJ24: 71 | BK24: 42 | BL24: 29 | BM24: 46
... A33: 정 2리 | B33: 152 | C33: 76 | D33: 76 | E33: 75 | F33: 원당 2리 | G33: 130 | H33: 60 | I33: 70 | J33: 72 | K33: 항 리 | L33: 69 | M33: 32 | N33: 37 | O33: 39 | P33: 무창 3리 | Q33: 59 | R33: 31 | S33: 28 | T33: 37 | U33: 화천 3리 | V33: 76 | W33: 32 | X33: 44 | Y33: 44 | Z33: 청도읍 | AA33: 12907 | AB33: 6297 | AC33: 6610 | AD33: 5849 | AE33: 가륜 1리 | AF33: 83 | AG33: 44 | AH33: 39 | AI33: 42 | AJ33: 금산 3리 | AK33: 226 | AL33: 118 | AM33: 108 | AN33: 99 | AO33: 석전 7리 | AP33: 564 | AQ33: 277 | AR33: 287 | AS33: 179 | AT33: 생 천 리 | AU33: 286 | AV33: 152 | AW33: 134 | AX33: 136 | AY33: 오록 1리 | AZ33: 114 | BA33: 57 | BB33: 57 | BC33: 64 | BD33: 대 흥 리 | BE33: 104 | BF33: 56 | BG33: 48 | BH33: 63 | BI33: 현포 2리 | BJ33: 118 | BK33: 62 | BL33: 56 | BM33: 57
A34: 정 3리 | B34: 132 | C34: 74 | D34: 58 | E34: 70 | F34: 원당 3리 | G34: 305 | H34: 232 | I34: 73 | J34: 96 | K34: 부남면 | L34: 2605 | M34: 1285 | N34: 1320 | O34: 1336 | P34: 양 구 리 | Q34: 38 | R34: 21 | S34: 17 | T34: 18 | U34: 강구면 | V34: 6978 | W34: 3344 | X34: 3634 | Y34: 3551 | Z34: 고수 1리 | AA34: 1358 | AB34: 657 | AC34: 701 | AD34: 543 | AE34: 가륜 2리 | AF34: 105 | AG34: 53 | AH34: 52 | AI34: 51 | AJ34: 예산 1리 | AK34: 468 | AL34: 242 | AM34: 226 | AN34: 183 | AO34: 석전 8리 | AP34: 1349 | AQ34: 654 | AR34: 695 | AS34: 456 | AT34: 용산 1리 | AU34: 47 | AV34: 26 | AW34: 21 | AX34: 25 | AY34: 오록 2리 | AZ34: 362 | BA34: 166 | BB34: 196 | BC34: 186 | BD34: 평해읍 | BE34: 3301 | BF34: 1613 | BG34: 1688 | BH34: 1659
A35: 하 곡 리 | B35: 218 | C35: 123 | D35: 95 | E35: 96 | F35: 철 파 리 | G35: 377 | H35: 189 | I35: 188 | J35: 200 | K35: 감연 1리 | L35: 160 | M35: 72 | N35: 88 | O35: 84 | P35: 기 산 리 | Q35: 51 | R35: 25 | S35: 26 | T35: 28 | U35: 강구 1리 | V35: 387 | W35: 193 | X35: 194 | Y35: 168 | Z35: 고수 2리 | AA35: 485 | AB35: 232 | AC35: 253 | AD35: 232 | AE35: 원 송 리 | AF35: 126 | AG35: 50 | AH35: 76 | AI35: 66 | AJ35: 예산 2리 | AK35: 304 | AL35: 163 | AM35: 141 | AN35: 129 | AO35: 석전 9리 | AP35: 326 | AQ35: 166 | AR35: 160 | AS35: 113 | AT35: 용산 2리 | AU35: 57 | AV35: 26 | AW35: 31 | AX35: 33 | AY35: 오록 3리 | AZ35: 114 | BA35: 51 | BB35: 63 | BC35: 46 | BD35: 평해 1리 | BE35: 400 | BF35: 176 | BG35: 224 | BH35: 199
A36: 용 대 리 | B36: 151 | C36: 75 | D36: 76 | E36: 80 | F36: 업 1리 | G36: 157 | H36: 80 | I36: 77 | J36: 82 | K36: 감연 2리 | L36: 100 | M36: 44 | N36: 56 | O36: 50 | P36: 입암면 | Q36: 2317 | R36: 1130 | S36: 1187 | T36: 1179 | U36: 강구 2리 | V36: 264 | W36: 121 | X36: 143 | Y36: 145 | Z36: 고수 3리 | AA36: 1017 | AB36: 485 | AC36: 532 | AD36: 468 | AE36: 노 1리 | AF36: 80 | AG36: 38 | AH36: 42 | AI36: 51 | AJ36: 예산 3리 | AK36: 340 | AL36: 171 | AM36: 169 | AN36: 138 | AO36: 석전10리 | AP36: 1216 | AQ36: 588 | AR36: 628 | AS36: 529 | AT36: 용문면 | AU36: 2634 | AV36: 1305 | AW36: 1329 | AX36: 1365 | AY36: 오록 4리 | AZ36: 100 | BA36: 48 | BB36: 52 | BC36: 39 | BD36: 평해 2리 | BE36: 344 | BF36: 179 | BG36: 165 | BH36: 182
A37: 상 곡 리 | B37: 134 | C37: 66 | D37: 68 | E37: 72 | F37: 업 2리 | G37: 77 | H37: 37 | I37: 40 | J37: 39 | K37: 감연 3리 | L37: 87 | M37: 51 | N37: 36 | O37: 47 | P37: 신구 1리 | Q37: 398 | R37: 187 | S37: 211 | T37: 193 | U37: 강구 3리 | V37: 146 | W37: 68 | X37: 78 | Y37: 82 | Z37: 고수 4리 | AA37: 559 | AB37: 299 | AC37: 260 | AD37: 239 | AE37: 노 2리 | AF37: 63 | AG37: 31 | AH37: 32 | AI37: 35 | AJ37: 예산 4리 | AK37: 1021 | AL37: 501 | AM37: 520 | AN37: 371 | AO37: 매원 1리 | AP37: 215 | AQ37: 115 | AR37: 100 | AS37: 96 | AT37: 상금곡 1리 | AU37: 163 | AV37: 76 | AW37: 87 | AX37: 98 | AY37: 가평 1리 | AZ37: 193 | BA37: 95 | BB37: 98 | BC37: 95 | BD37: 평해 3리 | BE37: 306 | BF37: 153 | BG37: 153 | BH37: 129
A38: 광현 1리 | B38: 77 | C38: 37 | D38: 40 | E38: 38 | F38: 단촌면 | G38: 2123 | H38: 1040 | I38: 1083 | J38: 1090 | K38: 대전 1리 | L38: 502 | M38: 248 | N38: 254 | O38: 253 | P38: 신구 2리 | Q38: 135 | R38: 70 | S38: 65 | T38: 68 | U38: 강구 4리 | V38: 336 | W38: 162 | X38: 174 | Y38: 159 | Z38: 고수 5리 | AA38: 627 | AB38: 299 | AC38: 328 | AD38: 272 | AE38: 백 1리 | AF38: 72 | AG38: 36 | AH38: 36 | AI38: 37 | AJ38: 백전 1리 | AK38: 197 | AL38: 106 | AM38: 91 | AN38: 87 | AO38: 매원 2리 | AP38: 231 | AQ38: 125 | AR38: 106 | AS38: 99 | AT38: 상금곡 2리 | AU38: 304 | AV38: 146 | AW38: 158 | AX38: 148 | AY38: 가평 2리 | AZ38: 107 | BA38: 51 | BB38: 56 | BC38: 52 | BD38: 학곡 1리 | BE38: 94 | BF38: 42 | BG38: 52 | BH38: 48
A39: 광현 2리 | B39: 78 | C39: 44 | D39: 34 | E39: 38 | F39: 방 하 리 | G39: 179 | H39: 88 | I39: 91 | J39: 97 | K39: 대전 2리 | L39: 205 | M39: 105 | N39: 100 | O39: 96 | P39: 양 항 리 | Q39: 68 | R39: 35 | S39: 33 | T39: 42 | U39: 오포 1리 | V39: 867 | W39: 413 | X39: 454 | Y39: 432 | Z39: 고수 6리 | AA39: 1530 | AB39: 750 | AC39: 780 | AD39: 616 | AE39: 백 2리 | AF39: 68 | AG39: 38 | AH39: 30 | AI39: 37 | AJ39: 백전 2리 | AK39: 774 | AL39: 384 | AM39: 390 | AN39: 273 | AO39: 매원 3리 | AP39: 67 | AQ39: 38 | AR39: 29 | AS39: 35 | AT39: 상금곡 3리 | AU39: 175 | AV39: 93 | AW39: 82 | AX39: 80 | AY39: 개단 1리 | AZ39: 163 | BA39: 94 | BB39: 69 | BC39: 77 | BD39: 학곡 2리 | BE39: 138 | BF39: 70 | BG39: 68 | BH39: 78
A40: 광현 3리 | B40: 107 | C40: 55 | D40: 52 | E40: 58 | F40: 장 림 리 | G40: 156 | H40: 71 | I40: 85 | J40: 83 | K40: 대전 3리 | L40: 88 | M40: 36 | N40: 52 | O40: 46 | P40: 연당 1리 | Q40: 58 | R40: 26 | S40: 32 | T40: 30 | U40: 오포 2리 | V40: 1369 | W40: 670 | X40: 699 | Y40: 666 | Z40: 고수 7리 | AA40: 763 | AB40: 354 | AC40: 409 | AD40: 344 | AE40: 옥 계 리 | AF40: 118 | AG40: 54 | AH40: 64 | AI40: 65 | AJ40: 용산 1리 | AK40: 269 | AL40: 141 | AM40: 128 | AN40: 126 | AO40: 봉 계 리 | AP40: 125 | AQ40: 69 | AR40: 56 | AS40: 62 | AT40: 상금곡 4리 | AU40: 137 | AV40: 63 | AW40: 74 | AX40: 69 | AY40: 개단 2리 | AZ40: 114 | BA40: 51 | BB40: 63 | BC40: 65 | BD40: 삼달 1리 | BE40: 140 | BF40: 62 | BG40: 78 | BH40: 70
A41: 소보면 | B41: 2458 | C41: 1207 | D41: 1251 | E41: 1290 | F41: 세촌 1리 | G41: 232 | H41: 120 | I41: 112 | J41: 113 | K41: 홍원 1리 | L41: 104 | M41: 58 | N41: 46 | O41: 51 | P41: 연당 2리 | Q41: 74 | R41: 37 | S41: 37 | T41: 43 | U41: 오포 3리 | V41: 688 | W41: 302 | X41: 386 | Y41: 367 | Z41: 고수 8리 | AA41: 978 | AB41: 473 | AC41: 505 | AD41: 454 | AE41: 용 흥 리 | AF41: 109 | AG41: 60 | AH41: 49 | AI41: 50 | AJ41: 용산 2리 | AK41: 155 | AL41: 80 | AM41: 75 | AN41: 61 | AO41: 삼청 1리 | AP41: 213 | AQ41: 113 | AR41: 100 | AS41: 97 | AT41: 하금곡 1리 | AU41: 79 | AV41: 40 | AW41: 39 | AX41: 41 | AY41: 개단 3리 | AZ41: 176 | BA41: 80 | BB41: 96 | BC41: 84 | BD41: 삼달 2리 | BE41: 89 | BF41: 37 | BG41: 52 | BH41: 48
A42: 사리 1리 | B42: 91 | C42: 45 | D42: 46 | E42: 48 | F42: 세촌 2리 | G42: 147 | H42: 61 | I42: 86 | J42: 75 | K42: 홍원 2리 | L42: 91 | M42: 48 | N42: 43 | O42: 49 | P42: 금 학 리 | Q42: 73 | R42: 37 | S42: 36 | T42: 42 | U42: 삼 사 리 | V42: 705 | W42: 345 | X42: 360 | Y42: 363 | Z42: 송 읍 리 | AA42: 193 | AB42: 89 | AC42: 104 | AD42: 106 | AE42: 본리 1리 | AF42: 117 | AG42: 59 | AH42: 58 | AI42: 51 | AJ42: 선남면 | AK42: 6571 | AL42: 3501 | AM42: 3070 | AN42: 3133 | AO42: 삼청 2리 | AP42: 716 | AQ42: 398 | AR42: 318 | AS42: 337 | AT42: 하금곡 2리 | AU42: 86 | AV42: 43 | AW42: 43 | AX42: 43 | AY42: 개단 4리 | AZ42: 168 | BA42: 89 | BB42: 79 | BC42: 77 | BD42: 오곡 1리 | BE42: 91 | BF42: 40 | BG42: 51 | BH42: 52
A43: 사리 2리 | B43: 41 | C43: 21 | D43: 20 | E43: 18 | F43: 하화 1리 | G43: 148 | H43: 82 | I43: 66 | J43: 74 | K43: 하속 1리 | L43: 112 | M43: 57 | N43: 55 | O43: 59 | P43: 대 천 리 | Q43: 118 | R43: 58 | S43: 60 | T43: 60 | U43: 화전 1리 | V43: 420 | W43: 199 | X43: 221 | Y43: 187 | Z43: 무 등 리 | AA43: 267 | AB43: 135 | AC43: 132 | AD43: 126 | AE43: 본리 2리 | AF43: 85 | AG43: 41 | AH43: 44 | AI43: 45 | AJ43: 용신 1리 | AK43: 257 | AL43: 132 | AM43: 125 | AN43: 109 | AO43: 삼청 3리 | AP43: 84 | AQ43: 40 | AR43: 44 | AS43: 44 | AT43: 성 현 리 | AU43: 107 | AV43: 57 | AW43: 50 | AX43: 60 | AY43: 개단 5리 | AZ43: 70 | BA43: 36 | BB43: 34 | BC43: 32 | BD43: 오곡 2리 | BE43: 129 | BF43: 67 | BG43: 62 | BH43: 67
A44: 보현 1리 | B44: 75 | C44: 40 | D44: 35 | E44: 39 | F44: 하화 2리 | G44: 311 | H44: 148 | I44: 163 | J44: 160 | K44: 하속 2리 | L44: 54 | M44: 27 | N44: 27 | O44: 27 | P44: 신사 1리 | Q44: 92 | R44: 47 | S44: 45 | T44: 39 | U44: 화전 2리 | V44: 57 | W44: 23 | X44: 34 | Y44: 40 | Z44: 덕암 1리 | AA44: 177 | AB44: 87 | AC44: 90 | AD44: 86 | AE44: 예 리 | AF44: 193 | AG44: 96 | AH44: 97 | AI44: 90 | AJ44: 용신 2리 | AK44: 259 | AL44: 133 | AM44: 126 | AN44: 126 | AO44: 금 산 리 | AP44: 589 | AQ44: 355 | AR44: 234 | AS44: 387 | AT44: 덕 신 리 | AU44: 119 | AV44: 65 | AW44: 54 | AX44: 59 | AY44: 오전 1리 | AZ44: 215 | BA44: 109 | BB44: 106 | BC44: 97 | BD44: 월송 1리 | BE44: 274 | BF44: 127 | BG44: 147 | BH44: 149
A45: 보현 2리 | B45: 79 | C45: 40 | D45: 39 | E45: 33 | F45: 상화 1리 | G45: 63 | H45: 36 | I45: 27 | J45: 30 | K45: 구 천 리 | L45: 268 | M45: 136 | N45: 132 | O45: 135 | P45: 신사 2리 | Q45: 124 | R45: 61 | S45: 63 | T45: 61 | U45: 상직 1리 | V45: 46 | W45: 26 | X45: 20 | Y45: 25 | Z45: 덕암 2리 | AA45: 97 | AB45: 37 | AC45: 60 | AD45: 60 | AE45: 반성 1리 | AF45: 96 | AG45: 53 | AH45: 43 | AI45: 54 | AJ45: 용신 3리 | AK45: 85 | AL45: 45 | AM45: 40 | AN45: 46 | AO45: 낙산 1리 | AP45: 211 | AQ45: 115 | AR45: 96 | AS45: 112 | AT45: 방 송 리 | AU45: 72 | AV45: 34 | AW45: 38 | AX45: 43 | AY45: 오전 2리 | AZ45: 163 | BA45: 85 | BB45: 78 | BC45: 89 | BD45: 월송 2리 | BE45: 109 | BF45: 51 | BG45: 58 | BH45: 59
... A85: 장군 3리 | B85: 147 | C85: 83 | D85: 64 | E85: 69 | F85: 전흥 1리 | G85: 124 | H85: 58 | I85: 66 | J85: 68 | K85: 명당 2리 | L85: 225 | M85: 103 | N85: 122 | O85: 109 | P85: 칠 성 리 | Q85: 159 | R85: 77 | S85: 82 | T85: 70 | U85: 매일 2리 | V85: 60 | W85: 23 | X85: 37 | Y85: 33 | Z85: 사 1리 | AA85: 148 | AB85: 70 | AC85: 78 | AD85: 77 | AE85: 호촌 1리 | AF85: 275 | AG85: 146 | AH85: 129 | AI85: 112 | AJ85: 사 곡 리 | AK85: 183 | AL85: 101 | AM85: 82 | AN85: 85 | AO85: 오평 2리 | AP85: 131 | AQ85: 78 | AR85: 53 | AS85: 68 | AT85: 금곡 2리 | AU85: 63 | AV85: 34 | AW85: 29 | AX85: 32 | AY85: 의양 1리 | AZ85: 471 | BA85: 237 | BB85: 234 | BC85: 221 | BD85: 왕피 1리 | BE85: 139 | BF85: 56 | BG85: 83 | BH85: 87
A86: 장군 4리 | B86: 85 | C86: 42 | D86: 43 | E86: 40 | F86: 전흥 2리 | G86: 130 | H86: 63 | I86: 67 | J86: 64 | K86: 명당 3리 | L86: 130 | M86: 56 | N86: 74 | O86: 66 | P86: 가 천 리 | Q86: 133 | R86: 58 | S86: 75 | T86: 59 | U86: 흥기 1리 | V86: 84 | W86: 37 | X86: 47 | Y86: 46 | Z86: 사 2리 | AA86: 109 | AB86: 46 | AC86: 63 | AD86: 54 | AE86: 호촌 2리 | AF86: 405 | AG86: 222 | AH86: 183 | AI86: 189 | AJ86: 동락 1리 | AK86: 138 | AL86: 76 | AM86: 62 | AN86: 70 | AO86: 석적읍 | AP86: 32,207 | AQ86: 17228 | AR86: 14979 | AS86: 15386 | AT86: 오류 1리 | AU86: 65 | AV86: 31 | AW86: 34 | AX86: 33 | AY86: 의양 2리 | AZ86: 674 | BA86: 305 | BB86: 369 | BC86: 336 | BD86: 왕피 2리 | BE86: 330 | BF86: 137 | BG86: 193 | BH86: 199
A87: 고곡 1리 | B87: 166 | C87: 84 | D87: 82 | E87: 74 | F87: 입암 1리 | G87: 260 | H87: 119 | I87: 141 | J87: 124 | K87: 감은 1리 | L87: 66 | M87: 36 | N87: 30 | O87: 32 | P87: 섬 촌 리 | Q87: 172 | R87: 85 | S87: 87 | T87: 90 | U87: 흥기 2리 | V87: 42 | W87: 18 | X87: 24 | Y87: 23 | Z87: 함 박 리 | AA87: 88 | AB87: 40 | AC87: 48 | AD87: 50 | AE87: 곽 촌 리 | AF87: 1345 | AG87: 676 | AH87: 669 | AI87: 624 | AJ87: 동락 2리 | AK87: 139 | AL87: 76 | AM87: 63 | AN87: 66 | AO87: 성 곡 리 | AP87: 250 | AQ87: 126 | AR87: 124 | AS87: 123 | AT87: 오류 2리 | AU87: 44 | AV87: 18 | AW87: 26 | AX87: 22 | AY87: 의양 3리 | AZ87: 303 | BA87: 142 | BB87: 161 | BC87: 152 | BD87: 쌍전 1리 | BE87: 70 | BF87: 35 | BG87: 35 | BH87: 39
A88: 고곡 2리 | B88: 212 | C88: 110 | D88: 102 | E88: 105 | F88: 입암 2리 | G88: 73 | H88: 40 | I88: 33 | J88: 31 | K88: 감은 2리 | L88: 105 | M88: 45 | N88: 60 | O88: 59 | P88: 곡 강 리 | Q88: 186 | R88: 82 | S88: 104 | T88: 85 | U88: 흥기 3리 | V88: 110 | W88: 44 | X88: 66 | Y88: 58 | Z88: 옥산 1리 | AA88: 128 | AB88: 61 | AC88: 67 | AD88: 58 | AE88: 상곡 1리 | AF88: 319 | AG88: 182 | AH88: 137 | AI88: 176 | AJ88: 기산 1리 | AK88: 102 | AL88: 58 | AM88: 44 | AN88: 47 | AO88: 중 1리 | AP88: 1,223 | AQ88: 649 | AR88: 574 | AS88: 724 | AT88: 율 곡 리 | AU88: 119 | AV88: 49 | AW88: 70 | AX88: 54 | AY88: 의양 4리 | AZ88: 593 | BA88: 293 | BB88: 300 | BC88: 276 | BD88: 쌍전 2리 | BE88: 38 | BF88: 19 | BG88: 19 | BH88: 20
A89: 고곡 3리 | B89: 164 | C89: 97 | D89: 67 | E89: 81 | F89: 입암 3리 | G89: 68 | H89: 35 | I89: 33 | J89: 29 | K89: 장전 1리 | L89: 118 | M89: 60 | N89: 58 | O89: 57 | P89: 수비면 | Q89: 1889 | R89: 943 | S89: 946 | T89: 974 | U89: 주응 1리 | V89: 86 | W89: 42 | X89: 44 | Y89: 45 | Z89: 옥산 2리 | AA89: 59 | AB89: 33 | AC89: 26 | AD89: 38 | AE89: 상곡 2리 | AF89: 176 | AG89: 103 | AH89: 73 | AI89: 84 | AJ89: 기산 2리 | AK89: 174 | AL89: 99 | AM89: 75 | AN89: 83 | AO89: 중 2리 | AP89: 1,621 | AQ89: 921 | AR89: 700 | AS89: 990 | AT89: 부 초 리 | AU89: 141 | AV89: 70 | AW89: 71 | AX89: 72 | AY89: 학 산 리 | AZ89: 207 | BA89: 108 | BB89: 99 | BC89: 98 | BD89: 소광 1리 | BE89: 62 | BF89: 34 | BG89: 28 | BH89: 41
A90: 매곡 1리 | B90: 156 | C90: 81 | D90: 75 | E90: 78 | F90: 신계 1리 | G90: 160 | H90: 76 | I90: 84 | J90: 71 | K90: 장전 2리 | L90: 87 | M90: 39 | N90: 48 | O90: 46 | P90: 발리 1리 | Q90: 201 | R90: 102 | S90: 99 | T90: 93 | U90: 주응 2리 | V90: 61 | W90: 24 | X90: 37 | Y90: 38 | Z90: 옥산 3리 | AA90: 94 | AB90: 42 | AC90: 52 | AD90: 45 | AE90: 상곡 3리 | AF90: 1439 | AG90: 737 | AH90: 702 | AI90: 555 | AJ90: 운 산 리 | AK90: 244 | AL90: 133 | AM90: 111 | AN90: 109 | AO90: 중 3리 | AP90: 2,300 | AQ90: 1211 | AR90: 1089 | AS90: 873 | AT90: 시 항 리 | AU90: 42 | AV90: 23 | AW90: 19 | AX90: 22 | AY90: 서 동 리 | AZ90: 298 | BA90: 150 | BB90: 148 | BC90: 145 | BD90: 소광 2리 | BE90: 72 | BF90: 41 | BG90: 31 | BH90: 43
A91: 매곡 2리 | B91: 100 | C91: 54 | D91: 46 | E91: 49 | F91: 신계 2리 | G91: 78 | H91: 35 | I91: 43 | J91: 39 | K91: 문거 1리 | L91: 128 | M91: 61 | N91: 67 | O91: 74 | P91: 발리 2리 | Q91: 394 | R91: 192 | S91: 202 | T91: 207 | U91: 옥산 1리 | V91: 90 | W91: 37 | X91: 53 | Y91: 40 | Z91: 풍각면 | AA91: 4108 | AB91: 2028 | AC91: 2080 | AD91: 2152 | AE91: 상곡 4리 | AF91: 1276 | AG91: 657 | AH91: 619 | AI91: 459 | AJ91: 문명 1리 | AK91: 339 | AL91: 185 | AM91: 154 | AN91: 148 | AO91: 중 4리 | AP91: 2,304 | AQ91: 1208 | AR91: 1096 | AS91: 832 | AT91: 감천면 | AU91: 2972 | AV91: 1463 | AW91: 1509 | AX91: 1511 | AY91: 석현 1리 | AZ91: 126 | BA91: 65 | BB91: 61 | BC91: 61 | BD91: 전 곡 리 | BE91: 60 | BF91: 34 | BG91: 26 | BH91: 34
A92: 거 매 리 | B92: 201 | C92: 110 | D92: 91 | E92: 86 | F92: 사곡면 | G92: 1631 | H92: 786 | I92: 845 | J92: 870 | K92: 문거 2리 | L92: 51 | M92: 21 | N92: 30 | O92: 25 | P92: 계 1리 | Q92: 140 | R92: 70 | S92: 70 | T92: 69 | U92: 옥산 2리 | V92: 69 | W92: 31 | X92: 38 | Y92: 36 | Z92: 송서 1리 | AA92: 450 | AB92: 204 | AC92: 246 | AD92: 208 | AE92: 상곡 5리 | AF92: 827 | AG92: 410 | AH92: 417 | AI92: 285 | AJ92: 문명 2리 | AK92: 279 | AL92: 144 | AM92: 135 | AN92: 127 | AO92: 중 5리 | AP92: 1,989 | AQ92: 1047 | AR92: 942 | AS92: 822 | AT92: 포 1리 | AU92: 455 | AV92: 215 | AW92: 240 | AX92: 225 | AY92: 석현 2리 | AZ92: 156 | BA92: 75 | BB92: 81 | BC92: 75 | BD92: 광회 1리 | BE92: 79 | BF92: 37 | BG92: 42 | BH92: 52
A93: 금매 1리 | B93: 169 | C93: 86 | D93: 83 | E93: 77 | F93: 오상 1리 | G93: 138 | H93: 67 | I93: 71 | J93: 68 | K93: 문거 3리 | L93: 25 | M93: 14 | N93: 11 | O93: 14 | P93: 계 2리 | Q93: 99 | R93: 53 | S93: 46 | T93: 43 | U93: 옥산 3리 | V93: 65 | W93: 29 | X93: 36 | Y93: 34 | Z93: 송서 2리 | AA93: 258 | AB93: 126 | AC93: 132 | AD93: 138 | AE93: 상곡 6리 | AF93: 1361 | AG93: 671 | AH93: 690 | AI93: 486 | AJ93: 중 거 리 | AK93: 125 | AL93: 64 | AM93: 61 | AN93: 72 | AO93: 중 6리 | AP93: 1,132 | AQ93: 1131 | AR93: 1 | AS93: 1132 | AT93: 포 2리 | AU93: 176 | AV93: 86 | AW93: 90 | AX93: 83 | AY93: 애당 1리 | AZ93: 195 | BA93: 105 | BB93: 90 | BC93: 101 | BD93: 광회 2리 | BE93: 133 | BF93: 72 | BG93: 61 | BH93: 60
A94: 금매 2리 | B94: 117 | C94: 64 | D94: 53 | E94: 60 | F94: 오상 2리 | G94: 105 | H94: 53 | I94: 52 | J94: 55 | K94: 신성 1리 | L94: 166 | M94: 82 | N94: 84 | O94: 103 | P94: 오기 1리 | Q94: 148 | R94: 78 | S94: 70 | T94: 68 | U94: 인 곡 리 | V94: 79 | W94: 41 | X94: 38 | Y94: 47 | Z94: 송서 3리 | AA94: 464 | AB94: 227 | AC94: 237 | AD94: 249 | AE94: 좌 학 리 | AF94: 163 | AG94: 78 | AH94: 85 | AI94: 75 | AJ94: 마월 1리 | AK94: 131 | AL94: 63 | AM94: 68 | AN94: 73 | AO94: 중 7리 | AP94: 2,062 | AQ94: 1287 | AR94: 775 | AS94: 1316 | AT94: 덕율 1리 | AU94: 126 | AV94: 61 | AW94: 65 | AX94: 62 | AY94: 애당 2리 | AZ94: 121 | BA94: 67 | BB94: 54 | BC94: 60 | BD94: 근남면 | BE94: 2905 | BF94: 1413 | BG94: 1492 | BH94: 1494
A95: 화계 1리 | B95: 122 | C95: 55 | D95: 67 | E95: 63 | F95: 신감 1리 | G95: 121 | H95: 59 | I95: 62 | J95: 67 | K95: 신성 2리 | L95: 81 | M95: 41 | N95: 40 | O95: 46 | P95: 오기 2리 | Q95: 72 | R95: 34 | S95: 38 | T95: 40 | U95: 용 전 리 | V95: 98 | W95: 38 | X95: 60 | Y95: 53 | Z95: 봉기 1리 | AA95: 332 | AB95: 162 | AC95: 170 | AD95: 166 | AE95: 월 성 리 | AF95: 235 | AG95: 140 | AH95: 95 | AI95: 119 | AJ95: 마월 2리 | AK95: 94 | AL95: 48 | AM95: 46 | AN95: 47 | AO95: 중 8리 | AP95: 1,485 | AQ95: 837 | AR95: 648 | AS95: 966 | AT95: 덕율 2리 | AU95: 166 | AV95: 87 | AW95: 79 | AX95: 79 | AY95: 도심 1리 | AZ95: 155 | BA95: 81 | BB95: 74 | BC95: 70 | BD95: 노음 1리 | BE95: 396 | BF95: 198 | BG95: 198 | BH95: 179
A96: 화계 2리 | B96: 61 | C96: 26 | D96: 35 | E96: 33 | F96: 신감 2리 | G96: 79 | H96: 39 | I96: 40 | J96: 43 | K96: 근 곡 리 | L96: 85 | M96: 45 | N96: 40 | O96: 47 | P96: 신원 1리 | Q96: 80 | R96: 35 | S96: 45 | T96: 45 | U96: 덕산 1리 | V96: 36 | W96: 20 | X96: 16 | Y96: 18 | Z96: 봉기 2리 | AA96: 496 | AB96: 248 | AC96: 248 | AD96: 239 | AE96: 노 곡 리 | AF96: 323 | AG96: 178 | AH96: 145 | AI96: 156 | AJ96: 계 상 리 | AK96: 124 | AL96: 57 | AM96: 67 | AN96: 64 | AO96: 중 9리 | AP96: 1,645 | AQ96: 906 | AR96: 739 | AS96: 1177 | AT96: 덕율 3리 | AU96: 82 | AV96: 43 | AW96: 39 | AX96: 41 | AY96: 도심 2리 | AZ96: 154 | BA96: 81 | BB96: 73 | BC96: 73 | BD96: 노음 2리 | BE96: 214 | BF96: 103 | BG96: 111 | BH96: 99
A97: 화계 3리 | B97: 77 | C97: 38 | D97: 39 | E97: 36 | F97: 양지 1리 | G97: 167 | H97: 84 | I97: 83 | J97: 89 | K97: 노래 1리 | L97: 76 | M97: 37 | N97: 39 | O97: 46 | P97: 신원 2리 | Q97: 108 | R97: 59 | S97: 49 | T97: 57 | U97: 덕산 2리 | V97: 38 | W97: 19 | X97: 19 | Y97: 22 | Z97: 현 리 리 | AA97: 190 | AB97: 93 | AC97: 97 | AD97: 99 | AE97: 나정 1리 | AF97: 102 | AG97: 62 | AH97: 40 | AI97: 52 | AJ97: 대봉 1리 | AK97: 117 | AL97: 65 | AM97: 52 | AN97: 51 | AO97: 중 10리 | AP97: 930 | AQ97: 0 | AR97: 930 | AS97: 930 | AT97: 관현 1리 | AU97: 79 | AV97: 42 | AW97: 37 | AX97: 39 | AY97: 도심 3리 | AZ97: 114 | BA97: 53 | BB97: 61 | BC97: 56 | BD97: 노음 3리 | BE97: 207 | BF97: 104 | BG97: 103 | BH97: 109
... A103: 가호 1리 | B103: 99 | C103: 49 | D103: 50 | E103: 50 | F103: 매곡 3리 | G103: 62 | H103: 30 | I103: 32 | J103: 32 | K103: 덕 성 리 | L103: 183 | M103: 93 | N103: 90 | O103: 98 | P103: 송 하 리 | Q103: 129 | R103: 64 | S103: 65 | T103: 68 | U103: 오천 1리 | V103: 111 | W103: 52 | X103: 59 | Y103: 63 | Z103: 화산 2리 | AA103: 37 | AB103: 16 | AC103: 21 | AD103: 21 | AE103: 개진면 | AF103: 2264 | AG103: 1210 | AH103: 1054 | AI103: 1173 | AJ103: 백운 2리 | AK103: 280 | AL103: 151 | AM103: 129 | AN103: 162 | AO103: 남율 4리 | AP103: 2,897 | AQ103: 1454 | AR103: 1443 | AS103: 942 | AT103: 진평 3리 | AU103: 41 | AV103: 17 | AW103: 24 | AX103: 23 | AY103: 소로 1리 | AZ103: 317 | BA103: 165 | BB103: 152 | BC103: 162 | BD103: 수곡 1리 | BE103: 106 | BF103: 53 | BG103: 53 | BH103: 58
A104: 가호 2리 | B104: 157 | C104: 73 | D104: 84 | E104: 56 | F104: 공정 1리 | G104: 20 | H104: 13 | I104: 7 | J104: 13 | K104: 성 재 리 | L104: 158 | M104: 81 | N104: 77 | O104: 80 | P104: 본 신 리 | Q104: 74 | R104: 33 | S104: 41 | T104: 41 | U104: 오천 2리 | V104: 127 | W104: 69 | X104: 58 | Y104: 60 | Z104: 금 곡 리 | AA104: 195 | AB104: 87 | AC104: 108 | AD104: 114 | AE104: 양전 1리 | AF104: 204 | AG104: 111 | AH104: 93 | AI104: 107 | AJ104: 신파 1리 | AK104: 326 | AL104: 162 | AM104: 164 | AN104: 195 | AO104: 남율 5리 | AP104: 3113 | AQ104: 1567 | AR104: 1546 | AS104: 946 | AT104: 벌 방 리 | AU104: 146 | AV104: 68 | AW104: 78 | AX104: 77 | AY104: 소로 2리 | AZ104: 163 | BA104: 80 | BB104: 83 | BC104: 84 | BD104: 수곡 2리 | BE104: 119 | BF104: 65 | BG104: 54 | BH104: 63
A105: 춘 산 리 | B105: 128 | C105: 61 | D105: 67 | E105: 63 | F105: 공정 2리 | G105: 20 | H105: 11 | I105: 9 | J105: 12 | K105: 파천면 | L105: 1941 | M105: 979 | N105: 962 | O105: 1022 | P105: 석보면 | Q105: 2263 | R105: 1135 | S105: 1128 | T105: 1208 | U105: 신 양 리 | V105: 135 | W105: 60 | X105: 75 | Y105: 79 | Z105: 안산 1리 | AA105: 145 | AB105: 76 | AC105: 69 | AD105: 78 | AE105: 양전 2리 | AF105: 76 | AG105: 41 | AH105: 35 | AI105: 36 | AJ105: 신파 2리 | AK105: 209 | AL105: 108 | AM105: 101 | AN105: 67 | AO105: 남율 6리 | AP105: 1,613 | AQ105: 828 | AR105: 785 | AS105: 480 | AT105: 수 한 리 | AU105: 113 | AV105: 55 | AW105: 58 | AX105: 49 | AY105: 소천면 | AZ105: 2421 | BA105: 1191 | BB105: 1230 | BC105: 1332 | BD105: 구산 1리 | BE105: 196 | BF105: 96 | BG105: 100 | BH105: 92
A106: 대율 1리 | B106: 257 | C106: 128 | D106: 129 | E106: 132 | F106: 공정 3리 | G106: 17 | H106: 9 | I106: 8 | J106: 11 | K106: 관 1리 | L106: 202 | M106: 94 | N106: 108 | O106: 113 | P106: 원리 1리 | Q106: 305 | R106: 140 | S106: 165 | T106: 159 | U106: 눌 곡 리 | V106: 74 | W106: 38 | X106: 36 | Y106: 49 | Z106: 안산 2리 | AA106: 174 | AB106: 88 | AC106: 86 | AD106: 88 | AE106: 반 운 리 | AF106: 204 | AG106: 113 | AH106: 91 | AI106: 107 | AJ106: 적송 1리 | AK106: 57 | AL106: 20 | AM106: 37 | AN106: 30 | AO106: 남율 7리 | AP106: 1,036 | AQ106: 530 | AR106: 506 | AS106: 293 | AT106: 현 내 리 | AU106: 134 | AV106: 69 | AW106: 65 | AX106: 68 | AY106: 현동 1리 | AZ106: 290 | BA106: 143 | BB106: 147 | BC106: 181 | BD106: 구산 2리 | BE106: 58 | BF106: 23 | BG106: 35 | BH106: 31
A107: 대율 2리 | B107: 178 | C107: 92 | D107: 86 | E107: 98 | F107: 화전 1리 | G107: 76 | H107: 33 | I107: 43 | J107: 37 | K107: 관 2리 | L107: 107 | M107: 53 | N107: 54 | O107: 47 | P107: 원리 2리 | Q107: 159 | R107: 79 | S107: 80 | T107: 77 | U107: 용덕 1리 | V107: 34 | W107: 18 | X107: 16 | Y107: 21 | Z107: 흑석 1리 | AA107: 178 | AB107: 82 | AC107: 96 | AD107: 99 | AE107: 신 안 리 | AF107: 161 | AG107: 82 | AH107: 79 | AI107: 79 | AJ107: 적송 2리 | AK107: 98 | AL107: 41 | AM107: 57 | AN107: 48 | AO107: 포남 1리 | AP107: 289 | AQ107: 150 | AR107: 139 | AS107: 143 | AT107: 증 거 리 | AU107: 77 | AV107: 42 | AW107: 35 | AX107: 39 | AY107: 현동 2리 | AZ107: 128 | BA107: 63 | BB107: 65 | BC107: 69 | BD107: 구산 3리 | BE107: 73 | BF107: 34 | BG107: 39 | BH107: 43
A108: 동산 1리 | B108: 167 | C108: 83 | D108: 84 | E108: 74 | F108: 화전 2리 | G108: 63 | H108: 30 | I108: 33 | J108: 37 | K108: 중 평 리 | L108: 209 | M108: 104 | N108: 105 | O108: 114 | P108: 원리 3리 | Q108: 147 | R108: 75 | S108: 72 | T108: 85 | U108: 용덕 2리 | V108: 57 | W108: 31 | X108: 26 | Y108: 31 | Z108: 흑석 2리 | AA108: 150 | AB108: 84 | AC108: 66 | AD108: 80 | AE108: 직 1리 | AF108: 159 | AG108: 84 | AH108: 75 | AI108: 86 | AJ108: 봉양 1리 | AK108: 77 | AL108: 32 | AM108: 45 | AN108: 37 | AO108: 포남 2리 | AP108: 161 | AQ108: 83 | AR108: 78 | AS108: 77 | AT108: 돈 산 리 | AU108: 86 | AV108: 44 | AW108: 42 | AX108: 41 | AY108: 현동 3리 | AZ108: 129 | BA108: 74 | BB108: 55 | BC108: 68 | BD108: 구산 4리 | BE108: 83 | BF108: 39 | BG108: 44 | BH108: 45
A109: 동산 2리 | B109: 91 | C109: 46 | D109: 45 | E109: 48 | F109: 화전 3리 | G109: 52 | H109: 30 | I109: 22 | J109: 26 | K109: 덕천 1리 | L109: 119 | M109: 58 | N109: 61 | O109: 59 | P109: 지 경 리 | Q109: 218 | R109: 117 | S109: 101 | T109: 111 | U109: 송천 1리 | V109: 41 | W109: 23 | X109: 18 | Y109: 25 | Z109: 월봉 1리 | AA109: 104 | AB109: 52 | AC109: 52 | AD109: 60 | AE109: 직 2리 | AF109: 90 | AG109: 50 | AH109: 40 | AI109: 47 | AJ109: 봉양 2리 | AK109: 94 | AL109: 46 | AM109: 48 | AN109: 55 | AO109: 포남 3리 | AP109: 120 | AQ109: 63 | AR109: 57 | AS109: 58 | AT109: 유 1리 | AU109: 195 | AV109: 96 | AW109: 99 | AX109: 102 | AY109: 현동 4리 | AZ109: 117 | BA109: 49 | BB109: 68 | BC109: 75 | BD109: 진복 1리 | BE109: 127 | BF109: 54 | BG109: 73 | BH109: 73
A110: 남산 1리 | B110: 169 | C110: 91 | D110: 78 | E110: 89 | F110: 신 리 리 | G110: 147 | H110: 68 | I110: 79 | J110: 83 | K110: 덕천 2리 | L110: 132 | M110: 65 | N110: 67 | O110: 66 | P110: 옥계 1리 | Q110: 93 | R110: 49 | S110: 44 | T110: 46 | U110: 송천 2리 | V110: 52 | W110: 25 | X110: 27 | Y110: 29 | Z110: 월봉 2리 | AA110: 45 | AB110: 23 | AC110: 22 | AD110: 29 | AE110: 개포 1리 | AF110: 113 | AG110: 57 | AH110: 56 | AI110: 66 | AJ110: 신 정 리 | AK110: 183 | AL110: 88 | AM110: 95 | AN110: 86 | AO110: 중 지 리 | AP110: 217 | AQ110: 118 | AR110: 99 | AS110: 95 | AT110: 유 2리 | AU110: 69 | AV110: 35 | AW110: 34 | AX110: 37 | AY110: 고선 1리 | AZ110: 109 | BA110: 58 | BB110: 51 | BC110: 59 | BD110: 진복 2리 | BE110: 89 | BF110: 37 | BG110: 52 | BH110: 51
A111: 남산 2리 | B111: 159 | C111: 83 | D111: 76 | E111: 90 | F111: 작 승 리 | G111: 133 | H111: 60 | I111: 73 | J111: 63 | K111: 덕천 3리 | L111: 71 | M111: 36 | N111: 35 | O111: 35 | P111: 옥계 2리 | Q111: 57 | R111: 22 | S111: 35 | T111: 39 | U111: 낙 평 리 | V111: 174 | W111: 85 | X111: 89 | Y111: 95 | Z111: 차산 1리 | AA111: 89 | AB111: 45 | AC111: 44 | AD111: 46 | AE111: 개포 2리 | AF111: 84 | AG111: 52 | AH111: 32 | AI111: 49 | AJ111: 수성 1리 | AK111: 205 | AL111: 105 | AM111: 100 | AN111: 97 | AO111: 반 계 리 | AP111: 218 | AQ111: 112 | AR111: 106 | AS111: 108 | AT111: 미석 1리 | AU111: 70 | AV111: 35 | AW111: 35 | AX111: 35 | AY111: 고선 2리 | AZ111: 149 | BA111: 83 | BB111: 66 | BC111: 85 | BD111: 산포 1리 | BE111: 258 | BF111: 124 | BG111: 134 | BH111: 125
A112: 명 산 리 | B112: 71 | C112: 31 | D112: 40 | E112: 42 | F112: 토 현 리 | G112: 103 | H112: 48 | I112: 55 | J112: 54 | K112: 신흥 1리 | L112: 136 | M112: 69 | N112: 67 | O112: 69 | P112: 소 계 리 | Q112: 109 | R112: 51 | S112: 58 | T112: 65 | U112: 신 안 리 | V112: 330 | W112: 169 | X112: 161 | Y112: 174 | Z112: 차산 2리 | AA112: 142 | AB112: 66 | AC112: 76 | AD112: 76 | AE112: 오사 1리 | AF112: 104 | AG112: 57 | AH112: 47 | AI112: 55 | AJ112: 수성 2리 | AK112: 25 | AL112: 8 | AM112: 17 | AN112: 17 | AO112: 망정 1리 | AP112: 183 | AQ112: 98 | AR112: 85 | AS112: 79 | AT112: 미석 2리 | AU112: 78 | AV112: 38 | AW112: 40 | AX112: 49 | AY112: 임기 1리 | AZ112: 61 | BA112: 27 | BB112: 34 | BC112: 32 | BD112: 산포 2리 | BE112: 117 | BF112: 59 | BG112: 58 | BH112: 67
A113: 신화 1리 | B113: 114 | C113: 65 | D113: 49 | E113: 62 | F113: 춘산면 | G113: 1621 | H113: 822 | I113: 799 | J113: 789 | K113: 신흥 2리 | L113: 5 | M113: 3 | N113: 2 | O113: 3 | P113: 답곡 1리 | Q113: 83 | R113: 34 | S113: 49 | T113: 39 | U113: 속 곡 리 | V113: 63 | W113: 35 | X113: 28 | Y113: 28 | Z113: 덕양 1리 | AA113: 169 | AB113: 87 | AC113: 82 | AD113: 92 | AE113: 오사 2리 | AF113: 62 | AG113: 30 | AH113: 32 | AI113: 39 | AJ113: 송계 1리 | AK113: 113 | AL113: 60 | AM113: 53 | AN113: 65 | AO113: 망정 2리 | AP113: 47 | AQ113: 26 | AR113: 21 | AS113: 21 | AT113: 미석 3리 | AU113: 33 | AV113: 14 | AW113: 19 | AX113: 18 | AY113: 임기 2리 | AZ113: 243 | BA113: 110 | BB113: 133 | BC113: 137 | BD113: 산포 3리 | BE113: 137 | BF113: 60 | BG113: 77 | BH113: 85
A114: 신화 2리 | B114: 54 | C114: 28 | D114: 26 | E114: 30 | F114: 금오 1리 | G114: 92 | H114: 46 | I114: 46 | J114: 43 | K114: 지 경 리 | L114: 96 | M114: 50 | N114: 46 | O114: 52 | P114: 답곡 2리 | Q114: 77 | R114: 39 | S114: 38 | T114: 49 | U114: 율 전 리 | V114: 69 | W114: 33 | X114: 36 | Y114: 37 | Z114: 덕양 2리 | AA114: 129 | AB114: 68 | AC114: 61 | AD114: 59 | AE114: 구곡 1리 | AF114: 111 | AG114: 59 | AH114: 52 | AI114: 53 | AJ114: 송계 2리 | AK114: 76 | AL114: 39 | AM114: 37 | AN114: 46 | AO114: 도개 1리 | AP114: 114 | AQ114: 55 | AR114: 59 | AS114: 61 | AT114: 대맥 1리 | AU114: 73 | AV114: 34 | AW114: 39 | AX114: 39 | AY114: 임기 3리 | AZ114: 83 | BA114: 41 | BB114: 42 | BC114: 45 | BD114: 산포 4리 | BE114: 103 | BF114: 45 | BG114: 58 | BH114: 54
A115: 우보면 | B115: 2139 | C115: 1014 | D115: 1125 | E115: 1154 | F115: 금오 2리 | G115: 65 | H115: 36 | I115: 29 | J115: 36 | K115: 병 부 리 | L115: 30 | M115: 17 | N115: 13 | O115: 18 | P115: 신 평 리 | Q115: 101 | R115: 57 | S115: 44 | T115: 52 | U115: 도계 1리 | V115: 38 | W115: 16 | X115: 22 | Y115: 26 | Z115: 각북면 | AA115: 2230 | AB115: 1089 | AC115: 1141 | AD115: 1178 | AE115: 구곡 2리 | AF115: 58 | AG115: 32 | AH115: 26 | AI115: 28 | AJ115: 수 륜 리 | AK115: 213 | AL115: 102 | AM115: 111 | AN115: 116 | AO115: 도개 2리 | AP115: 189 | AQ115: 94 | AR115: 95 | AS115: 94 | AT115: 대맥 2리 | AU115: 67 | AV115: 38 | AW115: 29 | AX115: 42 | AY115: 두 음 리 | AZ115: 226 | BA115: 115 | BB115: 111 | BC115: 99 | BD115: 원남면 | BE115: 2355 | BF115: 1086 | BG115: 1269 | BH115: 1333
A116: 나호 1리 | B116: 58 | C116: 31 | D116: 27 | E116: 32 | F116: 신흥 1리 | G116: 39 | H116: 21 | I116: 18 | J116: 22 | K116: 황 목 리 | L116: 79 | M116: 42 | N116: 37 | O116: 40 | P116: 택전 1리 | Q116: 111 | R116: 66 | S116: 45 | T116: 50 | U116: 도계 2리 | V116: 36 | W116: 18 | X116: 18 | Y116: 23 | Z116: 명대 1리 | AA116: 70 | AB116: 35 | AC116: 35 | AD116: 37 | AE116: 옥산 1리 | AF116: 153 | AG116: 77 | AH116: 76 | AI116: 70 | AJ116: 성 1리 | AK116: 101 | AL116: 48 | AM116: 53 | AN116: 48 | AO116: 지천면 | AP116: 4943 | AQ116: 2616 | AR116: 2327 | AS116: 2504 | AT116: 대맥 3리 | AU116: 62 | AV116: 32 | AW116: 30 | AX116: 32 | AY116: 서 천 리 | AZ116: 82 | BA116: 43 | BB116: 39 | BC116: 59 | BD116: 매화 1리 | BE116: 465 | BF116: 225 | BG116: 240 | BH116: 250
A117: 나호 2리 | B117: 89 | C117: 43 | D117: 46 | E117: 51 | F117: 신흥 2리 | G117: 43 | H117: 22 | I117: 21 | J117: 20 | K117: 어천 1리 | L117: 75 | M117: 40 | N117: 35 | O117: 41 | P117: 택전 2리 | Q117: 87 | R117: 45 | S117: 42 | T117: 48 | U117: 옥 류 리 | V117: 26 | W117: 15 | X117: 11 | Y117: 17 | Z117: 명대 2리 | AA117: 125 | AB117: 61 | AC117: 64 | AD117: 59 | AE117: 옥산 2리 | AF117: 121 | AG117: 68 | AH117: 53 | AI117: 70 | AJ117: 성 2리 | AK117: 74 | AL117: 37 | AM117: 37 | AN117: 38 | AO117: 신 1리 | AP117: 765 | AQ117: 400 | AR117: 365 | AS117: 386 | AT117: 장산 1리 | AU117: 100 | AV117: 53 | AW117: 47 | AX117: 44 | AY117: 남희룡리 | AZ117: 97 | BA117: 51 | BB117: 46 | BC117: 48 | BD117: 매화 2리 | BE117: 153 | BF117: 78 | BG117: 75 | BH117: 76
A118: 나호 3리 | B118: 51 | C118: 26 | D118: 25 | E118: 28 | F118: 신흥 3리 | G118: 85 | H118: 41 | I118: 44 | J118: 44 | K118: 어천 2리 | L118: 56 | M118: 28 | N118: 28 | O118: 35 | P118: 화매 1리 | Q118: 75 | R118: 36 | S118: 39 | T118: 49 | U118: 신 애 리 | V118: 34 | W118: 12 | X118: 22 | Y118: 23 | Z118: 우 산 리 | AA118: 153 | AB118: 77 | AC118: 76 | AD118: 79 | AE118: 부 1리 | AF118: 109 | AG118: 57 | AH118: 52 | AI118: 49 | AJ118: 오천 1리 | AK118: 109 | AL118: 47 | AM118: 62 | AN118: 63 | AO118: 신 2리 | AP118: 263 | AQ118: 143 | AR118: 120 | AS118: 124 | AT118: 장산 2리 | AU118: 91 | AV118: 44 | AW118: 47 | AX118: 50 | AY118: 분천 1리 | AZ118: 88 | BA118: 44 | BB118: 44 | BC118: 47 | BD118: 금매 1리 | BE118: 81 | BF118: 38 | BG118: 43 | BH118: 44
A119: 이화 1리 | B119: 378 | C119: 188 | D119: 190 | E119: 189 | F119: 옥정 1리 | G119: 182 | H119: 88 | I119: 94 | J119: 76 | K119: 송강 1리 | L119: 81 | M119: 49 | N119: 32 | O119: 47 | P119: 화매 2리 | Q119: 151 | R119: 73 | S119: 78 | T119: 83 | U119: 수 암 리 | V119: 122 | W119: 51 | X119: 71 | Y119: 122 | Z119: 삼평 1리 | AA119: 117 | AB119: 57 | AC119: 60 | AD119: 62 | AE119: 부 2리 | AF119: 147 | AG119: 80 | AH119: 67 | AI119: 77 | AJ119: 오천 2리 | AK119: 102 | AL119: 42 | AM119: 60 | AN119: 51 | AO119: 신 3리 | AP119: 270 | AQ119: 138 | AR119: 132 | AS119: 126 | AT119: 마 촌 리 | AU119: 80 | AV119: 36 | AW119: 44 | AX119: 45 | AY119: 분천 2리 | AZ119: 185 | BA119: 87 | BB119: 98 | BC119: 101 | BD119: 금매 2리 | BE119: 111 | BF119: 52 | BG119: 59 | BH119: 62
A120: 이화 2리 | B120: 156 | C120: 66 | D120: 90 | E120: 77 | F120: 옥정 2리 | G120: 86 | H120: 45 | I120: 41 | J120: 43 | K120: 송강 2리 | L120: 123 | M120: 62 | N120: 61 | O120: 66 | P120: 포 산 리 | Q120: 23 | R120: 12 | S120: 11 | T120: 13 | U120: 복 곡 리 | V120: 83 | W120: 37 | X120: 46 | Y120: 83 | Z120: 삼평 2리 | AA120: 169 | AB120: 86 | AC120: 83 | AD120: 94 | AE120: 생 리 | AF120: 162 | AG120: 85 | AH120: 77 | AI120: 79 | AJ120: 계정 1리 | AK120: 114 | AL120: 55 | AM120: 59 | AN120: 54 | AO120: 신 4리 | AP120: 170 | AQ120: 92 | AR120: 78 | AS120: 93 | AT120: 보문면 | AU120: 1816 | AV120: 886 | AW120: 930 | AX120: 956 | AY120: 분천 3리 | AZ120: 159 | BA120: 79 | BB120: 80 | BC120: 78 | BD120: 오산 1리 | BE120: 189 | BF120: 86 | BG120: 103 | BH120: 108
A121: 이화 3리 | B121: 82 | C121: 42 | D121: 40 | E121: 50 | F121: 옥정 3리 | G121: 37 | H121: 20 | I121: 17 | J121: 24 | K121: 신기 1리 | L121: 241 | M121: 119 | N121: 122 | O121: 131 | P121: 삼 의 리 | Q121: 68 | R121: 33 | S121: 35 | T121: 43 | U121: 원 전 리 | V121: 200 | W121: 99 | X121: 101 | Y121: 200 | Z121: 남산 1리 | AA121: 106 | AB121: 52 | AC121: 54 | AD121: 62 | AE121: 인안 1리 | AF121: 95 | AG121: 49 | AH121: 46 | AI121: 46 | AJ121: 계정 2리 | AK121: 121 | AL121: 59 | AM121: 62 | AN121: 65 | AO121: 송 정 리 | AP121: 273 | AQ121: 134 | AR121: 139 | AS121: 133 | AT121: 미호 1리 | AU121: 150 | AV121: 74 | AW121: 76 | AX121: 77 | AY121: 분천 4리 | AZ121: 234 | BA121: 110 | BB121: 124 | BC121: 122 | BD121: 오산 2리 | BE121: 113 | BF121: 45 | BG121: 68 | BH121: 71
A122: 두 북 리 | B122: 103 | C122: 52 | D122: 51 | E122: 50 | F122: 옥정 4리 | G122: 26 | H122: 13 | I122: 13 | J122: 20 | K122: 신기 2리 | L122: 63 | M122: 30 | N122: 33 | O122: 31 | P122: 요원 1리 | Q122: 59 | R122: 31 | S122: 28 | T122: 26 | U122: 지 품 리 | V122: 104 | W122: 49 | X122: 55 | Y122: 104 | Z122: 남산 2리 | AA122: 162 | AB122: 76 | AC122: 86 | AD122: 79 | AE122: 인안 2리 | AF122: 51 | AG122: 26 | AH122: 25 | AI122: 30 | AJ122: 남은 1리 | AK122: 171 | AL122: 85 | AM122: 86 | AN122: 74 | AO122: 금 호 리 | AP122: 343 | AQ122: 185 | AR122: 158 | AS122: 173 | AT122: 미호 2리 | AU122: 47 | AV122: 21 | AW122: 26 | AX122: 33 | AY122: 분천 5리 | AZ122: 41 | BA122: 14 | BB122: 27 | BC122: 27 | BD122: 오산 3리 | BE122: 151 | BF122: 66 | BG122: 85 | BH122: 94
A123: 선곡 1리 | B123: 62 | C123: 30 | D123: 32 | E123: 38 | F123: 대사 1리 | G123: 47 | H123: 22 | I123: 25 | J123: 24 | K123: 옹 점 리 | L123: 116 | M123: 60 | N123: 56 | O123: 55 | P123: 요원 2리 | Q123: 60 | R123: 31 | S123: 29 | T123: 34 | U123: 기 사 리 | V123: 70 | W123: 35 | X123: 35 | Y123: 70 | Z123: 남산 3리 | AA123: 173 | AB123: 88 | AC123: 85 | AD123: 92 | AE123: 우곡면 | AF123: 1841 | AG123: 951 | AH123: 890 | AI123: 896 | AJ123: 남은 2리 | AK123: 91 | AL123: 43 | AM123: 48 | AN123: 41 | AO123: 연 화 리 | AP123: 212 | AQ123: 111 | AR123: 101 | AS123: 108 | AT123: 신월 1리 | AU123: 106 | AV123: 53 | AW123: 53 | AX123: 53 | AY123: 석포면 | AZ123: 2199 | BA123: 1188 | BB123: 1011 | BC123: 1046 | BD123: 덕신 1리 | BE123: 287 | BF123: 130 | BG123: 157 | BH123: 160
A124: 선곡 2리 | B124: 93 | C124: 42 | D124: 51 | E124: 46 | F124: 대사 2리 | G124: 45 | H124: 22 | I124: 23 | J124: 19 | K124: 진보면 | L124: 6830 | M124: 3445 | N124: 3385 | O124: 3339 | P124: 홍 계 리 | Q124: 77 | R124: 39 | S124: 38 | T124: 40 | U124: 황 장 리 | V124: 75 | W124: 42 | X124: 33 | Y124: 75 | Z124: 덕촌 1리 | AA124: 113 | AB124: 55 | AC124: 58 | AD124: 55 | AE124: 도 진 리 | AF124: 180 | AG124: 94 | AH124: 86 | AI124: 112 | AJ124: 보월 1리 | AK124: 76 | AL124: 33 | AM124: 43 | AN124: 44 | AO124: 달 서 리 | AP124: 183 | AQ124: 98 | AR124: 85 | AS124: 93 | AT124: 신월 2리 | AU124: 78 | AV124: 39 | AW124: 39 | AX124: 40 | AY124: 석포 1리 | AZ124: 1038 | BA124: 567 | BB124: 471 | BC124: 425 | BD124: 덕신 2리 | BE124: 46 | BF124: 18 | BG124: 28 | BH124: 29
A125: 선곡 3리 | B125: 58 | C125: 30 | D125: 28 | E125: 35 | F125: 대사 3리 | G125: 12 | H125: 6 | I125: 6 | J125: 9 | K125: 진안 1리 | L125: 888 | M125: 421 | N125: 467 | O125: 422 | P125: 주 남 리 | Q125: 203 | R125: 106 | S125: 97 | T125: 100 | U125: 축산면 | V125: 3105 | W125: 1470 | X125: 1635 | Y125: 1659 | Z125: 덕촌 2리 | AA125: 164 | AB125: 76 | AC125: 88 | AD125: 88 | AE125: 예 곡 리 | AF125: 136 | AG125: 80 | AH125: 56 | AI125: 34 | AJ125: 보월 2리 | AK125: 53 | AL125: 25 | AM125: 28 | AN125: 30 | AO125: 백 운 리 | AP125: 123 | AQ125: 66 | AR125: 57 | AS125: 66 | AT125: 승 본 리 | AU125: 120 | AV125: 62 | AW125: 58 | AX125: 55 | AY125: 석포 2리 | AZ125: 363 | BA125: 186 | BB125: 177 | BC125: 193 | BD125: 신흥 1리 | BE125: 94 | BF125: 34 | BG125: 60 | BH125: 62
A126: 미성 1리 | B126: 142 | C126: 57 | D126: 85 | E126: 77 | F126: 금천 1리 | G126: 53 | H126: 31 | I126: 22 | J126: 22 | K126: 진안 2리 | L126: 452 | M126: 223 | N126: 229 | O126: 249 | U126: 축산 1리 | V126: 1003 | W126: 475 | X126: 528 | Y126: 525 | Z126: 지슬 1리 | AA126: 113 | AB126: 52 | AC126: 61 | AD126: 62 | AE126: 답곡 1리 | AF126: 194 | AG126: 101 | AH126: 93 | AI126: 80 | AJ126: 작 은 리 | AK126: 93 | AL126: 47 | AM126: 46 | AN126: 56 | AO126: 황 학 리 | AP126: 95 | AQ126: 51 | AR126: 44 | AS126: 57 | AT126: 간방 1리 | AU126: 67 | AV126: 35 | AW126: 32 | AX126: 37 | AY126: 석포 3리 | AZ126: 189 | BA126: 102 | BB126: 87 | BC126: 98 | BD126: 신흥 2리 | BE126: 75 | BF126: 31 | BG126: 44 | BH126: 52
A127: 미성 2리 | B127: 63 | C127: 30 | D127: 33 | E127: 37 | F127: 금천 2리 | G127: 143 | H127: 75 | I127: 68 | J127: 75 | K127: 진안 3리 | L127: 489 | M127: 240 | N127: 249 | O127: 245 | U127: 축산 2리 | V127: 100 | W127: 45 | X127: 55 | Y127: 57 | Z127: 지슬 2리 | AA127: 167 | AB127: 78 | AC127: 89 | AD127: 90 | AE127: 답곡 2리 | AF127: 96 | AG127: 54 | AH127: 42 | AI127: 41 | AJ127: 가천면 | AK127: 2059 | AL127: 1031 | AM127: 1028 | AN127: 1097 | AO127: 창평 1리 | AP127: 205 | AQ127: 121 | AR127: 84 | AS127: 98 | AT127: 간방 2리 | AU127: 90 | AV127: 43 | AW127: 47 | AX127: 48 | AY127: 석포 4리 | AZ127: 232 | BA127: 132 | BB127: 100 | BC127: 140 | BD127: 기양 1리 | BE127: 128 | BF127: 70 | BG127: 58 | BH127: 75
A128: 모 산 리 | B128: 205 | C128: 101 | D128: 104 | E128: 115 | F128: 빙계 1리 | G128: 179 | H128: 92 | I128: 87 | J128: 88 | K128: 진안 4리 | L128: 360 | M128: 181 | N128: 179 | O128: 171 | U128: 축산 3리 | V128: 340 | W128: 167 | X128: 173 | Y128: 175 | Z128: 금 천 리 | AA128: 155 | AB128: 74 | AC128: 81 | AD128: 77 | AE128: 봉산 1리 | AF128: 222 | AG128: 111 | AH128: 111 | AI128: 103 | AJ128: 창천 1리 | AK128: 258 | AL128: 131 | AM128: 127 | AN128: 148 | AO128: 창평 2리 | AP128: 125 | AQ128: 69 | AR128: 56 | AS128: 69 | AT128: 간방 3리 | AU128: 76 | AV128: 37 | AW128: 39 | AX128: 39 | AY128: 대현 1리 | AZ128: 102 | BA128: 55 | BB128: 47 | BC128: 56 | BD128: 기양 2리 | BE128: 90 | BF128: 43 | BG128: 47 | BH128: 52
A129: 문덕 1리 | B129: 183 | C129: 83 | D129: 100 | E129: 93 | F129: 빙계 2리 | G129: 67 | H129: 33 | I129: 34 | J129: 32 | K129: 이촌 1리 | L129: 1440 | M129: 744 | N129: 696 | O129: 632 | U129: 경정 1리 | V129: 291 | W129: 133 | X129: 158 | Y129: 170 | Z129: 오산 1리 | AA129: 193 | AB129: 96 | AC129: 97 | AD129: 94 | AE129: 봉산 2리 | AF129: 50 | AG129: 25 | AH129: 25 | AI129: 20 | AJ129: 창천 2리 | AK129: 363 | AL129: 171 | AM129: 192 | AN129: 174 | AO129: 심천 1리 | AP129: 165 | AQ129: 88 | AR129: 77 | AS129: 66 | AT129: 옥 천 리 | AU129: 47 | AV129: 24 | AW129: 23 | AX129: 30 | AY129: 대현 2리 | AZ129: 192 | BA129: 102 | BB129: 90 | BC129: 90 | BD129: 기양 3리 | BE129: 94 | BF129: 45 | BG129: 49 | BH129: 54
A130: 문덕 2리 | B130: 36 | C130: 20 | D130: 16 | E130: 19 | F130: 빙계 3리 | G130: 29 | H130: 12 | I130: 17 | J130: 18 | K130: 이촌 2리 | L130: 165 | M130: 79 | N130: 86 | O130: 88 | U130: 경정 2리 | V130: 196 | W130: 92 | X130: 104 | Y130: 81 | Z130: 오산 2리 | AA130: 250 | AB130: 126 | AC130: 124 | AD130: 148 | AE130: 포 1리 | AF130: 146 | AG130: 74 | AH130: 72 | AI130: 70 | AJ130: 창천 3리 | AK130: 286 | AL130: 142 | AM130: 144 | AN130: 130 | AO130: 심천 2리 | AP130: 53 | AQ130: 31 | AR130: 22 | AS130: 34 | AT130: 독양 1리 | AU130: 112 | AV130: 50 | AW130: 62 | AX130: 50 | AY130: 승 부 리 | AZ130: 83 | BA130: 44 | BB130: 39 | BC130: 44 | BD130: 갈 면 리 | BE130: 188 | BF130: 85 | BG130: 103 | BH130: 97
A131: 달산 1리 | B131: 86 | C131: 38 | D131: 48 | E131: 43 | F131: 사 미 리 | G131: 158 | H131: 81 | I131: 77 | J131: 72 | K131: 후평 1리 | L131: 89 | M131: 43 | N131: 46 | O131: 46 | U131: 경정 3리 | V131: 122 | W131: 63 | X131: 59 | Y131: 67 | Z131: 이서면 | AA131: 4809 | AB131: 2370 | AC131: 2439 | AD131: 2325 | AE131: 포 2리 | AF131: 45 | AG131: 21 | AH131: 24 | AI131: 27 | AJ131: 화죽 1리 | AK131: 135 | AL131: 65 | AM131: 70 | AN131: 65 | AO131: 덕 산 리 | AP131: 210 | AQ131: 108 | AR131: 102 | AS131: 102 | AT131: 독양 2리 | AU131: 102 | AV131: 48 | AW131: 54 | AX131: 64 | AY131: 재산면 | AZ131: 1715 | BA131: 855 | BB131: 860 | BC131: 879 | BD131: 길 곡 리 | BE131: 90 | BF131: 40 | BG131: 50 | BH131: 47
A132: 달산 2리 | B132: 103 | C132: 45 | D132: 58 | E132: 67 | F132: 효선 1리 | G132: 112 | H132: 60 | I132: 52 | J132: 53 | K132: 후평 2리 | L132: 48 | M132: 24 | N132: 24 | O132: 27 | U132: 고곡 1리 | V132: 120 | W132: 52 | X132: 68 | Y132: 67 | Z132: 칠엽 1리 | AA132: 47 | AB132: 26 | AC132: 21 | AD132: 28 | AE132: 객 기 리 | AF132: 139 | AG132: 72 | AH132: 67 | AI132: 79 | AJ132: 화죽 2리 | AK132: 67 | AL132: 34 | AM132: 33 | AN132: 35 | AO132: 영오 1리 | AP132: 153 | AQ132: 78 | AR132: 75 | AS132: 72 | AT132: 기곡 1리 | AU132: 80 | AV132: 36 | AW132: 44 | AX132: 38 | AY132: 현동 1리 | AZ132: 299 | BA132: 133 | BB132: 166 | BC132: 161 | BD132: 기성면 | BE132: 2854 | BF132: 1313 | BG132: 1541 | BH132: 1670
A133: 봉산 1리 | B133: 92 | C133: 49 | D133: 43 | E133: 56 | F133: 효선 2리 | G133: 121 | H133: 56 | I133: 65 | J133: 49 | K133: 합 강 리 | L133: 29 | M133: 17 | N133: 12 | O133: 16 | U133: 고곡 2리 | V133: 74 | W133: 36 | X133: 38 | Y133: 46 | Z133: 칠엽 2리 | AA133: 81 | AB133: 37 | AC133: 44 | AD133: 46 | AE133: 연 리 | AF133: 102 | AG133: 55 | AH133: 47 | AI133: 46 | AJ133: 동원 1리 | AK133: 77 | AL133: 36 | AM133: 41 | AN133: 45 | AO133: 영오 2리 | AP133: 90 | AQ133: 47 | AR133: 43 | AS133: 39 | AT133: 기곡 2리 | AU133: 45 | AV133: 25 | AW133: 20 | AX133: 22 | AY133: 현동 2리 | AZ133: 262 | BA133: 126 | BB133: 136 | BC133: 134 | BD133: 척산 1리 | BE133: 65 | BF133: 29 | BG133: 36 | BH133: 39
A134: 봉산 2리 | B134: 99 | C134: 41 | D134: 58 | E134: 51 | F134: 가음면 | G134: 1491 | H134: 727 | I134: 764 | J134: 778 | K134: 기 곡 리 | L134: 49 | M134: 23 | N134: 26 | O134: 27 | U134: 도곡 1리 | V134: 178 | W134: 89 | X134: 89 | Y134: 105 | Z134: 대전 1리 | AA134: 115 | AB134: 59 | AC134: 56 | AD134: 61 | AE134: 월 오 리 | AF134: 51 | AG134: 27 | AH134: 24 | AI134: 23 | AJ134: 동원 2리 | AK134: 63 | AL134: 30 | AM134: 33 | AN134: 32 | AO134: 오 산 리 | AP134: 135 | AQ134: 70 | AR134: 65 | AS134: 66 | AT134: 우래 1리 | AU134: 86 | AV134: 41 | AW134: 45 | AX134: 43 | AY134: 현동 3리 | AZ134: 150 | BA134: 79 | BB134: 71 | BC134: 74 | BD134: 척산 2리 | BE134: 218 | BF134: 97 | BG134: 121 | BH134: 129
A135: 의흥면 | B135: 2725 | C135: 1315 | D135: 1410 | E135: 1408 | F135: 현리 1리 | G135: 106 | H135: 53 | I135: 53 | J135: 52 | K135: 추 현 리 | L135: 98 | M135: 54 | N135: 44 | O135: 57 | U135: 도곡 2리 | V135: 87 | W135: 45 | X135: 42 | Y135: 48 | Z135: 대전 2리 | AA135: 81 | AB135: 36 | AC135: 45 | AD135: 45 | AE135: 대곡 1리 | AF135: 65 | AG135: 31 | AH135: 34 | AI135: 35 | AJ135: 마 수 리 | AK135: 77 | AL135: 36 | AM135: 41 | AN135: 52 | AO135: 용 산 리 | AP135: 193 | AQ135: 104 | AR135: 89 | AS135: 107 | AT135: 우래 2리 | AU135: 62 | AV135: 37 | AW135: 25 | AX135: 31 | AY135: 남 면 리 | AZ135: 125 | BA135: 66 | BB135: 59 | BC135: 62 | BD135: 척산 3리 | BE135: 100 | BF135: 60 | BG135: 40 | BH135: 73
A136: 읍내 1리 | B136: 390 | C136: 181 | D136: 209 | E136: 223 | F136: 현리 2리 | G136: 105 | H136: 60 | I136: 45 | J136: 48 | K136: 부 곡 리 | L136: 101 | M136: 46 | N136: 55 | O136: 58 | U136: 상 원 리 | V136: 151 | W136: 67 | X136: 84 | Y136: 88 | Z136: 가금 1리 | AA136: 97 | AB136: 48 | AC136: 49 | AD136: 45 | AE136: 대곡 2리 | AF136: 55 | AG136: 29 | AH136: 26 | AI136: 31 | AJ136: 법전 1리 | AK136: 80 | AL136: 41 | AM136: 39 | AN136: 51 | AO136: 연호 1리 | AP136: 323 | AQ136: 176 | AR136: 147 | AS136: 149 | AT136: 산 성 리 | AU136: 105 | AV136: 52 | AW136: 53 | AX136: 59 | AY136: 동면 1리 | AZ136: 154 | BA136: 80 | BB136: 74 | BC136: 80 | BD136: 기 성 리 | BE136: 277 | BF136: 121 | BG136: 156 | BH136: 165
A137: 읍내 2리 | B137: 318 | C137: 144 | D137: 174 | E137: 160 | F137: 순호 1리 | G137: 35 | H137: 20 | I137: 15 | J137: 18 | K137: 세 장 리 | L137: 124 | M137: 64 | N137: 60 | O137: 56 | U137: 부 곡 리 | V137: 85 | W137: 39 | X137: 46 | Y137: 47 | Z137: 가금 2리 | AA137: 96 | AB137: 46 | AC137: 50 | AD137: 44 | AE137: 사 전 리 | AF137: 34 | AG137: 15 | AH137: 19 | AI137: 18 | AJ137: 법전 2리 | AK137: 89 | AL137: 47 | AM137: 42 | AN137: 48 | AO137: 연호 2리 | AP137: 192 | AQ137: 86 | AR137: 106 | AS137: 124 | AT137: 오 신 리 | AU137: 84 | AV137: 42 | AW137: 42 | AX137: 40 | AY137: 동면 2리 | AZ137: 232 | BA137: 123 | BB137: 109 | BC137: 96 | BD137: 사동 1리 | BE137: 163 | BF137: 83 | BG137: 80 | BH137: 75
... A139: 수북 2리 | B139: 127 | C139: 60 | D139: 67 | E139: 64 | F139: 순호 3리 | G139: 65 | H139: 29 | I139: 36 | J139: 38 | K139: 광덕 2리 | L139: 407 | M139: 226 | N139: 181 | O139: 178 | U139: 칠성 2리 | V139: 107 | W139: 52 | X139: 55 | Y139: 48 | Z139: 서 원 리 | AA139: 414 | AB139: 208 | AC139: 206 | AD139: 178 | AE139: 야정 2리 | AF139: 76 | AG139: 35 | AH139: 41 | AI139: 43 | AJ139: 용 사 리 | AK139: 150 | AL139: 78 | AM139: 72 | AN139: 87 | AO139: 낙산 2리 | AP139: 72 | AQ139: 32 | AR139: 40 | AS139: 48 | AT139: 수계 2리 | AU139: 111 | AV139: 55 | AW139: 56 | AX139: 59 | AY139: 갈산 2리 | AZ139: 145 | BA139: 80 | BB139: 65 | BC139: 77 | BD139: 사동 3리 | BE139: 121 | BF139: 53 | BG139: 68 | BH139: 67
A140: 수북 3리 | B140: 58 | C140: 30 | D140: 28 | E140: 26 | F140: 귀천 1리 | G140: 77 | H140: 37 | I140: 40 | J140: 37 | K140: 각 산 리 | L140: 514 | M140: 255 | N140: 259 | O140: 243 | U140: 조 항 리 | V140: 12 | W140: 5 | X140: 7 | Y140: 7 | Z140: 학산 1리 | AA140: 147 | AB140: 68 | AC140: 79 | AD140: 70 | AE140: 속 리 | AF140: 58 | AG140: 32 | AH140: 26 | AI140: 27 | AJ140: 금 봉 리 | AK140: 132 | AL140: 78 | AM140: 54 | AN140: 67 | AO140: 동명면 | AP140: 5,864 | AQ140: 3033 | AR140: 2831 | AS140: 2840 | AT140: 작 곡 리 | AU140: 115 | AV140: 51 | AW140: 64 | AX140: 58 | AY140: 상 리 리 | AZ140: 154 | BA140: 69 | BB140: 85 | BC140: 80 | BD140: 망양 1리 | BE140: 123 | BF140: 57 | BG140: 66 | BH140: 82
A141: 수서 1리 | B141: 53 | C141: 26 | D141: 27 | E141: 28 | F141: 귀천 2리 | G141: 91 | H141: 45 | I141: 46 | J141: 47 | K141: 월전 1리 | L141: 239 | M141: 124 | N141: 115 | O141: 120 | U141: 대 곡 리 | V141: 67 | W141: 27 | X141: 40 | Y141: 42 | Z141: 학산 2리 | AA141: 712 | AB141: 360 | AC141: 352 | AD141: 318 | AE141: 사 촌 리 | AF141: 157 | AG141: 81 | AH141: 76 | AI141: 83 | AJ141: 중 산 리 | AK141: 156 | AL141: 78 | AM141: 78 | AN141: 78 | AO141: 금암 1리 | AP141: 390 | AQ141: 201 | AR141: 189 | AS141: 229 | AT141: 오암 1리 | AU141: 61 | AV141: 30 | AW141: 31 | AX141: 35 | AY141: 명호면 | AZ141: 2368 | BA141: 1203 | BB141: 1165 | BC141: 1202 | BD141: 망양 2리 | BE141: 125 | BF141: 51 | BG141: 74 | BH141: 68
A142: 수서 2리 | B142: 96 | C142: 50 | D142: 46 | E142: 53 | F142: 귀천 3리 | G142: 42 | H142: 17 | I142: 25 | J142: 22 | K142: 월전 2리 | L142: 58 | M142: 32 | N142: 26 | O142: 31 | U142: 기암 1리 | V142: 76 | W142: 37 | X142: 39 | Y142: 34 | Z142: 각 계 리 | AA142: 116 | AB142: 56 | AC142: 60 | AD142: 52 | AE142: 쌍림면 | AF142: 3796 | AG142: 1874 | AH142: 1922 | AI142: 1862 | AJ142: 금수면 | AK142: 1148 | AL142: 577 | AM142: 571 | AN142: 667 | AO142: 금암 2리 | AP142: 422 | AQ142: 219 | AR142: 203 | AS142: 192 | AT142: 오암 2리 | AU142: 24 | AV142: 9 | AW142: 15 | AX142: 17 | AY142: 도천 1리 | AZ142: 244 | BA142: 122 | BB142: 122 | BC142: 127 | BD142: 삼산 1리 | BE142: 62 | BF142: 31 | BG142: 31 | BH142: 33
A143: 이지 1리 | B143: 114 | C143: 48 | D143: 66 | E143: 61 | F143: 가산 1리 | G143: 62 | H143: 28 | I143: 34 | J143: 34 | K143: 시량 1리 | L143: 115 | M143: 56 | N143: 59 | O143: 61 | U143: 기암 2리 | V143: 48 | W143: 25 | X143: 23 | Y143: 28 | Z143: 수야 1리 | AA143: 183 | AB143: 84 | AC143: 99 | AD143: 95 | AE143: 귀 원 리 | AF143: 302 | AG143: 143 | AH143: 159 | AI143: 147 | AJ143: 광산1리 | AK143: 130 | AL143: 67 | AM143: 63 | AN143: 79 | AO143: 금암 3리 | AP143: 635 | AQ143: 338 | AR143: 297 | AS143: 306 | AT143: 호명면 | AU143: 2623 | AV143: 1283 | AW143: 1340 | AX143: 1292 | AY143: 도천 2리 | AZ143: 189 | BA143: 97 | BB143: 92 | BC143: 99 | BD143: 삼산 2리 | BE143: 46 | BF143: 24 | BG143: 22 | BH143: 31
A144: 이지 2리 | B144: 150 | C144: 76 | D144: 74 | E144: 74 | F144: 가산 2리 | G144: 121 | H144: 58 | I144: 63 | J144: 56 | K144: 시량 2리 | L144: 132 | M144: 74 | N144: 58 | O144: 71 | U144: 영해면 | V144: 6898 | W144: 3253 | X144: 3645 | Y144: 3409 | Z144: 수야 2리 | AA144: 105 | AB144: 57 | AC144: 48 | AD144: 52 | AE144: 송림 1리 | AF144: 93 | AG144: 42 | AH144: 51 | AI144: 49 | AJ144: 광산2리 | AK144: 63 | AL144: 30 | AM144: 33 | AN144: 34 | AO144: 금암 4리 | AP144: 124 | AQ144: 66 | AR144: 58 | AS144: 66 | AT144: 본 포 리 | AU144: 79 | AV144: 32 | AW144: 47 | AX144: 41 | AY144: 도천 3리 | AZ144: 83 | BA144: 41 | BB144: 42 | BC144: 35 | BD144: 방 율 리 | BE144: 67 | BF144: 29 | BG144: 38 | BH144: 46
A145: 파 전 리 | B145: 173 | C145: 85 | D145: 88 | E145: 80 | F145: 가산 3리 | G145: 101 | H145: 49 | I145: 52 | J145: 52 | K145: 고 현 리 | L145: 189 | M145: 101 | N145: 88 | O145: 101 | U145: 성내 1리 | V145: 1394 | W145: 641 | X145: 753 | Y145: 647 | Z145: 수야 3리 | AA145: 73 | AB145: 30 | AC145: 43 | AD145: 36 | AE145: 송림 2리 | AF145: 206 | AG145: 112 | AH145: 94 | AI145: 97 | AJ145: 광산3리 | AK145: 56 | AL145: 28 | AM145: 28 | AN145: 37 | AO145: 송산 1리 | AP145: 672 | AQ145: 353 | AR145: 319 | AS145: 308 | AT145: 원 곡 리 | AU145: 106 | AV145: 50 | AW145: 56 | AX145: 56 | AY145: 도천 4리 | AZ145: 77 | BA145: 34 | BB145: 43 | BC145: 33 | BD145: 이평 1리 | BE145: 46 | BF145: 21 | BG145: 25 | BH145: 23
A146: 신덕 1리 | B146: 55 | C146: 26 | D146: 29 | E146: 26 | F146: 가산 4리 | G146: 55 | H146: 28 | I146: 27 | J146: 32 | K146: 신촌 1리 | L146: 325 | M146: 164 | N146: 161 | O146: 163 | U146: 성내 2리 | V146: 298 | W146: 141 | X146: 157 | Y146: 161 | Z146: 수야 4리 | AA146: 67 | AB146: 35 | AC146: 32 | AD146: 33 | AE146: 산 당 리 | AF146: 119 | AG146: 61 | AH146: 58 | AI146: 65 | AJ146: 명천1리 | AK146: 115 | AL146: 63 | AM146: 52 | AN146: 65 | AO146: 송산 2리 | AP146: 157 | AQ146: 76 | AR146: 81 | AS146: 73 | AT146: 송 곡 리 | AU146: 115 | AV146: 62 | AW146: 53 | AX146: 60 | AY146: 삼동 1리 | AZ146: 74 | BA146: 34 | BB146: 40 | BC146: 48 | BD146: 이평 2리 | BE146: 25 | BF146: 12 | BG146: 13 | BH146: 19
A147: 신덕 2리 | B147: 89 | C147: 39 | D147: 50 | E147: 44 | F147: 양 지 리 | G147: 103 | H147: 44 | I147: 59 | J147: 57 | K147: 신촌 2리 | L147: 118 | M147: 58 | N147: 60 | O147: 61 | U147: 성내 3리 | V147: 423 | W147: 194 | X147: 229 | Y147: 236 | Z147: 금 촌 리 | AA147: 161 | AB147: 83 | AC147: 78 | AD147: 91 | AE147: 백 산 리 | AF147: 136 | AG147: 66 | AH147: 70 | AI147: 70 | AJ147: 명천2리 | AK147: 66 | AL147: 35 | AM147: 31 | AN147: 32 | AO147: 송산 3리 | AP147: 197 | AQ147: 102 | AR147: 95 | AS147: 103 | AT147: 금릉 1리 | AU147: 131 | AV147: 69 | AW147: 62 | AX147: 60 | AY147: 삼동 2리 | AZ147: 174 | BA147: 90 | BB147: 84 | BC147: 95 | BD147: 다천 1리 | BE147: 64 | BF147: 25 | BG147: 39 | BH147: 42
A148: 지호 1리 | B148: 51 | C148: 22 | D148: 29 | E148: 30 | F148: 이 1리 | G148: 60 | H148: 27 | I148: 33 | J148: 37 | K148: 괴정 1리 | L148: 85 | M148: 52 | N148: 33 | O148: 48 | U148: 성내 4리 | V148: 331 | W148: 159 | X148: 172 | Y148: 150 | Z148: 흥 선 리 | AA148: 187 | AB148: 99 | AC148: 88 | AD148: 92 | AE148: 하거 1리 | AF148: 120 | AG148: 51 | AH148: 69 | AI148: 65 | AJ148: 어은1리 | AK148: 86 | AL148: 40 | AM148: 46 | AN148: 49 | AO148: 가 천 리 | AP148: 203 | AQ148: 100 | AR148: 103 | AS148: 104 | AT148: 금릉 2리 | AU148: 100 | AV148: 48 | AW148: 52 | AX148: 51 | AY148: 양곡 1리 | AZ148: 155 | BA148: 83 | BB148: 72 | BC148: 73 | BD148: 다천 2리 | BE148: 69 | BF148: 33 | BG148: 36 | BH148: 44
A149: 지호 2리 | B149: 62 | C149: 30 | D149: 32 | E149: 35 | F149: 이 2리 | G149: 49 | H149: 26 | I149: 23 | J149: 27 | K149: 괴정 2리 | L149: 115 | M149: 52 | N149: 63 | O149: 65 | U149: 성내 5리 | V149: 786 | W149: 374 | X149: 412 | Y149: 381 | Z149: 문 수 리 | AA149: 164 | AB149: 77 | AC149: 87 | AD149: 84 | AE149: 하거 2리 | AF149: 102 | AG149: 51 | AH149: 51 | AI149: 57 | AJ149: 어은2리 | AK149: 79 | AL149: 38 | AM149: 41 | AN149: 50 | AO149: 학 명 리 | AP149: 264 | AQ149: 149 | AR149: 115 | AS149: 135 | AT149: 한 어 리 | AU149: 135 | AV149: 66 | AW149: 69 | AX149: 64 | AY149: 양곡 2리 | AZ149: 150 | BA149: 70 | BB149: 80 | BC149: 72 | BD149: 정명 1리 | BE149: 127 | BF149: 64 | BG149: 63 | BH149: 74
A150: 지호 3리 | B150: 69 | C150: 38 | D150: 31 | E150: 30 | F150: 장 1리 | G150: 82 | H150: 36 | I150: 46 | J150: 42 | U150: 괴시 1리 | V150: 323 | W150: 148 | X150: 175 | Y150: 163 | Z150: 고철 1리 | AA150: 113 | AB150: 59 | AC150: 54 | AD150: 56 | AE150: 신 촌 리 | AF150: 121 | AG150: 57 | AH150: 64 | AI150: 63 | AJ150: 후평1리 | AK150: 118 | AL150: 57 | AM150: 61 | AN150: 59 | AO150: 남원 1리 | AP150: 294 | AQ150: 150 | AR150: 144 | AS150: 133 | AT150: 본 리 | AU150: 185 | AV150: 86 | AW150: 99 | AX150: 92 | AY150: 고감 1리 | AZ150: 105 | BA150: 55 | BB150: 50 | BC150: 55 | BD150: 정명 2리 | BE150: 68 | BF150: 38 | BG150: 30 | BH150: 42
A151: 연계 1리 | B151: 142 | C151: 75 | D151: 67 | E151: 67 | F151: 장 2리 | G151: 154 | H151: 76 | I151: 78 | J151: 77 | U151: 괴시 2리 | V151: 120 | W151: 56 | X151: 64 | Y151: 64 | Z151: 고철 2리 | AA151: 168 | AB151: 76 | AC151: 92 | AD151: 89 | AE151: 산 주 리 | AF151: 136 | AG151: 72 | AH151: 64 | AI151: 72 | AJ151: 후평2리 | AK151: 52 | AL151: 22 | AM151: 30 | AN151: 33 | AO151: 남원 2리 | AP151: 376 | AQ151: 199 | AR151: 177 | AS151: 178 | AT151: 형 호 리 | AU151: 45 | AV151: 22 | AW151: 23 | AX151: 25 | AY151: 고감 2리 | AZ151: 152 | BA151: 73 | BB151: 79 | BC151: 77 | BD151: 황보 1리 | BE151: 83 | BF151: 35 | BG151: 48 | BH151: 47
A152: 연계 2리 | B152: 135 | C152: 61 | D152: 74 | E152: 72 | F152: 장 3리 | G152: 130 | H152: 67 | I152: 63 | J152: 69 | U152: 괴시 3리 | V152: 688 | W152: 340 | X152: 348 | Y152: 287 | Z152: 양 원 리 | AA152: 259 | AB152: 126 | AC152: 133 | AD152: 118 | AE152: 매 촌 리 | AF152: 283 | AG152: 128 | AH152: 155 | AI152: 100 | AJ152: 봉두리 | AK152: 45 | AL152: 20 | AM152: 25 | AN152: 24 | AO152: 득 명 리 | AP152: 151 | AQ152: 79 | AR152: 72 | AS152: 88 | AT152: 오 천 리 | AU152: 309 | AV152: 151 | AW152: 158 | AX152: 147 | AY152: 풍호 1리 | AZ152: 145 | BA152: 74 | BB152: 71 | BC152: 72 | BD152: 황보 2리 | BE152: 85 | BF152: 38 | BG152: 47 | BH152: 47
A153: 매성 1리 | B153: 56 | C153: 27 | D153: 29 | E153: 31 | F153: 금성면 | G153: 4674 | H153: 2290 | I153: 2384 | J153: 2394 | U153: 대진 1리 | V153: 163 | W153: 70 | X153: 93 | Y153: 86 | Z153: 신촌 1리 | AA153: 121 | AB153: 64 | AC153: 57 | AD153: 58 | AE153: 합가 1리 | AF153: 153 | AG153: 87 | AH153: 66 | AI153: 77 | AJ153: 무학1리 | AK153: 60 | AL153: 32 | AM153: 28 | AN153: 38 | AO153: 기성 1리 | AP153: 217 | AQ153: 106 | AR153: 111 | AS153: 117 | AT153: 백 송 리 | AU153: 128 | AV153: 69 | AW153: 59 | AX153: 63 | AY153: 풍호 2리 | AZ153: 144 | BA153: 70 | BB153: 74 | BC153: 70 | BD153: 구산 1리 | BE153: 198 | BF153: 86 | BG153: 112 | BH153: 120
A154: 매성 2리 | B154: 85 | C154: 42 | D154: 43 | E154: 46 | F154: 탑리 1리 | G154: 84 | H154: 41 | I154: 43 | J154: 38 | U154: 대진 2리 | V154: 171 | W154: 69 | X154: 102 | Y154: 105 | Z154: 신촌 2리 | AA154: 137 | AB154: 71 | AC154: 66 | AD154: 76 | AE154: 합가 2리 | AF154: 145 | AG154: 71 | AH154: 74 | AI154: 75 | AJ154: 무학2리 | AK154: 119 | AL154: 60 | AM154: 59 | AN154: 73 | AO154: 기성 2리 | AP154: 658 | AQ154: 330 | AR154: 328 | AS154: 306 | AT154: 산합 1리 | AU154: 53 | AV154: 26 | AW154: 27 | AX154: 22 | AY154: 고계 1리 | AZ154: 134 | BA154: 72 | BB154: 62 | BC154: 67 | BD154: 구산 2리 | BE154: 351 | BF154: 165 | BG154: 186 | BH154: 195
...

Sheet 2-1.시군 연령별총괄(5세)
B2: 2. 연령별 인구 총괄
B4: (단위 : 세, 명)
C5: 경 상 북 도 | F5: 포항시 | I5: 경주시 | L5: 김천시 | O5: 안동시 | R5: 구미시 | U5: 영주시 | X5: 영천시 | AA5: 상주시 | AD5: 문경시 | AG5: 경산시 | AJ5: 군위군 | AM5: 의성군 | AP5: 청송군 | AS5: 영양군 | AV5: 영덕군 | AY5: 청도군 | BB5: 고령군 | BE5: 성주군 | BH5: 칠곡군 | BK5: 예천군 | BN5: 봉화군 | BQ5: 울진군 | BT5: 울릉군
C6: 총 계 | D6: 남 | E6: 여 | F6: 소 계 | G6: 남 | H6: 여 | I6: 소 계 | J6: 남 | K6: 여 | L6: 소 계 | M6: 남 | N6: 여 | O6: 소 계 | P6: 남 | Q6: 여 | R6: 소 계 | S6: 남 | T6: 여 | U6: 소 계 | V6: 남 | W6: 여 | X6: 소 계 | Y6: 남 | Z6: 여 | AA6: 소 계 | AB6: 남 | AC6: 여 | AD6: 소 계 | AE6: 남 | AF6: 여 | AG6: 소 계 | AH6: 남 | AI6: 여 | AJ6: 소 계 | AK6: 남 | AL6: 여 | AM6: 소 계 | AN6: 남 | AO6: 여 | AP6: 소 계 | AQ6: 남 | AR6: 여 | AS6: 소 계 | AT6: 남 | AU6: 여 | AV6: 소 계 | AW6: 남 | AX6: 여 | AY6: 소 계 | AZ6: 남 | BA6: 여 | BB6: 소 계 | BC6: 남 | BD6: 여 | BE6: 소 계 | BF6: 남 | BG6: 여 | BH6: 소 계 | BI6: 남 | BJ6: 여 | BK6: 소 계 | BL6: 남 | BM6: 여 | BN6: 소 계 | BO6: 남 | BP6: 여 | BQ6: 소 계 | BR6: 남 | BS6: 여 | BT6: 소 계 | BU6: 남 | BV6: 여
B7: 총 계 | C7: =D7+E7 -> 2748599 | D7: =SUM(D8:D28) -> 1386564 | E7: =SUM(E8:E28) -> 1362035 | F7: =G7+H7 -> 524276 | G7: =SUM(G8:G28) -> 265990 | H7: =SUM(H8:H28) -> 258286 | I7: =J7+K7 -> 269930 | J7: =SUM(J8:J28) -> 136781 | K7: =SUM(K8:K28) -> 133149 | L7: =M7+N7 -> 137158 | M7: =SUM(M8:M28) -> 68329 | N7: =SUM(N8:N28) -> 68829 | O7: =P7+Q7 -> 170094 | P7: =SUM(P8:P28) -> 83823 | Q7: =SUM(Q8:Q28) -> 86271 | R7: =S7+T7 -> 426532 | S7: =SUM(S8:S28) -> 218156 | T7: =SUM(T8:T28) -> 208376 | U7: =V7+W7 -> 111628 | V7: =SUM(V8:V28) -> 55438 | W7: =SUM(W8:W28) -> 56190 | X7: =Y7+Z7 -> 103464 | Y7: =SUM(Y8:Y28) -> 52705 | Z7: =SUM(Z8:Z28) -> 50759 | AA7: =AB7+AC7 -> 103798 | AB7: =SUM(AB8:AB28) -> 50848 | AC7: =SUM(AC8:AC28) -> 52950 | AD7: =AE7+AF7 -> 76520 | AE7: =SUM(AE8:AE28) -> 37487 | AF7: =SUM(AF8:AF28) -> 39033 | AG7: =AH7+AI7 -> 261191 | AH7: =SUM(AH8:AH28) -> 132325 | AI7: =SUM(AI8:AI28) -> 128866 | AJ7: =AK7+AL7 -> 24731 | AK7: =SUM(AK8:AK28) -> 12548 | AL7: =SUM(AL8:AL28) -> 12183 | AM7: =AN7+AO7 -> 55888 | AN7: =SUM(AN8:AN28) -> 27309 | AO7: =SUM(AO8:AO28) -> 28579 | AP7: =AQ7+AR7 -> 26732 | AQ7: =SUM(AQ8:AQ28) -> 13253 | AR7: =SUM(AR8:AR28) -> 13479 | AS7: =AT7+AU7 -> 18408 | AT7: =SUM(AT8:AT28) -> 9006 | AU7: =SUM(AU8:AU28) -> 9402 | AV7: =AW7+AX7 -> 40318 | AW7: =SUM(AW8:AW28) -> 19361 | AX7: =SUM(AX8:AX28) -> 20957 | AY7: =AZ7+BA7 -> 44897 | AZ7: =SUM(AZ8:AZ28) -> 21915 | BA7: =SUM(BA8:BA28) -> 22982 | BB7: =BC7+BD7 -> 36853 | BC7: =SUM(BC8:BC28) -> 19291 | BD7: =SUM(BD8:BD28) -> 17562 | BE7: =BF7+BG7 -> 46509 | BF7: =SUM(BF8:BF28) -> 24117 | BG7: =SUM(BG8:BG28) -> 22392 | BH7: =BI7+BJ7 -> 126092 | BI7: =SUM(BI8:BI28) -> 66147 | BJ7: =SUM(BJ8:BJ28) -> 59945 | BK7: =BL7+BM7 -> 45559 | BL7: =SUM(BL8:BL28) -> 22301 | BM7: =SUM(BM8:BM28) -> 23258 | BN7: =BO7+BP7 -> 34308 | BO7: =SUM(BO8:BO28) -> 17009 | BP7: =SUM(BP8:BP28) -> 17299 | BQ7: =BR7+BS7 -> 53318 | BR7: =SUM(BR8:BR28) -> 26841 | BS7: =SUM(BS8:BS28) -> 26477 | BT7: =BU7+BV7 -> 10395 | BU7: =SUM(BU8:BU28) -> 5584 | BV7: =SUM(BV8:BV28) -> 4811
A8: 4 | B8: 0-4 | C8: =D8+E8 -> 113924 | D8: =SUM(G8,J8,M8,P8,S8,V8,Y8,AB8,AE8,AH8,AK8,AN8,AQ8,AT8,AW8,AZ8,BC8,BF8,BI8,BL8,BO8,BR8,BU8) -> 58938 | E8: =SUM(H8,K8,N8,Q8,T8,W8,Z8,AC8,AF8,AI8,AL8,AO8,AR8,AU8,AX8,BA8,BD8,BG8,BJ8,BM8,BP8,BS8,BV8) -> 54986 | F8: =G8+H8 -> 23720 | G8: =G32+G55 -> 12367 | H8: =H32+H55 -> 11353 | I8: =J8+K8 -> 9534 | J8: =J32+J55 -> 4911 | K8: =K32+K55 -> 4623 | L8: =M8+N8 -> 5386 | M8: =M32+M55 -> 2757 | N8: =N32+N55 -> 2629 | O8: =P8+Q8 -> 7207 | P8: =P32+P55 -> 3758 | Q8: =Q32+Q55 -> 3449 | R8: =S8+T8 -> 24602 | S8: =S32+S55 -> 12859 | T8: =T32+T55 -> 11743 | U8: =V8+W8 -> 3747 | V8: =V32+V55 -> 1950 | W8: =W32+W55 -> 1797 | X8: =Y8+Z8 -> 3380 | Y8: =Y32+Y55 -> 1718 | Z8: =Z32+Z55 -> 1662 | AA8: =AB8+AC8 -> 3009 | AB8: =AB32+AB55 -> 1572 | AC8: =AC32+AC55 -> 1437 | AD8: =AE8+AF8 -> 2619 | AE8: =AE32+AE55 -> 1377 | AF8: =AF32+AF55 -> 1242 | AG8: =AH8+AI8 -> 12220 | AH8: =AH32+AH55 -> 6187 | AI8: =AI32+AI55 -> 6033 | AJ8: =AK8+AL8 -> 488 | AK8: =AK32+AK55 -> 245 | AL8: =AL32+AL55 -> 243 | AM8: =AN8+AO8 -> 1126 | AN8: =AN32+AN55 -> 587 | AO8: =AO32+AO55 -> 539 | AP8: =AQ8+AR8 -> 627 | AQ8: =AQ32+AQ55 -> 316 | AR8: =AR32+AR55 -> 311 | AS8: =AT8+AU8 -> 498 | AT8: =AT32+AT55 -> 271 | AU8: =AU32+AU55 -> 227 | AV8: =AW8+AX8 -> 1037 | AW8: =AW32+AW55 -> 525 | AX8: =AX32+AX55 -> 512 | AY8: =AZ8+BA8 -> 903 | AZ8: =AZ32+AZ55 -> 454 | BA8: =BA32+BA55 -> 449 | BB8: =BC8+BD8 -> 1224 | BC8: =BC32+BC55 -> 610 | BD8: =BD32+BD55 -> 614 | BE8: =BF8+BG8 -> 1311 | BF8: =BF32+BF55 -> 647 | BG8: =BG32+BG55 -> 664 | BH8: =BI8+BJ8 -> 6715 | BI8: =BI32+BI55 -> 3474 | BJ8: =BJ32+BJ55 -> 3241 | BK8: =BL8+BM8 -> 1317 | BL8: =BL32+BL55 -> 684 | BM8: =BM32+BM55 -> 633 | BN8: =BO8+BP8 -> 1081 | BO8: =BO32+BO55 -> 547 | BP8: =BP32+BP55 -> 534 | BQ8: =BR8+BS8 -> 1921 | BR8: =BR32+BR55 -> 990 | BS8: =BS32+BS55 -> 931 | BT8: =BU8+BV8 -> 252 | BU8: =BU32+BU55 -> 132 | BV8: =BV32+BV55 -> 120
A9: 509 | B9: 5-9 | C9: =D9+E9 -> 109331 | D9: =SUM(G9,J9,M9,P9,S9,V9,Y9,AB9,AE9,AH9,AK9,AN9,AQ9,AT9,AW9,AZ9,BC9,BF9,BI9,BL9,BO9,BR9,BU9) -> 56948 | E9: =SUM(H9,K9,N9,Q9,T9,W9,Z9,AC9,AF9,AI9,AL9,AO9,AR9,AU9,AX9,BA9,BD9,BG9,BJ9,BM9,BP9,BS9,BV9) -> 52383 | F9: =G9+H9 -> 22617 | G9: =G33+G56 -> 11789 | H9: =H33+H56 -> 10828 | I9: =J9+K9 -> 10206 | J9: =J33+J56 -> 5273 | K9: =K33+K56 -> 4933 | L9: =M9+N9 -> 5072 | M9: =M33+M56 -> 2674 | N9: =N33+N56 -> 2398 | O9: =P9+Q9 -> 6669 | P9: =P33+P56 -> 3460 | Q9: =Q33+Q56 -> 3209 | R9: =S9+T9 -> 22800 | S9: =S33+S56 -> 11762 | T9: =T33+T56 -> 11038 | U9: =V9+W9 -> 4207 | V9: =V33+V56 -> 2182 | W9: =W33+W56 -> 2025 | X9: =Y9+Z9 -> 3032 | Y9: =Y33+Y56 -> 1594 | Z9: =Z33+Z56 -> 1438 | AA9: =AB9+AC9 -> 3492 | AB9: =AB33+AB56 -> 1834 | AC9: =AC33+AC56 -> 1658 | AD9: =AE9+AF9 -> 2475 | AE9: =AE33+AE56 -> 1348 | AF9: =AF33+AF56 -> 1127 | AG9: =AH9+AI9 -> 11075 | AH9: =AH33+AH56 -> 5737 | AI9: =AI33+AI56 -> 5338 | AJ9: =AK9+AL9 -> 431 | AK9: =AK33+AK56 -> 239 | AL9: =AL33+AL56 -> 192 | AM9: =AN9+AO9 -> 1123 | AN9: =AN33+AN56 -> 581 | AO9: =AO33+AO56 -> 542 | AP9: =AQ9+AR9 -> 617 | AQ9: =AQ33+AQ56 -> 313 | AR9: =AR33+AR56 -> 304 | AS9: =AT9+AU9 -> 490 | AT9: =AT33+AT56 -> 254 | AU9: =AU33+AU56 -> 236 | AV9: =AW9+AX9 -> 1027 | AW9: =AW33+AW56 -> 535 | AX9: =AX33+AX56 -> 492 | AY9: =AZ9+BA9 -> 988 | AZ9: =AZ33+AZ56 -> 487 | BA9: =BA33+BA56 -> 501 | BB9: =BC9+BD9 -> 1148 | BC9: =BC33+BC56 -> 610 | BD9: =BD33+BD56 -> 538 | BE9: =BF9+BG9 -> 1112 | BF9: =BF33+BF56 -> 608 | BG9: =BG33+BG56 -> 504 | BH9: =BI9+BJ9 -> 6343 | BI9: =BI33+BI56 -> 3321 | BJ9: =BJ33+BJ56 -> 3022 | BK9: =BL9+BM9 -> 1284 | BL9: =BL33+BL56 -> 708 | BM9: =BM33+BM56 -> 576 | BN9: =BO9+BP9 -> 923 | BO9: =BO33+BO56 -> 483 | BP9: =BP33+BP56 -> 440 | BQ9: =BR9+BS9 -> 1917 | BR9: =BR33+BR56 -> 1013 | BS9: =BS33+BS56 -> 904 | BT9: =BU9+BV9 -> 283 | BU9: =BU33+BU56 -> 143 | BV9: =BV33+BV56 -> 140
A10: 10014 | B10: 10-14 | C10: =D10+E10 -> 127713 | D10: =SUM(G10,J10,M10,P10,S10,V10,Y10,AB10,AE10,AH10,AK10,AN10,AQ10,AT10,AW10,AZ10,BC10,BF10,BI10,BL10,BO10,BR10,BU10) -> 67519 | E10: =SUM(H10,K10,N10,Q10,T10,W10,Z10,AC10,AF10,AI10,AL10,AO10,AR10,AU10,AX10,BA10,BD10,BG10,BJ10,BM10,BP10,BS10,BV10) -> 60194 | F10: =G10+H10 -> 26718 | G10: =G34+G57 -> 14153 | H10: =H34+H57 -> 12565 | I10: =J10+K10 -> 12341 | J10: =J34+J57 -> 6467 | K10: =K34+K57 -> 5874 | L10: =M10+N10 -> 5970 | M10: =M34+M57 -> 3149 | N10: =N34+N57 -> 2821 | O10: =P10+Q10 -> 7999 | P10: =P34+P57 -> 4140 | Q10: =Q34+Q57 -> 3859 | R10: =S10+T10 -> 25839 | S10: =S34+S57 -> 13598 | T10: =T34+T57 -> 12241 | U10: =V10+W10 -> 5315 | V10: =V34+V57 -> 2794 | W10: =W34+W57 -> 2521 | X10: =Y10+Z10 -> 3685 | Y10: =Y34+Y57 -> 2031 | Z10: =Z34+Z57 -> 1654 | AA10: =AB10+AC10 -> 4200 | AB10: =AB34+AB57 -> 2276 | AC10: =AC34+AC57 -> 1924 | AD10: =AE10+AF10 -> 3353 | AE10: =AE34+AE57 -> 1820 | AF10: =AF34+AF57 -> 1533 | AG10: =AH10+AI10 -> 12318 | AH10: =AH34+AH57 -> 6514 | AI10: =AI34+AI57 -> 5804 | AJ10: =AK10+AL10 -> 512 | AK10: =AK34+AK57 -> 296 | AL10: =AL34+AL57 -> 216 | AM10: =AN10+AO10 -> 1362 | AN10: =AN34+AN57 -> 695 | AO10: =AO34+AO57 -> 667 | AP10: =AQ10+AR10 -> 767 | AQ10: =AQ34+AQ57 -> 405 | AR10: =AR34+AR57 -> 362 | AS10: =AT10+AU10 -> 579 | AT10: =AT34+AT57 -> 289 | AU10: =AU34+AU57 -> 290 | AV10: =AW10+AX10 -> 1286 | AW10: =AW34+AW57 -> 680 | AX10: =AX34+AX57 -> 606 | AY10: =AZ10+BA10 -> 1289 | AZ10: =AZ34+AZ57 -> 674 | BA10: =BA34+BA57 -> 615 | BB10: =BC10+BD10 -> 1186 | BC10: =BC34+BC57 -> 629 | BD10: =BD34+BD57 -> 557 | BE10: =BF10+BG10 -> 1339 | BF10: =BF34+BF57 -> 734 | BG10: =BG34+BG57 -> 605 | BH10: =BI10+BJ10 -> 6550 | BI10: =BI34+BI57 -> 3452 | BJ10: =BJ34+BJ57 -> 3098 | BK10: =BL10+BM10 -> 1474 | BL10: =BL34+BL57 -> 795 | BM10: =BM34+BM57 -> 679 | BN10: =BO10+BP10 -> 1122 | BO10: =BO34+BO57 -> 612 | BP10: =BP34+BP57 -> 510 | BQ10: =BR10+BS10 -> 2210 | BR10: =BR34+BR57 -> 1168 | BS10: =BS34+BS57 -> 1042 | BT10: =BU10+BV10 -> 299 | BU10: =BU34+BU57 -> 148 | BV10: =BV34+BV57 -> 151
A11: 15019 | B11: 15-19 | C11: =D11+E11 -> 164238 | D11: =SUM(G11,J11,M11,P11,S11,V11,Y11,AB11,AE11,AH11,AK11,AN11,AQ11,AT11,AW11,AZ11,BC11,BF11,BI11,BL11,BO11,BR11,BU11) -> 87650 | E11: =SUM(H11,K11,N11,Q11,T11,W11,Z11,AC11,AF11,AI11,AL11,AO11,AR11,AU11,AX11,BA11,BD11,BG11,BJ11,BM11,BP11,BS11,BV11) -> 76588 | F11: =G11+H11 -> 34772 | G11: =G35+G58 -> 18578 | H11: =H35+H58 -> 16194 | I11: =J11+K11 -> 16462 | J11: =J35+J58 -> 8763 | K11: =K35+K58 -> 7699 | L11: =M11+N11 -> 8308 | M11: =M35+M58 -> 4410 | N11: =N35+N58 -> 3898 | O11: =P11+Q11 -> 9998 | P11: =P35+P58 -> 5285 | Q11: =Q35+Q58 -> 4713 | R11: =S11+T11 -> 31100 | S11: =S35+S58 -> 16677 | T11: =T35+T58 -> 14423 | U11: =V11+W11 -> 6914 | V11: =V35+V58 -> 3720 | W11: =W35+W58 -> 3194 | X11: =Y11+Z11 -> 5201 | Y11: =Y35+Y58 -> 2728 | Z11: =Z35+Z58 -> 2473 | AA11: =AB11+AC11 -> 5605 | AB11: =AB35+AB58 -> 3015 | AC11: =AC35+AC58 -> 2590 | AD11: =AE11+AF11 -> 4282 | AE11: =AE35+AE58 -> 2330 | AF11: =AF35+AF58 -> 1952 | AG11: =AH11+AI11 -> 15591 | AH11: =AH35+AH58 -> 8256 | AI11: =AI35+AI58 -> 7335 | AJ11: =AK11+AL11 -> 925 | AK11: =AK35+AK58 -> 490 | AL11: =AL35+AL58 -> 435 | AM11: =AN11+AO11 -> 2001 | AN11: =AN35+AN58 -> 1049 | AO11: =AO35+AO58 -> 952 | AP11: =AQ11+AR11 -> 1056 | AQ11: =AQ35+AQ58 -> 558 | AR11: =AR35+AR58 -> 498 | AS11: =AT11+AU11 -> 739 | AT11: =AT35+AT58 -> 416 | AU11: =AU35+AU58 -> 323 | AV11: =AW11+AX11 -> 1698 | AW11: =AW35+AW58 -> 886 | AX11: =AX35+AX58 -> 812 | AY11: =AZ11+BA11 -> 1905 | AZ11: =AZ35+AZ58 -> 1011 | BA11: =BA35+BA58 -> 894 | BB11: =BC11+BD11 -> 1666 | BC11: =BC35+BC58 -> 867 | BD11: =BD35+BD58 -> 799 | BE11: =BF11+BG11 -> 2030 | BF11: =BF35+BF58 -> 1104 | BG11: =BG35+BG58 -> 926 | BH11: =BI11+BJ11 -> 7308 | BI11: =BI35+BI58 -> 3950 | BJ11: =BJ35+BJ58 -> 3358 | BK11: =BL11+BM11 -> 1898 | BL11: =BL35+BL58 -> 992 | BM11: =BM35+BM58 -> 906 | BN11: =BO11+BP11 -> 1430 | BO11: =BO35+BO58 -> 741 | BP11: =BP35+BP58 -> 689 | BQ11: =BR11+BS11 -> 2940 | BR11: =BR35+BR58 -> 1605 | BS11: =BS35+BS58 -> 1335 | BT11: =BU11+BV11 -> 409 | BU11: =BU35+BU58 -> 219 | BV11: =BV35+BV58 -> 190
A12: 20024 | B12: 20-24 | C12: =D12+E12 -> 176035 | D12: =SUM(G12,J12,M12,P12,S12,V12,Y12,AB12,AE12,AH12,AK12,AN12,AQ12,AT12,AW12,AZ12,BC12,BF12,BI12,BL12,BO12,BR12,BU12) -> 97995 | E12: =SUM(H12,K12,N12,Q12,T12,W12,Z12,AC12,AF12,AI12,AL12,AO12,AR12,AU12,AX12,BA12,BD12,BG12,BJ12,BM12,BP12,BS12,BV12) -> 78040 | F12: =G12+H12 -> 34591 | G12: =G36+G59 -> 19825 | H12: =H36+H59 -> 14766 | I12: =J12+K12 -> 17859 | J12: =J36+J59 -> 10217 | K12: =K36+K59 -> 7642 | L12: =M12+N12 -> 8874 | M12: =M36+M59 -> 4987 | N12: =N36+N59 -> 3887 | O12: =P12+Q12 -> 10354 | P12: =P36+P59 -> 5785 | Q12: =Q36+Q59 -> 4569 | R12: =S12+T12 -> 33431 | S12: =S36+S59 -> 17334 | T12: =T36+T59 -> 16097 | U12: =V12+W12 -> 6484 | V12: =V36+V59 -> 3757 | W12: =W36+W59 -> 2727 | X12: =Y12+Z12 -> 5886 | Y12: =Y36+Y59 -> 3514 | Z12: =Z36+Z59 -> 2372 | AA12: =AB12+AC12 -> 5454 | AB12: =AB36+AB59 -> 3118 | AC12: =AC36+AC59 -> 2336 | AD12: =AE12+AF12 -> 4026 | AE12: =AE36+AE59 -> 2203 | AF12: =AF36+AF59 -> 1823 | AG12: =AH12+AI12 -> 19540 | AH12: =AH36+AH59 -> 10769 | AI12: =AI36+AI59 -> 8771 | AJ12: =AK12+AL12 -> 1138 | AK12: =AK36+AK59 -> 675 | AL12: =AL36+AL59 -> 463 | AM12: =AN12+AO12 -> 2457 | AN12: =AN36+AN59 -> 1429 | AO12: =AO36+AO59 -> 1028 | AP12: =AQ12+AR12 -> 1198 | AQ12: =AQ36+AQ59 -> 697 | AR12: =AR36+AR59 -> 501 | AS12: =AT12+AU12 -> 845 | AT12: =AT36+AT59 -> 463 | AU12: =AU36+AU59 -> 382 | AV12: =AW12+AX12 -> 1854 | AW12: =AW36+AW59 -> 1119 | AX12: =AX36+AX59 -> 735 | AY12: =AZ12+BA12 -> 2143 | AZ12: =AZ36+AZ59 -> 1223 | BA12: =BA36+BA59 -> 920 | BB12: =BC12+BD12 -> 1971 | BC12: =BC36+BC59 -> 1206 | BD12: =BD36+BD59 -> 765 | BE12: =BF12+BG12 -> 2639 | BF12: =BF36+BF59 -> 1567 | BG12: =BG36+BG59 -> 1072 | BH12: =BI12+BJ12 -> 8377 | BI12: =BI36+BI59 -> 4131 | BJ12: =BJ36+BJ59 -> 4246 | BK12: =BL12+BM12 -> 2062 | BL12: =BL36+BL59 -> 1195 | BM12: =BM36+BM59 -> 867 | BN12: =BO12+BP12 -> 1442 | BO12: =BO36+BO59 -> 798 | BP12: =BP36+BP59 -> 644 | BQ12: =BR12+BS12 -> 2825 | BR12: =BR36+BR59 -> 1638 | BS12: =BS36+BS59 -> 1187 | BT12: =BU12+BV12 -> 585 | BU12: =BU36+BU59 -> 345 | BV12: =BV36+BV59 -> 240
A13: 25029 | B13: 25-29 | C13: =D13+E13 -> 157481 | D13: =SUM(G13,J13,M13,P13,S13,V13,Y13,AB13,AE13,AH13,AK13,AN13,AQ13,AT13,AW13,AZ13,BC13,BF13,BI13,BL13,BO13,BR13,BU13) -> 88579 | E13: =SUM(H13,K13,N13,Q13,T13,W13,Z13,AC13,AF13,AI13,AL13,AO13,AR13,AU13,AX13,BA13,BD13,BG13,BJ13,BM13,BP13,BS13,BV13) -> 68902 | F13: =G13+H13 -> 29429 | G13: =G37+G60 -> 16345 | H13: =H37+H60 -> 13084 | I13: =J13+K13 -> 14865 | J13: =J37+J60 -> 8637 | K13: =K37+K60 -> 6228 | L13: =M13+N13 -> 7163 | M13: =M37+M60 -> 3979 | N13: =N37+N60 -> 3184 | O13: =P13+Q13 -> 8431 | P13: =P37+P60 -> 4562 | Q13: =Q37+Q60 -> 3869 | R13: =S13+T13 -> 32838 | S13: =S37+S60 -> 17643 | T13: =T37+T60 -> 15195 | U13: =V13+W13 -> 4728 | V13: =V37+V60 -> 2656 | W13: =W37+W60 -> 2072 | X13: =Y13+Z13 -> 5511 | Y13: =Y37+Y60 -> 3328 | Z13: =Z37+Z60 -> 2183 | AA13: =AB13+AC13 -> 4537 | AB13: =AB37+AB60 -> 2543 | AC13: =AC37+AC60 -> 1994 | AD13: =AE13+AF13 -> 3436 | AE13: =AE37+AE60 -> 1926 | AF13: =AF37+AF60 -> 1510 | AG13: =AH13+AI13 -> 17731 | AH13: =AH37+AH60 -> 9983 | AI13: =AI37+AI60 -> 7748 | AJ13: =AK13+AL13 -> 1165 | AK13: =AK37+AK60 -> 733 | AL13: =AL37+AL60 -> 432 | AM13: =AN13+AO13 -> 2212 | AN13: =AN37+AN60 -> 1272 | AO13: =AO37+AO60 -> 940 | AP13: =AQ13+AR13 -> 1076 | AQ13: =AQ37+AQ60 -> 650 | AR13: =AR37+AR60 -> 426 | AS13: =AT13+AU13 -> 690 | AT13: =AT37+AT60 -> 387 | AU13: =AU37+AU60 -> 303 | AV13: =AW13+AX13 -> 1487 | AW13: =AW37+AW60 -> 813 | AX13: =AX37+AX60 -> 674 | AY13: =AZ13+BA13 -> 2007 | AZ13: =AZ37+AZ60 -> 1157 | BA13: =BA37+BA60 -> 850 | BB13: =BC13+BD13 -> 1984 | BC13: =BC37+BC60 -> 1247 | BD13: =BD37+BD60 -> 737 | BE13: =BF13+BG13 -> 2506 | BF13: =BF37+BF60 -> 1488 | BG13: =BG37+BG60 -> 1018 | BH13: =BI13+BJ13 -> 9639 | BI13: =BI37+BI60 -> 5710 | BJ13: =BJ37+BJ60 -> 3929 | BK13: =BL13+BM13 -> 1870 | BL13: =BL37+BL60 -> 1028 | BM13: =BM37+BM60 -> 842 | BN13: =BO13+BP13 -> 1293 | BO13: =BO37+BO60 -> 726 | BP13: =BP37+BP60 -> 567 | BQ13: =BR13+BS13 -> 2317 | BR13: =BR37+BR60 -> 1425 | BS13: =BS37+BS60 -> 892 | BT13: =BU13+BV13 -> 566 | BU13: =BU37+BU60 -> 341 | BV13: =BV37+BV60 -> 225
A14: 30034 | B14: 30-34 | C14: =D14+E14 -> 186767 | D14: =SUM(G14,J14,M14,P14,S14,V14,Y14,AB14,AE14,AH14,AK14,AN14,AQ14,AT14,AW14,AZ14,BC14,BF14,BI14,BL14,BO14,BR14,BU14) -> 99978 | E14: =SUM(H14,K14,N14,Q14,T14,W14,Z14,AC14,AF14,AI14,AL14,AO14,AR14,AU14,AX14,BA14,BD14,BG14,BJ14,BM14,BP14,BS14,BV14) -> 86789 | F14: =G14+H14 -> 37899 | G14: =G38+G61 -> 19922 | H14: =H38+H61 -> 17977 | I14: =J14+K14 -> 17279 | J14: =J38+J61 -> 9628 | K14: =K38+K61 -> 7651 | L14: =M14+N14 -> 8240 | M14: =M38+M61 -> 4393 | N14: =N38+N61 -> 3847 | O14: =P14+Q14 -> 10229 | P14: =P38+P61 -> 5087 | Q14: =Q38+Q61 -> 5142 | R14: =S14+T14 -> 39962 | S14: =S38+S61 -> 21008 | T14: =T38+T61 -> 18954 | U14: =V14+W14 -> 5660 | V14: =V38+V61 -> 2980 | W14: =W38+W61 -> 2680 | X14: =Y14+Z14 -> 6108 | Y14: =Y38+Y61 -> 3441 | Z14: =Z38+Z61 -> 2667 | AA14: =AB14+AC14 -> 4812 | AB14: =AB38+AB61 -> 2583 | AC14: =AC38+AC61 -> 2229 | AD14: =AE14+AF14 -> 3925 | AE14: =AE38+AE61 -> 2039 | AF14: =AF38+AF61 -> 1886 | AG14: =AH14+AI14 -> 20689 | AH14: =AH38+AH61 -> 10988 | AI14: =AI38+AI61 -> 9701 | AJ14: =AK14+AL14 -> 1006 | AK14: =AK38+AK61 -> 578 | AL14: =AL38+AL61 -> 428 | AM14: =AN14+AO14 -> 2067 | AN14: =AN38+AN61 -> 1169 | AO14: =AO38+AO61 -> 898 | AP14: =AQ14+AR14 -> 1070 | AQ14: =AQ38+AQ61 -> 606 | AR14: =AR38+AR61 -> 464 | AS14: =AT14+AU14 -> 725 | AT14: =AT38+AT61 -> 371 | AU14: =AU38+AU61 -> 354 | AV14: =AW14+AX14 -> 1809 | AW14: =AW38+AW61 -> 1016 | AX14: =AX38+AX61 -> 793 | AY14: =AZ14+BA14 -> 2052 | AZ14: =AZ38+AZ61 -> 1093 | BA14: =BA38+BA61 -> 959 | BB14: =BC14+BD14 -> 2243 | BC14: =BC38+BC61 -> 1354 | BD14: =BD38+BD61 -> 889 | BE14: =BF14+BG14 -> 2486 | BF14: =BF38+BF61 -> 1384 | BG14: =BG38+BG61 -> 1102 | BH14: =BI14+BJ14 -> 11605 | BI14: =BI38+BI61 -> 6582 | BJ14: =BJ38+BJ61 -> 5023 | BK14: =BL14+BM14 -> 1918 | BL14: =BL38+BL61 -> 1018 | BM14: =BM38+BM61 -> 900 | BN14: =BO14+BP14 -> 1415 | BO14: =BO38+BO61 -> 744 | BP14: =BP38+BP61 -> 671 | BQ14: =BR14+BS14 -> 2927 | BR14: =BR38+BR61 -> 1631 | BS14: =BS38+BS61 -> 1296 | BT14: =BU14+BV14 -> 641 | BU14: =BU38+BU61 -> 363 | BV14: =BV38+BV61 -> 278
A15: 35039 | B15: 35-39 | C15: =D15+E15 -> 184509 | D15: =SUM(G15,J15,M15,P15,S15,V15,Y15,AB15,AE15,AH15,AK15,AN15,AQ15,AT15,AW15,AZ15,BC15,BF15,BI15,BL15,BO15,BR15,BU15) -> 97367 | E15: =SUM(H15,K15,N15,Q15,T15,W15,Z15,AC15,AF15,AI15,AL15,AO15,AR15,AU15,AX15,BA15,BD15,BG15,BJ15,BM15,BP15,BS15,BV15) -> 87142 | F15: =G15+H15 -> 36534 | G15: =G39+G62 -> 18726 | H15: =H39+H62 -> 17808 | I15: =J15+K15 -> 17562 | J15: =J39+J62 -> 9541 | K15: =K39+K62 -> 8021 | L15: =M15+N15 -> 8300 | M15: =M39+M62 -> 4420 | N15: =N39+N62 -> 3880 | O15: =P15+Q15 -> 10930 | P15: =P39+P62 -> 5516 | Q15: =Q39+Q62 -> 5414 | R15: =S15+T15 -> 37794 | S15: =S39+S62 -> 19265 | T15: =T39+T62 -> 18529 | U15: =V15+W15 -> 6426 | V15: =V39+V62 -> 3280 | W15: =W39+W62 -> 3146 | X15: =Y15+Z15 -> 5811 | Y15: =Y39+Y62 -> 3282 | Z15: =Z39+Z62 -> 2529 | AA15: =AB15+AC15 -> 4998 | AB15: =AB39+AB62 -> 2653 | AC15: =AC39+AC62 -> 2345 | AD15: =AE15+AF15 -> 4108 | AE15: =AE39+AE62 -> 2179 | AF15: =AF39+AF62 -> 1929 | AG15: =AH15+AI15 -> 20043 | AH15: =AH39+AH62 -> 10397 | AI15: =AI39+AI62 -> 9646 | AJ15: =AK15+AL15 -> 1035 | AK15: =AK39+AK62 -> 622 | AL15: =AL39+AL62 -> 413 | AM15: =AN15+AO15 -> 2176 | AN15: =AN39+AN62 -> 1294 | AO15: =AO39+AO62 -> 882 | AP15: =AQ15+AR15 -> 1112 | AQ15: =AQ39+AQ62 -> 617 | AR15: =AR39+AR62 -> 495 | AS15: =AT15+AU15 -> 778 | AT15: =AT39+AT62 -> 444 | AU15: =AU39+AU62 -> 334 | AV15: =AW15+AX15 -> 1876 | AW15: =AW39+AW62 -> 1044 | AX15: =AX39+AX62 -> 832 | AY15: =AZ15+BA15 -> 1921 | AZ15: =AZ39+AZ62 -> 1094 | BA15: =BA39+BA62 -> 827 | BB15: =BC15+BD15 -> 2164 | BC15: =BC39+BC62 -> 1270 | BD15: =BD39+BD62 -> 894 | BE15: =BF15+BG15 -> 2245 | BF15: =BF39+BF62 -> 1358 | BG15: =BG39+BG62 -> 887 | BH15: =BI15+BJ15 -> 11214 | BI15: =BI39+BI62 -> 6137 | BJ15: =BJ39+BJ62 -> 5077 | BK15: =BL15+BM15 -> 2084 | BL15: =BL39+BL62 -> 1175 | BM15: =BM39+BM62 -> 909 | BN15: =BO15+BP15 -> 1548 | BO15: =BO39+BO62 -> 880 | BP15: =BP39+BP62 -> 668 | BQ15: =BR15+BS15 -> 3242 | BR15: =BR39+BR62 -> 1818 | BS15: =BS39+BS62 -> 1424 | BT15: =BU15+BV15 -> 608 | BU15: =BU39+BU62 -> 355 | BV15: =BV39+BV62 -> 253
A16: 40044 | B16: 40-44 | C16: =D16+E16 -> 215970 | D16: =SUM(G16,J16,M16,P16,S16,V16,Y16,AB16,AE16,AH16,AK16,AN16,AQ16,AT16,AW16,AZ16,BC16,BF16,BI16,BL16,BO16,BR16,BU16) -> 113912 | E16: =SUM(H16,K16,N16,Q16,T16,W16,Z16,AC16,AF16,AI16,AL16,AO16,AR16,AU16,AX16,BA16,BD16,BG16,BJ16,BM16,BP16,BS16,BV16) -> 102058 | F16: =G16+H16 -> 44067 | G16: =G40+G63 -> 22097 | H16: =H40+H63 -> 21970 | I16: =J16+K16 -> 22224 | J16: =J40+J63 -> 11712 | K16: =K40+K63 -> 10512 | L16: =M16+N16 -> 9958 | M16: =M40+M63 -> 5285 | N16: =N40+N63 -> 4673 | O16: =P16+Q16 -> 12835 | P16: =P40+P63 -> 6803 | Q16: =Q40+Q63 -> 6032 | R16: =S16+T16 -> 39813 | S16: =S40+S63 -> 20124 | T16: =T40+T63 -> 19689 | U16: =V16+W16 -> 8119 | V16: =V40+V63 -> 4285 | W16: =W40+W63 -> 3834 | X16: =Y16+Z16 -> 7201 | Y16: =Y40+Y63 -> 3974 | Z16: =Z40+Z63 -> 3227 | AA16: =AB16+AC16 -> 6781 | AB16: =AB40+AB63 -> 3634 | AC16: =AC40+AC63 -> 3147 | AD16: =AE16+AF16 -> 5064 | AE16: =AE40+AE63 -> 2731 | AF16: =AF40+AF63 -> 2333 | AG16: =AH16+AI16 -> 22713 | AH16: =AH40+AH63 -> 11818 | AI16: =AI40+AI63 -> 10895 | AJ16: =AK16+AL16 -> 1198 | AK16: =AK40+AK63 -> 729 | AL16: =AL40+AL63 -> 469 | AM16: =AN16+AO16 -> 2713 | AN16: =AN40+AN63 -> 1571 | AO16: =AO40+AO63 -> 1142 | AP16: =AQ16+AR16 -> 1466 | AQ16: =AQ40+AQ63 -> 868 | AR16: =AR40+AR63 -> 598 | AS16: =AT16+AU16 -> 1120 | AT16: =AT40+AT63 -> 665 | AU16: =AU40+AU63 -> 455 | AV16: =AW16+AX16 -> 2405 | AW16: =AW40+AW63 -> 1416 | AX16: =AX40+AX63 -> 989 | AY16: =AZ16+BA16 -> 2551 | AZ16: =AZ40+AZ63 -> 1448 | BA16: =BA40+BA63 -> 1103 | BB16: =BC16+BD16 -> 2654 | BC16: =BC40+BC63 -> 1567 | BD16: =BD40+BD63 -> 1087 | BE16: =BF16+BG16 -> 2770 | BF16: =BF40+BF63 -> 1657 | BG16: =BG40+BG63 -> 1113 | BH16: =BI16+BJ16 -> 11428 | BI16: =BI40+BI63 -> 6299 | BJ16: =BJ40+BJ63 -> 5129 | BK16: =BL16+BM16 -> 2364 | BL16: =BL40+BL63 -> 1409 | BM16: =BM40+BM63 -> 955 | BN16: =BO16+BP16 -> 1916 | BO16: =BO40+BO63 -> 1098 | BP16: =BP40+BP63 -> 818 | BQ16: =BR16+BS16 -> 3856 | BR16: =BR40+BR63 -> 2254 | BS16: =BS40+BS63 -> 1602 | BT16: =BU16+BV16 -> 754 | BU16: =BU40+BU63 -> 468 | BV16: =BV40+BV63 -> 286
A17: 45049 | B17: 45-49 | C17: =D17+E17 -> 224092 | D17: =SUM(G17,J17,M17,P17,S17,V17,Y17,AB17,AE17,AH17,AK17,AN17,AQ17,AT17,AW17,AZ17,BC17,BF17,BI17,BL17,BO17,BR17,BU17) -> 116560 | E17: =SUM(H17,K17,N17,Q17,T17,W17,Z17,AC17,AF17,AI17,AL17,AO17,AR17,AU17,AX17,BA17,BD17,BG17,BJ17,BM17,BP17,BS17,BV17) -> 107532 | F17: =G17+H17 -> 46055 | G17: =G41+G64 -> 23290 | H17: =H41+H64 -> 22765 | I17: =J17+K17 -> 22914 | J17: =J41+J64 -> 12009 | K17: =K41+K64 -> 10905 | L17: =M17+N17 -> 10792 | M17: =M41+M64 -> 5600 | N17: =N41+N64 -> 5192 | O17: =P17+Q17 -> 13170 | P17: =P41+P64 -> 6756 | Q17: =Q41+Q64 -> 6414 | R17: =S17+T17 -> 38216 | S17: =S41+S64 -> 19187 | T17: =T41+T64 -> 19029 | U17: =V17+W17 -> 8835 | V17: =V41+V64 -> 4580 | W17: =W41+W64 -> 4255 | X17: =Y17+Z17 -> 8077 | Y17: =Y41+Y64 -> 4355 | Z17: =Z41+Z64 -> 3722 | AA17: =AB17+AC17 -> 7579 | AB17: =AB41+AB64 -> 4032 | AC17: =AC41+AC64 -> 3547 | AD17: =AE17+AF17 -> 5416 | AE17: =AE41+AE64 -> 2799 | AF17: =AF41+AF64 -> 2617 | AG17: =AH17+AI17 -> 21693 | AH17: =AH41+AH64 -> 11036 | AI17: =AI41+AI64 -> 10657 | AJ17: =AK17+AL17 -> 1698 | AK17: =AK41+AK64 -> 996 | AL17: =AL41+AL64 -> 702 | AM17: =AN17+AO17 -> 3624 | AN17: =AN41+AN64 -> 2076 | AO17: =AO41+AO64 -> 1548 | AP17: =AQ17+AR17 -> 1958 | AQ17: =AQ41+AQ64 -> 1073 | AR17: =AR41+AR64 -> 885 | AS17: =AT17+AU17 -> 1320 | AT17: =AT41+AT64 -> 739 | AU17: =AU41+AU64 -> 581 | AV17: =AW17+AX17 -> 2842 | AW17: =AW41+AW64 -> 1566 | AX17: =AX41+AX64 -> 1276 | AY17: =AZ17+BA17 -> 3102 | AZ17: =AZ41+AZ64 -> 1709 | BA17: =BA41+BA64 -> 1393 | BB17: =BC17+BD17 -> 2856 | BC17: =BC41+BC64 -> 1613 | BD17: =BD41+BD64 -> 1243 | BE17: =BF17+BG17 -> 3563 | BF17: =BF41+BF64 -> 2013 | BG17: =BG41+BG64 -> 1550 | BH17: =BI17+BJ17 -> 10118 | BI17: =BI41+BI64 -> 5526 | BJ17: =BJ41+BJ64 -> 4592 | BK17: =BL17+BM17 -> 2823 | BL17: =BL41+BL64 -> 1533 | BM17: =BM41+BM64 -> 1290 | BN17: =BO17+BP17 -> 2451 | BO17: =BO41+BO64 -> 1346 | BP17: =BP41+BP64 -> 1105 | BQ17: =BR17+BS17 -> 4098 | BR17: =BR41+BR64 -> 2194 | BS17: =BS41+BS64 -> 1904 | BT17: =BU17+BV17 -> 892 | BU17: =BU41+BU64 -> 532 | BV17: =BV41+BV64 -> 360
A18: 50054 | B18: 50-54 | C18: =D18+E18 -> 235448 | D18: =SUM(G18,J18,M18,P18,S18,V18,Y18,AB18,AE18,AH18,AK18,AN18,AQ18,AT18,AW18,AZ18,BC18,BF18,BI18,BL18,BO18,BR18,BU18) -> 121157 | E18: =SUM(H18,K18,N18,Q18,T18,W18,Z18,AC18,AF18,AI18,AL18,AO18,AR18,AU18,AX18,BA18,BD18,BG18,BJ18,BM18,BP18,BS18,BV18) -> 114291 | F18: =G18+H18 -> 48467 | G18: =G42+G65 -> 24075 | H18: =H42+H65 -> 24392 | I18: =J18+K18 -> 23872 | J18: =J42+J65 -> 12393 | K18: =K42+K65 -> 11479 | L18: =M18+N18 -> 11614 | M18: =M42+M65 -> 5982 | N18: =N42+N65 -> 5632 | O18: =P18+Q18 -> 14242 | P18: =P42+P65 -> 7097 | Q18: =Q42+Q65 -> 7145 | R18: =S18+T18 -> 33525 | S18: =S42+S65 -> 17837 | T18: =T42+T65 -> 15688 | U18: =V18+W18 -> 9690 | V18: =V42+V65 -> 4913 | W18: =W42+W65 -> 4777 | X18: =Y18+Z18 -> 8854 | Y18: =Y42+Y65 -> 4645 | Z18: =Z42+Z65 -> 4209 | AA18: =AB18+AC18 -> 9090 | AB18: =AB42+AB65 -> 4662 | AC18: =AC42+AC65 -> 4428 | AD18: =AE18+AF18 -> 6588 | AE18: =AE42+AE65 -> 3324 | AF18: =AF42+AF65 -> 3264 | AG18: =AH18+AI18 -> 21481 | AH18: =AH42+AH65 -> 10864 | AI18: =AI42+AI65 -> 10617 | AJ18: =AK18+AL18 -> 2148 | AK18: =AK42+AK65 -> 1153 | AL18: =AL42+AL65 -> 995 | AM18: =AN18+AO18 -> 4817 | AN18: =AN42+AN65 -> 2478 | AO18: =AO42+AO65 -> 2339 | AP18: =AQ18+AR18 -> 2446 | AQ18: =AQ42+AQ65 -> 1255 | AR18: =AR42+AR65 -> 1191 | AS18: =AT18+AU18 -> 1612 | AT18: =AT42+AT65 -> 820 | AU18: =AU42+AU65 -> 792 | AV18: =AW18+AX18 -> 3354 | AW18: =AW42+AW65 -> 1708 | AX18: =AX42+AX65 -> 1646 | AY18: =AZ18+BA18 -> 3965 | AZ18: =AZ42+AZ65 -> 2066 | BA18: =BA42+BA65 -> 1899 | BB18: =BC18+BD18 -> 3313 | BC18: =BC42+BC65 -> 1814 | BD18: =BD42+BD65 -> 1499 | BE18: =BF18+BG18 -> 4568 | BF18: =BF42+BF65 -> 2497 | BG18: =BG42+BG65 -> 2071 | BH18: =BI18+BJ18 -> 9159 | BI18: =BI42+BI65 -> 4990 | BJ18: =BJ42+BJ65 -> 4169 | BK18: =BL18+BM18 -> 3749 | BL18: =BL42+BL65 -> 1904 | BM18: =BM42+BM65 -> 1845 | BN18: =BO18+BP18 -> 3115 | BO18: =BO42+BO65 -> 1612 | BP18: =BP42+BP65 -> 1503 | BQ18: =BR18+BS18 -> 4682 | BR18: =BR42+BR65 -> 2467 | BS18: =BS42+BS65 -> 2215 | BT18: =BU18+BV18 -> 1097 | BU18: =BU42+BU65 -> 601 | BV18: =BV42+BV65 -> 496
A19: 55059 | B19: 55-59 | C19: =D19+E19 -> 219827 | D19: =SUM(G19,J19,M19,P19,S19,V19,Y19,AB19,AE19,AH19,AK19,AN19,AQ19,AT19,AW19,AZ19,BC19,BF19,BI19,BL19,BO19,BR19,BU19) -> 110427 | E19: =SUM(H19,K19,N19,Q19,T19,W19,Z19,AC19,AF19,AI19,AL19,AO19,AR19,AU19,AX19,BA19,BD19,BG19,BJ19,BM19,BP19,BS19,BV19) -> 109400 | F19: =G19+H19 -> 45638 | G19: =G43+G66 -> 22423 | H19: =H43+H66 -> 23215 | I19: =J19+K19 -> 21970 | J19: =J43+J66 -> 10979 | K19: =K43+K66 -> 10991 | L19: =M19+N19 -> 11411 | M19: =M43+M66 -> 5664 | N19: =N43+N66 -> 5747 | O19: =P19+Q19 -> 13734 | P19: =P43+P66 -> 6808 | Q19: =Q43+Q66 -> 6926 | R19: =S19+T19 -> 23569 | S19: =S43+S66 -> 12356 | T19: =T43+T66 -> 11213 | U19: =V19+W19 -> 9916 | V19: =V43+V66 -> 4841 | W19: =W43+W66 -> 5075 | X19: =Y19+Z19 -> 9171 | Y19: =Y43+Y66 -> 4646 | Z19: =Z43+Z66 -> 4525 | AA19: =AB19+AC19 -> 9513 | AB19: =AB43+AB66 -> 4717 | AC19: =AC43+AC66 -> 4796 | AD19: =AE19+AF19 -> 6993 | AE19: =AE43+AE66 -> 3448 | AF19: =AF43+AF66 -> 3545 | AG19: =AH19+AI19 -> 18927 | AH19: =AH43+AH66 -> 9440 | AI19: =AI43+AI66 -> 9487 | AJ19: =AK19+AL19 -> 2450 | AK19: =AK43+AK66 -> 1287 | AL19: =AL43+AL66 -> 1163 | AM19: =AN19+AO19 -> 5639 | AN19: =AN43+AN66 -> 2854 | AO19: =AO43+AO66 -> 2785 | AP19: =AQ19+AR19 -> 2644 | AQ19: =AQ43+AQ66 -> 1296 | AR19: =AR43+AR66 -> 1348 | AS19: =AT19+AU19 -> 1728 | AT19: =AT43+AT66 -> 838 | AU19: =AU43+AU66 -> 890 | AV19: =AW19+AX19 -> 3711 | AW19: =AW43+AW66 -> 1792 | AX19: =AX43+AX66 -> 1919 | AY19: =AZ19+BA19 -> 4380 | AZ19: =AZ43+AZ66 -> 2206 | BA19: =BA43+BA66 -> 2174 | BB19: =BC19+BD19 -> 3247 | BC19: =BC43+BC66 -> 1743 | BD19: =BD43+BD66 -> 1504 | BE19: =BF19+BG19 -> 4450 | BF19: =BF43+BF66 -> 2385 | BG19: =BG43+BG66 -> 2065 | BH19: =BI19+BJ19 -> 7564 | BI19: =BI43+BI66 -> 4028 | BJ19: =BJ43+BJ66 -> 3536 | BK19: =BL19+BM19 -> 4275 | BL19: =BL43+BL66 -> 2110 | BM19: =BM43+BM66 -> 2165 | BN19: =BO19+BP19 -> 3387 | BO19: =BO43+BO66 -> 1761 | BP19: =BP43+BP66 -> 1626 | BQ19: =BR19+BS19 -> 4395 | BR19: =BR43+BR66 -> 2206 | BS19: =BS43+BS66 -> 2189 | BT19: =BU19+BV19 -> 1115 | BU19: =BU43+BU66 -> 599 | BV19: =BV43+BV66 -> 516
... A27: 95099 | B27: 95-99 | C27: =D27+E27 -> 2109 | D27: =SUM(G27,J27,M27,P27,S27,V27,Y27,AB27,AE27,AH27,AK27,AN27,AQ27,AT27,AW27,AZ27,BC27,BF27,BI27,BL27,BO27,BR27,BU27) -> 392 | E27: =SUM(H27,K27,N27,Q27,T27,W27,Z27,AC27,AF27,AI27,AL27,AO27,AR27,AU27,AX27,BA27,BD27,BG27,BJ27,BM27,BP27,BS27,BV27) -> 1717 | F27: =G27+H27 -> 243 | G27: =G51+G74 -> 48 | H27: =H51+H74 -> 195 | I27: =J27+K27 -> 195 | J27: =J51+J74 -> 33 | K27: =K51+K74 -> 162 | L27: =M27+N27 -> 122 | M27: =M51+M74 -> 26 | N27: =N51+N74 -> 96 | O27: =P27+Q27 -> 156 | P27: =P51+P74 -> 31 | Q27: =Q51+Q74 -> 125 | R27: =S27+T27 -> 138 | S27: =S51+S74 -> 22 | T27: =T51+T74 -> 116 | U27: =V27+W27 -> 154 | V27: =V51+V74 -> 27 | W27: =W51+W74 -> 127 | X27: =Y27+Z27 -> 78 | Y27: =Y51+Y74 -> 18 | Z27: =Z51+Z74 -> 60 | AA27: =AB27+AC27 -> 121 | AB27: =AB51+AB74 -> 21 | AC27: =AC51+AC74 -> 100 | AD27: =AE27+AF27 -> 101 | AE27: =AE51+AE74 -> 18 | AF27: =AF51+AF74 -> 83 | AG27: =AH27+AI27 -> 120 | AH27: =AH51+AH74 -> 26 | AI27: =AI51+AI74 -> 94 | AJ27: =AK27+AL27 -> 35 | AK27: =AK51+AK74 -> 8 | AL27: =AL51+AL74 -> 27 | AM27: =AN27+AO27 -> 77 | AN27: =AN51+AN74 -> 18 | AO27: =AO51+AO74 -> 59 | AP27: =AQ27+AR27 -> 46 | AQ27: =AQ51+AQ74 -> 7 | AR27: =AR51+AR74 -> 39 | AS27: =AT27+AU27 -> 32 | AT27: =AT51+AT74 -> 7 | AU27: =AU51+AU74 -> 25 | AV27: =AW27+AX27 -> 57 | AW27: =AW51+AW74 -> 10 | AX27: =AX51+AX74 -> 47 | AY27: =AZ27+BA27 -> 59 | AZ27: =AZ51+AZ74 -> 8 | BA27: =BA51+BA74 -> 51 | BB27: =BC27+BD27 -> 29 | BC27: =BC51+BC74 -> 8 | BD27: =BD51+BD74 -> 21 | BE27: =BF27+BG27 -> 44 | BF27: =BF51+BF74 -> 8 | BG27: =BG51+BG74 -> 36 | BH27: =BI27+BJ27 -> 63 | BI27: =BI51+BI74 -> 10 | BJ27: =BJ51+BJ74 -> 53 | BK27: =BL27+BM27 -> 97 | BL27: =BL51+BL74 -> 10 | BM27: =BM51+BM74 -> 87 | BN27: =BO27+BP27 -> 58 | BO27: =BO51+BO74 -> 16 | BP27: =BP51+BP74 -> 42 | BQ27: =BR27+BS27 -> 70 | BR27: =BR51+BR74 -> 8 | BS27: =BS51+BS74 -> 62 | BT27: =BU27+BV27 -> 14 | BU27: =BU51+BU74 -> 4 | BV27: =BV51+BV74 -> 10
A28: 100+ | B28: 100+ | C28: =D28+E28 -> 692 | D28: =SUM(G28,J28,M28,P28,S28,V28,Y28,AB28,AE28,AH28,AK28,AN28,AQ28,AT28,AW28,AZ28,BC28,BF28,BI28,BL28,BO28,BR28,BU28) -> 135 | E28: =SUM(H28,K28,N28,Q28,T28,W28,Z28,AC28,AF28,AI28,AL28,AO28,AR28,AU28,AX28,BA28,BD28,BG28,BJ28,BM28,BP28,BS28,BV28) -> 557 | F28: =G28+H28 -> 68 | G28: =G52+G75 -> 15 | H28: =H52+H75 -> 53 | I28: =J28+K28 -> 69 | J28: =J52+J75 -> 12 | K28: =K52+K75 -> 57 | L28: =M28+N28 -> 36 | M28: =M52+M75 -> 4 | N28: =N52+N75 -> 32 | O28: =P28+Q28 -> 51 | P28: =P52+P75 -> 11 | Q28: =Q52+Q75 -> 40 | R28: =S28+T28 -> 40 | S28: =S52+S75 -> 4 | T28: =T52+T75 -> 36 | U28: =V28+W28 -> 50 | V28: =V52+V75 -> 9 | W28: =W52+W75 -> 41 | X28: =Y28+Z28 -> 30 | Y28: =Y52+Y75 -> 9 | Z28: =Z52+Z75 -> 21 | AA28: =AB28+AC28 -> 46 | AB28: =AB52+AB75 -> 5 | AC28: =AC52+AC75 -> 41 | AD28: =AE28+AF28 -> 36 | AE28: =AE52+AE75 -> 11 | AF28: =AF52+AF75 -> 25 | AG28: =AH28+AI28 -> 36 | AH28: =AH52+AH75 -> 4 | AI28: =AI52+AI75 -> 32 | AJ28: =AK28+AL28 -> 12 | AK28: =AK52+AK75 -> 1 | AL28: =AL52+AL75 -> 11 | AM28: =AN28+AO28 -> 31 | AN28: =AN52+AN75 -> 5 | AO28: =AO52+AO75 -> 26 | AP28: =AQ28+AR28 -> 8 | AQ28: =AQ52+AQ75 -> 2 | AR28: =AR52+AR75 -> 6 | AS28: =AT28+AU28 -> 21 | AT28: =AT52+AT75 -> 5 | AU28: =AU52+AU75 -> 16 | AV28: =AW28+AX28 -> 20 | AW28: =AW52+AW75 -> 6 | AX28: =AX52+AX75 -> 14 | AY28: =AZ28+BA28 -> 19 | AZ28: =AZ52+AZ75 -> 3 | BA28: =BA52+BA75 -> 16 | BB28: =BC28+BD28 -> 6 | BC28: =BC52+BC75 -> 3 | BD28: =BD52+BD75 -> 3 | BE28: =BF28+BG28 -> 22 | BF28: =BF52+BF75 -> 4 | BG28: =BG52+BG75 -> 18 | BH28: =BI28+BJ28 -> 32 | BI28: =BI52+BI75 -> 9 | BJ28: =BJ52+BJ75 -> 23 | BK28: =BL28+BM28 -> 20 | BL28: =BL52+BL75 -> 3 | BM28: =BM52+BM75 -> 17 | BN28: =BO28+BP28 -> 25 | BO28: =BO52+BO75 -> 5 | BP28: =BP52+BP75 -> 20 | BQ28: =BR28+BS28 -> 9 | BR28: =BR52+BR75 -> 2 | BS28: =BS52+BS75 -> 7 | BT28: =BU28+BV28 -> 5 | BU28: =BU52+BU75 -> 3 | BV28: =BV52+BV75 -> 2
B30: ◎ 한국인
