Workbook
Name a: {"Book1"}
Name a: {"Book1"}
Name a: {"Book1"}
Name a: {"Book1"}
Name a: {"Book1"}
Name a: {"Book1"}
Name a: {"Book1"}
Name a: {"Book1"}
Name a: {"Book1"}
Name a: {"Book1"}
Name a: {"Book1"}
Name a: {"Book1"}
Name a: {"Book1"}
Name a: {"Book1"}
Name a: {"Book1"}
Name a: {"Book1"}
Name a: {"Book1"}
Name a: {"Book1"}
Name a: {"Book1"}
Name a: {"Book1"}
Name a: {"Book1"}
Name a: {"Book1"}
Name a: {"Book1"}
Name a: {"Book1"}
Name a: {"Book1"}
Name a: {"Book1"}
Name a: {"Book1"}
Name a: {"Book1"}
Name a: {"Book1"}
Name a: {"Book1"}
Name a: {"Book1"}
Name a: {"Book1"}
Name a: {"Book1"}
Name a: {"Book1"}
Name a: {"Book1"}
Name a: {"Book1"}
Name a: {"Book1"}
Name a: {"Book1"}
Name a: {"Book1"}
Name a: {"Book1"}
Name a: {"Book1"}
Name a: {"Book1"}
Name a: {"Book1"}
Name a: {"Book1"}
Name aa: [1]XL4Poppy!$C$31
Name AAA: '[2]18.농업용기계보유 '!$A$18:$K$1275
Name AAA: '[2]18.농업용기계보유 '!$A$18:$K$1275
Name AAA: '[2]18.농업용기계보유 '!$A$18:$K$1275
Name AAA: '[2]18.농업용기계보유 '!$A$18:$K$1275
Name AAA: '[3]18.농업용기계보유 '!$A$18:$K$1275
Name AAA: '[3]18.농업용기계보유 '!$A$18:$K$1275
Name AAA: '[3]18.농업용기계보유 '!$A$18:$K$1275
Name AAA: '[4]18.농업용기계보유 '!$A$18:$K$1275
Name AAA: '[5]18.농업용기계보유 '!$A$18:$K$1275
Name AAA: '[4]18.농업용기계보유 '!$A$18:$K$1275
Name AAA: '[4]18.농업용기계보유 '!$A$18:$K$1275
Name AAA: '[2]18.농업용기계보유 '!$A$18:$K$1275
Name AAA: '[6]18.농업용기계보유 '!$A$18:$K$1275
Name AAA: '[7]18.농업용기계보유 '!$A$18:$K$1275
Name AAA: '[8]18.농업용기계보유 '!$A$18:$K$1275

Sheet 0.간지

Sheet 0-1.이면
A3: 1. 농가 및 농가인구 | F3: 30. 임상별 입목 축적
A4: 2. 연령별 농가인구 | F4: 31. 임산물 생산량
A5: 3. 경지면적 | F5: 32. 입목벌채 허가(신고)
A6: 4. 경지규모별 농가 | F6: 33. 수렵
A7: 5. 농업진흥지역 지정 | F7: 34. 수렵면허장 발급
A8: 6. 한국농어촌공사 | F8: 35. 사방사업
A9: 7. 수리답 및 경지정리 현황 | F9: 36. 조림
A10: 8. 수리시설 및 방조제 현황 | F10: 37. 불법산림훼손 피해현황
A11: 9. 식량작물 생산량(정곡) | F11: 38. 산림전용허가내역
A12: 9-1. 미곡 | F12: 39. 산림보호지역지정현황
A13: 9-2. 맥류 | F13: 40. 병해충 발생 및 방제상황
A14: 9-3. 잡곡 | F14: 41. 토석채취현황
... A36: 29. 임상별 산림 면적 | F36: 57. 화훼류 재배현황

Sheet 1.농가및농가인구
I1: Ⅵ. Agriculture, Forestry and Fishing / 195
A3: 1. 농가 및 농가인구
A4: 1. Farm Households and Population
A5: 단위 : 가구, 명 | I5: Unit : household, person
A6: 연별 및 시군별 Year & Si, Gun | C6: 농 가 Farm households | G6: 농가인구 Farm population
D8: 전 업 Full-time | E8: 1종겸업 Part-time Class Ⅰ | F8: 2종겸업 Part-time Class Ⅱ | H8: 남 Male | I8: 여 Female
A10: 2009 | C10: 200252 | D10: 132889 | E10: 22988 | F10: 44375 | G10: 479517 | H10: 229758 | I10: 249759
A11: 2010 | C11: 201651 | D11: 124895 | E11: 30833 | F11: 45923 | G11: 491225 | H11: 240088 | I11: 251137
A12: 2011 | C12: 197218 | D12: 124342 | E12: 29253 | F12: 43622 | G12: 471076 | H12: 230494 | I12: 240580
A13: 2012 | C13: 195779 | D13: 123697 | E13: 28282 | F13: 43800 | G13: 465408 | H13: 227577 | I13: 237831
A14: 2013 | C14: 195108 | D14: 122009 | E14: 27580 | F14: 45520 | G14: 458791 | H14: 223221 | I14: 235569
A16: 포항시 | B16: Pohang | C16: 14116 | D16: 6627 | E16: … | F16: … | G16: 32278 | H16: 15417 | I16: 16860
A17: 경주시 | B17: Gyeongju | C17: 16272 | D17: 8613 | E17: … | F17: … | G17: 41646 | H17: 20472 | I17: 21174
A18: 김천시 | B18: Gimcheon | C18: 14120 | D18: 8304 | E18: … | F18: … | G18: 34523 | H18: 17011 | I18: 17512
A19: 안동시 | B19: Andong | C19: 15142 | D19: 10138 | E19: … | F19: … | G19: 33479 | H19: 16064 | I19: 17415
A20: 구미시 | B20: Gumi | C20: 9193 | D20: 4548 | E20: … | F20: … | G20: 24086 | H20: 12130 | I20: 11956
A21: 영주시 | B21: Yeongju | C21: 8229 | D21: 5367 | E21: … | F21: … | G21: 19769 | H21: 9746 | I21: 10023
A22: 영천시 | B22: Yeongcheon | C22: 11293 | D22: 8328 | E22: … | F22: … | G22: 25942 | H22: 12538 | I22: 13404
A23: 상주시 | B23: Sangju | C23: 14975 | D23: 8530 | E23: … | F23: … | G23: 35311 | H23: 16876 | I23: 18435
A24: 문경시 | B24: Mungyeong | C24: 8282 | D24: 5355 | E24: … | F24: … | G24: 19860 | H24: 9820 | I24: 10040
A25: 경산시 | B25: Gyeongsan | C25: 8237 | D25: 5124 | E25: … | F25: … | G25: 21221 | H25: 10355 | I25: 10866
A26: 군위군 | B26: Gunwi | C26: 4969 | D26: 3564 | E26: … | F26: … | G26: 10266 | H26: 4806 | I26: 5459
A27: 의성군 | B27: Uiseong | C27: 11818 | D27: 9436 | E27: … | F27: … | G27: 25241 | H27: 12335 | I27: 12906
... A38: 울릉군 | B38: Ulleung | C38: 496 | D38: 234 | E38: … | F38: … | G38: 1045 | H38: 507 | I38: 538
A39: 자료 : 통계청, 「농림어업조사」,「농림어업총조사(0,5년)」 | I39: Source : Statistics Korea
A40: 주 : 통계표에 수록된 숫자는 추정과정의 반올림으로 인해 세목과 그 총계가 일치되지 않는 경우도 있음.
A41: 농가 1종, 2종 겸업자료는 0.5자 연도에만 시군자료가 있음.
A42: 주 : 2013년 부터 단위 변경("호"→"가구")

Sheet 2.연령별농가인구
A1: 196 / Ⅵ. 농림수산업 | L1: Ⅵ. Agriculture, Forestry and Fishing / 197
A3: 2. 연령별 농가인구 | G3: 2. Farm Population by Age-Group
A5: 단위 : 천명 | L5: Unit : 1,000 person
A6: 연 별 | B6: 합 계 | D6: 0세 ∼ 14세 | F6: 15세 ~ 19세 | H6: 20세 ∼ 29세 | J6: 30세 ∼39세 | L6: Year
B7: Total | D7: 0 ∼ 14 years | F7: 15 ~ 19 years | H7: 20 ∼ 29 years | J7: 30 ∼ 39 years
C8: 남 | E8: 남 | G8: 남 | I8: 남 | K8: 남
C9: Male | E9: Male | G9: Male | I9: Male | K9: Male
A10: 2009 | B10: 479517 | C10: 229758 | D10: 31719 | E10: 16934 | F10: 14528 | G10: 7604 | H10: 26125 | I10: 13808 | J10: 25713 | K10: 14971 | L10: 2009
A11: 2010 | B11: 491225 | C11: 240088 | D11: 36002 | E11: 19084 | F11: 17078 | G11: 9349 | H11: 28553 | I11: 15123 | J11: 30744 | K11: 17510 | L11: 2010
A12: 2011 | B12: 471076 | C12: 230494 | D12: 31972 | E12: 17496 | F12: 15808 | G12: 8948 | H12: 24151 | I12: 12476 | J12: 24658 | K12: 14188 | L12: 2011
A13: 2012 | B13: 465408 | C13: 227577 | D13: 29353 | E13: 16202 | F13: 16366 | G13: 9149 | H13: 22758 | I13: 12236 | J13: 23870 | K13: 13170 | L13: 2012
A14: 2013 | B14: 458791 | C14: 223221 | D14: 27486 | E14: 14907 | F14: 15920 | G14: 9028 | H14: 20270 | I14: 10792 | J14: 22764 | K14: 13028 | L14: 2013
A16: 연 별 | B16: 40세 ∼ 49세 | D16: 50세 ∼ 59세 | F16: 60세 ~ 64세 | H16: 65세 ∼ 69세 | J16: 70세 이상
B17: 40 ∼ 49 years | D17: 50 ∼ 59 years | F17: 60 ~ 64 years | H17: 65 ∼ 69 years | J17: 70 Years old & over | L17: Year
C18: 남 | E18: 남 | G18: 남 | I18: 남 | K18: 남
C19: Male | E19: Male | G19: Male | I19: Male | K19: Male
A20: 2009 | B20: 46565 | C20: 22884 | D20: 95222 | E20: 42916 | F20: 54997 | G20: 26973 | H20: 61847 | I20: 28248 | J20: 122802 | K20: 55420 | L20: 2009
A21: 2010 | B21: 53719 | C21: 27188 | D21: 97359 | E21: 45417 | F21: 53641 | G21: 26420 | H21: 55358 | I21: 25462 | J21: 118771 | K21: 54535 | L21: 2010
A22: 2011 | B22: 48087 | C22: 23773 | D22: 95317 | E22: 43754 | F22: 54984 | G22: 27049 | H22: 52698 | I22: 24719 | J22: 123400 | K22: 58090 | L22: 2011
A23: 2012 | B23: 43176 | C23: 22207 | D23: 93571 | E23: 42714 | F23: 54223 | G23: 25998 | H23: 51290 | I23: 24691 | J23: 130801 | K23: 61211 | L23: 2012
A24: 2013 | B24: 40544 | C24: 20697 | D24: 91827 | E24: 42729 | F24: 52138 | G24: 24133 | H24: 52982 | I24: 26173 | J24: 134861 | K24: 61734 | L24: 2013
A25: 자료 : 통계청, 「농림어업조사」,「농림어업총조사(0,5년)」 | L25: Source : Statistics Korea

Sheet 3.경지면적
A1: 198 / Ⅵ. 농림수산업
A3: 3. 경지면적
A4: 3. Area of Cultivated Land
A5: 단위 : ha | H5: Unit : ha
A6: 연별 및 시군별 Year & Si, Gun | C6: 합 계 Total | D6: 논 Rice paddy | E6: 밭 Dry paddy | F6: 가구당 경지면적(a) Area of cultivated land per household (a)
G8: 논 Rice paddy | H8: 밭 Dry paddy
A10: 2009 | C10: 278665 | D10: 144150 | E10: 134515 | F10: 139.15716 | G10: 71.9843 | H10: 67.172862
A11: 2010 | C11: 276233 | D11: 141005 | E11: 135228 | F11: 136.98568 | G11: 69.925267 | H11: 67.060416
A12: 2011 | C12: 274631 | D12: 138427 | E12: 136204 | F12: 139.2525 | G12: 70.189841 | H12: 69.062662
A13: 2012 | C13: 281885 | D13: 139843 | E13: 142039 | F13: 143.97969 | G13: 71.429009 | H13: 72.550682
A14: 2013 | C14: 279484 | D14: 140500 | E14: 138984 | F14: =C14/'1.농가및농가인구'!$C$14*100 -> 143.24579 | G14: =D14/'1.농가및농가인구'!$C$14*100 -> 72.011399 | H14: =E14/'1.농가및농가인구'!$C$14*100 -> 71.234393
A16: 포항시 | B16: Pohang | C16: 14322 | D16: 9162 | E16: 5160 | F16: =C16/'1.농가및농가인구'!$C$16*100 -> 101.45934 | G16: =D16/'1.농가및농가인구'!$C$16*100 -> 64.905072 | H16: =E16/'1.농가및농가인구'!$C$16*100 -> 36.554265
A17: 경주시 | B17: Gyeongju | C17: 20455 | D17: 15171 | E17: 5284 | F17: =C17/'1.농가및농가인구'!$C$17*100 -> 125.70674 | G17: =D17/'1.농가및농가인구'!$C$17*100 -> 93.233776 | H17: =E17/'1.농가및농가인구'!$C$17*100 -> 32.47296
A18: 김천시 | B18: Gimcheon | C18: 16006 | D18: 6434 | E18: 9573 | F18: =C18/'1.농가및농가인구'!$C$18*100 -> 113.35694 | G18: =D18/'1.농가및농가인구'!$C$18*100 -> 45.566572 | H18: =E18/'1.농가및농가인구'!$C$18*100 -> 67.79745
A19: 안동시 | B19: Andong | C19: 20734 | D19: 7503 | E19: 13231 | F19: =C19/'1.농가및농가인구'!$C$19*100 -> 136.93039 | G19: =D19/'1.농가및농가인구'!$C$19*100 -> 49.550918 | H19: =E19/'1.농가및농가인구'!$C$19*100 -> 87.379474
A20: 구미시 | B20: Gumi | C20: 11995 | D20: 9517 | E20: 2477 | F20: =C20/'1.농가및농가인구'!$C$20*100 -> 130.47971 | G20: =D20/'1.농가및농가인구'!$C$20*100 -> 103.52442 | H20: =E20/'1.농가및농가인구'!$C$20*100 -> 26.944414
A21: 영주시 | B21: Yeongju | C21: 14698 | D21: 5888 | E21: 8810 | F21: =C21/'1.농가및농가인구'!$C$21*100 -> 178.61223 | G21: =D21/'1.농가및농가인구'!$C$21*100 -> 71.551829 | H21: =E21/'1.농가및농가인구'!$C$21*100 -> 107.0604
A22: 영천시 | B22: Yeongcheon | C22: 14753 | D22: 4859 | E22: 9894 | F22: =C22/'1.농가및농가인구'!$C$22*100 -> 130.63845 | G22: =D22/'1.농가및농가인구'!$C$22*100 -> 43.026654 | H22: =E22/'1.농가및농가인구'!$C$22*100 -> 87.611795
A23: 상주시 | B23: Sangju | C23: 26324 | D23: 15276 | E23: 11047 | F23: =C23/'1.농가및농가인구'!$C$23*100 -> 175.78631 | G23: =D23/'1.농가및농가인구'!$C$23*100 -> 102.01002 | H23: =E23/'1.농가및농가인구'!$C$23*100 -> 73.769616
A24: 문경시 | B24: Mungyeong | C24: 11459 | D24: 5577 | E24: 5882 | F24: =C24/'1.농가및농가인구'!$C$24*100 -> 138.3603 | G24: =D24/'1.농가및농가인구'!$C$24*100 -> 67.338807 | H24: =E24/'1.농가및농가인구'!$C$24*100 -> 71.021492
A25: 경산시 | B25: Gyeongsan | C25: 9666 | D25: 1874 | E25: 7792 | F25: =C25/'1.농가및농가인구'!$C$25*100 -> 117.34855 | G25: =D25/'1.농가및농가인구'!$C$25*100 -> 22.751002 | H25: =E25/'1.농가및농가인구'!$C$25*100 -> 94.597548
A26: 군위군 | B26: Gunwi | C26: 7493 | D26: 3343 | E26: 4151 | F26: =C26/'1.농가및농가인구'!$C$26*100 -> 150.79493 | G26: =D26/'1.농가및농가인구'!$C$26*100 -> 67.277118 | H26: =E26/'1.농가및농가인구'!$C$26*100 -> 83.537935
A27: 의성군 | B27: Uiseong | C27: 21182 | D27: 12213 | E27: 8969 | F27: =C27/'1.농가및농가인구'!$C$27*100 -> 179.23507 | G27: =D27/'1.농가및농가인구'!$C$27*100 -> 103.34236 | H27: =E27/'1.농가및농가인구'!$C$27*100 -> 75.892706
A28: 청송군 | B28: Cheongsong | C28: 7764 | D28: 1714 | E28: 6050 | F28: =C28/'1.농가및농가인구'!$C$28*100 -> 147.46439 | G28: =D28/'1.농가및농가인구'!$C$28*100 -> 32.554606 | H28: =E28/'1.농가및농가인구'!$C$28*100 -> 114.90978
A29: 영양군 | B29: Yeongyang | C29: 6357 | D29: 1658 | E29: 4699 | F29: =C29/'1.농가및농가인구'!$C$29*100 -> 190.50045 | G29: =D29/'1.농가및농가인구'!$C$29*100 -> 49.685346 | H29: =E29/'1.농가및농가인구'!$C$29*100 -> 140.8151
A30: 영덕군 | B30: Yeongdeok | C30: 6316 | D30: 3226 | E30: 3090 | F30: =C30/'1.농가및농가인구'!$C$30*100 -> 134.09766 | G30: =D30/'1.농가및농가인구'!$C$30*100 -> 68.492569 | H30: =E30/'1.농가및농가인구'!$C$30*100 -> 65.605096
A31: 청도군 | B31: Cheongdo | C31: 10491 | D31: 3788 | E31: 6703 | F31: =C31/'1.농가및농가인구'!$C$31*100 -> 139.91731 | G31: =D31/'1.농가및농가인구'!$C$31*100 -> 50.520139 | H31: =E31/'1.농가및농가인구'!$C$31*100 -> 89.397173
A32: 고령군 | B32: Goryeong | C32: 6256 | D32: 4769 | E32: 1487 | F32: =C32/'1.농가및농가인구'!$C$32*100 -> 144.41367 | G32: =D32/'1.농가및농가인구'!$C$32*100 -> 110.08772 | H32: =E32/'1.농가및농가인구'!$C$32*100 -> 34.325946
A33: 성주군 | B33: Seongju | C33: 9964 | D33: 7553 | E33: 2411 | F33: =C33/'1.농가및농가인구'!$C$33*100 -> 132.64111 | G33: =D33/'1.농가및농가인구'!$C$33*100 -> 100.54579 | H33: =E33/'1.농가및농가인구'!$C$33*100 -> 32.095314
A34: 칠곡군 | B34: Chilgok | C34: 6110 | D34: 3052 | E34: 3059 | F34: =C34/'1.농가및농가인구'!$C$34*100 -> 110.86917 | G34: =D34/'1.농가및농가인구'!$C$34*100 -> 55.380149 | H34: =E34/'1.농가및농가인구'!$C$34*100 -> 55.507167
A35: 예천군 | B35: Yecheon | C35: 18192 | D35: 10883 | E35: 7310 | F35: =C35/'1.농가및농가인구'!$C$35*100 -> 203.23986 | G35: =D35/'1.농가및농가인구'!$C$35*100 -> 121.58418 | H35: =E35/'1.농가및농가인구'!$C$35*100 -> 81.666853
A36: 봉화군 | B36: Bonghwa | C36: 12243 | D36: 3482 | E36: 8762 | F36: =C36/'1.농가및농가인구'!$C$36*100 -> 198.20301 | G36: =D36/'1.농가및농가인구'!$C$36*100 -> 56.370406 | H36: =E36/'1.농가및농가인구'!$C$36*100 -> 141.84879
A37: 울진군 | B37: Uljin | C37: 5493 | D37: 3558 | E37: 1934 | F37: =C37/'1.농가및농가인구'!$C$37*100 -> 117.57277 | G37: =D37/'1.농가및농가인구'!$C$37*100 -> 76.155822 | H37: =E37/'1.농가및농가인구'!$C$37*100 -> 41.395548
A38: 울릉군 | B38: Ulleung | C38: 1209 | D38: 0 | E38: 1209 | F38: =C38/'1.농가및농가인구'!$C$38*100 -> 243.75 | G38: =D38/'1.농가및농가인구'!$C$38*100 -> 0 | H38: =E38/'1.농가및농가인구'!$C$38*100 -> 243.75
A39: 자료 : 통계청,「농업면적조사(경지면적통계)」
A40: 주 : 통계표에 수록된 숫자는 추정과정의 반올림으로 인해 세목과 그 총계가 일치되지 않는 경우도 있음.

Sheet 4.경지규모별농가
G1: Ⅵ. Agriculture, Forestry and Fishing / 199
A3: 4. 경지규모별 농가
A5: 4. Farm Households by Size of Cultivated Land
A6: 단위 : 가구 | G6: Unit : household
A7: 연 별 Year | B7: 합 계 Total | D7: 경지없는 농가수 Farm households without cultivated land | E7: 0.1㏊ 미만 less than 0.1 | F7: 0.1㏊ 이상 ∼0.5㏊ 미만 0.1 and over less than 0.5 | G7: 0.5㏊ 이상 ∼1.0㏊ 미만 0.5 over and less than 1
A11: 2009 | B11: 200252 | D11: 2802 | E11: 1842 | F11: 73380 | G11: 52352
A12: 2010 | B12: 201651 | D12: 2752 | E12: 3097 | F12: 74403 | G12: 52283
A13: 2011 | B13: 197218 | D13: 3447 | E13: 1204 | F13: 76976 | G13: 49542
A14: 2012 | B14: 195779 | D14: 3187 | E14: 2070 | F14: 75605 | G14: 49002
A15: 2013 | B15: 195108 | D15: 2759 | E15: 2089 | F15: 75383 | G15: 48719
A18: 연 별 Year | B18: 1.0㏊ 이상 ∼1.5㏊ 미만 1 and over less than 1.5 | C18: 1.5㏊ 이상 ∼2.0㏊ 미만 1.5 and over less than 2 | D18: 2.0㏊ 이상 ∼3.0㏊ 미만 2 and over less than 3 | E18: 3.0㏊ 이상 ∼5.0㏊ 미만 3 and over less than 5 | F18: 5.0㏊ 이상 ∼10.0㏊ 미만 5 and over less than 10 | G18: 10.0㏊ 이상 10 or larger
A22: 2009 | B22: 28570 | C22: 16651 | D22: 13648 | E22: 7642 | F22: 2855 | G22: 511
A23: 2010 | B23: 27121 | C23: 16295 | D23: 13564 | E23: 8241 | F23: 3286 | G23: 609
A24: 2011 | B24: 26222 | C24: 15368 | D24: 12984 | E24: 8026 | F24: 2914 | G24: 536
A25: 2012 | B25: 25342 | C25: 15558 | D25: 13000 | E25: 8192 | F25: 3156 | G25: 666
A26: 2013 | B26: 25418 | C26: 15464 | D26: 13193 | E26: 8214 | F26: 3184 | G26: 685
A28: 자료 : 통계청, 「농림어업조사」,「농림어업총조사(0,5년)」 | G28: Source : Statistics Korea

Sheet 5.농업진흥지역지정
A1: 200 / Ⅵ. 농림수산업
A3: 5. 농업진흥지역 지정
A4: 5. Land Designated for Agricultural Promotion
A5: 단위 : ha | E5: Unit : ha
A6: 연별 및 시군별 Year & Si, Gun | C6: 합 계 Total | D6: 농업진흥구역 Agricultural promotion land | E6: 농업보호구역 Agricultural conservation land
A8: 2009 | C8: 152821.4 | D8: 134988.5 | E8: 17832.9
A9: 2010 | C9: 152677 | D9: 134874.3 | E9: 17802.7
A10: 2011 | C10: 152430 | D10: 134664.1 | E10: 17765.9
A11: 2012 | C11: 152148.6 | D11: 134422.6 | E11: 17726
A12: 2013 | C12: =SUM(C14:C36) -> 152078.6 | D12: =SUM(D14:D36) -> 134370.1 | E12: =SUM(E14:E36) -> 17708.5
A14: 포항시 | B14: Pohang | C14: 8195.3 | D14: 7247.3 | E14: 948
A15: 경주시 | B15: Gyeongju | C15: 10686.1 | D15: 9415.1 | E15: 1271
A16: 김천시 | B16: Gimcheon | C16: 7816.8 | D16: 7141.6 | E16: 675.2
A17: 안동시 | B17: Andong | C17: 7292.1 | D17: 6695.7 | E17: 596.4
A18: 구미시 | B18: Gumi | C18: 7799.7 | D18: 7341.6 | E18: 458.1
A19: 영주시 | B19: Yeongju | C19: 6482 | D19: 6028.7 | E19: 453.3
A20: 영천시 | B20: Yeongcheon | C20: 10466.2 | D20: 7630.9 | E20: 2835.3
A21: 상주시 | B21: Sangju | C21: 17097.5 | D21: 15900.6 | E21: 1196.9
A22: 문경시 | B22: Mungyeong | C22: 6511 | D22: 5953.4 | E22: 557.6
A23: 경산시 | B23: Gyeongsan | C23: 6106.3 | D23: 4784.2 | E23: 1322.1
A24: 군위군 | B24: Gunwi | C24: 5061.2 | D24: 4434.3 | E24: 626.9
A25: 의성군 | B25: Uiseong | C25: 15209.2 | D25: 13160.5 | E25: 2048.7
... A36: 울릉군 | B36: Ulleung | C36: 0 | D36: 0 | E36: 0
A37: 자료 : 농업정책과 | E37: Source : Division of Agricultural Policy
A38: 주 : 2008년 자료부터 서식 변경(필지수 삭제)

Sheet 6.한국농어촌공사
G1: Ⅵ. Agriculture, Forestry and Fishing / 201
A3: 6. 한국농어촌공사
A4: 6. Korea Rural Community Corporation
A5: 단위 : ha, 명, 천원 | G5: Unit : ha, person, 1,000 Won
A6: 연별 및 지사별 Year & Branch | C6: 수혜면적 Benefited area | D6: 수혜자수 Beneficiaries | G6: 예산액 Budget
E7: 남 Male | F7: 여 Female
A8: 2009 | C8: 65996.6 | D8: 156761 | E8: … | F8: … | G8: 13868179
A9: 2010 | C9: 67560.6 | D9: 145287 | E9: … | F9: … | G9: 21341621
A10: 2011 | C10: 67967 | D10: 136048 | E10: … | F10: … | G10: 14394944
A11: 2012 | C11: 68873.4 | D11: 134576 | E11: … | F11: … | G11: 16064443
A12: 2013 | C12: =SUM(C14:C29) -> 66182.4 | D12: =SUM(D14:D29) -> 112157 | E12: … | F12: … | G12: =SUM(G14:G29) -> 15847308
A14: 포항지사 | B14: Pohang | C14: 4695.9 | D14: 8683 | E14: … | F14: … | G14: 1136694
A15: 경주지사 | B15: Gyeongju | C15: 8073 | D15: 10230 | E15: … | F15: … | G15: 1576230
A16: 안동지사 | B16: Andong | C16: 3644.5 | D16: 4189 | E16: … | F16: … | G16: 838597
A17: 구미지사 | B17: Gumi | C17: 5902.2 | D17: 10878 | E17: … | F17: … | G17: 1433342
A18: 영주지사 | B18: Yeongju | C18: 2432.6 | D18: 3365 | E18: … | F18: … | G18: 553442
A19: 영천지사 | B19: Yeongcheon | C19: 2735.8 | D19: 7414 | E19: … | F19: … | G19: 793312
A20: 상주지사 | B20: Sangju | C20: 6203.9 | D20: 8526 | E20: … | F20: … | G20: 1521343
A21: 문경지사 | B21: Mungyeong | C21: 2441.3 | D21: 4749 | E21: … | F21: … | G21: 765977
A22: 경산지사 | B22: Gyeongsan | C22: 2724.9 | D22: 9957 | E22: … | F22: … | G22: 690065
A23: 의성.군위지사 | B23: Uiseong.Gunwi | C23: 7365.2 | D23: 10485 | E23: … | F23: … | G23: 1773977
A24: 청송지사 | B24: Cheongsong | C24: 1479.3 | D24: 4996 | E24: … | F24: … | G24: 866776
A25: 영덕.울진지사 | B25: Yeongdeok.Uljin | C25: 2940.7 | D25: 4579 | E25: … | F25: … | G25: 699028
... A29: 예천지사 | B29: Yecheon | C29: 5372.1 | D29: 3542 | E29: … | F29: … | G29: 719475
A30: 자료 : 한국농어촌공사 경북본부 | G30: Source : Korea Rural Community Corporation

Sheet 7.수리답 및 경지정리
A1: 202 / Ⅵ. 농림수산업
A3: 7. 수리답 및 경지정리 현황
A4: 7. Status of Rice Paddy Irrigation and Land Cultivation
A5: 단위 : ha, % | F5: Unit : ha, %
A6: 연 별 Year | B6: 면 적 Area | D6: 수리담수율 Water containing rate | E6: 경지정리 대상면적 Area of land subject to cultivation | F6: 경지정리율 Land cultivation rate
B8: 수리안전답 Well irrigated paddy | C8: 기타수리답 Other irrigated paddy
A11: 2009 | B11: 75418 | C11: 49468 | D11: 86.6 | E11: 200947 | F11: 92.4
A12: 2010 | B12: 74734.5 | C12: 47260 | D12: 86.5 | E12: 114167 | F12: 88.9
A13: 2011 | B13: 78358 | C13: 42102 | D13: 87 | E13: 113868 | F13: 89.4
A14: 2012 | B14: 81632 | C14: 39038 | D14: 86.3 | E14: 107653 | F14: 64.5
A15: 2013 | B15: 80963 | C15: 38955 | D15: 85.4 | E15: 113584 | F15: 89.8
A16: 자료 : 농촌개발과 | F16: Source : Division of Rural Development
N24: 0

Sheet 8.수리시설 및 방조제
I1: Ⅵ. Agriculture, Forestry and Fishing / 203
A3: 8. 수리시설 및 방조제 현황
A4: 8. Irrigation Facilities and Sea Walls
A5: 단위 : ha | I5: Unit : ha
A6: 연별 Year | B6: 저수지 Reservoir | C6: 양수장 Water-gathering placer | D6: 집수암거 Underdrain for collective water | E6: 취입보 Irrigation reservoir | F6: 방 조 제 Sea walls management
F8: 국가 Nation-run | G8: 도 Province | H8: 시군 Si, Gun | I8: 민간관리자 Civilian
A11: 2009 | B11: 5553 | C11: 1647 | D11: 503 | E11: 3121 | F11: 0 | G11: 0 | H11: 0 | I11: 0
A12: 2010 | B12: 5551 | C12: 1657 | D12: 502 | E12: 3122 | F12: 0 | G12: 0 | H12: 0 | I12: 0
A13: 2011 | B13: 5547 | C13: 1774 | D13: 502 | E13: 3122 | F13: 0 | G13: 0 | H13: 0 | I13: 0
A14: 2012 | B14: 5544 | C14: 1813 | D14: 502 | E14: 3124 | F14: 0 | G14: 0 | H14: 0 | I14: 0
A15: 2013 | B15: 5229 | C15: 1707 | D15: 501 | E15: 3124 | F15: 0 | G15: 0 | H15: 0 | I15: 0
A16: 자료 : 농촌개발과 | I16: Source : Division of Rural Development
N24: 0

Sheet 9.식량작물생산량(정곡)
A1: 204 / Ⅵ. 농림수산업
A3: 9. 식량작물 생산량(정곡)
A4: 9. Production of Food Grain(polished)
A5: 단위 : ha, M/T | G5: Unit : ha, M/T
A6: 연 별 Year | B6: 합 계 Total | D6: 미 곡 Rice | F6: 맥 류 Wheat & Barley
B8: 면 적 Area | C8: 생산량 Production | D8: 면 적 Area | E8: 생산량 Production | F8: 면 적 Area | G8: 생산량 Production
A10: 2009 | B10: 145539 | C10: 743665 | D10: 122616 | E10: 680334 | F10: 1427 | G10: 3437
A11: 2010 | B11: 139092 | C11: 640932 | D11: 116596 | E11: 590301 | F11: 1125 | G11: 2871
A12: 2011 | B12: 135712 | C12: 633465 | D12: 110550 | E12: 570176 | F12: 928 | G12: 2429
A13: 2012 | B13: 136283 | C13: 630809 | D13: 111505 | E13: 563960 | F13: 697 | G13: 1789 | H13: 0.048702539
A14: 2013 | B14: 136052 | C14: 650013 | D14: 108501 | E14: 572207 | F14: 1014 | G14: 2755 | H14: =E24/C14 -> 0.054429681
A16: 연 별 Year | B16: 잡 곡 Miscellaneous grains | D16: 두 류 Beans | F16: 서 류 Potatoes
B18: 면 적 Area | C18: 생산량 Production | D18: 면 적 Area | E18: 생산량 Production | F18: 면 적 Area | G18: 생산량 Production
A20: 2009 | B20: 2555 | C20: 7931 | D20: 14295 | E20: 27340 | F20: 4646 | G20: 24623
A21: 2010 | B21: 2173 | C21: 5755 | D21: 14118 | E21: 19128 | F21: 5080 | G21: 22877
A22: 2011 | B22: 2579 | C22: 6135 | D22: 15947 | E22: 29102 | F22: 5708 | G22: 25623
A23: 2012 | B23: 2947 | C23: 7444 | D23: 15718 | E23: 30722 | F23: 5416 | G23: 26894
A24: 2013 | B24: 2593 | C24: 6024 | D24: 17571 | E24: 35380 | F24: 6373 | G24: 33647
A25: 자료 : 통계청, 「농작물생산조사」 | G25: Source : Statistics Korea

Sheet 9-1.미곡
I1: Ⅵ. Agriculture, Forestry and Fishing / 205
A3: 9-1. 미 곡
A4: 9-1. RICE
A5: 단위 : ha, M/T | I5: Unit : ha, M/T
A6: 연 별 Year | B6: 합 계 Total | D6: 논 벼 Paddy rice | G6: 밭 벼 Upland rice
B8: 면 적 Area | C8: 생산량 Production | D8: 면 적 Area | E8: 생산량 Production | G8: 면 적 Area | H8: 생산량 Production
F9: Kg/10a | I9: Kg/10a
A10: 2009 | B10: 122616 | C10: 680334 | D10: 122441 | E10: 679872 | F10: 555.26498 | G10: 175 | H10: 461 | I10: 264
A11: 2010 | B11: 116596 | C11: 590301.32 | D11: 116472 | E11: 589985.97 | F11: 506.54747 | G11: 124 | H11: 315.34764 | I11: 254.31261
A12: 2011 | B12: 110550 | C12: 570175.59 | D12: 110458 | E12: 569948.33 | F12: 515.98646 | G12: 92 | H12: 227.26221 | I12: 247.02414
A13: 2012 | B13: 111505 | C13: 563960 | D13: 111459 | E13: 563846 | F13: 506 | G13: 46 | H13: 114 | I13: 248
A14: 2013 | B14: 108501 | C14: 556808 | D14: 108479 | E14: 556769 | F14: 513 | G14: 22 | H14: 40 | I14: 180
A15: 자료 : 통계청, 「농작물생산조사」 | I15: Source : Statistics Korea
A16: 주 : 미곡 중 백미의 생산량 수록

Sheet 9-2.맥류
A1: 206 / Ⅵ. 농림수산업
A3: 9-2. 맥 류
A4: 9-2. Wheat and Barley
A5: 단위 : ha, M/T | I5: Unit : ha, M/T
A6: 연 별 Year | B6: 합 계 Total | D6: 겉보리 Unhulled barley | G6: 쌀보리 Naked barley
B8: 면 적 Area | C8: 생산량 Production | D8: 면 적 Area | E8: 생산량 Production | G8: 면 적 Area | H8: 생 산 량 Production
F9: Kg/10a | I9: Kg/10a
A10: 2009 | B10: 1427 | C10: 3437 | D10: 1078 | E10: 2569 | F10: 238.31169 | G10: 341 | H10: 851 | I10: 249
A11: 2010 | B11: 1125 | C11: 2871 | D11: 583 | E11: 1385 | F11: 237 | G11: 414 | H11: 1011 | I11: 244
A12: 2011 | B12: 928 | C12: 2429 | D12: 450 | E12: 1090 | F12: 242 | G12: 314 | H12: 726 | I12: 231
A13: 2012 | B13: 697 | C13: 1789 | D13: 460 | E13: 1029 | F13: 224 | G13: 132 | H13: 392 | I13: 297
A14: 2013 | B14: 1014 | C14: 2653 | D14: 668 | E14: 1763 | F14: 264 | G14: 229 | H14: 649 | I14: 283
A16: 연 별 Year | B16: 밀 Wheat | E16: 호 밀 Rye | H16: 맥주보리 Beer barley
B18: 면 적 Area | C18: 생산량 Production | E18: 면 적 Area | F18: 생 산 량 Production | H18: 면 적 Area | I18: 생 산 량 Production
D19: Kg/10a | G19: Kg/10a
A20: 2009 | B20: 8 | C20: 17 | D20: 216 | E20: 0 | F20: 0 | G20: 0 | H20: 0 | I20: 0
A21: 2010 | B21: 128 | C21: 475 | D21: 371 | E21: 0 | F21: 0 | G21: 0 | H21: 0 | I21: 0
A22: 2011 | B22: 164 | C22: 613 | D22: 374 | E22: 0 | F22: 0 | G22: 0 | H22: 0 | I22: 0
A23: 2012 | B23: 105 | C23: 368 | D23: 350 | E23: 0 | F23: 0 | G23: 0 | H23: 0 | I23: 0
A24: 2013 | B24: 117 | C24: 241 | D24: 206 | E24: 0 | F24: 0 | G24: 0 | H24: 0 | I24: 0
A25: 자료 : 통계청,「농작물생산조사」 | I25: Source : Statistics Korea

Sheet 9-3.잡곡
J1: Ⅵ. Agriculture, Forestry and Fishing / 207
A3: 9-3. 잡 곡
A4: 9-3. Miscellaneous Grains
A5: 단위 : ha, M/T | J5: Unit : ha, M/T
A6: 연 별 Year | B6: 합 계 Total | E6: 조 Millet | H6: 수 수 Sorghum
B8: 면 적 Area | C8: 생산량 Production | E8: 면 적 Area | F8: 생산량 Production | H8: 면 적 Area | I8: 생산량 Production
G9: Kg/10a | J9: Kg/10a
A10: 2009 | B10: 2555 | C10: 7931 | E10: 107 | F10: 152 | G10: 142.05607 | H10: 252 | I10: 451 | J10: 178.96825
A11: 2010 | B11: 2173 | C11: 5755 | E11: 0 | F11: 0 | G11: 0 | H11: 0 | I11: 0 | J11: 0
A12: 2011 | B12: 2579 | C12: 6135 | E12: 0 | F12: 0 | G12: 0 | H12: 0 | I12: 0 | J12: 0
A13: 2012 | B13: 2947 | C13: 7444 | E13: 0 | F13: 0 | G13: 0 | H13: 0 | I13: 0 | J13: 0
A14: 2013 | B14: 2593 | C14: 6024 | E14: 0 | F14: 0 | G14: 0 | H14: 0 | I14: 0 | J14: 0
A16: 연 별 Year | B16: 옥수수 Corn | E16: 메 밀 Buckwheat | H16: 기 타 Others
B18: 면 적 Area | C18: 생산량 Production | E18: 면 적 Area | F18: 생산량 Production | H18: 면 적 Area | I18: 생산량 Production
D19: Kg/10a | G19: Kg/10a | J19: Kg/10a
A20: 2009 | B20: 1308 | C20: 6148 | D20: 470 | E20: 523 | F20: 596 | G20: 113.95793 | H20: 365 | I20: 584 | J20: 160
A21: 2010 | B21: 1048 | C21: 4276 | D21: 408.01527 | E21: 365 | F21: 369 | G21: 101.09589 | H21: 760 | I21: 1110 | J21: 146.05263
A22: 2011 | B22: 1028 | C22: 4482 | D22: 435.99222 | E22: 526 | F22: 484 | G22: 92.015209 | H22: 1025 | I22: 1169 | J22: 114.04878
A23: 2012 | B23: 1280 | C23: 5427 | D23: 423.98438 | E23: 360 | F23: 331 | G23: 91.944444 | H23: 1307 | I23: 1686 | J23: 128.9977
A24: 2013 | B24: 884 | C24: 3766 | D24: 426 | E24: 488 | F24: 439 | G24: 90 | H24: 1221 | I24: 1819 | J24: 149
A25: 자료 : 통계청,「농작물생산조사」 | J25: Source : Statistics Korea

Sheet 9-4.두류
A1: 208 / Ⅵ. 농림수산업
A3: 9-4. 두 류
A4: 9-4. Beans
A5: 단위 : ha, M/T | J5: Unit : ha, M/T
A6: 연 별 Year | B6: 합 계 Total | E6: 콩 Soybean | H6: 팥 Redbean
B8: 면 적 Area | C8: 생산량 Production | E8: 면 적 Area | F8: 생산량 Production | H8: 면 적 Area | I8: 생산량 Production
G9: Kg/10a | J9: Kg/10a
A10: 2009 | B10: 14295 | C10: 27340 | E10: 12694 | F10: 25014 | G10: 197.05373 | H10: 803 | I10: 859 | J10: 106.97385
A11: 2010 | B11: 14118 | C11: 19128 | E11: 12606 | F11: 17179 | G11: 136.27638 | H11: 604 | I11: 628 | J11: 103.97351
A12: 2011 | B12: 15947 | C12: 29101.637 | E12: 14497 | F12: 27344.637 | G12: 188.62273 | H12: 578 | I12: 590 | J12: 102.07612
A13: 2012 | B13: 15718 | C13: 30722 | E13: 14288 | F13: 29075 | G13: 203.49244 | H13: 581 | I13: 529 | J13: 91.049914
A14: 2013 | B14: 17571 | C14: 35380 | E14: 15695 | F14: 33102 | G14: 211 | H14: 892 | I14: 838 | J14: 94
A16: 연 별 Year | B16: 녹 두 Green bean | E16: 기 타 Others | H16: 비 고 Note
B18: 면 적 Area | C18: 생산량 Production | E18: 면 적 Area | F18: 생산량 Production
D19: Kg/10a | G19: Kg/10a
A20: 2009 | B20: 57 | C20: 67 | D20: 117 | E20: 741 | F20: 1400 | G20: 188.93387
A21: 2010 | B21: 130 | C21: 131 | D21: 100.76923 | E21: 778 | F21: 1190 | G21: 152.9563
A22: 2011 | B22: 85 | C22: 89 | D22: 104.70588 | E22: 787 | F22: 1078 | G22: 136.97586
A23: 2012 | B23: 54 | C23: 53 | D23: 98.148148 | E23: 795 | F23: 1065 | G23: 133.96226
A24: 2013 | B24: 78 | C24: 72 | D24: 92 | E24: 906 | F24: 1368 | G24: 151
A25: 자료 : 통계청,「농작물생산조사」 | J25: Source : Statistics Korea

Sheet 9-5.서류
F1: Ⅵ. Agriculture, Forestry and Fishing / 209
A3: 9-5. 서 류
A4: 9-5. Potatoes
A5: 단위 : ha, M/T | F5: Unit : ha, M/T
A6: 연 별 Year | B6: 합계 Total | D6: 고구마 Sweet potato
B7: 면적 Area | C7: 생산량 Production | D7: 면적 Area | E7: 생산량 Production
F8: ㎏/10a
A9: 2009 | B9: 4646 | C9: 107529 | D9: 1866 | E9: 28363 | F9: 1519.9893
A10: 2010 | B10: 5080 | C10: 98527 | D10: 1974 | E10: 28860 | F10: 1462.0061
A11: 2011 | B11: 5708 | C11: 114533 | D11: 1816 | E11: 24643 | F11: 1356.9934
A12: 2012 | B12: 5416 | C12: 118514 | D12: 2093 | E12: 29051 | F12: 1388.0076
A13: 2013 | B13: 6373 | C13: 153563 | D13: 1951 | E13: 26592 | F13: 1363
A15: 연 별 Year | B15: 감자 White potato | E15: 비 고 Note
B16: 면적 Area | C16: 생산량 Production
D17: ㎏/10a
A18: 2009 | B18: 2780 | C18: 79166 | D18: 2847.6978
A19: 2010 | B19: 3106 | C19: 69667 | D19: 2242.9813
A20: 2011 | B20: 3892 | C20: 89890 | D20: 2309.6095
A21: 2012 | B21: 3323 | C21: 89463 | D21: 2692.2359
A22: 2013 | B22: 4422 | C22: 126971 | D22: 2871
A23: 자료 : 통계청,「농작물생산조사」 | F23: Source : Statistics Korea
A24: 주 : 2009년 자료부터 서식 변경("정곡" 항목 삭제)

Sheet 10.채소류생산량 
A1: 210 / Ⅵ. 농림수산업
A3: 10. 채소류 생산량
A5: 단위 : ha, M/T | J5: Unit : ha, M/T
A6: 연 별 | B6: 과채류 Fruit vegetables
E7: 수박 Water melon | H7: 참외 Sweet melon
B8: 면적 Area | C8: 생산량 Production | E8: 면적 Area | F8: 생산량 Production | H8: 면적 Area | I8: 생산량 Production
G9: Kg/10a | J9: Kg/10a
A11: 2009 | B11: 12237 | C11: 488181 | E11: 3131 | F11: 123118 | G11: 3932 | H11: 5635 | I11: 198170 | J11: 3517
A12: 2010 | B12: 11042 | C12: 446961 | E12: 2435 | F12: 96759 | G12: 3973.6756 | H12: 5393 | I12: 186028 | J12: 3449.4345
A13: 2011 | B13: 10576 | C13: 394530 | E13: 2411 | F13: 86400 | G13: 3583.5753 | H13: 5149 | I13: 161622 | J13: 3138.9008
A14: 2012 | B14: 10573 | C14: 400435 | E14: 2329 | F14: 85886 | G14: 3687.6771 | H14: 5054 | I14: 165767 | J14: 3279.9169
A15: 2013 | B15: 10512 | C15: 402086 | E15: 2288 | F15: 97098 | G15: 4243.7937 | H15: 4848 | I15: 159540 | J15: 3290.8416
A17: 연 별 | B17: 과 채 류 Fruit vegetables
B18: 딸기 Strawberry | E18: 오이 Cucumber | H18: 호박 Pumpkin
B19: 면적 Area | C19: 생산량 Production | E19: 면적 Area | F19: 생산량 Production | H19: 면적 Area | I19: 생산량 Production
D20: Kg/10a | G20: Kg/10a | J20: Kg/10a
A22: 2009 | B22: 363 | C22: 10720 | D22: 2953 | E22: 796 | F22: 67727 | G22: 8508 | H22: 1610 | I22: 44794 | J22: 2782
A23: 2010 | B23: 338 | C23: 8999 | D23: 2662.426 | E23: 632 | F23: 58634 | G23: 9277.5316 | H23: 1555 | I23: 43274 | J23: 2782.8939
A24: 2011 | B24: 255 | C24: 7002 | D24: 2745.8824 | E24: 610 | F24: 57451 | G24: 9418.1967 | H24: 1580 | I24: 39807 | J24: 2519.4304
A25: 2012 | B25: 270 | C25: 7724 | D25: 2860.7407 | E25: 581 | F25: 49981 | G25: 8602.5818 | H25: 1721 | I25: 43306 | J25: 2516.3277
A26: 2013 | B26: 390 | C26: 11938 | D26: 3061.0256 | E26: 561 | F26: 46624 | G26: 8310.8734 | H26: 1816 | I26: 46040 | J26: 2535.2423
A27: 자료 : 통계청,「농작물생산조사」
J28: Ⅵ. Agriculture, Forestry and Fishing / 211
A30: 10. Vegetable Production
J32: Unit : ha, M/T
A33: 과채류 Fruit vegetables | D33: 엽채류 Leafy and Stem vegetables | J33: Year
A34: 토마토 Tomato | G34: 배추 Chinese cabbage
A35: 면적 Area | B35: 생산량 Production | D35: 면적 Area | E35: 생산량 Production | G35: 면적 Area | H35: 생산량 Production
C36: Kg/10a | I36: Kg/10a
A38: 702 | B38: 43652 | C38: 6218 | D38: 6329 | E38: 348651 | G38: 4321 | H38: 293110 | I38: 6783 | J38: 2009
A39: 689 | B39: 53267 | C39: 7731.0595 | D39: 5594 | E39: 258343 | G39: 3590 | H39: 202820 | I39: 5649.5822 | J39: 2010
A40: 571 | B40: 42248 | C40: 7398.9492 | D40: 6939 | E40: 391436 | G40: 4765 | H40: 331542 | I40: 6957.8594 | J40: 2011
A41: 618 | B41: 47771 | C41: 7729.9353 | D41: 5502 | E41: 292144 | G41: 3365 | H41: 231990 | I41: 6894.2051 | J41: 2012
A42: 609 | B42: 40846 | C42: 6707.0608 | D42: 5663 | E42: 310220 | G42: 3918 | H42: 260926 | I42: 6659.6733 | J42: 2013
A44: 엽채류 Leafy and Stem vegetable | J44: Year
A45: 시금치 Spinach | D45: 상추 Lettuce | G45: 양배추 cabbage
A46: 면적 Area | B46: 생산량 Production | D46: 면적 Area | E46: 생산량 Production | G46: 면적 Area | H46: 생산량 Production
C47: Kg/10a | F47: Kg/10a | I47: Kg/10a
A49: 760 | B49: 11152 | C49: 1467 | D49: 559 | E49: 13894 | F49: 2486 | G49: 689 | H49: 30495 | I49: 4426 | J49: 2009
A50: 734 | B50: 12315 | C50: 1677.7929 | D50: 704 | E50: 17461 | F50: 2480.2557 | G50: 566 | H50: 25747 | I50: 4548.9399 | J50: 2010
...

Sheet 11.특용작물생산량
A1: 214 / Ⅵ. 농림수산업
A3: 11. 특용작물 생산량
A4: 11. Production of Oil seeds and Cash Crops
A5: 단위 : ha, M/T | G5: Unit : ha, M/T
A6: 연 별 Year | B6: 참 깨 Sesame | E6: 들 깨 Wild sesame
B8: 면 적 Area | C8: 생산량 Production | E8: 면 적 Area | F8: 생산량 Production
D9: Kg/10a | G9: Kg/10a
A10: 2009 | B10: 6294 | C10: 2675 | D10: 42 | E10: 2304 | F10: 1912 | G10: 83
A11: 2010 | B11: 5204 | C11: 2548 | D11: 49 | E11: 4496 | F11: 3956 | G11: 88
A12: 2011 | B12: 5304 | C12: 2562 | D12: 48 | E12: 3160 | F12: 3034 | G12: 96.08
A13: 2012 | B13: 4929 | C13: 2419 | D13: 49 | E13: 2637 | F13: 3006 | G13: 114
A14: 2013 | B14: 4599 | C14: 2744 | D14: 60 | E14: 2798 | F14: 4197 | G14: 150
A16: 연 별 Year | B16: 땅 콩 Peanut | E16: 유 채 Rapeseed
B18: 면 적 Area | C18: 생산량 Production | E18: 면 적 Area | F18: 생산량 Production
D19: Kg/10a | F19: Production | G19: Kg/10a
A20: 2009 | B20: 1176 | C20: 2646 | D20: 225 | E20: 0 | F20: 0 | G20: 0
A21: 2010 | B21: 1339 | C21: 3455 | D21: 258 | E21: 0 | F21: 0 | G21: 0
A22: 2011 | B22: 1434 | C22: 4001 | D22: 279.52 | E22: 0 | F22: 0 | G22: 0
A23: 2012 | B23: 1280 | C23: 3187 | D23: 249 | E23: 0 | F23: 0 | G23: 0
A24: 2013 | B24: 1049 | C24: 2612 | D24: 249 | E24: 0 | F24: 0 | G24: 0
A25: 자료 : 통계청,「농작물생산조사」 | G25: Source : Statistics Korea

Sheet 12.과실류생산량
G1: Ⅵ. Agriculture, Forestry and Fishing / 215 | H1: 216 / Ⅵ. 농림수산업
A3: 12. 과실류 생산량 | I3: 12. 과실류 생산량(계속)
A4: 12. Fruit Production | I4: 12. Fruit Production(Cont'd)
A5: 단위 : ha, M/T | G5: Unit : ha, M/T | H5: 단위 : ha, M/T | N5: Unit : ha, M/T
A6: 연 별 Year | B6: 합 계 Total | E6: 사 과 Apple | H6: 연 별 Year | I6: 포 도 Grape | L6: 감 Persimmon | O6: 연 별 Year
B8: 면 적 Area | C8: 생산량 Production | E8: 면 적 Area | F8: 생산량 Production | I8: 면 적 Area | J8: 생산량 Production | L8: 면 적 Area | M8: 생산량 Production
G9: Kg/10a | K9: Kg/10a | N9: Kg/10a
A10: 2009 | B10: 54310 | D10: 837254 | E10: 19339 | F10: 304517 | G10: 1575 | H10: 2009 | I10: 8347 | J10: 165771 | K10: 1986 | L10: 8426 | M10: 134542 | N10: 1597 | O10: 2009
A11: 2010 | B11: 55021 | D11: 775193 | E11: 19543 | F11: 292707 | G11: 1498 | H11: 2010 | I11: 8341 | J11: 157058 | K11: 1883 | L11: 8578 | M11: 135938 | N11: 1585 | O11: 2010
A12: 2011 | B12: 54920 | C12: 728275 | E12: 19470 | F12: 240865 | G12: 1237 | H12: 2011 | I12: 8306 | J12: 132398 | K12: 1594 | L12: 8512 | M12: 136888 | N12: 1608.1767 | O12: 2011
A13: 2012 | B13: 54321 | C13: 767395 | E13: 19024 | F13: 251661 | G13: 1323 | H13: 2012 | I13: 8306 | J13: 152415 | K13: 1835 | L13: 8378 | M13: 147767 | N13: 1764 | O13: 2012
A14: 2013 | B14: 53974 | D14: 789619 | E14: 18895 | F14: 309129 | G14: 1636 | H14: 2013 | I14: 8247 | J14: 140199 | K14: 1700 | L14: 7968 | M14: 121979 | N14: 1531 | O14: 2012
A16: 연 별 Year | B16: 배 Pear | E16: 복숭아 Peach | H16: 연 별 Year | I16: 자 두 Korean plums | L16: 기 타 Others | O16: Year
B18: 면 적 Area | C18: 생산량 Production | E18: 면 적 Area | F18: 생산량 Production | I18: 면 적 Area | J18: 생산량 Production | L18: 면 적 Area | M18: 생산량 Production
D19: Kg/10a | G19: Kg/10a | K19: Kg/10a | N19: Kg/10a
A20: 2009 | B20: 2197 | C20: 47701 | D20: 2171 | E20: 5608 | F20: 87148 | G20: 1554 | H20: 2009 | I20: 4689 | J20: 54111 | K20: 1154 | L20: 5704 | M20: 43464 | N20: 762 | O20: 2009
A21: 2010 | B21: 1995 | C21: 36167 | D21: 1813 | E21: 6011 | F21: 60587 | G21: 1008 | H21: 2010 | I21: 4926 | J21: 53737 | K21: 1091 | L21: 5627 | M21: 38999 | N21: 693 | O21: 2010
A22: 2011 | B22: 1849 | C22: 39548 | D22: 2139 | E22: 6335 | F22: 95595 | G22: 1509 | H22: 2011 | I22: 4786 | J22: 49009 | K22: 1024 | L22: 5662 | M22: 33972 | N22: 600 | O22: 2011
A23: 2012 | B23: 1789 | C23: 30309 | D23: 1694 | E23: 6730 | F23: 111583 | G23: 1658 | H23: 2012 | I23: 4787 | J23: 49354 | K23: 1031 | L23: 5307 | M23: 24306 | N23: 458 | O23: 2012
A24: 2013 | B24: 1748 | C24: 33387 | D24: 1910 | E24: 7180 | F24: 111793 | G24: 1557 | H24: 2013 | I24: 4706 | J24: 47766 | K24: 1015 | L24: 5230 | M24: 25366 | N24: 485 | O24: 2012
A25: 자료 : 통계청,「농작물생산조사」 | G25: Source : Statistics Korea | H25: 자료 : 통계청,「농작물생산조사」 | N25: Source : Statistics Korea

Sheet 13.공공비축 미곡 매입실적
K1: Ⅵ. Agriculture, Forestry and Fishing / 217
A3: 13. 공공비축 미곡 매입실적(정곡)
A4: 13. Government-Purchased Rice by Class and Kind(Polished)
A5: 단위 : 1,000㎏ | K5: Unit : 1,000 ㎏
A6: 연별 및 시군별 Year & Si, Gun | C6: 실적 Purchased quantity | D6: 등급별 By class | I6: 종류별 By Kind
D8: 특등 Special grade | E8: 1등 1st grade | F8: 2등 2nd grade | G8: 3등 3rd grade | H8: 잠정등외 Potential off-grade | I8: 일반매입 Ordinary purchase | J8: 종자 Seed | K8: 기 타 (회수) Others
A11: 2009 | C11: 154939.48 | D11: 70973.8 | E11: 79667.08 | F11: 3945.56 | G11: 353.04 | H11: 0 | I11: 154939.48 | J11: 0 | K11: 0
A12: 2010 | C12: 65443.565 | D12: 14387.558 | E12: 47610.432 | F12: 3375.8496 | G12: 69.7248 | H12: 0 | I12: 65443.565 | J12: 0 | K12: 0
A13: 2011 | C13: 46890.92 | D13: 15721.98 | E13: 30211.86 | F13: 934.24 | G13: 22.84 | H13: 0 | I13: 46890.92 | J13: 0 | K13: 0
A14: 2012 | C14: 62346.23 | D14: 14521.05 | E14: 44390.06 | F14: 3268.23 | G14: 166.89 | H14: 0 | I14: 62346.23 | J14: 0 | K14: 0
A15: 2013 | C15: =SUM(C17:C39) -> 63945.78 | D15: =SUM(D17:D39) -> 20351.03 | E15: =SUM(E17:E39) -> 41613.57 | F15: =SUM(F17:F39) -> 1901.31 | G15: =SUM(G17:G39) -> 79.87 | H15: =SUM(H17:H39) -> 0 | I15: =SUM(I17:I39) -> 63945.78 | J15: =SUM(J17:J39) -> 0 | K15: =SUM(K17:K39) -> 0
A17: 포항시 | B17: Pohang | C17: 3784.32 | D17: 1308.96 | E17: 2439.53 | F17: 35.83 | G17: 0 | H17: 0 | I17: 3784.32 | J17: 0 | K17: 0
A18: 경주시 | B18: Gyeongju | C18: 5362.56 | D18: 1965.43 | E18: 3360.24 | F18: 36.89 | G18: 0 | H18: 0 | I18: 5362.56 | J18: 0 | K18: 0
A19: 김천시 | B19: Gimcheon | C19: 4075.2 | D19: 1372.23 | E19: 2565.13 | F19: 132.91 | G19: 4.93 | H19: 0 | I19: 4075.2 | J19: 0 | K19: 0
A20: 안동시 | B20: Andong | C20: 1765.44 | D20: 409.51 | E20: 1292.05 | F20: 63.88 | G20: 0 | H20: 0 | I20: 1765.44 | J20: 0 | K20: 0
A21: 구미시 | B21: Gumi | C21: 3215.2 | D21: 1524.38 | E21: 1687.71 | F21: 3.11 | G21: 0 | H21: 0 | I21: 3215.2 | J21: 0 | K21: 0
A22: 영주시 | B22: Yeongju | C22: 1862.24 | D22: 620.75 | E22: 1209.23 | F22: 32.26 | G22: 0 | H22: 0 | I22: 1862.24 | J22: 0 | K22: 0
A23: 영천시 | B23: Yeongcheon | C23: 4146.48 | D23: 850.67 | E23: 2661.98 | F23: 571.31 | G23: 62.52 | H23: 0 | I23: 4146.48 | J23: 0 | K23: 0
A24: 상주시 | B24: Sangju | C24: 5302.08 | D24: 1582.1 | E24: 3647.43 | F24: 72.4 | G24: 0.15 | H24: 0 | I24: 5302.08 | J24: 0 | K24: 0
A25: 문경시 | B25: Mungyeong | C25: 4213.44 | D25: 1337.67 | E25: 2856.39 | F25: 19.38 | G25: 0 | H25: 0 | I25: 4213.44 | J25: 0 | K25: 0
A26: 경산시 | B26: Gyeongsan | C26: 1736.64 | D26: 782.96 | E26: 938.88 | F26: 14.8 | G26: 0 | H26: 0 | I26: 1736.64 | J26: 0 | K26: 0
A27: 군위군 | B27: Gunwi | C27: 3144 | D27: 994.8 | E27: 2081.24 | F27: 66.36 | G27: 1.6 | H27: 0 | I27: 3144 | J27: 0 | K27: 0
A28: 의성군 | B28: Uiseong | C28: 4933.44 | D28: 1803.17 | E28: 2711.46 | F28: 412.82 | G28: 5.99 | H28: 0 | I28: 4933.44 | J28: 0 | K28: 0
... A39: 울릉군 | B39: Ulleung | C39: 0 | D39: 0 | E39: 0 | F39: 0 | G39: 0 | H39: 0 | I39: 0 | J39: 0 | K39: 0
A40: 자료 : 친환경농업과 | K40: Source : Division of Environment-Friendly Agriculture

Sheet 14.정부관리양곡보관창고
A1: 218 / Ⅵ. 농림수산업 | Q1: Ⅵ. Agriculture, Forestry and Fishing / 219
A3: 14. 정부관리양곡 보관창고 | J3: 14. Warehouse of Government-controlled Grains
A5: 단위 : 개소, ㎡, M/T | Q5: Unit : number, ㎡, M/T
A6: 연별 및 시군별 | B6: 합 계 Total | E6: 정부창고 Government-run warehouse | H6: 농협창고 NACF-run warehouse | K6: 통운창고 Korea Express-run warehouse | N6: 민간창고 Private warehouse | Q6: Year & Si, Gun
B9: 동수 No.of warehouses | C9: 면적 Area | D9: 보관능력 Capacity | E9: 동수 No.of warehouses | F9: 면적 Area | G9: 보관능력 Capacity | H9: 동수 No.of warehouses | I9: 면적 Area | J9: 보관능력 Capacity | K9: 동수 No.of warehouses | L9: 면적 Area | M9: 보관능력 Capacity | N9: 동수 No.of warehouses | O9: 면적 Area | P9: 보관능력 Capacity
A11: 2009 | B11: 653 | C11: 241439 | D11: 452901 | E11: 0 | F11: 0 | G11: 0 | H11: 391 | I11: 132360 | J11: 239222 | K11: 0 | L11: 0 | M11: 0 | N11: 262 | O11: 109079 | P11: 213679 | Q11: 2009
A12: 2010 | B12: 653 | C12: 241439 | D12: 452901 | E12: 0 | F12: 0 | G12: 0 | H12: 391 | I12: 132360 | J12: 239222 | K12: 0 | L12: 0 | M12: 0 | N12: 262 | O12: 109079 | P12: 213679 | Q12: 2010
A13: 2011 | B13: 672 | C13: 249381.56 | D13: 471119 | E13: 0 | F13: 0 | G13: 0 | H13: 402 | I13: 134633.23 | J13: 245708 | K13: 0 | L13: 0 | M13: 0 | N13: 270 | O13: 114748.33 | P13: 225411 | Q13: 2011
A14: 2012 | B14: 672 | C14: 249381.56 | D14: 471119 | E14: 0 | F14: 0 | G14: 0 | H14: 402 | I14: 134633.23 | J14: 245708 | K14: 0 | L14: 0 | M14: 0 | N14: 270 | O14: 114748.33 | P14: 225411 | Q14: 2012
A15: 2013 | B15: =SUM(B17:B39) -> 594 | C15: =SUM(C17:C39) -> 223776.58 | D15: =SUM(D17:D39) -> 418566 | E15: =SUM(E17:E39) -> 0 | F15: =SUM(F17:F39) -> 0 | G15: =SUM(G17:G39) -> 0 | H15: =SUM(H17:H39) -> 328 | I15: =SUM(I17:I39) -> 111281.9 | ... P15: =SUM(P17:P39) -> 219604 | Q15: 2013
A17: 포항시 | B17: =SUM(E17,H17,K17,N17) -> 7 | C17: =SUM(F17,I17,L17,O17) -> 4374 | D17: =SUM(G17,J17,M17,P17) -> 8834 | E17: 0 | F17: 0 | G17: 0 | H17: 1 | I17: 331 | J17: 637 | K17: 0 | L17: 0 | M17: 0 | N17: 6 | O17: 4043 | P17: 8197 | Q17: Pohang
A18: 경주시 | B18: =SUM(E18,H18,K18,N18) -> 33 | C18: =SUM(F18,I18,L18,O18) -> 13674 | D18: =SUM(G18,J18,M18,P18) -> 24701 | E18: 0 | F18: 0 | G18: 0 | H18: 24 | I18: 9458 | J18: 16668 | K18: 0 | L18: 0 | M18: 0 | N18: 9 | O18: 4216 | P18: 8033 | Q18: Gyeongju
A19: 김천시 | B19: =SUM(E19,H19,K19,N19) -> 27 | C19: =SUM(F19,I19,L19,O19) -> 9918 | D19: =SUM(G19,J19,M19,P19) -> 18374 | E19: 0 | F19: 0 | G19: 0 | H19: 12 | I19: 4005 | J19: 7179 | K19: 0 | L19: 0 | M19: 0 | N19: 15 | O19: 5913 | P19: 11195 | Q19: Gimcheon
A20: 안동시 | B20: =SUM(E20,H20,K20,N20) -> 33 | C20: =SUM(F20,I20,L20,O20) -> 11863 | D20: =SUM(G20,J20,M20,P20) -> 23455 | E20: 0 | F20: 0 | G20: 0 | H20: 19 | I20: 6306 | J20: 11528 | K20: 0 | L20: 0 | M20: 0 | N20: 14 | O20: 5557 | P20: 11927 | Q20: Andong
A21: 구미시 | B21: =SUM(E21,H21,K21,N21) -> 27 | C21: =SUM(F21,I21,L21,O21) -> 9863 | D21: =SUM(G21,J21,M21,P21) -> 18486 | E21: 0 | F21: 0 | G21: 0 | H21: 14 | I21: 5290 | J21: 9912 | K21: 0 | L21: 0 | M21: 0 | N21: 13 | O21: 4573 | P21: 8574 | Q21: Gumi
A22: 영주시 | B22: =SUM(E22,H22,K22,N22) -> 17 | C22: =SUM(F22,I22,L22,O22) -> 6936 | D22: =SUM(G22,J22,M22,P22) -> 11531 | E22: 0 | F22: 0 | G22: 0 | H22: 14 | I22: 4621 | J22: 7650 | K22: 0 | L22: 0 | M22: 0 | N22: 3 | O22: 2315 | P22: 3881 | Q22: Yeongju
A23: 영천시 | B23: =SUM(E23,H23,K23,N23) -> 23 | C23: =SUM(F23,I23,L23,O23) -> 11159 | D23: =SUM(G23,J23,M23,P23) -> 21203 | E23: 0 | F23: 0 | G23: 0 | H23: 16 | I23: 5193 | J23: 9968 | K23: 0 | L23: 0 | M23: 0 | N23: 7 | O23: 5966 | P23: 11235 | Q23: Yeongcheon
A24: 상주시 | B24: =SUM(E24,H24,K24,N24) -> 109 | C24: =SUM(F24,I24,L24,O24) -> 38319.69 | D24: =SUM(G24,J24,M24,P24) -> 70272 | E24: 0 | F24: 0 | G24: 0 | H24: 57 | I24: 18430 | J24: 33098 | K24: 0 | L24: 0 | M24: 0 | N24: 52 | O24: 19889.69 | P24: 37174 | Q24: Sangju
A25: 문경시 | B25: =SUM(E25,H25,K25,N25) -> 41 | C25: =SUM(F25,I25,L25,O25) -> 13335.39 | D25: =SUM(G25,J25,M25,P25) -> 24565 | E25: 0 | F25: 0 | G25: 0 | H25: 15 | I25: 4931.9 | J25: 8674 | K25: 0 | L25: 0 | M25: 0 | N25: 26 | O25: 8403.49 | P25: 15891 | Q25: Mungyeong
A26: 경산시 | B26: =SUM(E26,H26,K26,N26) -> 7 | C26: =SUM(F26,I26,L26,O26) -> 2737 | D26: =SUM(G26,J26,M26,P26) -> 4444 | E26: 0 | F26: 0 | G26: 0 | H26: 7 | I26: 2737 | J26: 4444 | K26: 0 | L26: 0 | M26: 0 | N26: 0 | O26: 0 | P26: 0 | Q26: Gyeongsan
A27: 군위군 | B27: =SUM(E27,H27,K27,N27) -> 17 | C27: =SUM(F27,I27,L27,O27) -> 6499 | D27: =SUM(G27,J27,M27,P27) -> 10487 | E27: 0 | F27: 0 | G27: 0 | H27: 12 | I27: 4352 | J27: 6744 | K27: 0 | L27: 0 | M27: 0 | N27: 5 | O27: 2147 | P27: 3743 | Q27: Gunwi
A28: 의성군 | B28: =SUM(E28,H28,K28,N28) -> 55 | C28: =SUM(F28,I28,L28,O28) -> 19028.22 | D28: =SUM(G28,J28,M28,P28) -> 35625 | E28: 0 | F28: 0 | G28: 0 | H28: 15 | I28: 5169 | J28: 9345 | K28: 0 | L28: 0 | M28: 0 | N28: 40 | O28: 13859.22 | P28: 26280 | Q28: Uiseong
... A39: 울릉군 | B39: =SUM(E39,H39,K39,N39) -> 1 | C39: =SUM(F39,I39,L39,O39) -> 178 | D39: =SUM(G39,J39,M39,P39) -> 220 | E39: 0 | F39: 0 | G39: 0 | H39: 1 | I39: 178 | J39: 220 | K39: 0 | L39: 0 | M39: 0 | N39: 0 | O39: 0 | P39: 0 | Q39: Ulleung
A40: 자료 : 친환경농업과 | Q40: Source : Division of Environment-Friendly Agriculture

Sheet 15.정부양곡가공공장
A1: 220 / Ⅵ. 농림수산업
A3: 15. 정부관리양곡 가공공장
A4: 15. Processing Plants of Government-controlled Grains
A5: 단위 : 개 | I5: Unit : number
A6: 연별 및 시군별 Year & Si, Gun | C6: 공장수 Number of plants | D6: 원동기 By motor type(HP) | F6: 생산능력(t/일) Production capacity(ton/day)
D8: 전동기 Electric motor | E8: 발동기 Motor | F8: 정미 Polished rice | G8: 정맥 Polished barley | H8: 압맥 Pressed wheat | I8: 제분 Flour
A10: 2009 | C10: 22 | D10: 6206 | E10: 0 | F10: 852 | G10: 60 | H10: 0 | I10: 0
A11: 2010 | C11: 22 | D11: 6206 | E11: 0 | F11: 852 | G11: 60 | H11: 0 | I11: 0
A12: 2011 | C12: 22 | D12: 6206 | E12: 0 | F12: 852 | G12: 95 | H12: 0 | I12: 0
A13: 2012 | C13: 22 | D13: 6206 | E13: 0 | F13: 852 | G13: 95 | H13: 0 | I13: 0
A14: 2013 | C14: =SUM(C16:C38) -> 22 | D14: =SUM(D16:D38) -> 6206 | E14: =SUM(E16:E38) -> 0 | F14: =SUM(F16:F38) -> 863 | G14: =SUM(G16:G38) -> 42 | H14: =SUM(H16:H38) -> 0 | I14: =SUM(I16:I38) -> 0
A16: 포항시 | B16: Pohang | C16: 2 | D16: 316 | E16: 0 | F16: 60 | G16: 0 | H16: 0 | I16: 0
A17: 경주시 | B17: Gyeongju | C17: 1 | D17: 140 | E17: 0 | F17: 50 | G17: 0 | H17: 0 | I17: 0
A18: 김천시 | B18: Gimcheon | C18: 1 | D18: 155 | E18: 0 | F18: 37 | G18: 0 | H18: 0 | I18: 0
A19: 안동시 | B19: Andong | C19: 2 | D19: 599 | E19: 0 | F19: 80 | G19: 19 | H19: 0 | I19: 0
A20: 구미시 | B20: Gumi | C20: 1 | D20: 144 | E20: 0 | F20: 50 | G20: 0 | H20: 0 | I20: 0
A21: 영주시 | B21: Yeongju | C21: 1 | D21: 85 | E21: 0 | F21: 26 | G21: 0 | H21: 0 | I21: 0
A22: 영천시 | B22: Yeongcheon | C22: 2 | D22: 1130 | E22: 0 | F22: 60 | G22: 0 | H22: 0 | I22: 0
A23: 상주시 | B23: Sangju | C23: 1 | D23: 500 | E23: 0 | F23: 48 | G23: 0 | H23: 0 | I23: 0
A24: 문경시 | B24: Mungyeong | C24: 1 | D24: 160 | E24: 0 | F24: 40 | G24: 0 | H24: 0 | I24: 0
A25: 경산시 | B25: Gyeongsan | C25: 0 | D25: 0 | E25: 0 | F25: 0 | G25: 0 | H25: 0 | I25: 0
A26: 군위군 | B26: Gunwi | C26: 0 | D26: 0 | E26: 0 | F26: 0 | G26: 0 | H26: 0 | I26: 0
A27: 의성군 | B27: Uiseong | C27: 1 | D27: 130 | E27: 0 | F27: 40 | G27: 0 | H27: 0 | I27: 0
... A38: 울릉군 | B38: Ulleung | C38: 0 | D38: 0 | E38: 0 | F38: 0 | G38: 0 | H38: 0 | I38: 0
A39: 자료 : 친환경농업과 | I39: Source : Division of Environment-Friendly Agriculture

Sheet 16.농업협동조합
I1: Ⅵ.Agriculture, Forestry and Fishing / 221 | J1: 222 / Ⅵ. 농림수산업 | Y1: Ⅵ. Agriculture, Forestry and Fishing / 223
A3: 16. 농업협동조합 | J3: 16. 농업협동조합(계속) | R3: 16. National Agricultural Cooperative Federation(Cont'd)
A4: 16. National Agricultural Cooperative Federation
A5: 단위 : 개, 명, 백만원 | I5: Unit : number, person, million won | J5: 단위 : 개, 명, 백만원 | Y5: Unit : number, person, million won
A6: 연별 및 조합별 Year & Union | C6: 조합수 Number of unions | D6: 조합원수 Members | E6: 직원수 Staffs | H6: 주요경제사업실적 | J6: 연별 및 조합별 | L6: 주요경제사업실적 Major Economic business | R6: 연중여신실적 Credit business by the Whole year | U6: 연말현재수신잔고 Balance in deposit as of year-end | X6: Year & Union
F8: 남 Male | G8: 여 Female | H8: 판매 Sale | I8: 구매 Purchasing | L8: 생활물자 Commodities | M8: 가공 Processing | N8: 창고 Warehouse | O8: 운송 Transpor tation | P8: 공제 Mutual aid | Q8: 이용 기타 Other utility | S8: 금융자금 Credit banking fund | T8: 정책자금 Policy fund | V8: 저축성예금 Time and Savings deposit | W8: 요구불예금 Demand deposit
A11: 2009 | C11: 219 | D11: 387263 | E11: 9635 | F11: 6250 | G11: 3385 | H11: 2856320 | I11: 1241265 | J11: 2009 | L11: 606841 | M11: 498952 | N11: 8521 | O11: 2442 | P11: 8995455 | Q11: 25052 | R11: 16607315 | S11: 14538856 | T11: 863751 | U11: 25978570 | V11: 23722056 | W11: 2256514 | X11: 2009
A12: 2010 | C12: 168 | D12: 386913 | E12: 8677 | F12: 5682 | G12: 2995 | H12: 2978381 | I12: 1280962 | J12: 2010 | L12: 678295 | M12: 466332 | N12: 10699 | O12: 2424 | P12: 895118 | Q12: 109389 | R12: 15575716 | S12: 13601400 | T12: 1974316 | U12: 30065951 | V12: 27617157 | W12: 2448794 | X12: 2010
A13: 2011 | C13: 168 | D13: 387682 | E13: 9859 | F13: 6394 | G13: 3465 | H13: 3206647 | I13: 1469440 | J13: 2011 | L13: 762127 | M13: 528610 | N13: 9250 | O13: 2289 | P13: 1045387 | Q13: 128028 | R13: 18110567 | S13: 16140663 | T13: 1969904 | U13: 31065641 | V13: 28353671 | W13: 2711970 | X13: 2011
A14: 2012 | C14: 168 | D14: 386655 | E14: 10114 | F14: 6506 | G14: 3608 | H14: 3567278 | I14: 1695896 | J14: 2012 | L14: 818576 | M14: 525584 | N14: 7161 | O14: 2573 | P14: 1089844 | Q14: 127567 | R14: 36456644 | S14: 16994519 | T14: 1915277 | U14: 33588632 | V14: 30622746 | W14: 2965886 | X14: 2012
A15: 2013 | C15: =SUM(C17:C22) -> 167 | D15: =SUM(D17:D22) -> 384073 | E15: =SUM(E17:E22) -> 10420 | F15: =SUM(F17:F22) -> 6638 | G15: =SUM(G17:G22) -> 3782 | H15: =SUM(H17:H22) -> 3794611 | I15: =SUM(I17:I22) -> 1753522 | J15: 2013 | L15: =SUM(L17:L22) -> 872836 | M15: =SUM(M17:M22) -> 520021 | N15: =SUM(N17:N22) -> 6111 | O15: =SUM(O17:O22) -> 2671 | P15: =SUM(P18:P22) -> 1176648 | Q15: =SUM(Q17:Q22) -> 142930 | R15: =SUM(R17:R22) -> 20757657 | S15: =SUM(S17:S22) -> 18882448 | T15: =SUM(T17:T22) -> 1875209 | U15: =SUM(U17:U22) -> 44150473 | V15: =SUM(V17:V22) -> 39812854 | W15: =SUM(W17:W22) -> 4337619 | X15: 2013
A17: 중 앙 회 | B17: 지역본부 | C17: 0 | D17: 0 | E17: =+F17+G17 -> 253 | F17: 193 | G17: 60 | H17: 0 | I17: 0 | J17: 중 앙 회 | K17: 지역본부 | L17: 0 | M17: 0 | N17: 0 | O17: 0 | P17: 0 | Q17: 0 | R17: =S17+T17 -> 20176 | S17: 19975 | T17: 201 | U17: =V17+W17 -> 8962159 | V17: 7724418 | W17: 1237741 | X17: 중 앙 회 | Y17: 지역본부
B18: 시군지부 | C18: 0 | D18: 0 | E18: =+F18+G18 -> 514 | F18: 292 | G18: 222 | H18: 0 | I18: 0 | K18: 시군지부 | L18: 0 | M18: 0 | N18: 0 | O18: 0 | P18: 0 | Q18: 0 | R18: =S18+T18 -> 2950939 | S18: 2644719 | T18: 306220 | U18: =V18+W18 -> 6852814 | V18: 5829847 | W18: 1022967 | Y18: 시군지부
B19: 지점 | C19: 0 | D19: 0 | E19: =+F19+G19 -> 300 | F19: 154 | G19: 146 | H19: 0 | I19: 0 | K19: 지점 | L19: 0 | M19: 0 | N19: 0 | O19: 0 | P19: 0 | Q19: 0 | R19: =S19+T19 -> 1967047 | S19: 1948585 | T19: 18462 | U19: =V19+W19 -> 2109345 | V19: 1894571 | W19: 214774 | Y19: 지점
A20: 농협 | C20: 145 | D20: 344371 | E20: =+F20+G20 -> 7281 | F20: 4683 | G20: 2598 | H20: 2887900 | I20: 1284378 | J20: 농협 | L20: 678048 | M20: 272761 | N20: 5992 | O20: 1369 | P20: 948033 | Q20: 91332 | R20: =S20+T20 -> 11867526 | S20: 10902525 | T20: 965001 | U20: =V20+W20 -> 21386544 | V20: 19814107 | W20: 1572437 | X20: 농협
A21: 축협 | C21: 21 | D21: 38797 | E21: =+F21+G21 -> 1986 | F21: 1292 | G21: 694 | H21: 894155 | I21: 466304 | J21: 축협 | L21: 194788 | M21: 238330 | N21: 119 | O21: 1302 | P21: 226618 | Q21: 51437 | R21: =S21+T21 -> 3920440 | S21: 3346462 | T21: 573978 | U21: =V21+W21 -> 4810258 | V21: 4523525 | W21: 286733 | X21: 축협
A22: 인삼협 | C22: 1 | D22: 905 | E22: =+F22+G22 -> 86 | F22: 24 | G22: 62 | H22: 12556 | I22: 2840 | J22: 인삼협 | L22: 0 | M22: 8930 | N22: 0 | O22: 0 | P22: 1997 | Q22: 161 | R22: =S22+T22 -> 31529 | S22: 20182 | T22: 11347 | U22: =V22+W22 -> 29353 | V22: 26386 | W22: 2967 | X22: 인삼협
A23: 자료 : 농협중앙회 경북지역본부 | I23: Source : National Agricultural Cooperative Federation | J23: 자료 : 농협중앙회 경북지역본부 | Y23: Source : National Agricultural Cooperative Federation

Sheet 17.농업용기계보유 
A1: 224 / Ⅵ. 농림수산업 | P1: Ⅵ. Agriculture, Forestry and Fishing / 225 | Q1: 226 / Ⅵ. 농림수산업
A3: 17. 농업용 기계보유 | I3: 17. Agricultural Machinery Holdings | Q3: 17. 농업용 기계보유(계속)
Q4: 17. Agricultural Machinery Holdings(Cont'd)
A5: 단위 : 대 | P5: Unit : each | Q5: 단위 : 대 | X5: Unit : each
A6: 연별 및 시군별 | B6: 총계 Total | C6: 동력경운기 Power tiller | D6: 농용트랙터 | H6: 스피드 스프레이어 (SS기) speedsplayer | I6: 광역방제기 Wide area pesticide applicator | J6: 동력이앙기 | M6: 관리기 Controller | P6: Year & Si, Gun | Q6: 연별 및 시군별 Year & Si, Gun | S6: 콤바인 Combine | W6: 곡물건조기 Grain dryer | X6: 농산물 건조기 Agri. Products Dryer
D7: Farm tractor | J7: Power rice transplanter
E8: 소형 Small | F8: 중형 Medium | G8: 대형 Big | K8: 보행형 Walking | L8: 승용형 Taking | N8: 보행형 Walking | O8: 승용형 Taking | T8: 3조 이하 -3Rows | U8: 4조 4Rows | V8: 5조 이상 +5Rows
A12: 2009 | B12: 492327 | C12: 151689 | D12: 41363 | E12: 13732 | F12: 23256 | G12: 4375 | H12: 16909 | I12: … | J12: 52123 | K12: 20393 | L12: 31730 | M12: 111283 | N12: … | O12: … | P12: 2009 | Q12: 2009 | S12: 11788 | T12: 4313 | U12: 6122 | V12: 1353 | W12: 7785 | X12: 58278
A13: 2010 | B13: 460413 | C13: 150517 | D13: 42429 | E13: 13082 | F13: 24819 | G13: 4528 | H13: 17474 | I13: 48 | J13: 54856 | K13: 34852 | L13: 20004 | M13: 112881 | N13: 110016 | O13: 2865 | P13: 2010 | Q13: 2010 | S13: 12791 | T13: 4563 | U13: 6762 | V13: 1466 | W13: 8076 | X13: 61341
A14: 2011 | B14: 426959 | C14: 139093 | D14: 42266 | E14: 13094 | F14: 23996 | G14: 5176 | H14: 16684 | I14: 24 | J14: 47971 | K14: 33879 | L14: 14092 | M14: 105901 | N14: 99434 | O14: 6467 | P14: 2011 | Q14: 2011 | S14: 12022 | T14: 4038 | U14: 6548 | V14: 1436 | W14: 7698 | X14: 55300
A15: 2012 | B15: 450474 | C15: 142717 | D15: 44908 | E15: 13324 | F15: 26424 | G15: 5160 | H15: 19107 | I15: 0 | J15: 50432 | K15: 34509 | L15: 15923 | M15: 111205 | N15: 104692 | O15: 6513 | P15: 2012 | Q15: 2012 | S15: 13355 | T15: 4203 | U15: 7051 | V15: 2101 | W15: 8455 | X15: 60295
A16: 2013 | B16: =SUM(B18:B40) -> 445419 | C16: =SUM(C18:C40) -> 137588 | D16: =SUM(D18:D40) -> 45288 | E16: =SUM(E18:E40) -> 13362 | F16: =SUM(F18:F40) -> 26183 | G16: =SUM(G18:G40) -> 5743 | H16: =SUM(H18:H40) -> 19532 | I16: =SUM(I18:I40) -> 0 | ... O16: =SUM(O18:O40) -> 5531 | P16: 2013 | Q16: 2013 | S16: =SUM(S18:S40) -> 13286 | T16: =SUM(T18:T40) -> 4095 | U16: =SUM(U18:U40) -> 6949 | V16: =SUM(V18:V40) -> 2242 | W16: =SUM(W18:W40) -> 8734 | X16: =SUM(X18:X40) -> 60205
A18: 포항시 | B18: =C18+D18+H18+I18+J18+M18+S18+W18+X18 -> 18885 | C18: 5292 | D18: =SUM(E18:G18) -> 2269 | E18: 753 | F18: 1153 | G18: 363 | H18: 2031 | I18: 0 | J18: =SUM(K18:L18) -> 2443 | K18: 1204 | L18: 1239 | M18: =SUM(N18:O18) -> 3536 | N18: 2619 | O18: 917 | P18: Pohang | Q18: 포항시 | R18: Pohang | S18: =SUM(T18:V18) -> 1168 | T18: 245 | U18: 582 | V18: 341 | W18: 528 | X18: 1618
A19: 경주시 | B19: =C19+D19+H19+I19+J19+M19+S19+W19+X19 -> 30417 | C19: 10642 | D19: =SUM(E19:G19) -> 3885 | E19: 1332 | F19: 2089 | G19: 464 | H19: 429 | I19: 0 | J19: =SUM(K19:L19) -> 5572 | K19: 4252 | L19: 1320 | M19: =SUM(N19:O19) -> 5686 | N19: 5352 | O19: 334 | P19: Gyeongju | Q19: 경주시 | R19: Gyeongju | S19: =SUM(T19:V19) -> 1659 | T19: 567 | U19: 864 | V19: 228 | W19: 984 | X19: 1560
A20: 김천시 | B20: =C20+D20+H20+I20+J20+M20+S20+W20+X20 -> 27576 | C20: 9381 | D20: =SUM(E20:G20) -> 2725 | E20: 1088 | F20: 1395 | G20: 242 | H20: 841 | I20: 0 | J20: =SUM(K20:L20) -> 2711 | K20: 2146 | L20: 565 | M20: =SUM(N20:O20) -> 9048 | N20: 8912 | O20: 136 | P20: Gimcheon | Q20: 김천시 | R20: Gimcheon | S20: =SUM(T20:V20) -> 777 | T20: 277 | U20: 395 | V20: 105 | W20: 305 | X20: 1788
A21: 안동시 | B21: =C21+D21+H21+I21+J21+M21+S21+W21+X21 -> 35475 | C21: 9641 | D21: =SUM(E21:G21) -> 3120 | E21: 913 | F21: 1942 | G21: 265 | H21: 1518 | I21: 0 | J21: =SUM(K21:L21) -> 3102 | K21: 2220 | L21: 882 | M21: =SUM(N21:O21) -> 9411 | N21: 9286 | O21: 125 | P21: Andong | Q21: 안동시 | R21: Andong | S21: =SUM(T21:V21) -> 555 | T21: 155 | U21: 335 | V21: 65 | W21: 521 | X21: 7607
A22: 구미시 | B22: =C22+D22+H22+I22+J22+M22+S22+W22+X22 -> 20048 | C22: 6247 | D22: =SUM(E22:G22) -> 2927 | E22: 819 | F22: 1624 | G22: 484 | H22: 215 | I22: 0 | J22: =SUM(K22:L22) -> 3262 | K22: 2186 | L22: 1076 | M22: =SUM(N22:O22) -> 4650 | N22: 4538 | O22: 112 | P22: Gumi | Q22: 구미시 | R22: Gumi | S22: =SUM(T22:V22) -> 931 | T22: 233 | U22: 567 | V22: 131 | W22: 554 | X22: 1262
A23: 영주시 | B23: =C23+D23+H23+I23+J23+M23+S23+W23+X23 -> 19230 | C23: 5662 | D23: =SUM(E23:G23) -> 1687 | E23: 282 | F23: 1119 | G23: 286 | H23: 1107 | I23: 0 | J23: =SUM(K23:L23) -> 1753 | K23: 1150 | L23: 603 | M23: =SUM(N23:O23) -> 5679 | N23: 5192 | O23: 487 | P23: Yeongju | Q23: 영주시 | R23: Yeongju | S23: =SUM(T23:V23) -> 381 | T23: 55 | U23: 275 | V23: 51 | W23: 305 | X23: 2656
A24: 영천시 | B24: =C24+D24+H24+I24+J24+M24+S24+W24+X24 -> 25528 | C24: 9519 | D24: =SUM(E24:G24) -> 1520 | E24: 354 | F24: 929 | G24: 237 | H24: 1738 | I24: 0 | J24: =SUM(K24:L24) -> 1863 | K24: 1537 | L24: 326 | M24: =SUM(N24:O24) -> 7933 | N24: 7792 | O24: 141 | P24: Yeongcheon | Q24: 영천시 | R24: Yeongcheon | S24: =SUM(T24:V24) -> 395 | T24: 115 | U24: 210 | V24: 70 | W24: 174 | X24: 2386
A25: 상주시 | B25: =C25+D25+H25+I25+J25+M25+S25+W25+X25 -> 40800 | C25: 12238 | D25: =SUM(E25:G25) -> 4993 | E25: 1590 | F25: 2771 | G25: 632 | H25: 1881 | I25: 0 | J25: =SUM(K25:L25) -> 5279 | K25: 3643 | L25: 1636 | M25: =SUM(N25:O25) -> 9683 | N25: 9570 | O25: 113 | P25: Sangju | Q25: 상주시 | R25: Sangju | S25: =SUM(T25:V25) -> 1344 | T25: 442 | U25: 656 | V25: 246 | W25: 1035 | X25: 4347
A26: 문경시 | B26: =C26+D26+H26+I26+J26+M26+S26+W26+X26 -> 17104 | C26: 5155 | D26: =SUM(E26:G26) -> 1684 | E26: 319 | F26: 1104 | G26: 261 | H26: 981 | I26: 0 | J26: =SUM(K26:L26) -> 1803 | K26: 1242 | L26: 561 | M26: =SUM(N26:O26) -> 3802 | N26: 3584 | O26: 218 | P26: Mungyeong | Q26: 문경시 | R26: Mungyeong | S26: =SUM(T26:V26) -> 434 | T26: 114 | U26: 233 | V26: 87 | W26: 336 | X26: 2909
A27: 경산시 | B27: =C27+D27+H27+I27+J27+M27+S27+W27+X27 -> 16147 | C27: 5200 | D27: =SUM(E27:G27) -> 833 | E27: 374 | F27: 401 | G27: 58 | H27: 1648 | I27: 0 | J27: =SUM(K27:L27) -> 760 | K27: 520 | L27: 240 | M27: =SUM(N27:O27) -> 5573 | N27: 4998 | O27: 575 | P27: Gyeongsan | Q27: 경산시 | R27: Gyeongsan | S27: =SUM(T27:V27) -> 134 | T27: 57 | U27: 57 | V27: 20 | W27: 59 | X27: 1940
A28: 군위군 | B28: =C28+D28+H28+I28+J28+M28+S28+W28+X28 -> 14674 | C28: 4687 | D28: =SUM(E28:G28) -> 1244 | E28: 403 | F28: 683 | G28: 158 | H28: 637 | I28: 0 | J28: =SUM(K28:L28) -> 1567 | K28: 1186 | L28: 381 | M28: =SUM(N28:O28) -> 4036 | N28: 3998 | O28: 38 | P28: Gunwi | Q28: 군위군 | R28: Gunwi | S28: =SUM(T28:V28) -> 346 | T28: 118 | U28: 206 | V28: 22 | W28: 199 | X28: 1958
A29: 의성군 | B29: =C29+D29+H29+I29+J29+M29+S29+W29+X29 -> 40226 | C29: 11781 | D29: =SUM(E29:G29) -> 4216 | E29: 1369 | F29: 2322 | G29: 525 | H29: 2245 | I29: 0 | J29: =SUM(K29:L29) -> 4252 | K29: 2699 | L29: 1553 | M29: =SUM(N29:O29) -> 9301 | N29: 9259 | O29: 42 | P29: Uiseong | Q29: 의성군 | R29: Uiseong | S29: =SUM(T29:V29) -> 1243 | T29: 353 | U29: 677 | V29: 213 | W29: 922 | X29: 6266
... A40: 울릉군 | B40: =C40+D40+H40+I40+J40+M40+S40+W40+X40 -> 385 | C40: 67 | D40: =SUM(E40:G40) -> 11 | E40: 9 | F40: 2 | G40: 0 | H40: 0 | I40: 0 | J40: =SUM(K40:L40) -> 0 | K40: 0 | L40: 0 | M40: =SUM(N40:O40) -> 245 | N40: 245 | O40: 0 | P40: Ulleung | Q40: 울릉군 | R40: Ulleung | S40: =SUM(T40:V40) -> 7 | T40: 7 | U40: 0 | V40: 0 | W40: 0 | X40: 55
A41: 자료 : 친환경농업과 | P41: Source : Division of Environmentally friendly Agriculture | Q41: 자료 : 친환경농업과 | X41: Source : Division of Environmentally friendly Agriculture
A42: 주 : 2010년 자료부터 서식 변경 | Q42: 주 : 2010년 자료부터 서식 변경
A43: ("광역방제기" 항목 추가 / "관리기" 항목을 "보행형", "승용형"으로 세분 / "바인더", "수도일반용방제기" 항목 삭제) | Q43: ("광역방제기" 항목 추가 / "관리기" 항목을 "보행형", "승용형"으로 세분 / "바인더", "수도일반용방제기" 항목 삭제)

Sheet 18.비료공급
J1: Ⅵ. Agriculture, Forestry and Fishing / 227 | K1: 228 / Ⅵ. 농림수산업
A3: 18. 비료공급 | K3: 18. 비료공급(계속)
A4: 18. Supply of Chemical Fertilizers | K4: 18. Supply of Chemical Fertilizers(Cont'd)
A5: 단위 : M/T | J5: Unit : M/T | K5: 단위 : M/T | R5: Unit : M/T
A6: 연별 및 시군별 Year & Si, Gun | C6: 성분별 by element | H6: 종류별 by type | K6: 연별 및 시군별 Year & Si, Gun | M6: 종류별 by type
D8: 질소질 Nitrogenous | E8: 인산질 Phosphate | F8: 가리질 Potash | G8: 기타 Others | I8: 유안 Ammonium sulfate | J8: 요소 Urea | M8: 과석 Super phosphate | N8: 중과석 Triple super phosphate | O8: 용성인비 Fused phosphate | P8: 염화가리1) Potassium chloride | Q8: 복합비료 Complex fertilizer | R8: 용과린 Fused & su-perphosphate
A11: 2009 | C11: 61300 | D11: 32234 | E11: 12349 | F11: 16717 | G11: 0 | H11: 93090 | I11: 2152 | J11: 16658 | K11: 2009 | M11: 1057 | N11: 1018 | O11: 71815 | P11: 390 | Q11: 0 | R11: 0
A12: 2010 | C12: 48088 | D12: 26311 | E12: 9820 | F12: 11957 | G12: 0 | H12: 74892 | I12: 1957 | J12: 14700 | K12: 2010 | M12: 0 | N12: 0 | O12: 700 | P12: 531 | Q12: 56743 | R12: 261
A13: 2011 | C13: 51795 | D13: 28453 | E13: 10599 | F13: 12743 | G13: 0 | H13: 129790 | I13: 2067 | J13: 16309 | K13: 2011 | M13: 0 | N13: 0 | O13: 662 | P13: 1171 | Q13: 109277 | R13: 304
A14: 2012 | C14: 53720 | D14: 29541 | E14: 10694 | F14: 13485 | G14: 0 | H14: 134749 | I14: 2103 | J14: 16967 | K14: 2012 | M14: 0 | N14: 0 | O14: 791 | P14: 1110 | Q14: 113465 | R14: 313
A15: 2013 | C15: =SUM(C17:C39) -> 47478 | D15: =SUM(D17:D39) -> 26175 | E15: =SUM(E17:E39) -> 9537 | F15: =SUM(F17:F39) -> 11766 | G15: =SUM(G17:G39) -> 0 | H15: =SUM(H17:H39) -> 116825 | I15: =SUM(I17:I39) -> 2027 | J15: =SUM(J17:J39) -> 15898 | K15: 2013 | M15: =SUM(M17:M39) -> 0 | N15: =SUM(N17:N39) -> 0 | O15: =SUM(O17:O39) -> 918 | P15: =SUM(P17:P39) -> 685 | Q15: =SUM(Q17:Q39) -> 97011 | R15: =SUM(R17:R39) -> 286
A17: 포항시 | B17: Pohang | C17: =SUM(D17:G17) -> 2964 | D17: 1660 | E17: 556 | F17: 748 | G17: 0 | H17: =SUM(I17:J17,M17:R17) -> 7431 | I17: 104 | J17: 916 | K17: 포항시 | L17: Pohang | M17: 0 | N17: 0 | O17: 41 | P17: 19 | Q17: 6323 | R17: 28
A18: 경주시 | B18: Gyeongju | C18: =SUM(D18:G18) -> 3055 | D18: 1859 | E18: 549 | F18: 647 | G18: 0 | H18: =SUM(I18:J18,M18:R18) -> 7999 | I18: 54 | J18: 1615 | K18: 경주시 | L18: Gyeongju | M18: 0 | N18: 0 | O18: 22 | P18: 18 | Q18: 6288 | R18: 2
